{"text_format":"1","workbook":"xlsx","n_sheets":15,"sheets":["Instructions","Solicitation Inputs","Initital Settings","Inputs","Results","Financial Model","Results Tables","Environmental Model","Data","Zipcode Data","FMV Regression","Sensitivity Tables","Lists_Hidden","Dynamic_Lists_Hidden","Version"],"not_rendered":{"charts":8,"images":2,"macros":1,"external_links":0,"defined_names":332,"comments":1,"pivot_tables":0},"unopened":[],"bounds":{"document_bytes":16777216,"sheet_cells":100000,"rows_first":2000,"rows_last":500,"rows_between":2000,"halvings":0,"cell_chars":16384,"cell_head_chars":4096},"cells_cut":0,"cells_raw":0,"read":"whole","date_system":"1900"}

{"sheet":"Instructions","index":0,"n_rows":23,"n_cols":5,"rows_kept":23,"cut":false,"hidden":false,"merged":[[20,1,20,2],[21,1,21,2],[22,1,22,2],[14,1,14,2],[15,1,15,2],[16,1,16,2],[17,1,17,2],[18,1,18,2],[19,1,19,2]]}
["Instructions - Fleet Procurement Analysis Tool"]
[null,{"$f":" \"Version \" & TEXT(MAX(Version[Version]), \"#,##0.00\")","v":"Version 1.05"}]
[null,{"$f":" \"Last Updated: \" & TEXT(MAX(Version[Date]), \"m/d/yyyy\")","v":"Last Updated: 6/1/2017"}]
[]
["Input Definitions",null,null,null,"Model Overview"]
[]
[null,null,"User-entered inputs"]
[]
[null,null,"Default assumptions that can be overridden by user"]
[]
[null,null,"Calculations or assumptions that cannot be altered"]
[]
["Ownership Structure Definitions"]
[]
[null,"Purchase (Cash) - Vehicles purchased with cash"]
[null,"Purchase (Loan) - Vehicles purchased with debt financing"]
[null,"FMV (Closed-End) Lease - Vehicles leased with Fair Market Value lease structure. Vehicles not purchased at end of lease term."]
[null,"FMV (Closed-End) Lease w/ Cash Purchase - Vehicles leased with Fair Market Value lease structure. Vehicles purchased at end of lease term with cash."]
[null,"FMV (Closed-End) Lease w/ Loan Purchase - Vehicles leased with Fair Market Value lease structure. Vehicles purchased at end of lease term with debt financing."]
[null,"TRAC (Open-End) Lease - Vehicles leased with Terminal Rental Adjustment Clause lease structure. Vehicles not purchased at end of lease term."]
[null,"TRAC (Open-End) Lease w/ Cash Purchase -  Vehicles leased with Terminal Rental Adjustment Clause lease structure. Vehicles purchased at end of lease term with cash."]
[null,"TRAC (Open-End) Lease w/ Loan Purchase - Vehicles leased with Terminal Rental Adjustment Clause lease structure. Vehicles purchased at end of lease term with debt financing."]
[null,"Tax-Exempt Lease Purchase (Cash) - Vehicles leased with tax-exempt lease-purchase structure. Vehicles purchased at end of lease term with cash, typically a nominal amount ($1)."]

{"sheet":"Solicitation Inputs","index":1,"n_rows":23,"n_cols":14,"rows_kept":23,"cut":false,"hidden":true,"merged":[[10,1,10,8],[10,10,10,17],[19,1,19,8],[19,10,19,17]]}
["Quick Inputs - Fleet Procurement Analysis Tool"]
[null,"*Coming soon*"]
[]
[null,"Market Inputs"]
[]
[null,"ZIP Code","20001"]
[null,"Include Cost of Carbon?","No"]
[]
[]
[null,"Vehicle Inputs"]
[null,"Procurement 1 (Baseline)",null,null,null,null,null,null,null,null,"Procurement 2 (Comparison)"]
[null,"Vehicle Type #1",null,null,null,null,null,null,null,null,"Vehicle Type #1"]
[null,"Vehicle Drivetrain Type",null,null,"BEV",null,null,null,null,null,"Vehicle Drivetrain Type",null,null,"BEV"]
[null,"Vehicle Year",null,null,2017,null,null,null,null,null,"Vehicle Year",null,null,2017]
[null,"Vehicle Make",null,null,"Chevy",null,null,null,null,null,"Vehicle Make",null,null,"Ford"]
[null,"Vehicle Model",null,null,"Bolt",null,null,null,null,null,"Vehicle Model",null,null,"Focus Electric"]
[]
[]
[null,"Vehicle Procurement Inputs"]
[null,"Procurement 1 (Baseline)",null,null,null,null,null,null,null,null,"Procurement 2 (Comparison)"]
[null,"Vehicle Type #1",null,null,null,null,null,null,null,null,"Vehicle Type #1"]
[null,"Ownership Structure",null,null,"TRAC (Open-End) Lease w/ Cash Purchase",null,null,null,null,null,"Ownership Structure",null,null,"TRAC (Open-End) Lease w/ Cash Purchase"]
[null,"Tax Credits Can Be Monetized? (Y/N)",null,null,"Yes",null,null,null,null,null,"Tax Credits Can Be Monetized? (Y/N)",null,null,"Yes"]

{"sheet":"Initital Settings","index":2,"n_rows":20,"n_cols":10,"rows_kept":20,"cut":false,"hidden":false,"merged":[]}
["Initial Settings - Fleet Procurement Analysis Tool",null,null,null,null,null,null,"*HIDDEN*","*HIDDEN*","*HIDDEN*"]
[]
[null,"Save/Load"]
[]
[null,"Procurment Name","Scenario 1.1"]
[]
[null,"Load values from external file"]
[]
[null,"Save all current user inputs to an external file"]
[]
[]
[null,"Sensitivity Settings"]
[]
[null," Update sensitivity analysis results if Calculation Options is set to Manual or Automatic Excerpt for Tables"]
[]
[null,"Variable","Input Field","Min Value","Max Value","Current Value","Valid","Field Code","Field Reference","Sensitivity Reference"]
[null,1,"Electricity Cost ($/kWh)",0,2,{"$f":"INDIRECT(H17,FALSE)","v":0.1048},{"$f":"IF(IFERROR(VLOOKUP(sensitivity_01_input_field, DB_Sensitivity_Codes,2,FALSE), \"Error\")<> \"Error\", \"OK\", \"Error\")","v":"OK"},{"$f":"VLOOKUP(sensitivity_01_input_field,DB_Sensitivity_Codes,2,FALSE)","v":"Electricity_Price"},{"$f":"MID(CELL(\"filename\",INDIRECT(H17)),FIND(\"]\", CELL(\"filename\",INDIRECT(H17)))+1,32) & \"!\" & ADDRESS(ROW(INDIRECT(H17)),COLUMN(INDIRECT(H17)),4,1)","v":"Inputs!E6"},{"$f":"CELL(\"address\", OFFSET('Sensitivity Tables'!A$9, 16*(B17-1), 0))","v":"'[Fleet Procurement Analysis Tool.xlsm]Sensitivity Tables'!$A$9"}]
[null,2,"Cost of Carbon ($/Ton)",0,150,{"$f":"INDIRECT(H18,FALSE)","v":0},{"$f":"IF(IFERROR(VLOOKUP(sensitivity_02_input_field, DB_Sensitivity_Codes,2,FALSE), \"Error\")<> \"Error\", \"OK\", \"Error\")","v":"OK"},{"$f":"VLOOKUP(sensitivity_02_input_field,DB_Sensitivity_Codes,2,FALSE)","v":"Carbon_Price"},{"$f":"MID(CELL(\"filename\",INDIRECT(H18)),FIND(\"]\", CELL(\"filename\",INDIRECT(H18)))+1,32) & \"!\" & ADDRESS(ROW(INDIRECT(H18)),COLUMN(INDIRECT(H18)),4,1)","v":"Inputs!N6"},{"$f":"CELL(\"address\", OFFSET('Sensitivity Tables'!A$9, 16*(B18-1), 0))","v":"'[Fleet Procurement Analysis Tool.xlsm]Sensitivity Tables'!$A$25"}]
[null,3,"Gasoline Cost ($/Gallon)",0,10,{"$f":"INDIRECT(H19,FALSE)","v":2.4169999999999998},{"$f":"IF(IFERROR(VLOOKUP(sensitivity_03_input_field, DB_Sensitivity_Codes,2,FALSE), \"Error\")<> \"Error\", \"OK\", \"Error\")","v":"OK"},{"$f":"VLOOKUP(sensitivity_03_input_field,DB_Sensitivity_Codes,2,FALSE)","v":"Gasoline_Price"},{"$f":"MID(CELL(\"filename\",INDIRECT(H19)),FIND(\"]\", CELL(\"filename\",INDIRECT(H19)))+1,32) & \"!\" & ADDRESS(ROW(INDIRECT(H19)),COLUMN(INDIRECT(H19)),4,1)","v":"Inputs!E5"},{"$f":"CELL(\"address\", OFFSET('Sensitivity Tables'!A$9, 16*(B19-1), 0))","v":"'[Fleet Procurement Analysis Tool.xlsm]Sensitivity Tables'!$A$41"}]
[null,4,"Inflation Rate (Excluding Fuel) (%/Year)",0,0.1,{"$f":"INDIRECT(H20,FALSE)","v":0.02},{"$f":"IF(IFERROR(VLOOKUP(sensitivity_04_input_field, DB_Sensitivity_Codes,2,FALSE), \"Error\")<> \"Error\", \"OK\", \"Error\")","v":"OK"},{"$f":"VLOOKUP(sensitivity_04_input_field,DB_Sensitivity_Codes,2,FALSE)","v":"Inflation_Rate_General"},{"$f":"MID(CELL(\"filename\",INDIRECT(H20)),FIND(\"]\", CELL(\"filename\",INDIRECT(H20)))+1,32) & \"!\" & ADDRESS(ROW(INDIRECT(H20)),COLUMN(INDIRECT(H20)),4,1)","v":"Inputs!E7"},{"$f":"CELL(\"address\", OFFSET('Sensitivity Tables'!A$9, 16*(B20-1), 0))","v":"'[Fleet Procurement Analysis Tool.xlsm]Sensitivity Tables'!$A$57"}]

{"sheet":"Inputs","index":3,"n_rows":88,"n_cols":17,"rows_kept":88,"cut":false,"hidden":false,"merged":[[10,1,10,8],[10,10,10,17],[36,1,36,8],[36,10,36,17],[78,1,78,8],[78,10,78,17]]}
["Inputs - Fleet Procurement Analysis Tool",null,null,null,null,"*HIDDEN*","*HIDDEN*","*HIDDEN*",null,null,null,null,null,null,"*HIDDEN*","*HIDDEN*","*HIDDEN*"]
[null,null,null,null,null,"Autofill Values","Sensitivity Values (to model)","Validation Calcs",null,null,null,null,null,null,"Autofill Values","Sensitivity Values (to model)","Validation Calcs"]
[null,"Market Inputs"]
[]
[null,"ZIP Code","32789","Gasoline Cost ($/Gallon)",2.4169999999999998,{"$f":"VLOOKUP(State_Ex,DB_Fuel_Prices[],3,FALSE)","v":2.2160000000000002},{"$f":"IFERROR(INDIRECT(VLOOKUP(MID(CELL(\"filename\",E5),FIND(\"]\", CELL(\"filename\",E5))+1,32) & \"!\" & ADDRESS(ROW(E5),COLUMN(E5),4,1), DB_Sensitivity_Indirect_Reference,2, FALSE)), E5)","v":2.4169999999999998},null,null,null,"PADD Region",{"$f":"VLOOKUP(_Zip_Code,DB_Zip_Code,5,FALSE)","v":"1c"},"Include Cost of Carbon?","No"]
[null,"State",{"$f":"VLOOKUP(_Zip_Code,DB_Zip_Code,3,FALSE)","v":"FL"},"Electricity Cost ($/kWh)",0.1048,{"$f":"VLOOKUP(State_Ex,DB_Fuel_Prices[],2,FALSE)","v":8.6999999999999994E-2},{"$f":"IFERROR(INDIRECT(VLOOKUP(MID(CELL(\"filename\",E6),FIND(\"]\", CELL(\"filename\",E6))+1,32) & \"!\" & ADDRESS(ROW(E6),COLUMN(E6),4,1), DB_Sensitivity_Indirect_Reference,2, FALSE)), E6)","v":0.1048},null,null,null,"Egrid Region",{"$f":"VLOOKUP(_Zip_Code,DB_Zip_Code,6,FALSE)","v":"FRCC"},"Cost of Carbon ($/Ton)",0,{"$f":"Data!B212","v":36},{"$f":"IFERROR(INDIRECT(VLOOKUP(MID(CELL(\"filename\",N6),FIND(\"]\", CELL(\"filename\",N6))+1,32) & \"!\" & ADDRESS(ROW(N6),COLUMN(N6),4,1), DB_Sensitivity_Indirect_Reference,2, FALSE)), N6)","v":0}]
[null,null,null,"Inflation Rate (Excluding Fuel) (%/Year)",0.02,{"$f":"Data!A150","v":0.02},{"$f":"IFERROR(INDIRECT(VLOOKUP(MID(CELL(\"filename\",E7),FIND(\"]\", CELL(\"filename\",E7))+1,32) & \"!\" & ADDRESS(ROW(E7),COLUMN(E7),4,1), DB_Sensitivity_Indirect_Reference,2, FALSE)), E7)","v":0.02}]
[]
[]
[null,"Vehicle Inputs"]
[null,"Procurement 1 (Baseline)",null,null,null,null,null,null,null,null,"Procurement 2 (Comparison)"]
[null,"Vehicle Type #1",null,null,null,null,null,null,null,null,"Vehicle Type #1"]
[null,"Vehicle Drivetrain Type",null,null,"ICE",null,null,null,null,null,"Vehicle Drivetrain Type",null,null,"BEV"]
[null,"Vehicle Year",null,null,2017,null,null,null,null,null,"Vehicle Year",null,null,2017]
[null,"Vehicle Make",null,null,"Chevrolet",null,null,null,null,null,"Vehicle Make",null,null,"Chevrolet"]
[null,"Vehicle Model",null,null,"Cruze",null,null,{"$f":"_Base_V1_Vehicle_Year&\" \"&_Base_V1_Vehicle_Make&\" \"&_Base_V1_Vehicle_Model&\" \"&_Base_V1_Vehicle_Drivetrain","v":"2017 Chevrolet Cruze ICE"},null,null,"Vehicle Model",null,null,"Bolt EV",null,null,{"$f":"_Comp_V1_Vehicle_Year&\" \"&_Comp_V1_Vehicle_Make&\" \"&_Comp_V1_Vehicle_Model&\" \"&_Comp_V1_Vehicle_Drivetrain","v":"2017 Chevrolet Bolt EV BEV"}]
[null,"Fuel Economy Gas City (MPG)",null,null,30,{"$f":"VLOOKUP(Base_V1_Type_Ex,DB_Vehicles,10,FALSE)","v":30},{"$f":"IFERROR(INDIRECT(VLOOKUP(MID(CELL(\"filename\",E17),FIND(\"]\", CELL(\"filename\",E17))+1,32) & \"!\" & ADDRESS(ROW(E17),COLUMN(E17),4,1), DB_Sensitivity_Indirect_Reference,2, FALSE)), E17)","v":30},null,null,null,"Fuel Economy Gas City (MPG)",null,null,0,{"$f":"VLOOKUP(Comp_V1_Type_Ex,DB_Vehicles,10,FALSE)","v":0},{"$f":"IFERROR(INDIRECT(VLOOKUP(MID(CELL(\"filename\",N17),FIND(\"]\", CELL(\"filename\",N17))+1,32) & \"!\" & ADDRESS(ROW(N17),COLUMN(N17),4,1), DB_Sensitivity_Indirect_Reference,2, FALSE)), N17)","v":0}]
[null,"Fuel Economy Gas Highway (MPG)",null,null,40,{"$f":"VLOOKUP(Base_V1_Type_Ex,DB_Vehicles,11,FALSE)","v":40},{"$f":"IFERROR(INDIRECT(VLOOKUP(MID(CELL(\"filename\",E18),FIND(\"]\", CELL(\"filename\",E18))+1,32) & \"!\" & ADDRESS(ROW(E18),COLUMN(E18),4,1), DB_Sensitivity_Indirect_Reference,2, FALSE)), E18)","v":40},null,null,null,"Fuel Economy Gas Highway (MPG)",null,null,0,{"$f":"VLOOKUP(Comp_V1_Type_Ex,DB_Vehicles,11,FALSE)","v":0},{"$f":"IFERROR(INDIRECT(VLOOKUP(MID(CELL(\"filename\",N18),FIND(\"]\", CELL(\"filename\",N18))+1,32) & \"!\" & ADDRESS(ROW(N18),COLUMN(N18),4,1), DB_Sensitivity_Indirect_Reference,2, FALSE)), N18)","v":0}]
[null,"Fuel Economy Electric City (MPGe)",null,null,0,{"$f":"VLOOKUP(Base_V1_Type_Ex,DB_Vehicles,8,FALSE)","v":0},0,null,null,null,"Fuel Economy Electric City (MPGe)",null,null,128,{"$f":"VLOOKUP(Comp_V1_Type_Ex,DB_Vehicles,8,FALSE)","v":128},128]
[null,"Fuel Economy Electric Highway (MPGe)",null,null,0,{"$f":"VLOOKUP(Base_V1_Type_Ex,DB_Vehicles,9,FALSE)","v":0},{"$f":"IFERROR(INDIRECT(VLOOKUP(MID(CELL(\"filename\",E20),FIND(\"]\", CELL(\"filename\",E20))+1,32) & \"!\" & ADDRESS(ROW(E20),COLUMN(E20),4,1), DB_Sensitivity_Indirect_Reference,2, FALSE)), E20)","v":0},null,null,null,"Fuel Economy Electric Highway (MPGe)",null,null,110,{"$f":"VLOOKUP(Comp_V1_Type_Ex,DB_Vehicles,9,FALSE)","v":110},{"$f":"IFERROR(INDIRECT(VLOOKUP(MID(CELL(\"filename\",N20),FIND(\"]\", CELL(\"filename\",N20))+1,32) & \"!\" & ADDRESS(ROW(N20),COLUMN(N20),4,1), DB_Sensitivity_Indirect_Reference,2, FALSE)), N20)","v":110}]
[null,"Expected Years of Use/Ownership (Years)",null,null,7,7,7,null,null,null,"Expected Years of Use/Ownership (Years)",null,null,7,7,7]
[null,"Annual Vehicle Mileage (VMT/Year)",null,null,10000,15000,10000,null,null,null,"Annual Vehicle Mileage (VMT/Year)",null,null,10000,15000,10000]
[null,"% of Annual Miles on Gasoline",null,null,1,{"$f":"MAX((Base_V1_VMT/365)-VLOOKUP(Base_V1_Type_Ex,DB_Vehicles,7,FALSE),0)/(Base_V1_VMT/365)","v":1},1,null,null,null,"% of Annual Miles on Gasoline",null,null,0,{"$f":"MAX((Comp_V1_VMT/365)-VLOOKUP(Comp_V1_Type_Ex,DB_Vehicles,7,FALSE),0)/(Comp_V1_VMT/365)","v":0},0]
[null,"% of Annual Miles City Driving",null,null,0.55000000000000004,{"$f":"DB_Percent_Annual_Miles_City_Driving","v":0.55000000000000004},0.55000000000000004,null,null,null,"% of Annual Miles City Driving",null,null,0.55000000000000004,{"$f":"Data!B211","v":0.55000000000000004},0.55000000000000004]
[null,"Cost to Insure ($/Year)",null,null,550,{"$f":"VLOOKUP(Base_V1_Type_Ex,DB_Vehicles,13,FALSE)","v":805.4},550,null,null,null,"Cost to Insure ($/Year)",null,null,550,{"$f":"VLOOKUP(Comp_V1_Type_Ex,DB_Vehicles,13,FALSE)","v":868.625},550]
[null,"Use Drivetrain Default Maintenance and Repair Costs?",null,null,"Yes",null,null,null,null,null,"Use Drivetrain Default Maintenance and Repair Costs?",null,null,"Yes"]
[null,"Maintenance and Repair Cost - Years 1 - 5 ($/Mile) ",null,null,0.08,{"$f":"VLOOKUP(_Base_V1_Vehicle_Drivetrain,DB_Maint_Repair_Costs[],2,FALSE)","v":0.08},0.08,null,null,null,"Maintenance and Repair Cost - Years 1 - 5 ($/Mile) ",null,null,0.04,{"$f":"VLOOKUP(_Comp_V1_Vehicle_Drivetrain,DB_Maint_Repair_Costs[],2,FALSE)","v":0.04},0.04]
[null,"Maintenance and Repair Cost - Years 5+ ($/Mile) ",null,null,0.104,{"$f":"VLOOKUP(_Base_V1_Vehicle_Drivetrain,DB_Maint_Repair_Costs[],7,FALSE)","v":0.10400000000000001},{"$f":"IFERROR(INDIRECT(VLOOKUP(MID(CELL(\"filename\",E28),FIND(\"]\", CELL(\"filename\",E28))+1,32) & \"!\" & ADDRESS(ROW(E28),COLUMN(E28),4,1), DB_Sensitivity_Indirect_Reference,2, FALSE)), E28)","v":0.104},null,null,null,"Maintenance and Repair Cost - Years 5+ ($/Mile) ",null,null,5.1999999999999998E-2,{"$f":"VLOOKUP(_Comp_V1_Vehicle_Drivetrain,DB_Maint_Repair_Costs[],7,FALSE)","v":5.2000000000000005E-2},{"$f":"IFERROR(INDIRECT(VLOOKUP(MID(CELL(\"filename\",N28),FIND(\"]\", CELL(\"filename\",N28))+1,32) & \"!\" & ADDRESS(ROW(N28),COLUMN(N28),4,1), DB_Sensitivity_Indirect_Reference,2, FALSE)), N28)","v":5.1999999999999998E-2}]
[null,"Recurring Taxes and Fees ($/Year)",null,null,10,null,10,null,null,null,"Recurring Taxes and Fees ($/Year)",null,null,10,null,10]
[]
[null,"Vehicle Type #2",null,null,null,null,null,null,null,null,"Vehicle Type #2"]
[null,"Etc…etc.",null,null,null,null,null,null,null,null,"Etc…etc."]
[]
[]
[]
[null,"Vehicle Procurement Inputs"]
[null,"Procurement 1 (Baseline)",null,null,null,null,null,null,null,null,"Procurement 2 (Comparison)"]
[]
[null,"Discount Rate for NPV Calculations (%)",null,null,0,null,{"$f":"IFERROR(INDIRECT(VLOOKUP(MID(CELL(\"filename\",E39),FIND(\"]\", CELL(\"filename\",E39))+1,32) & \"!\" & ADDRESS(ROW(E39),COLUMN(E39),4,1), DB_Sensitivity_Indirect_Reference,2, FALSE)), E39)","v":0},null,null,null,"Discount Rate for NPV Calculations (%)",null,null,0,null,{"$f":"IFERROR(INDIRECT(VLOOKUP(MID(CELL(\"filename\",N39),FIND(\"]\", CELL(\"filename\",N39))+1,32) & \"!\" & ADDRESS(ROW(N39),COLUMN(N39),4,1), DB_Sensitivity_Indirect_Reference,2, FALSE)), N39)","v":0}]
[]
[null,"Vehicle Type #1",null,null,null,null,null,null,null,null,"Vehicle Type #1"]
[null,"Number of Vehicles to Procure (#)",null,null,19,null,{"$f":"IFERROR(INDIRECT(VLOOKUP(MID(CELL(\"filename\",E42),FIND(\"]\", CELL(\"filename\",E42))+1,32) & \"!\" & ADDRESS(ROW(E42),COLUMN(E42),4,1), DB_Sensitivity_Indirect_Reference,2, FALSE)), E42)","v":19},null,null,null,"Number of  Vehicles to Procure (#)",null,null,19,null,{"$f":"IFERROR(INDIRECT(VLOOKUP(MID(CELL(\"filename\",N42),FIND(\"]\", CELL(\"filename\",N42))+1,32) & \"!\" & ADDRESS(ROW(N42),COLUMN(N42),4,1), DB_Sensitivity_Indirect_Reference,2, FALSE)), N42)","v":19}]
[null,"Pricing Approach (select one)",null,null,"Dealer Cost Plus Markup",null,null,{"$f":"IF(IFERROR(FIND(\"MSRP\",_Base_V1_Pricing_Approach,1),0)>0,TRUE,FALSE)","v":false},null,null,"Pricing Approach (select one)",null,null,"Dealer Cost Plus Markup",null,null,{"$f":"IF(IFERROR(FIND(\"MSRP\",_Comp_V1_Pricing_Approach,1),0)>0,TRUE,FALSE)","v":false}]
[null,"MSRP ($/Vehicle)",null,null,16975,{"$f":"VLOOKUP(Base_V1_Type_Ex,DB_Vehicles,12,FALSE)","v":19525},{"$f":"IFERROR(INDIRECT(VLOOKUP(MID(CELL(\"filename\",E44),FIND(\"]\", CELL(\"filename\",E44))+1,32) & \"!\" & ADDRESS(ROW(E44),COLUMN(E44),4,1), DB_Sensitivity_Indirect_Reference,2, FALSE)), E44)","v":16975},null,null,null,"MSRP ($)",null,null,36620,{"$f":"VLOOKUP(Comp_V1_Type_Ex,DB_Vehicles,12,FALSE)","v":36620},{"$f":"IFERROR(INDIRECT(VLOOKUP(MID(CELL(\"filename\",N44),FIND(\"]\", CELL(\"filename\",N44))+1,32) & \"!\" & ADDRESS(ROW(N44),COLUMN(N44),4,1), DB_Sensitivity_Indirect_Reference,2, FALSE)), N44)","v":36620}]
[null,"Value of Negotiated Discounts off MSRP ($/Vehicle)",null,null,0,null,{"$f":"IFERROR(INDIRECT(VLOOKUP(MID(CELL(\"filename\",E45),FIND(\"]\", CELL(\"filename\",E45))+1,32) & \"!\" & ADDRESS(ROW(E45),COLUMN(E45),4,1), DB_Sensitivity_Indirect_Reference,2, FALSE)), E45)","v":0},null,null,null,"Value of Negotiated Discounts off MSRP ($/Vehicle)",null,null,0,null,{"$f":"IFERROR(INDIRECT(VLOOKUP(MID(CELL(\"filename\",N45),FIND(\"]\", CELL(\"filename\",N45))+1,32) & \"!\" & ADDRESS(ROW(N45),COLUMN(N45),4,1), DB_Sensitivity_Indirect_Reference,2, FALSE)), N45)","v":0}]
[null,"Dealer Triple Net Price ($/Vehicle)",null,null,18024,null,{"$f":"IFERROR(INDIRECT(VLOOKUP(MID(CELL(\"filename\",E46),FIND(\"]\", CELL(\"filename\",E46))+1,32) & \"!\" & ADDRESS(ROW(E46),COLUMN(E46),4,1), DB_Sensitivity_Indirect_Reference,2, FALSE)), E46)","v":18024},null,null,null,"Dealer List Price ($)",null,null,33226,null,{"$f":"IFERROR(INDIRECT(VLOOKUP(MID(CELL(\"filename\",N46),FIND(\"]\", CELL(\"filename\",N46))+1,32) & \"!\" & ADDRESS(ROW(N46),COLUMN(N46),4,1), DB_Sensitivity_Indirect_Reference,2, FALSE)), N46)","v":33226}]
[null,"Dealer Markup ($/Vehicle)",null,null,200,null,{"$f":"IFERROR(INDIRECT(VLOOKUP(MID(CELL(\"filename\",E47),FIND(\"]\", CELL(\"filename\",E47))+1,32) & \"!\" & ADDRESS(ROW(E47),COLUMN(E47),4,1), DB_Sensitivity_Indirect_Reference,2, FALSE)), E47)","v":200},null,null,null,"Markup ($)",null,null,300,null,{"$f":"IFERROR(INDIRECT(VLOOKUP(MID(CELL(\"filename\",N47),FIND(\"]\", CELL(\"filename\",N47))+1,32) & \"!\" & ADDRESS(ROW(N47),COLUMN(N47),4,1), DB_Sensitivity_Indirect_Reference,2, FALSE)), N47)","v":300}]
[null,"Total Base Price",null,null,{"$f":"IF(IFERROR(FIND(\"MSRP\",_Base_V1_Pricing_Approach,1),0)>0,Base_V1_MSRP_Modeled-Base_V1_Discounts_Modeled,Base_V1_List_Price_Modeled+Base_V1_List_Price_Markup_Modeled)","v":18224},null,null,null,null,null,"Total Base Price",null,null,{"$f":"IF(IFERROR(FIND(\"MSRP\",_Comp_V1_Pricing_Approach,1),0)>0,Comp_V1_MSRP_Modeled-Comp_V1_Discounts_Modeled,Comp_V1_List_Price_Modeled+Comp_V1_List_Price_Markup_Modeled)","v":33526}]
[null,"Value of Federal Tax Incentives ($/Vehicle)",null,null,0,{"$f":"IFERROR(VLOOKUP(Base_V1_Type_Ex,DB_Vehicle_Incentives[],7,FALSE),0)","v":0},{"$f":"IFERROR(INDIRECT(VLOOKUP(MID(CELL(\"filename\",E49),FIND(\"]\", CELL(\"filename\",E49))+1,32) & \"!\" & ADDRESS(ROW(E49),COLUMN(E49),4,1), DB_Sensitivity_Indirect_Reference,2, FALSE)), E49)","v":0},null,null,null,"Value of Federal Tax Credits ($/Vehicle)",null,null,7500,{"$f":"IFERROR(VLOOKUP(Comp_V1_Type_Ex,DB_Vehicle_Incentives[],7,FALSE),0)","v":7500},{"$f":"IFERROR(INDIRECT(VLOOKUP(MID(CELL(\"filename\",N49),FIND(\"]\", CELL(\"filename\",N49))+1,32) & \"!\" & ADDRESS(ROW(N49),COLUMN(N49),4,1), DB_Sensitivity_Indirect_Reference,2, FALSE)), N49)","v":7500}]
[null,"Value of State Tax Incentives ($/Vehicle)",null,null,0,{"$f":"IFERROR(VLOOKUP(Base_V1_Type_Ex,DB_Vehicle_Incentives[],7+MATCH(State_Ex,DB_Vehicle_Incentives[[#Headers],[CA]:[NY]],0),FALSE),0)","v":0},0,null,null,null,"Value of State Tax Incentives ($/Vehicle)",null,null,0,{"$f":"IFERROR(VLOOKUP(Comp_V1_Type_Ex,DB_Vehicle_Incentives[],7+MATCH(State_Ex,DB_Vehicle_Incentives[[#Headers],[CA]:[NY]],0),FALSE),0)","v":0},0]
[null,"State Tax Incentive Cap ($)",null,null,0,null,0,null,null,null,"State Tax Incentive Cap ($)",null,null,0,null,0]
[null,"Value of Non-tax Incentives ($/Vehicle)",null,null,null,null,0,null,null,null,"Value of Non-tax Incentives ($/Vehicle)",null,null,null,null,0]
[null,"Initial Tax, Title, and Registration Cost ($/Vehicle)",null,null,1000,null,1000,null,null,null,"Initial Tax, Title, and Registration Cost ($/Vehicle)",null,null,1000,null,1000]
[null,"Initial Fee as Percent of Vehicle Base Price (%)",null,null,0,null,0,null,null,null,"Initial Fee as Percent of Vehicle Base Price (%)",null,null,0,null,0]
[null,"Ownership Structure",null,null,"Purchase (Cash)",null,null,{"$f":"IF(IFERROR(FIND(\"Cash\",_Base_V1_Ownership_Structure,1),0)>0,TRUE,FALSE)","v":true},null,null,"Ownership Structure",null,null,"Purchase (Cash)",null,null,{"$f":"IF(IFERROR(FIND(\"Cash\",_Comp_V1_Ownership_Structure,1),0)>0,TRUE,FALSE)","v":true}]
[null,"Tax Credits Can Be Monetized? (Y/N)",null,null,"No",null,null,{"$f":"IF(IFERROR(FIND(\"Loan\",_Base_V1_Ownership_Structure,1),0)>0,TRUE,FALSE)","v":false},null,null,"Tax Credits Can Be Monetized? (Y/N)",null,null,"Yes",null,null,{"$f":"IF(IFERROR(FIND(\"Loan\",_Comp_V1_Ownership_Structure,1),0)>0,TRUE,FALSE)","v":false}]
[null,null,null,null,null,null,null,{"$f":"IF(IFERROR(FIND(\"Lease\",_Base_V1_Ownership_Structure,1),0)>0,TRUE,FALSE)","v":false},null,null,null,null,null,null,null,null,{"$f":"IF(IFERROR(FIND(\"Lease\",_Comp_V1_Ownership_Structure,1),0)>0,TRUE,FALSE)","v":false}]
[null,"Down Payment ($/Vehicle)",null,null,0,null,{"$f":"IFERROR(INDIRECT(VLOOKUP(MID(CELL(\"filename\",E58),FIND(\"]\", CELL(\"filename\",E58))+1,32) & \"!\" & ADDRESS(ROW(E58),COLUMN(E58),4,1), DB_Sensitivity_Indirect_Reference,2, FALSE)), E58)","v":0},null,null,null,"Down Payment ($/Vehicle)",null,null,0,null,{"$f":"IFERROR(INDIRECT(VLOOKUP(MID(CELL(\"filename\",N58),FIND(\"]\", CELL(\"filename\",N58))+1,32) & \"!\" & ADDRESS(ROW(N58),COLUMN(N58),4,1), DB_Sensitivity_Indirect_Reference,2, FALSE)), N58)","v":0}]
[null,"Lease",null,null,null,null,null,null,null,null,"Lease"]
[null,"Lease Term (Years)",null,null,3,null,{"$f":"IFERROR(INDIRECT(VLOOKUP(MID(CELL(\"filename\",E60),FIND(\"]\", CELL(\"filename\",E60))+1,32) & \"!\" & ADDRESS(ROW(E60),COLUMN(E60),4,1), DB_Sensitivity_Indirect_Reference,2, FALSE)), E60)","v":3},"Data validation handled in VBA",null,null,"Lease Term (Years)",null,null,0,null,{"$f":"IFERROR(INDIRECT(VLOOKUP(MID(CELL(\"filename\",N60),FIND(\"]\", CELL(\"filename\",N60))+1,32) & \"!\" & ADDRESS(ROW(N60),COLUMN(N60),4,1), DB_Sensitivity_Indirect_Reference,2, FALSE)), N60)","v":0},"Data validation handled in VBA"]
[null,"Lease Interest Rate (APR - %)",null,null,0.1,null,{"$f":"IFERROR(INDIRECT(VLOOKUP(MID(CELL(\"filename\",E61),FIND(\"]\", CELL(\"filename\",E61))+1,32) & \"!\" & ADDRESS(ROW(E61),COLUMN(E61),4,1), DB_Sensitivity_Indirect_Reference,2, FALSE)), E61)","v":0.1},null,null,null,"Lease Interest Rate (APR - %)",null,null,0,null,{"$f":"IFERROR(INDIRECT(VLOOKUP(MID(CELL(\"filename\",N61),FIND(\"]\", CELL(\"filename\",N61))+1,32) & \"!\" & ADDRESS(ROW(N61),COLUMN(N61),4,1), DB_Sensitivity_Indirect_Reference,2, FALSE)), N61)","v":0}]
[null,"OR",null,null,null,null,null,null,null,null,"OR"]
[null,"Money Factor (#)",null,null,4.1666666666666701E-3,null,{"$f":"IFERROR(INDIRECT(VLOOKUP(MID(CELL(\"filename\",E63),FIND(\"]\", CELL(\"filename\",E63))+1,32) & \"!\" & ADDRESS(ROW(E63),COLUMN(E63),4,1), DB_Sensitivity_Indirect_Reference,2, FALSE)), E63)","v":4.1666666666666701E-3},null,null,null,"Money Factor (#)",null,null,0,null,{"$f":"IFERROR(INDIRECT(VLOOKUP(MID(CELL(\"filename\",N63),FIND(\"]\", CELL(\"filename\",N63))+1,32) & \"!\" & ADDRESS(ROW(N63),COLUMN(N63),4,1), DB_Sensitivity_Indirect_Reference,2, FALSE)), N63)","v":0}]
[null,"Acquisition Fee ($/Vehicle)",null,null,0,null,0,null,null,null,"Acquisition Fee ($/Vehicle)",null,null,0,null,0]
[null,"Disposition Charge ($/Vehicle)",null,null,0,null,0,null,null,null,"Disposition Charge ($/Vehicle)",null,null,0,null,0]
[null,"Residual Value ($/Vehicle)",null,null,17000,null,17000,{"$f":"IF(IFERROR(FIND(\"Tax-Exempt\",_Base_V1_Ownership_Structure,1),0)>0,IF(Base_V1_Lease_Residual_Price=1,TRUE,FALSE),TRUE)","v":true},null,null,"Negotiated Residual Value ($/Vehicle)",null,null,0,null,0,{"$f":"IF(IFERROR(FIND(\"Tax-Exempt\",_Comp_V1_Ownership_Structure,1),0)>0,IF(Comp_V1_Lease_Residual_Price=1,TRUE,FALSE),TRUE)","v":true}]
[null,"Mileage Included (Closed-End Only)",null,null,0,null,0,null,null,null,"Mileage Included (Closed-End Only)",null,null,0,null,0]
[null,"Excess Mileage Cost ($/Mile) ",null,null,0,null,0,null,null,null,"Excess Mileage Cost ($/Mile) ",null,null,0,null,0]
[null,"Loan",null,null,null,null,null,null,null,null,"Loan"]
[null,"Loan Term (Years)",null,null,4,null,{"$f":"IFERROR(INDIRECT(VLOOKUP(MID(CELL(\"filename\",E70),FIND(\"]\", CELL(\"filename\",E70))+1,32) & \"!\" & ADDRESS(ROW(E70),COLUMN(E70),4,1), DB_Sensitivity_Indirect_Reference,2, FALSE)), E70)","v":4},"Data validation handled in VBA",null,null,"Loan Term (Years)",null,null,4,null,{"$f":"IFERROR(INDIRECT(VLOOKUP(MID(CELL(\"filename\",N70),FIND(\"]\", CELL(\"filename\",N70))+1,32) & \"!\" & ADDRESS(ROW(N70),COLUMN(N70),4,1), DB_Sensitivity_Indirect_Reference,2, FALSE)), N70)","v":4},"Data validation handled in VBA"]
[null,"Loan Interest Rate (APR - %)",null,null,0.05,null,{"$f":"IFERROR(INDIRECT(VLOOKUP(MID(CELL(\"filename\",E71),FIND(\"]\", CELL(\"filename\",E71))+1,32) & \"!\" & ADDRESS(ROW(E71),COLUMN(E71),4,1), DB_Sensitivity_Indirect_Reference,2, FALSE)), E71)","v":0.05},null,null,null,"Loan Interest Rate (APR - %)",null,null,0.05,null,{"$f":"IFERROR(INDIRECT(VLOOKUP(MID(CELL(\"filename\",N71),FIND(\"]\", CELL(\"filename\",N71))+1,32) & \"!\" & ADDRESS(ROW(N71),COLUMN(N71),4,1), DB_Sensitivity_Indirect_Reference,2, FALSE)), N71)","v":0.05}]
[]
[null,"Vehicle Type #2",null,null,null,null,null,null,null,null,"Vehicle Type #2"]
[null,"Etc…etc.",null,null,null,null,null,null,null,null,"Etc…etc."]
[]
[]
[]
[null,"EV Infrastructure Inputs"]
[null,"Procurement 1 (Baseline)",null,null,null,null,null,null,null,null,"Procurement 2 (Comparison)"]
[null,"Procurement Includes EV Charging?",null,null,"No",null,null,null,null,null,"Procurement Includes EV Charging?",null,null,"No"]
[null,"Number of Level 2 EV Stations Needed (#)",null,null,0,null,{"$f":"IFERROR(INDIRECT(VLOOKUP(MID(CELL(\"filename\",E81),FIND(\"]\", CELL(\"filename\",E81))+1,32) & \"!\" & ADDRESS(ROW(E81),COLUMN(E81),4,1), DB_Sensitivity_Indirect_Reference,2, FALSE)), E81)","v":0},null,null,null,"Number of Level 2 EV Stations Needed (#)",null,null,0,null,{"$f":"IFERROR(INDIRECT(VLOOKUP(MID(CELL(\"filename\",N81),FIND(\"]\", CELL(\"filename\",N81))+1,32) & \"!\" & ADDRESS(ROW(N81),COLUMN(N81),4,1), DB_Sensitivity_Indirect_Reference,2, FALSE)), N81)","v":0}]
[null,"Equipment and Installation Cost ($/Station)",null,null,0,{"$f":"DB_Base_Station_Cost","v":5000},{"$f":"IFERROR(INDIRECT(VLOOKUP(MID(CELL(\"filename\",E82),FIND(\"]\", CELL(\"filename\",E82))+1,32) & \"!\" & ADDRESS(ROW(E82),COLUMN(E82),4,1), DB_Sensitivity_Indirect_Reference,2, FALSE)), E82)","v":0},null,null,null,"Equipment and Installation Cost ($/Station)",null,null,0,{"$f":"DB_Base_Station_Cost","v":5000},{"$f":"IFERROR(INDIRECT(VLOOKUP(MID(CELL(\"filename\",N82),FIND(\"]\", CELL(\"filename\",N82))+1,32) & \"!\" & ADDRESS(ROW(N82),COLUMN(N82),4,1), DB_Sensitivity_Indirect_Reference,2, FALSE)), N82)","v":0}]
[null,"Maintenance Cost ($/Station/Year)",null,null,0,{"$f":"DB_Base_Station_Maint_Cost","v":75},{"$f":"IFERROR(INDIRECT(VLOOKUP(MID(CELL(\"filename\",E83),FIND(\"]\", CELL(\"filename\",E83))+1,32) & \"!\" & ADDRESS(ROW(E83),COLUMN(E83),4,1), DB_Sensitivity_Indirect_Reference,2, FALSE)), E83)","v":0},null,null,null,"Maintenance Cost ($/Station/Year)",null,null,0,{"$f":"DB_Base_Station_Maint_Cost","v":75},{"$f":"IFERROR(INDIRECT(VLOOKUP(MID(CELL(\"filename\",N83),FIND(\"]\", CELL(\"filename\",N83))+1,32) & \"!\" & ADDRESS(ROW(N83),COLUMN(N83),4,1), DB_Sensitivity_Indirect_Reference,2, FALSE)), N83)","v":0}]
[null,"Ownership Structure",null,null,"Purchase (Cash)",null,null,{"$f":"IF(IFERROR(FIND(\"Cash\",_Base_Inf_Ownership_Structure,1),0)>0,TRUE,FALSE)","v":true},null,null,"Ownership Structure",null,null,"Purchase (Cash)",null,null,{"$f":"IF(IFERROR(FIND(\"Cash\",_Comp_Inf_Ownership_Structure,1),0)>0,TRUE,FALSE)","v":true}]
[null,"Loan",null,null,null,null,null,null,null,null,"Loan"]
[null,"Cash Upfront / Down Payment ($)",null,null,0,null,{"$f":"IFERROR(INDIRECT(VLOOKUP(MID(CELL(\"filename\",E86),FIND(\"]\", CELL(\"filename\",E86))+1,32) & \"!\" & ADDRESS(ROW(E86),COLUMN(E86),4,1), DB_Sensitivity_Indirect_Reference,2, FALSE)), E86)","v":0},null,null,null,"Cash Upfront / Down Payment ($)",null,null,0,null,{"$f":"IFERROR(INDIRECT(VLOOKUP(MID(CELL(\"filename\",N86),FIND(\"]\", CELL(\"filename\",N86))+1,32) & \"!\" & ADDRESS(ROW(N86),COLUMN(N86),4,1), DB_Sensitivity_Indirect_Reference,2, FALSE)), N86)","v":0}]
[null,"Loan Term (Years)",null,null,0,null,{"$f":"IFERROR(INDIRECT(VLOOKUP(MID(CELL(\"filename\",E87),FIND(\"]\", CELL(\"filename\",E87))+1,32) & \"!\" & ADDRESS(ROW(E87),COLUMN(E87),4,1), DB_Sensitivity_Indirect_Reference,2, FALSE)), E87)","v":0},null,null,null,"Loan Term (Years)",null,null,0,null,{"$f":"IFERROR(INDIRECT(VLOOKUP(MID(CELL(\"filename\",N87),FIND(\"]\", CELL(\"filename\",N87))+1,32) & \"!\" & ADDRESS(ROW(N87),COLUMN(N87),4,1), DB_Sensitivity_Indirect_Reference,2, FALSE)), N87)","v":0}]
[null,"Interest Rate (APR - %)",null,null,0,null,{"$f":"IFERROR(INDIRECT(VLOOKUP(MID(CELL(\"filename\",E88),FIND(\"]\", CELL(\"filename\",E88))+1,32) & \"!\" & ADDRESS(ROW(E88),COLUMN(E88),4,1), DB_Sensitivity_Indirect_Reference,2, FALSE)), E88)","v":0},null,null,null,"Interest Rate (APR - %)",null,null,0,null,{"$f":"IFERROR(INDIRECT(VLOOKUP(MID(CELL(\"filename\",N88),FIND(\"]\", CELL(\"filename\",N88))+1,32) & \"!\" & ADDRESS(ROW(N88),COLUMN(N88),4,1), DB_Sensitivity_Indirect_Reference,2, FALSE)), N88)","v":0}]

{"sheet":"Results","index":4,"n_rows":55,"n_cols":14,"rows_kept":55,"cut":false,"hidden":false,"merged":[[2,11,2,13],[28,1,28,13],[30,1,30,4],[31,1,31,2],[30,6,30,9],[31,6,31,7],[30,11,31,13]]}
["Results - Fleet Procurement Analysis Tool"]
[null,"Procurement Summary"]
[null,null,null,null,null,null,null,null,null,null,null,"Procurement Details"]
[null,null,null,null,null,null,null,null,null,null,null,null,{"$f":"Base_V1_Type_Ex&\" (Baseline)\"","v":"2017 Chevrolet Cruze ICE (Baseline)"},{"$f":"Comp_V1_Type_Ex&\" (Comparison)\"","v":"2017 Chevrolet Bolt EV BEV (Comparison)"}]
[null,null,null,null,null,null,null,null,null,null,null,"Procurement Type",{"$f":"_Base_V1_Ownership_Structure","v":"Purchase (Cash)"},{"$f":"_Comp_V1_Ownership_Structure","v":"Purchase (Cash)"}]
[null,null,null,null,null,null,null,null,null,null,null,"Number of Vehicles Procured",{"$f":"Base_V1_Num_Vehicles_Modeled","v":19},{"$f":"Comp_V1_Num_Vehicles_Modeled","v":19}]
[null,null,null,null,null,null,null,null,null,null,null,"Years of Use/Ownership",{"$f":"Base_V1_Years_Usage_Modeled","v":7},{"$f":"Comp_V1_Years_Usage_Modeled","v":7}]
[null,null,null,null,null,null,null,null,null,null,null,"Miles Procured",{"$f":"Base_V1_Years_Usage_Modeled*Base_V1_VMT_Modeled*Base_V1_Num_Vehicles_Modeled","v":1330000},{"$f":"Comp_V1_Years_Usage_Modeled*Comp_V1_VMT_Modeled*Comp_V1_Num_Vehicles_Modeled","v":1330000}]
[null,null,null,null,null,null,null,null,null,null,null,"Total NPV Vehicle and Operating Cost",{"$f":"SUM(M10:M13)","v":631358.61930877028},{"$f":"SUM(N10:N13)","v":723993.97404131095}]
[null,null,null,null,null,null,null,null,null,null,null,"Total Tax Incentives Captured",{"$f":"IF(Base_V1_Tax_Incentives_Monetized=\"Yes\",(Base_V1_Federal_Tax_Incentives_Modeled*Base_V1_Num_VehiclesModeled)+IF(Base_V1_State_Tax_Incentive_Cap_Modeled=0,Base_V1_State_Tax_Incentives_Modeled*Base_V1_Num_Vehicles_Modeled,MIN(Base_V1_State_Tax_Incentive_Cap_Modeled,Base_V1_State_Tax_Incentives_Modeled*Base_V1_Num_Vehicles_Modeled)),0)","v":0},{"$f":"IF(Comp_V1_Tax_Incentives_Monetized=\"Yes\",(Comp_V1_Federal_Tax_Incentives_Modeled*Comp_V1_Num_Vehicles_Modeled)+IF(Comp_V1_State_Tax_Incentive_Cap_Modeled=0,Comp_V1_State_Tax_Incentives_Modeled*Comp_V1_Num_Vehicles_Modeled,MIN(Comp_V1_State_Tax_Incentive_Cap_Modeled,Comp_V1_State_Tax_Incentives_Modeled*Comp_V1_Num_Vehicles_Modeled)),0)","v":142500}]
[null,null,null,null,null,null,null,null,null,null,null,"Total Non-Tax Incentive Captured",{"$f":"Base_V1_Other_Incentives_Modeled*Base_V1_Num_Vehicles_Modeled","v":0},{"$f":"Comp_V1_Other_Incentives_Modeled*Comp_V1_Num_Vehicles_Modeled","v":0}]
[null,null,null,null,null,null,null,null,null,null,null,"Total Discounts Captured",{"$f":"IF(_Base_V1_Pricing_Approach=\"MSRP Less Discounts\",Base_V1_Discounts_Modeled*Base_V1_Num_Vehicles_Modeled,0)","v":0},{"$f":"IF(_Comp_V1_Pricing_Approach=\"MSRP Less Discounts\",Comp_V1_Discounts_Modeled*Comp_V1_Num_Vehicles_Modeled,0)","v":0}]
[null,null,null,null,null,null,null,null,null,null,null,"NPV Vehicle Total Cost less Incentives and Discounts",{"$f":"-Base_V1_Annualized_Cost_Ownership_Ex*Base_V1_Years_Usage_Modeled*Base_V1_Num_Vehicles_Modeled","v":631358.61930877028},{"$f":"-Comp_V1_Annualized_Cost_Ownership_Ex*Comp_V1_Years_Usage_Modeled*Comp_V1_Num_Vehicles_Modeled","v":581493.97404131095}]
[null,null,null,null,null,null,null,null,null,null,null,"NPV Total Cost of Infrastructure",{"$f":"-Base_Inf_Annualized_Cost_Ownership_Ex*Base_V1_Years_Usage_Modeled","v":0},{"$f":"-Comp_Inf_Annualized_Cost_Ownership_Ex*Comp_V1_Years_Usage_Modeled","v":0}]
[null,null,null,null,null,null,null,null,null,null,null,"Total NPV Cost",{"$f":"SUM(M13:M14)","v":631358.61930877028},{"$f":"SUM(N13:N14)","v":581493.97404131095}]
[null,{"$f":"\"The baseline is \"& ABS(ROUND(('Results Tables'!C29-'Results Tables'!D29)/'Results Tables'!C29*100,2))&\"% \"&IF(ROUND(('Results Tables'!C29-'Results Tables'!D29)/'Results Tables'!C29*100,2)>0,\"more\",\"less\")&\" expensive than the comparison vehicle\"","v":"The baseline is 7.9% more expensive than the comparison vehicle"},null,null,null,null,null,null,null,null,null,"Total NPV Cost / Mile",{"$f":"M15/M8","v":0.47470572880358669},{"$f":"N15/N8","v":0.43721351431677513}]
[]
[null,"Societal Benefit Summary"]
[]
[]
[]
[]
[]
[]
[]
[]
[]
[]
[null,"Fleet Gasoline Use (Total All Vehicles)"]
[]
[null,{"$f":"Base_V1_Type_Ex&\" Based Fleet\"","v":"2017 Chevrolet Cruze ICE Based Fleet"},null,null,null,"VS",{"$f":"Comp_V1_Type_Ex&\" Based Fleet\"","v":"2017 Chevrolet Bolt EV BEV Based Fleet"},null,null,null,"=",{"$f":"\"The baseline fleet uses \"& TEXT(ABS(ROUND(B32-G32,0)),\"#,##0\")&\" \"&IF(ROUND(B32-G32,0)>0,\"more\",\"fewer\")&\" gallons of gasoline than the comparison fleet\"","v":"The baseline fleet uses 39,346 more gallons of gasoline than the comparison fleet"}]
[null,{"$f":"'Results Tables'!C36","v":39345.833333333336},null,"gallons",null,null,{"$f":"'Results Tables'!D36","v":0},null,"gallons"]
[]
[null,"Cash Flow Summary"]
[]
[]
[]
[]
[]
[]
[]
[]
[]
[]
[]
[]
[]
[]
[]
[]
[]
[]
[]
[]
[null,"Sensitivity Analysis"]

{"sheet":"Financial Model","index":5,"n_rows":141,"n_cols":29,"rows_kept":141,"cut":false,"hidden":false,"merged":[]}
["Financial Models - Fleet Procurement Analysis Tool"]
[null,null,null,"Year 0","Year 1 ","Year 2","Year 3","Year 4","Year 5","Year 6","Year 7","Year 8","Year 9","Year 10","Year 11","Year 12","Year 13","Year 14","Year 15","Year 16","Year 17","Year 18","Year 19","Year 20","Year 21","Year 22","Year 23","Year 24","Year 25"]
[null,"Baseline Vehicle 1"]
[null,null,null,"Year 0","Year 1 ","Year 2","Year 3","Year 4","Year 5","Year 6","Year 7","Year 8","Year 9","Year 10","Year 11","Year 12","Year 13","Year 14","Year 15","Year 16","Year 17","Year 18","Year 19","Year 20","Year 21","Year 22","Year 23","Year 24","Year 25"]
[null,"Depreciation Calculations"]
[null,"Fair Market Value - BEV",null,{"$f":"IF(VLOOKUP(Base_V1_Type_Ex,DB_Vehicles,5,FALSE)=\"BEV\",Base_V1_MSRP_Modeled,0)","v":0},{"$f":"IF(VLOOKUP(Base_V1_Type_Ex,DB_Vehicles,5,FALSE)=\"BEV\",MAX(IF(VLOOKUP(Base_V1_Type_Ex,DB_Vehicles,5,FALSE)=\"BEV\",Reg_BEV_Const_Ex+Reg_BEV_Age_Coef_Ex*(COLUMN(E4)-COLUMN($D4))+Reg_BEV_Agesq_Coef_Ex*((COLUMN(E4)-COLUMN($D4))^2)+Reg_BEV_MSRP_Coef_Ex*Base_V1_MSRP_Modeled+Reg_BEV_Range_Coef_Ex*VLOOKUP(Base_V1_Type_Ex,DB_Vehicles,7,FALSE)+Reg_BEV_Mileage_Coef_Ex*Base_V1_VMT_Modeled*(COLUMN(E4)-COLUMN($D4)),0),300),0)","v":0},{"$f":"IF(VLOOKUP(Base_V1_Type_Ex,DB_Vehicles,5,FALSE)=\"BEV\",MAX(IF(VLOOKUP(Base_V1_Type_Ex,DB_Vehicles,5,FALSE)=\"BEV\",Reg_BEV_Const_Ex+Reg_BEV_Age_Coef_Ex*(COLUMN(F4)-COLUMN($D4))+Reg_BEV_Agesq_Coef_Ex*((COLUMN(F4)-COLUMN($D4))^2)+Reg_BEV_MSRP_Coef_Ex*Base_V1_MSRP_Modeled+Reg_BEV_Range_Coef_Ex*VLOOKUP(Base_V1_Type_Ex,DB_Vehicles,7,FALSE)+Reg_BEV_Mileage_Coef_Ex*Base_V1_VMT_Modeled*(COLUMN(F4)-COLUMN($D4)),0),300),0)","v":0},{"$f":"IF(VLOOKUP(Base_V1_Type_Ex,DB_Vehicles,5,FALSE)=\"BEV\",MAX(IF(VLOOKUP(Base_V1_Type_Ex,DB_Vehicles,5,FALSE)=\"BEV\",Reg_BEV_Const_Ex+Reg_BEV_Age_Coef_Ex*(COLUMN(G4)-COLUMN($D4))+Reg_BEV_Agesq_Coef_Ex*((COLUMN(G4)-COLUMN($D4))^2)+Reg_BEV_MSRP_Coef_Ex*Base_V1_MSRP_Modeled+Reg_BEV_Range_Coef_Ex*VLOOKUP(Base_V1_Type_Ex,DB_Vehicles,7,FALSE)+Reg_BEV_Mileage_Coef_Ex*Base_V1_VMT_Modeled*(COLUMN(G4)-COLUMN($D4)),0),300),0)","v":0},{"$f":"IF(VLOOKUP(Base_V1_Type_Ex,DB_Vehicles,5,FALSE)=\"BEV\",MAX(IF(VLOOKUP(Base_V1_Type_Ex,DB_Vehicles,5,FALSE)=\"BEV\",Reg_BEV_Const_Ex+Reg_BEV_Age_Coef_Ex*(COLUMN(H4)-COLUMN($D4))+Reg_BEV_Agesq_Coef_Ex*((COLUMN(H4)-COLUMN($D4))^2)+Reg_BEV_MSRP_Coef_Ex*Base_V1_MSRP_Modeled+Reg_BEV_Range_Coef_Ex*VLOOKUP(Base_V1_Type_Ex,DB_Vehicles,7,FALSE)+Reg_BEV_Mileage_Coef_Ex*Base_V1_VMT_Modeled*(COLUMN(H4)-COLUMN($D4)),0),300),0)","v":0},{"$f":"IF(VLOOKUP(Base_V1_Type_Ex,DB_Vehicles,5,FALSE)=\"BEV\",MAX(IF(VLOOKUP(Base_V1_Type_Ex,DB_Vehicles,5,FALSE)=\"BEV\",Reg_BEV_Const_Ex+Reg_BEV_Age_Coef_Ex*(COLUMN(I4)-COLUMN($D4))+Reg_BEV_Agesq_Coef_Ex*((COLUMN(I4)-COLUMN($D4))^2)+Reg_BEV_MSRP_Coef_Ex*Base_V1_MSRP_Modeled+Reg_BEV_Range_Coef_Ex*VLOOKUP(Base_V1_Type_Ex,DB_Vehicles,7,FALSE)+Reg_BEV_Mileage_Coef_Ex*Base_V1_VMT_Modeled*(COLUMN(I4)-COLUMN($D4)),0),300),0)","v":0},{"$f":"IF($H6-$I6=0,0,MAX((1-($H6-$I6)/$H6)*I6,300))","v":0},{"$f":"IF($H6-$I6=0,0,MAX((1-($H6-$I6)/$H6)*J6,300))","v":0},0,0,0,0,0,0,0,0,0,0,0,0,0,0,0,0,0,0]
[null,"Fair Market Value - PHEV",null,{"$f":"IF(VLOOKUP(Base_V1_Type_Ex,DB_Vehicles,5,FALSE)=\"PHEV\",Base_V1_MSRP_Modeled,0)","v":0},{"$f":"IF(VLOOKUP(Base_V1_Type_Ex,DB_Vehicles,5,FALSE)=\"PHEV\",MAX(IF(VLOOKUP(Base_V1_Type_Ex,DB_Vehicles,5,FALSE)=\"PHEV\",Reg_PHEV_Const_Ex+Reg_PHEV_Age_Coef_Ex*(COLUMN(E4)-COLUMN($D4))+Reg_PHEV_Agesq_Coef_Ex*((COLUMN(E4)-COLUMN($D4))^2)+Reg_PHEV_MSRP_Coef_Ex*Base_V1_MSRP_Modeled+Reg_PHEV_Range_Coef_Ex*VLOOKUP(Base_V1_Type_Ex,DB_Vehicles,7,FALSE)+Reg_PHEV_Mileage_Coef_Ex*Base_V1_VMT_Modeled*(COLUMN(E4)-COLUMN($D4)),0),300),0)","v":0},{"$f":"IF(VLOOKUP(Base_V1_Type_Ex,DB_Vehicles,5,FALSE)=\"PHEV\",MAX(IF(VLOOKUP(Base_V1_Type_Ex,DB_Vehicles,5,FALSE)=\"PHEV\",Reg_PHEV_Const_Ex+Reg_PHEV_Age_Coef_Ex*(COLUMN(F4)-COLUMN($D4))+Reg_PHEV_Agesq_Coef_Ex*((COLUMN(F4)-COLUMN($D4))^2)+Reg_PHEV_MSRP_Coef_Ex*Base_V1_MSRP_Modeled+Reg_PHEV_Range_Coef_Ex*VLOOKUP(Base_V1_Type_Ex,DB_Vehicles,7,FALSE)+Reg_PHEV_Mileage_Coef_Ex*Base_V1_VMT_Modeled*(COLUMN(F4)-COLUMN($D4)),0),300),0)","v":0},{"$f":"IF(VLOOKUP(Base_V1_Type_Ex,DB_Vehicles,5,FALSE)=\"PHEV\",MAX(IF(VLOOKUP(Base_V1_Type_Ex,DB_Vehicles,5,FALSE)=\"PHEV\",Reg_PHEV_Const_Ex+Reg_PHEV_Age_Coef_Ex*(COLUMN(G4)-COLUMN($D4))+Reg_PHEV_Agesq_Coef_Ex*((COLUMN(G4)-COLUMN($D4))^2)+Reg_PHEV_MSRP_Coef_Ex*Base_V1_MSRP_Modeled+Reg_PHEV_Range_Coef_Ex*VLOOKUP(Base_V1_Type_Ex,DB_Vehicles,7,FALSE)+Reg_PHEV_Mileage_Coef_Ex*Base_V1_VMT_Modeled*(COLUMN(G4)-COLUMN($D4)),0),300),0)","v":0},{"$f":"IF(VLOOKUP(Base_V1_Type_Ex,DB_Vehicles,5,FALSE)=\"PHEV\",MAX(IF(VLOOKUP(Base_V1_Type_Ex,DB_Vehicles,5,FALSE)=\"PHEV\",Reg_PHEV_Const_Ex+Reg_PHEV_Age_Coef_Ex*(COLUMN(H4)-COLUMN($D4))+Reg_PHEV_Agesq_Coef_Ex*((COLUMN(H4)-COLUMN($D4))^2)+Reg_PHEV_MSRP_Coef_Ex*Base_V1_MSRP_Modeled+Reg_PHEV_Range_Coef_Ex*VLOOKUP(Base_V1_Type_Ex,DB_Vehicles,7,FALSE)+Reg_PHEV_Mileage_Coef_Ex*Base_V1_VMT_Modeled*(COLUMN(H4)-COLUMN($D4)),0),300),0)","v":0},{"$f":"IF(VLOOKUP(Base_V1_Type_Ex,DB_Vehicles,5,FALSE)=\"PHEV\",MAX(IF(VLOOKUP(Base_V1_Type_Ex,DB_Vehicles,5,FALSE)=\"PHEV\",Reg_PHEV_Const_Ex+Reg_PHEV_Age_Coef_Ex*(COLUMN(I4)-COLUMN($D4))+Reg_PHEV_Agesq_Coef_Ex*((COLUMN(I4)-COLUMN($D4))^2)+Reg_PHEV_MSRP_Coef_Ex*Base_V1_MSRP_Modeled+Reg_PHEV_Range_Coef_Ex*VLOOKUP(Base_V1_Type_Ex,DB_Vehicles,7,FALSE)+Reg_PHEV_Mileage_Coef_Ex*Base_V1_VMT_Modeled*(COLUMN(I4)-COLUMN($D4)),0),300),0)","v":0},{"$f":"IF($H7-$I7=0,0,MAX((1-($H7-$I7)/$H7)*I7,300))","v":0},0,0,0,0,0,0,0,0,0,0,0,0,0,0,0,0,0,0,0]
[null,"Fair Market Value - ICE",null,{"$f":"IF(VLOOKUP(Base_V1_Type_Ex,DB_Vehicles,5,FALSE)=\"ICE\",Base_V1_MSRP_Modeled,0)","v":16975},{"$f":"IF(VLOOKUP(Base_V1_Type_Ex,DB_Vehicles,5,FALSE)=\"ICE\",MAX(IF(VLOOKUP(Base_V1_Type_Ex,DB_Vehicles,5,FALSE)=\"ICE\",Reg_ICE_Const_Ex+Reg_ICE_Age_Coef_Ex*(COLUMN(E4)-COLUMN($D4))+Reg_ICE_Agesq_Coef_Ex*(COLUMN(E4)-COLUMN($D4))^2+Reg_ICE_MSRP_Coef_Ex*Base_V1_MSRP_Modeled+Reg_ICE_MPG_Coef_Ex*VLOOKUP(Base_V1_Type_Ex,DB_Vehicles,10,FALSE)+Reg_ICE_Mileage_Coef_Ex*Base_V1_VMT_Modeled*(COLUMN(E4)-COLUMN($D4)),0),300),0)","v":14110.046924999999},{"$f":"IF(VLOOKUP(Base_V1_Type_Ex,DB_Vehicles,5,FALSE)=\"ICE\",MAX(IF(VLOOKUP(Base_V1_Type_Ex,DB_Vehicles,5,FALSE)=\"ICE\",Reg_ICE_Const_Ex+Reg_ICE_Age_Coef_Ex*(COLUMN(F4)-COLUMN($D4))+Reg_ICE_Agesq_Coef_Ex*(COLUMN(F4)-COLUMN($D4))^2+Reg_ICE_MSRP_Coef_Ex*Base_V1_MSRP_Modeled+Reg_ICE_MPG_Coef_Ex*VLOOKUP(Base_V1_Type_Ex,DB_Vehicles,10,FALSE)+Reg_ICE_Mileage_Coef_Ex*Base_V1_VMT_Modeled*(COLUMN(F4)-COLUMN($D4)),0),300),0)","v":12527.066924999999},{"$f":"IF(VLOOKUP(Base_V1_Type_Ex,DB_Vehicles,5,FALSE)=\"ICE\",MAX(IF(VLOOKUP(Base_V1_Type_Ex,DB_Vehicles,5,FALSE)=\"ICE\",Reg_ICE_Const_Ex+Reg_ICE_Age_Coef_Ex*(COLUMN(G4)-COLUMN($D4))+Reg_ICE_Agesq_Coef_Ex*(COLUMN(G4)-COLUMN($D4))^2+Reg_ICE_MSRP_Coef_Ex*Base_V1_MSRP_Modeled+Reg_ICE_MPG_Coef_Ex*VLOOKUP(Base_V1_Type_Ex,DB_Vehicles,10,FALSE)+Reg_ICE_Mileage_Coef_Ex*Base_V1_VMT_Modeled*(COLUMN(G4)-COLUMN($D4)),0),300),0)","v":10626.386924999999},{"$f":"IF(VLOOKUP(Base_V1_Type_Ex,DB_Vehicles,5,FALSE)=\"ICE\",MAX(IF(VLOOKUP(Base_V1_Type_Ex,DB_Vehicles,5,FALSE)=\"ICE\",Reg_ICE_Const_Ex+Reg_ICE_Age_Coef_Ex*(COLUMN(H4)-COLUMN($D4))+Reg_ICE_Agesq_Coef_Ex*(COLUMN(H4)-COLUMN($D4))^2+Reg_ICE_MSRP_Coef_Ex*Base_V1_MSRP_Modeled+Reg_ICE_MPG_Coef_Ex*VLOOKUP(Base_V1_Type_Ex,DB_Vehicles,10,FALSE)+Reg_ICE_Mileage_Coef_Ex*Base_V1_VMT_Modeled*(COLUMN(H4)-COLUMN($D4)),0),300),0)","v":8408.0069249999997},{"$f":"IF(VLOOKUP(Base_V1_Type_Ex,DB_Vehicles,5,FALSE)=\"ICE\",MAX(IF(VLOOKUP(Base_V1_Type_Ex,DB_Vehicles,5,FALSE)=\"ICE\",Reg_ICE_Const_Ex+Reg_ICE_Age_Coef_Ex*(COLUMN(I4)-COLUMN($D4))+Reg_ICE_Agesq_Coef_Ex*(COLUMN(I4)-COLUMN($D4))^2+Reg_ICE_MSRP_Coef_Ex*Base_V1_MSRP_Modeled+Reg_ICE_MPG_Coef_Ex*VLOOKUP(Base_V1_Type_Ex,DB_Vehicles,10,FALSE)+Reg_ICE_Mileage_Coef_Ex*Base_V1_VMT_Modeled*(COLUMN(I4)-COLUMN($D4)),0),300),0)","v":5871.9269249999998},{"$f":"IF($H8-$I8=0,0,MAX((1-($H8-$I8)/$H8)*I8,300))","v":4100.7965526312828},2863.8865198535514,2000.0616693203563,1396.7895212863002,975.48040478081396,681.24939771530467,475.76633996225343,332.26247391953228,300,300,300,300,300,300,300,300,300,300,300,300]
[]
[null,"Capital and Financing Costs"]
[null,"Cash "]
[null,"Cash Payment",null,{"$f":"IF(AND(Base_V1_Has_Cash_Purchase_Ex=TRUE,Base_V1_Has_Loan_Ex=FALSE,Base_V1_Has_Lease_Ex=FALSE,COLUMN(D4)-COLUMN($D4)=0),-(Base_V1_Base_Price_Ex-IF(Base_V1_Tax_Incentives_Monetized=\"Yes\",Base_V1_Federal_Tax_Incentives_Modeled+IF(Base_V1_State_Tax_Incentive_Cap_Modeled=0,Base_V1_State_Tax_Incentives_Modeled,MIN(Base_V1_State_Tax_Incentive_Cap_Modeled,Base_V1_State_Tax_Incentives_Modeled*Base_V1_Num_Vehicles_Modeled)/Base_V1_Num_Vehicles_Modeled),0)-Base_V1_Other_Incentives_Modeled),IF(AND(Base_V1_Has_Cash_Purchase_Ex=TRUE,OR(Base_V1_Has_Loan_Ex=TRUE,Base_V1_Has_Lease_Ex=TRUE),COLUMN(D4)-COLUMN($D4)=Base_V1_Lease_Term_Modeled),IF(ISERROR(FIND(\"Tax\",_Base_V1_Ownership_Structure,1)),-SUM(D6:D8),-Base_V1_Lease_Residual_Price_Modeled),0))","v":-18224},0,0,0,0,0,0,0,0,0,0,0,0,0,0,0,0,0,0,0,0,0,0,0,0,0]
[null,"Lease"]
[null,"Down Payment",null,{"$f":"IF(Base_V1_Has_Lease_Ex=TRUE,-Base_V1_Down_Payment_Modeled,0)","v":0}]
[null,"Acquisition Fee",null,{"$f":"IF(Base_V1_Has_Lease_Ex=TRUE,-Base_V1_Lease_Acquisition_Fee_Modeled,0)","v":0}]
[null,"Disposition Charge",null,{"$f":"IF(AND(Base_V1_Has_Lease_Ex=TRUE,((COLUMN(D4)-COLUMN($D4))=Base_V1_Lease_Term_Modeled)),-Base_V1_Lease_Disposition_Fee_Modeled,0)","v":0},0,0,0,0,0,0,0,0,0,0,0,0,0,0,0,0,0,0,0,0,0,0,0,0,0]
[null,"Lease Payments",null,null,{"$f":"IF(Base_V1_Has_Lease_Ex=TRUE,IF((COLUMN(E4)-COLUMN($E4))<Base_V1_Lease_Term_Modeled,-PMT(Base_V1_Lease_APR_Modeled/12,Base_V1_Lease_Term_Modeled*12,-(Base_V1_Base_Price_Ex-IF(Base_V1_Tax_Incentives_Monetized=\"Yes\",Base_V1_Federal_Tax_Incentives_Modeled+IF(Base_V1_State_Tax_Incentive_Cap_Modeled=0,Base_V1_State_Tax_Incentives_Modeled,MIN(Base_V1_State_Tax_Incentive_Cap_Modeled,Base_V1_State_Tax_Incentives_Modeled*Base_V1_Num_Vehicles_Modeled)/Base_V1_Num_Vehicles_Modeled),0)-Base_V1_Other_Incentives_Modeled-Base_V1_Down_Payment_Modeled)+Base_V1_Lease_Residual_Price_Modeled,0)*12,0),0)","v":0},0,0,0,0,0,0,0,0,0,0,0,0,0,0,0,0,0,0,0,0,0,0,0,0]
[null,"Principal Payments",null,null,{"$f":"IF(Base_V1_Has_Lease_Ex=TRUE,IF((COLUMN(E4)-COLUMN($E4))<Base_V1_Lease_Term_Modeled,-PPMT(Base_V1_Lease_APR_Modeled/12,(COLUMN(E4)-COLUMN($D4))*12,Base_V1_Lease_Term_Modeled*12,-(Base_V1_Base_Price_Ex-IF(Base_V1_Tax_Incentives_Monetized=\"Yes\",Base_V1_Federal_Tax_Incentives_Modeled+IF(Base_V1_State_Tax_Incentive_Cap_Modeled=0,Base_V1_State_Tax_Incentives_Modeled,MIN(Base_V1_State_Tax_Incentive_Cap_Modeled,Base_V1_State_Tax_Incentives_Modeled*Base_V1_Num_Vehicles_Modeled)/Base_V1_Num_Vehicles_Modeled),0)-Base_V1_Other_Incentives_Modeled-Base_V1_Down_Payment_Modeled)+Base_V1_Lease_Residual_Price_Modeled,0)*12,0),0)","v":0},0,0,0,0,0,0,0,0,0,0,0,0,0,0,0,0,0,0,0,0,0,0,0,0]
[null,"Interest Payments",null,null,{"$f":"IF(Base_V1_Has_Lease_Ex=TRUE,IF((COLUMN(E4)-COLUMN($E4))<Base_V1_Lease_Term_Modeled,-IPMT(Base_V1_Lease_APR_Modeled/12,(COLUMN(E4)-COLUMN($D4))*12,Base_V1_Lease_Term_Modeled*12,-(Base_V1_Base_Price_Ex-IF(Base_V1_Tax_Incentives_Monetized=\"Yes\",Base_V1_Federal_Tax_Incentives_Modeled+IF(Base_V1_State_Tax_Incentive_Cap_Modeled=0,Base_V1_State_Tax_Incentives_Modeled,MIN(Base_V1_State_Tax_Incentive_Cap_Modeled,Base_V1_State_Tax_Incentives_Modeled*Base_V1_Num_Vehicles_Modeled)/Base_V1_Num_Vehicles_Modeled),0)-Base_V1_Other_Incentives_Modeled-Base_V1_Down_Payment_Modeled)+Base_V1_Lease_Residual_Price_Modeled,0)*12,0),0)","v":0},0,0,0,0,0,0,0,0,0,0,0,0,0,0,0,0,0,0,0,0,0,0,0,0]
[null,"TRAC Value Adjustment",null,null,{"$f":"IF(ISERROR(FIND(\"TRAC\",_Base_V1_Ownership_Structure,1)),0,IF(Base_V1_Has_Loan_Ex=TRUE,0,IF((COLUMN(E4)-COLUMN($D4))=Base_V1_Lease_Term_Modeled,SUM(E6:E8)-Base_V1_Lease_Residual_Price_Modeled,0)))","v":0},0,0,0,0,0,0,0,0,0,0,0,0,0,0,0,0,0,0,0,0,0,0,0,0]
[null,"FMV Mileage Adjustment",null,null,{"$f":"MIN(0,MAX(-Base_V1_Lease_Residual_Price_Modeled+SUM(E6:E8),IF(IFERROR(IF(FIND(\"FMV\",_Base_V1_Ownership_Structure,1)>0,TRUE,FALSE),FALSE),IF((COLUMN(E4)-COLUMN($D4))=Base_V1_Lease_Term_Modeled,(Base_V1_Lease_Mileage_Inc_Modeled-Base_V1_VMT_Modeled)*(COLUMN(E4)-COLUMN($D4))*Base_V1_Lease_Mileage_Cost_Modeled,0),0)))","v":0},0,0,0,0,0,0,0,0,0,0,0,0,0,0,0,0,0,0,0,0,0,0,0,0]
[null,"Subtotal Lease Cash Flows",null,{"$f":"SUM(D14:D17)+SUM(D20:D21)","v":0},{"$f":"SUM(E14:E17)+SUM(E20:E21)","v":0},0,0,0,0,0,0,0,0,0,0,0,0,0,0,0,0,0,0,0,0,0,0,0,0]
[null,"Loan"]
[null,"Down Payment",null,{"$f":"IF(AND(Base_V1_Has_Loan_Ex=TRUE,Base_V1_Has_Lease_Ex=FALSE),-Base_V1_Down_Payment_Modeled,0)","v":0}]
[null,"Loan Payments",null,null,{"$f":"IF(Base_V1_Has_Loan_Ex=TRUE,IF(AND((COLUMN(E4)-COLUMN($E4))<Base_V1_Loan_Term_Modeled+Base_V1_Lease_Term_Modeled,(COLUMN(E4)-COLUMN($E4))>=Base_V1_Lease_Term_Modeled),PMT(Base_V1_Loan_APR_Modeled/12,Base_V1_Loan_Term_Modeled*12,IF(Base_V1_Has_Lease_Ex=TRUE,SUM(OFFSET($D4,0,Comp_V1_Lease_Term_Modeled,3,1)),Base_V1_Base_Price_Ex-IF(Base_V1_Tax_Incentives_Monetized=\"Yes\",Base_V1_Federal_Tax_Incentives_Modeled+IF(Base_V1_State_Tax_Incentive_Cap_Modeled=0,Base_V1_State_Tax_Incentives_Modeled,MIN(Base_V1_State_Tax_Incentive_Cap_Modeled,Base_V1_State_Tax_Incentives_Modeled*Base_V1_Num_Vehicles_Modeled)/Base_V1_Num_Vehicles_Modeled),0)-Base_V1_Other_Incentives_Modeled-Base_V1_Down_Payment_Modeled),0)*12,0),0)","v":0},0,0,0,0,0,0,0,0,0,0,0,0,0,0,0,0,0,0,0,0,0,0,0,0]
[null,"Principal Payments",null,null,{"$f":"IF(Base_V1_Has_Loan_Ex=TRUE,IF(AND((COLUMN(E4)-COLUMN($E4))<Base_V1_Loan_Term_Modeled+Base_V1_Lease_Term_Modeled,(COLUMN(E4)-COLUMN($E4))>=Base_V1_Lease_Term_Modeled),PPMT(Base_V1_Loan_APR_Modeled/12,IF(Base_V1_Has_Lease_Ex=TRUE,(COLUMN(E4)-COLUMN($D4)-Base_V1_Lease_Term_Modeled)*12,(COLUMN(E4)-COLUMN($D4))*12),Base_V1_Loan_Term_Modeled*12,IF(Base_V1_Has_Lease_Ex=TRUE,SUM(OFFSET($D4,0,Comp_V1_Lease_Term_Modeled,3,1)),Base_V1_Base_Price_Ex-IF(Base_V1_Tax_Incentives_Monetized=\"Yes\",Base_V1_Federal_Tax_Incentives_Modeled+IF(Base_V1_State_Tax_Incentive_Cap_Modeled=0,Base_V1_State_Tax_Incentives_Modeled,MIN(Base_V1_State_Tax_Incentive_Cap_Modeled,Base_V1_State_Tax_Incentives_Modeled*Base_V1_Num_Vehicles_Modeled)/Base_V1_Num_Vehicles_Modeled),0)-Base_V1_Other_Incentives_Modeled-Base_V1_Down_Payment_Modeled),0)*12,0),0)","v":0},0,0,0,0,0,0,0,0,0,0,0,0,0,0,0,0,0,0,0,0,0,0,0,0]
[null,"Interest Payments",null,null,{"$f":"IF(Base_V1_Has_Loan_Ex=TRUE,IF(AND((COLUMN(E4)-COLUMN($E4))<Base_V1_Loan_Term_Modeled+Base_V1_Lease_Term_Modeled,(COLUMN(E4)-COLUMN($E4))>=Base_V1_Lease_Term_Modeled),IPMT(Base_V1_Loan_APR_Modeled/12,IF(Base_V1_Has_Lease_Ex=TRUE,(COLUMN(E4)-COLUMN($D4)-Base_V1_Lease_Term)*12,(COLUMN(E4)-COLUMN($D4))*12),Base_V1_Loan_Term_Modeled*12,IF(Base_V1_Has_Lease_Ex=TRUE,SUM(OFFSET($D4,0,Comp_V1_Lease_Term_Modeled,3,1)),Base_V1_Base_Price_Ex-IF(Base_V1_Tax_Incentives_Monetized=\"Yes\",Base_V1_Federal_Tax_Incentives_Modeled+IF(Base_V1_State_Tax_Incentive_Cap_Modeled=0,Base_V1_State_Tax_Incentives_Modeled,MIN(Base_V1_State_Tax_Incentive_Cap_Modeled,Base_V1_State_Tax_Incentives_Modeled*Base_V1_Num_Vehicles_Modeled)/Base_V1_Num_Vehicles_Modeled),0)-Base_V1_Other_Incentives_Modeled-Base_V1_Down_Payment_Modeled),0)*12,0),0)","v":0},0,0,0,0,0,0,0,0,0,0,0,0,0,0,0,0,0,0,0,0,0,0,0,0]
[null,"Subtotal Loan Cash Flows",null,{"$f":"SUM(D24:D25)","v":0},{"$f":"SUM(E24:E25)","v":0},0,0,0,0,0,0,0,0,0,0,0,0,0,0,0,0,0,0,0,0,0,0,0,0]
[null,"Terminal Value",null,null,{"$f":"IF(OR(Base_V1_Has_Loan_Ex=TRUE,Base_V1_Has_Cash_Purchase_Ex=TRUE),IF((COLUMN(E4)-COLUMN($D4))=Base_V1_Years_Usage_Modeled,SUM(E6:E8),0),0)","v":0},0,0,0,0,0,2863.8865198535514,0,0,0,0,0,0,0,0,0,0,0,0,0,0,0,0,0,0]
[]
[null,"Total Capital and Financing Costs",null,{"$f":"D12+D22+D28+D29","v":-18224},{"$f":"E12+E22+E28+E29","v":0},{"$f":"F12+F22+F28+F29","v":0},0,0,0,0,2863.8865198535514,0,0,0,0,0,0,0,0,0,0,0,0,0,0,0,0,0,0]
[]
[null,"Fuel and Operating Costs"]
[null,"Fuel Cost",null,null,{"$f":"IF(COLUMN(E4)-COLUMN($E4)<Base_V1_Years_Usage_Modeled,-((Base_V1_Gas_Usage_Ex*Gasoline_Price_Modeled*Data!C$142)+(Base_V1_Electricity_Usage_Ex*Electricity_Price_Modeled*Data!C$144)),0)","v":-715.0291666666667},{"$f":"IF(COLUMN(F4)-COLUMN($E4)<Base_V1_Years_Usage_Modeled,-((Base_V1_Gas_Usage_Ex*Gasoline_Price_Modeled*Data!D$142)+(Base_V1_Electricity_Usage_Ex*Electricity_Price_Modeled*Data!D$144)),0)","v":-778.59345256867493},{"$f":"IF(COLUMN(G4)-COLUMN($E4)<Base_V1_Years_Usage_Modeled,-((Base_V1_Gas_Usage_Ex*Gasoline_Price_Modeled*Data!E$142)+(Base_V1_Electricity_Usage_Ex*Electricity_Price_Modeled*Data!E$144)),0)","v":-835.7857689062414},{"$f":"IF(COLUMN(H4)-COLUMN($E4)<Base_V1_Years_Usage_Modeled,-((Base_V1_Gas_Usage_Ex*Gasoline_Price_Modeled*Data!F$142)+(Base_V1_Electricity_Usage_Ex*Electricity_Price_Modeled*Data!F$144)),0)","v":-919.76185278496564},{"$f":"IF(COLUMN(I4)-COLUMN($E4)<Base_V1_Years_Usage_Modeled,-((Base_V1_Gas_Usage_Ex*Gasoline_Price_Modeled*Data!G$142)+(Base_V1_Electricity_Usage_Ex*Electricity_Price_Modeled*Data!G$144)),0)","v":-965.93054013623816},{"$f":"IF(COLUMN(J4)-COLUMN($E4)<Base_V1_Years_Usage_Modeled,-((Base_V1_Gas_Usage_Ex*Gasoline_Price_Modeled*Data!H$142)+(Base_V1_Electricity_Usage_Ex*Electricity_Price_Modeled*Data!H$144)),0)","v":-996.52227168047443},{"$f":"IF(COLUMN(K4)-COLUMN($E4)<Base_V1_Years_Usage_Modeled,-((Base_V1_Gas_Usage_Ex*Gasoline_Price_Modeled*Data!I$142)+(Base_V1_Electricity_Usage_Ex*Electricity_Price_Modeled*Data!I$144)),0)","v":-1011.7807098189521},{"$f":"IF(COLUMN(L4)-COLUMN($E4)<Base_V1_Years_Usage_Modeled,-((Base_V1_Gas_Usage_Ex*Gasoline_Price_Modeled*Data!J$142)+(Base_V1_Electricity_Usage_Ex*Electricity_Price_Modeled*Data!J$144)),0)","v":0},{"$f":"IF(COLUMN(M4)-COLUMN($E4)<Base_V1_Years_Usage_Modeled,-((Base_V1_Gas_Usage_Ex*Gasoline_Price_Modeled*Data!K$142)+(Base_V1_Electricity_Usage_Ex*Electricity_Price_Modeled*Data!K$144)),0)","v":0},{"$f":"IF(COLUMN(N4)-COLUMN($E4)<Base_V1_Years_Usage_Modeled,-((Base_V1_Gas_Usage_Ex*Gasoline_Price_Modeled*Data!L$142)+(Base_V1_Electricity_Usage_Ex*Electricity_Price_Modeled*Data!L$144)),0)","v":0},{"$f":"IF(COLUMN(O4)-COLUMN($E4)<Base_V1_Years_Usage_Modeled,-((Base_V1_Gas_Usage_Ex*Gasoline_Price_Modeled*Data!M$142)+(Base_V1_Electricity_Usage_Ex*Electricity_Price_Modeled*Data!M$144)),0)","v":0},{"$f":"IF(COLUMN(P4)-COLUMN($E4)<Base_V1_Years_Usage_Modeled,-((Base_V1_Gas_Usage_Ex*Gasoline_Price_Modeled*Data!N$142)+(Base_V1_Electricity_Usage_Ex*Electricity_Price_Modeled*Data!N$144)),0)","v":0},{"$f":"IF(COLUMN(Q4)-COLUMN($E4)<Base_V1_Years_Usage_Modeled,-((Base_V1_Gas_Usage_Ex*Gasoline_Price_Modeled*Data!O$142)+(Base_V1_Electricity_Usage_Ex*Electricity_Price_Modeled*Data!O$144)),0)","v":0},{"$f":"IF(COLUMN(R4)-COLUMN($E4)<Base_V1_Years_Usage_Modeled,-((Base_V1_Gas_Usage_Ex*Gasoline_Price_Modeled*Data!P$142)+(Base_V1_Electricity_Usage_Ex*Electricity_Price_Modeled*Data!P$144)),0)","v":0},{"$f":"IF(COLUMN(S4)-COLUMN($E4)<Base_V1_Years_Usage_Modeled,-((Base_V1_Gas_Usage_Ex*Gasoline_Price_Modeled*Data!Q$142)+(Base_V1_Electricity_Usage_Ex*Electricity_Price_Modeled*Data!Q$144)),0)","v":0},{"$f":"IF(COLUMN(T4)-COLUMN($E4)<Base_V1_Years_Usage_Modeled,-((Base_V1_Gas_Usage_Ex*Gasoline_Price_Modeled*Data!R$142)+(Base_V1_Electricity_Usage_Ex*Electricity_Price_Modeled*Data!R$144)),0)","v":0},{"$f":"IF(COLUMN(U4)-COLUMN($E4)<Base_V1_Years_Usage_Modeled,-((Base_V1_Gas_Usage_Ex*Gasoline_Price_Modeled*Data!S$142)+(Base_V1_Electricity_Usage_Ex*Electricity_Price_Modeled*Data!S$144)),0)","v":0},{"$f":"IF(COLUMN(V4)-COLUMN($E4)<Base_V1_Years_Usage_Modeled,-((Base_V1_Gas_Usage_Ex*Gasoline_Price_Modeled*Data!T$142)+(Base_V1_Electricity_Usage_Ex*Electricity_Price_Modeled*Data!T$144)),0)","v":0},{"$f":"IF(COLUMN(W4)-COLUMN($E4)<Base_V1_Years_Usage_Modeled,-((Base_V1_Gas_Usage_Ex*Gasoline_Price_Modeled*Data!U$142)+(Base_V1_Electricity_Usage_Ex*Electricity_Price_Modeled*Data!U$144)),0)","v":0},{"$f":"IF(COLUMN(X4)-COLUMN($E4)<Base_V1_Years_Usage_Modeled,-((Base_V1_Gas_Usage_Ex*Gasoline_Price_Modeled*Data!V$142)+(Base_V1_Electricity_Usage_Ex*Electricity_Price_Modeled*Data!V$144)),0)","v":0},{"$f":"IF(COLUMN(Y4)-COLUMN($E4)<Base_V1_Years_Usage_Modeled,-((Base_V1_Gas_Usage_Ex*Gasoline_Price_Modeled*Data!W$142)+(Base_V1_Electricity_Usage_Ex*Electricity_Price_Modeled*Data!W$144)),0)","v":0},{"$f":"IF(COLUMN(Z4)-COLUMN($E4)<Base_V1_Years_Usage_Modeled,-((Base_V1_Gas_Usage_Ex*Gasoline_Price_Modeled*Data!X$142)+(Base_V1_Electricity_Usage_Ex*Electricity_Price_Modeled*Data!X$144)),0)","v":0},{"$f":"IF(COLUMN(AA4)-COLUMN($E4)<Base_V1_Years_Usage_Modeled,-((Base_V1_Gas_Usage_Ex*Gasoline_Price_Modeled*Data!Y$142)+(Base_V1_Electricity_Usage_Ex*Electricity_Price_Modeled*Data!Y$144)),0)","v":0},{"$f":"IF(COLUMN(AB4)-COLUMN($E4)<Base_V1_Years_Usage_Modeled,-((Base_V1_Gas_Usage_Ex*Gasoline_Price_Modeled*Data!Z$142)+(Base_V1_Electricity_Usage_Ex*Electricity_Price_Modeled*Data!Z$144)),0)","v":0},{"$f":"IF(COLUMN(AC4)-COLUMN($E4)<Base_V1_Years_Usage_Modeled,-((Base_V1_Gas_Usage_Ex*Gasoline_Price_Modeled*Data!AA$142)+(Base_V1_Electricity_Usage_Ex*Electricity_Price_Modeled*Data!AA$144)),0)","v":0}]
[null,"Maintenance and Repair Cost",null,null,{"$f":"-IF(_Base_V1_Maint_Repair_Cost_Use_Default=\"Yes\",IF(COLUMN(E4)-COLUMN($E4)<Base_V1_Years_Usage_Modeled,VLOOKUP(_Base_V1_Vehicle_Drivetrain,DB_Maint_Repair_Costs[],COLUMN(E4)-COLUMN($E4)+2,FALSE)*Base_V1_VMT_Modeled,0),IF(AND(COLUMN(E4)-COLUMN($E4)<Base_V1_Years_Usage_Modeled,COLUMN(E4)-COLUMN($E4)<5),Base_V1_Maint_Repair_Cost_Year_1_Modeled*Base_V1_VMT_Modeled,IF(AND(COLUMN(E4)-COLUMN($E4)<Base_V1_Years_Usage_Modeled,COLUMN(E4)-COLUMN($E4)>=5),Base_V1_Maint_Repair_Cost_Year_5_Modeled*Base_V1_VMT_Modeled,0)))*Data!E$150","v":-800},{"$f":"-IF(_Base_V1_Maint_Repair_Cost_Use_Default=\"Yes\",IF(COLUMN(F4)-COLUMN($E4)<Base_V1_Years_Usage_Modeled,VLOOKUP(_Base_V1_Vehicle_Drivetrain,DB_Maint_Repair_Costs[],COLUMN(F4)-COLUMN($E4)+2,FALSE)*Base_V1_VMT_Modeled,0),IF(AND(COLUMN(F4)-COLUMN($E4)<Base_V1_Years_Usage_Modeled,COLUMN(F4)-COLUMN($E4)<5),Base_V1_Maint_Repair_Cost_Year_1_Modeled*Base_V1_VMT_Modeled,IF(AND(COLUMN(F4)-COLUMN($E4)<Base_V1_Years_Usage_Modeled,COLUMN(F4)-COLUMN($E4)>=5),Base_V1_Maint_Repair_Cost_Year_5_Modeled*Base_V1_VMT_Modeled,0)))*Data!F$150","v":-816},{"$f":"-IF(_Base_V1_Maint_Repair_Cost_Use_Default=\"Yes\",IF(COLUMN(G4)-COLUMN($E4)<Base_V1_Years_Usage_Modeled,VLOOKUP(_Base_V1_Vehicle_Drivetrain,DB_Maint_Repair_Costs[],COLUMN(G4)-COLUMN($E4)+2,FALSE)*Base_V1_VMT_Modeled,0),IF(AND(COLUMN(G4)-COLUMN($E4)<Base_V1_Years_Usage_Modeled,COLUMN(G4)-COLUMN($E4)<5),Base_V1_Maint_Repair_Cost_Year_1_Modeled*Base_V1_VMT_Modeled,IF(AND(COLUMN(G4)-COLUMN($E4)<Base_V1_Years_Usage_Modeled,COLUMN(G4)-COLUMN($E4)>=5),Base_V1_Maint_Repair_Cost_Year_5_Modeled*Base_V1_VMT_Modeled,0)))*Data!G$150","v":-832.31999999999994},{"$f":"-IF(_Base_V1_Maint_Repair_Cost_Use_Default=\"Yes\",IF(COLUMN(H4)-COLUMN($E4)<Base_V1_Years_Usage_Modeled,VLOOKUP(_Base_V1_Vehicle_Drivetrain,DB_Maint_Repair_Costs[],COLUMN(H4)-COLUMN($E4)+2,FALSE)*Base_V1_VMT_Modeled,0),IF(AND(COLUMN(H4)-COLUMN($E4)<Base_V1_Years_Usage_Modeled,COLUMN(H4)-COLUMN($E4)<5),Base_V1_Maint_Repair_Cost_Year_1_Modeled*Base_V1_VMT_Modeled,IF(AND(COLUMN(H4)-COLUMN($E4)<Base_V1_Years_Usage_Modeled,COLUMN(H4)-COLUMN($E4)>=5),Base_V1_Maint_Repair_Cost_Year_5_Modeled*Base_V1_VMT_Modeled,0)))*Data!H$150","v":-848.96639999999991},{"$f":"-IF(_Base_V1_Maint_Repair_Cost_Use_Default=\"Yes\",IF(COLUMN(I4)-COLUMN($E4)<Base_V1_Years_Usage_Modeled,VLOOKUP(_Base_V1_Vehicle_Drivetrain,DB_Maint_Repair_Costs[],COLUMN(I4)-COLUMN($E4)+2,FALSE)*Base_V1_VMT_Modeled,0),IF(AND(COLUMN(I4)-COLUMN($E4)<Base_V1_Years_Usage_Modeled,COLUMN(I4)-COLUMN($E4)<5),Base_V1_Maint_Repair_Cost_Year_1_Modeled*Base_V1_VMT_Modeled,IF(AND(COLUMN(I4)-COLUMN($E4)<Base_V1_Years_Usage_Modeled,COLUMN(I4)-COLUMN($E4)>=5),Base_V1_Maint_Repair_Cost_Year_5_Modeled*Base_V1_VMT_Modeled,0)))*Data!I$150","v":-865.94572800000003},{"$f":"-IF(_Base_V1_Maint_Repair_Cost_Use_Default=\"Yes\",IF(COLUMN(J4)-COLUMN($E4)<Base_V1_Years_Usage_Modeled,VLOOKUP(_Base_V1_Vehicle_Drivetrain,DB_Maint_Repair_Costs[],COLUMN(J4)-COLUMN($E4)+2,FALSE)*Base_V1_VMT_Modeled,0),IF(AND(COLUMN(J4)-COLUMN($E4)<Base_V1_Years_Usage_Modeled,COLUMN(J4)-COLUMN($E4)<5),Base_V1_Maint_Repair_Cost_Year_1_Modeled*Base_V1_VMT_Modeled,IF(AND(COLUMN(J4)-COLUMN($E4)<Base_V1_Years_Usage_Modeled,COLUMN(J4)-COLUMN($E4)>=5),Base_V1_Maint_Repair_Cost_Year_5_Modeled*Base_V1_VMT_Modeled,0)))*Data!J$150","v":-1148.2440353280001},{"$f":"-IF(_Base_V1_Maint_Repair_Cost_Use_Default=\"Yes\",IF(COLUMN(K4)-COLUMN($E4)<Base_V1_Years_Usage_Modeled,VLOOKUP(_Base_V1_Vehicle_Drivetrain,DB_Maint_Repair_Costs[],COLUMN(K4)-COLUMN($E4)+2,FALSE)*Base_V1_VMT_Modeled,0),IF(AND(COLUMN(K4)-COLUMN($E4)<Base_V1_Years_Usage_Modeled,COLUMN(K4)-COLUMN($E4)<5),Base_V1_Maint_Repair_Cost_Year_1_Modeled*Base_V1_VMT_Modeled,IF(AND(COLUMN(K4)-COLUMN($E4)<Base_V1_Years_Usage_Modeled,COLUMN(K4)-COLUMN($E4)>=5),Base_V1_Maint_Repair_Cost_Year_5_Modeled*Base_V1_VMT_Modeled,0)))*Data!K$150","v":-1171.2089160345602},{"$f":"-IF(_Base_V1_Maint_Repair_Cost_Use_Default=\"Yes\",IF(COLUMN(L4)-COLUMN($E4)<Base_V1_Years_Usage_Modeled,VLOOKUP(_Base_V1_Vehicle_Drivetrain,DB_Maint_Repair_Costs[],COLUMN(L4)-COLUMN($E4)+2,FALSE)*Base_V1_VMT_Modeled,0),IF(AND(COLUMN(L4)-COLUMN($E4)<Base_V1_Years_Usage_Modeled,COLUMN(L4)-COLUMN($E4)<5),Base_V1_Maint_Repair_Cost_Year_1_Modeled*Base_V1_VMT_Modeled,IF(AND(COLUMN(L4)-COLUMN($E4)<Base_V1_Years_Usage_Modeled,COLUMN(L4)-COLUMN($E4)>=5),Base_V1_Maint_Repair_Cost_Year_5_Modeled*Base_V1_VMT_Modeled,0)))*Data!L$150","v":0},{"$f":"-IF(_Base_V1_Maint_Repair_Cost_Use_Default=\"Yes\",IF(COLUMN(M4)-COLUMN($E4)<Base_V1_Years_Usage_Modeled,VLOOKUP(_Base_V1_Vehicle_Drivetrain,DB_Maint_Repair_Costs[],COLUMN(M4)-COLUMN($E4)+2,FALSE)*Base_V1_VMT_Modeled,0),IF(AND(COLUMN(M4)-COLUMN($E4)<Base_V1_Years_Usage_Modeled,COLUMN(M4)-COLUMN($E4)<5),Base_V1_Maint_Repair_Cost_Year_1_Modeled*Base_V1_VMT_Modeled,IF(AND(COLUMN(M4)-COLUMN($E4)<Base_V1_Years_Usage_Modeled,COLUMN(M4)-COLUMN($E4)>=5),Base_V1_Maint_Repair_Cost_Year_5_Modeled*Base_V1_VMT_Modeled,0)))*Data!M$150","v":0},{"$f":"-IF(_Base_V1_Maint_Repair_Cost_Use_Default=\"Yes\",IF(COLUMN(N4)-COLUMN($E4)<Base_V1_Years_Usage_Modeled,VLOOKUP(_Base_V1_Vehicle_Drivetrain,DB_Maint_Repair_Costs[],COLUMN(N4)-COLUMN($E4)+2,FALSE)*Base_V1_VMT_Modeled,0),IF(AND(COLUMN(N4)-COLUMN($E4)<Base_V1_Years_Usage_Modeled,COLUMN(N4)-COLUMN($E4)<5),Base_V1_Maint_Repair_Cost_Year_1_Modeled*Base_V1_VMT_Modeled,IF(AND(COLUMN(N4)-COLUMN($E4)<Base_V1_Years_Usage_Modeled,COLUMN(N4)-COLUMN($E4)>=5),Base_V1_Maint_Repair_Cost_Year_5_Modeled*Base_V1_VMT_Modeled,0)))*Data!N$150","v":0},{"$f":"-IF(_Base_V1_Maint_Repair_Cost_Use_Default=\"Yes\",IF(COLUMN(O4)-COLUMN($E4)<Base_V1_Years_Usage_Modeled,VLOOKUP(_Base_V1_Vehicle_Drivetrain,DB_Maint_Repair_Costs[],COLUMN(O4)-COLUMN($E4)+2,FALSE)*Base_V1_VMT_Modeled,0),IF(AND(COLUMN(O4)-COLUMN($E4)<Base_V1_Years_Usage_Modeled,COLUMN(O4)-COLUMN($E4)<5),Base_V1_Maint_Repair_Cost_Year_1_Modeled*Base_V1_VMT_Modeled,IF(AND(COLUMN(O4)-COLUMN($E4)<Base_V1_Years_Usage_Modeled,COLUMN(O4)-COLUMN($E4)>=5),Base_V1_Maint_Repair_Cost_Year_5_Modeled*Base_V1_VMT_Modeled,0)))*Data!O$150","v":0},{"$f":"-IF(_Base_V1_Maint_Repair_Cost_Use_Default=\"Yes\",IF(COLUMN(P4)-COLUMN($E4)<Base_V1_Years_Usage_Modeled,VLOOKUP(_Base_V1_Vehicle_Drivetrain,DB_Maint_Repair_Costs[],COLUMN(P4)-COLUMN($E4)+2,FALSE)*Base_V1_VMT_Modeled,0),IF(AND(COLUMN(P4)-COLUMN($E4)<Base_V1_Years_Usage_Modeled,COLUMN(P4)-COLUMN($E4)<5),Base_V1_Maint_Repair_Cost_Year_1_Modeled*Base_V1_VMT_Modeled,IF(AND(COLUMN(P4)-COLUMN($E4)<Base_V1_Years_Usage_Modeled,COLUMN(P4)-COLUMN($E4)>=5),Base_V1_Maint_Repair_Cost_Year_5_Modeled*Base_V1_VMT_Modeled,0)))*Data!P$150","v":0},{"$f":"-IF(_Base_V1_Maint_Repair_Cost_Use_Default=\"Yes\",IF(COLUMN(Q4)-COLUMN($E4)<Base_V1_Years_Usage_Modeled,VLOOKUP(_Base_V1_Vehicle_Drivetrain,DB_Maint_Repair_Costs[],COLUMN(Q4)-COLUMN($E4)+2,FALSE)*Base_V1_VMT_Modeled,0),IF(AND(COLUMN(Q4)-COLUMN($E4)<Base_V1_Years_Usage_Modeled,COLUMN(Q4)-COLUMN($E4)<5),Base_V1_Maint_Repair_Cost_Year_1_Modeled*Base_V1_VMT_Modeled,IF(AND(COLUMN(Q4)-COLUMN($E4)<Base_V1_Years_Usage_Modeled,COLUMN(Q4)-COLUMN($E4)>=5),Base_V1_Maint_Repair_Cost_Year_5_Modeled*Base_V1_VMT_Modeled,0)))*Data!Q$150","v":0},{"$f":"-IF(_Base_V1_Maint_Repair_Cost_Use_Default=\"Yes\",IF(COLUMN(R4)-COLUMN($E4)<Base_V1_Years_Usage_Modeled,VLOOKUP(_Base_V1_Vehicle_Drivetrain,DB_Maint_Repair_Costs[],COLUMN(R4)-COLUMN($E4)+2,FALSE)*Base_V1_VMT_Modeled,0),IF(AND(COLUMN(R4)-COLUMN($E4)<Base_V1_Years_Usage_Modeled,COLUMN(R4)-COLUMN($E4)<5),Base_V1_Maint_Repair_Cost_Year_1_Modeled*Base_V1_VMT_Modeled,IF(AND(COLUMN(R4)-COLUMN($E4)<Base_V1_Years_Usage_Modeled,COLUMN(R4)-COLUMN($E4)>=5),Base_V1_Maint_Repair_Cost_Year_5_Modeled*Base_V1_VMT_Modeled,0)))*Data!R$150","v":0},{"$f":"-IF(_Base_V1_Maint_Repair_Cost_Use_Default=\"Yes\",IF(COLUMN(S4)-COLUMN($E4)<Base_V1_Years_Usage_Modeled,VLOOKUP(_Base_V1_Vehicle_Drivetrain,DB_Maint_Repair_Costs[],COLUMN(S4)-COLUMN($E4)+2,FALSE)*Base_V1_VMT_Modeled,0),IF(AND(COLUMN(S4)-COLUMN($E4)<Base_V1_Years_Usage_Modeled,COLUMN(S4)-COLUMN($E4)<5),Base_V1_Maint_Repair_Cost_Year_1_Modeled*Base_V1_VMT_Modeled,IF(AND(COLUMN(S4)-COLUMN($E4)<Base_V1_Years_Usage_Modeled,COLUMN(S4)-COLUMN($E4)>=5),Base_V1_Maint_Repair_Cost_Year_5_Modeled*Base_V1_VMT_Modeled,0)))*Data!S$150","v":0},{"$f":"-IF(_Base_V1_Maint_Repair_Cost_Use_Default=\"Yes\",IF(COLUMN(T4)-COLUMN($E4)<Base_V1_Years_Usage_Modeled,VLOOKUP(_Base_V1_Vehicle_Drivetrain,DB_Maint_Repair_Costs[],COLUMN(T4)-COLUMN($E4)+2,FALSE)*Base_V1_VMT_Modeled,0),IF(AND(COLUMN(T4)-COLUMN($E4)<Base_V1_Years_Usage_Modeled,COLUMN(T4)-COLUMN($E4)<5),Base_V1_Maint_Repair_Cost_Year_1_Modeled*Base_V1_VMT_Modeled,IF(AND(COLUMN(T4)-COLUMN($E4)<Base_V1_Years_Usage_Modeled,COLUMN(T4)-COLUMN($E4)>=5),Base_V1_Maint_Repair_Cost_Year_5_Modeled*Base_V1_VMT_Modeled,0)))*Data!T$150","v":0},{"$f":"-IF(_Base_V1_Maint_Repair_Cost_Use_Default=\"Yes\",IF(COLUMN(U4)-COLUMN($E4)<Base_V1_Years_Usage_Modeled,VLOOKUP(_Base_V1_Vehicle_Drivetrain,DB_Maint_Repair_Costs[],COLUMN(U4)-COLUMN($E4)+2,FALSE)*Base_V1_VMT_Modeled,0),IF(AND(COLUMN(U4)-COLUMN($E4)<Base_V1_Years_Usage_Modeled,COLUMN(U4)-COLUMN($E4)<5),Base_V1_Maint_Repair_Cost_Year_1_Modeled*Base_V1_VMT_Modeled,IF(AND(COLUMN(U4)-COLUMN($E4)<Base_V1_Years_Usage_Modeled,COLUMN(U4)-COLUMN($E4)>=5),Base_V1_Maint_Repair_Cost_Year_5_Modeled*Base_V1_VMT_Modeled,0)))*Data!U$150","v":0},{"$f":"-IF(_Base_V1_Maint_Repair_Cost_Use_Default=\"Yes\",IF(COLUMN(V4)-COLUMN($E4)<Base_V1_Years_Usage_Modeled,VLOOKUP(_Base_V1_Vehicle_Drivetrain,DB_Maint_Repair_Costs[],COLUMN(V4)-COLUMN($E4)+2,FALSE)*Base_V1_VMT_Modeled,0),IF(AND(COLUMN(V4)-COLUMN($E4)<Base_V1_Years_Usage_Modeled,COLUMN(V4)-COLUMN($E4)<5),Base_V1_Maint_Repair_Cost_Year_1_Modeled*Base_V1_VMT_Modeled,IF(AND(COLUMN(V4)-COLUMN($E4)<Base_V1_Years_Usage_Modeled,COLUMN(V4)-COLUMN($E4)>=5),Base_V1_Maint_Repair_Cost_Year_5_Modeled*Base_V1_VMT_Modeled,0)))*Data!V$150","v":0},{"$f":"-IF(_Base_V1_Maint_Repair_Cost_Use_Default=\"Yes\",IF(COLUMN(W4)-COLUMN($E4)<Base_V1_Years_Usage_Modeled,VLOOKUP(_Base_V1_Vehicle_Drivetrain,DB_Maint_Repair_Costs[],COLUMN(W4)-COLUMN($E4)+2,FALSE)*Base_V1_VMT_Modeled,0),IF(AND(COLUMN(W4)-COLUMN($E4)<Base_V1_Years_Usage_Modeled,COLUMN(W4)-COLUMN($E4)<5),Base_V1_Maint_Repair_Cost_Year_1_Modeled*Base_V1_VMT_Modeled,IF(AND(COLUMN(W4)-COLUMN($E4)<Base_V1_Years_Usage_Modeled,COLUMN(W4)-COLUMN($E4)>=5),Base_V1_Maint_Repair_Cost_Year_5_Modeled*Base_V1_VMT_Modeled,0)))*Data!W$150","v":0},{"$f":"-IF(_Base_V1_Maint_Repair_Cost_Use_Default=\"Yes\",IF(COLUMN(X4)-COLUMN($E4)<Base_V1_Years_Usage_Modeled,VLOOKUP(_Base_V1_Vehicle_Drivetrain,DB_Maint_Repair_Costs[],COLUMN(X4)-COLUMN($E4)+2,FALSE)*Base_V1_VMT_Modeled,0),IF(AND(COLUMN(X4)-COLUMN($E4)<Base_V1_Years_Usage_Modeled,COLUMN(X4)-COLUMN($E4)<5),Base_V1_Maint_Repair_Cost_Year_1_Modeled*Base_V1_VMT_Modeled,IF(AND(COLUMN(X4)-COLUMN($E4)<Base_V1_Years_Usage_Modeled,COLUMN(X4)-COLUMN($E4)>=5),Base_V1_Maint_Repair_Cost_Year_5_Modeled*Base_V1_VMT_Modeled,0)))*Data!X$150","v":0},{"$f":"-IF(_Base_V1_Maint_Repair_Cost_Use_Default=\"Yes\",IF(COLUMN(Y4)-COLUMN($E4)<Base_V1_Years_Usage_Modeled,VLOOKUP(_Base_V1_Vehicle_Drivetrain,DB_Maint_Repair_Costs[],COLUMN(Y4)-COLUMN($E4)+2,FALSE)*Base_V1_VMT_Modeled,0),IF(AND(COLUMN(Y4)-COLUMN($E4)<Base_V1_Years_Usage_Modeled,COLUMN(Y4)-COLUMN($E4)<5),Base_V1_Maint_Repair_Cost_Year_1_Modeled*Base_V1_VMT_Modeled,IF(AND(COLUMN(Y4)-COLUMN($E4)<Base_V1_Years_Usage_Modeled,COLUMN(Y4)-COLUMN($E4)>=5),Base_V1_Maint_Repair_Cost_Year_5_Modeled*Base_V1_VMT_Modeled,0)))*Data!Y$150","v":0},{"$f":"-IF(_Base_V1_Maint_Repair_Cost_Use_Default=\"Yes\",IF(COLUMN(Z4)-COLUMN($E4)<Base_V1_Years_Usage_Modeled,VLOOKUP(_Base_V1_Vehicle_Drivetrain,DB_Maint_Repair_Costs[],COLUMN(Z4)-COLUMN($E4)+2,FALSE)*Base_V1_VMT_Modeled,0),IF(AND(COLUMN(Z4)-COLUMN($E4)<Base_V1_Years_Usage_Modeled,COLUMN(Z4)-COLUMN($E4)<5),Base_V1_Maint_Repair_Cost_Year_1_Modeled*Base_V1_VMT_Modeled,IF(AND(COLUMN(Z4)-COLUMN($E4)<Base_V1_Years_Usage_Modeled,COLUMN(Z4)-COLUMN($E4)>=5),Base_V1_Maint_Repair_Cost_Year_5_Modeled*Base_V1_VMT_Modeled,0)))*Data!Z$150","v":0},{"$f":"-IF(_Base_V1_Maint_Repair_Cost_Use_Default=\"Yes\",IF(COLUMN(AA4)-COLUMN($E4)<Base_V1_Years_Usage_Modeled,VLOOKUP(_Base_V1_Vehicle_Drivetrain,DB_Maint_Repair_Costs[],COLUMN(AA4)-COLUMN($E4)+2,FALSE)*Base_V1_VMT_Modeled,0),IF(AND(COLUMN(AA4)-COLUMN($E4)<Base_V1_Years_Usage_Modeled,COLUMN(AA4)-COLUMN($E4)<5),Base_V1_Maint_Repair_Cost_Year_1_Modeled*Base_V1_VMT_Modeled,IF(AND(COLUMN(AA4)-COLUMN($E4)<Base_V1_Years_Usage_Modeled,COLUMN(AA4)-COLUMN($E4)>=5),Base_V1_Maint_Repair_Cost_Year_5_Modeled*Base_V1_VMT_Modeled,0)))*Data!AA$150","v":0},{"$f":"-IF(_Base_V1_Maint_Repair_Cost_Use_Default=\"Yes\",IF(COLUMN(AB4)-COLUMN($E4)<Base_V1_Years_Usage_Modeled,VLOOKUP(_Base_V1_Vehicle_Drivetrain,DB_Maint_Repair_Costs[],COLUMN(AB4)-COLUMN($E4)+2,FALSE)*Base_V1_VMT_Modeled,0),IF(AND(COLUMN(AB4)-COLUMN($E4)<Base_V1_Years_Usage_Modeled,COLUMN(AB4)-COLUMN($E4)<5),Base_V1_Maint_Repair_Cost_Year_1_Modeled*Base_V1_VMT_Modeled,IF(AND(COLUMN(AB4)-COLUMN($E4)<Base_V1_Years_Usage_Modeled,COLUMN(AB4)-COLUMN($E4)>=5),Base_V1_Maint_Repair_Cost_Year_5_Modeled*Base_V1_VMT_Modeled,0)))*Data!AB$150","v":0},{"$f":"-IF(_Base_V1_Maint_Repair_Cost_Use_Default=\"Yes\",IF(COLUMN(AC4)-COLUMN($E4)<Base_V1_Years_Usage_Modeled,VLOOKUP(_Base_V1_Vehicle_Drivetrain,DB_Maint_Repair_Costs[],COLUMN(AC4)-COLUMN($E4)+2,FALSE)*Base_V1_VMT_Modeled,0),IF(AND(COLUMN(AC4)-COLUMN($E4)<Base_V1_Years_Usage_Modeled,COLUMN(AC4)-COLUMN($E4)<5),Base_V1_Maint_Repair_Cost_Year_1_Modeled*Base_V1_VMT_Modeled,IF(AND(COLUMN(AC4)-COLUMN($E4)<Base_V1_Years_Usage_Modeled,COLUMN(AC4)-COLUMN($E4)>=5),Base_V1_Maint_Repair_Cost_Year_5_Modeled*Base_V1_VMT_Modeled,0)))*Data!AC$150","v":0}]
[null,"Taxes and Fees",null,{"$f":"-Base_V1_Initial_Taxes_Fees_Modeled-(Base_V1_Initial_Percent_Base_Price_Modeled*Base_V1_Base_Price_Ex)","v":-1000},{"$f":"-IF(COLUMN(E4)-COLUMN($E4)<Base_V1_Years_Usage_Modeled,Base_V1_Taxes_Fees_Modeled,0)*Data!E$150","v":-10},{"$f":"-IF(COLUMN(F4)-COLUMN($E4)<Base_V1_Years_Usage_Modeled,Base_V1_Taxes_Fees_Modeled,0)*Data!F$150","v":-10.199999999999999},{"$f":"-IF(COLUMN(G4)-COLUMN($E4)<Base_V1_Years_Usage_Modeled,Base_V1_Taxes_Fees_Modeled,0)*Data!G$150","v":-10.404},{"$f":"-IF(COLUMN(H4)-COLUMN($E4)<Base_V1_Years_Usage_Modeled,Base_V1_Taxes_Fees_Modeled,0)*Data!H$150","v":-10.612079999999999},{"$f":"-IF(COLUMN(I4)-COLUMN($E4)<Base_V1_Years_Usage_Modeled,Base_V1_Taxes_Fees_Modeled,0)*Data!I$150","v":-10.824321599999999},{"$f":"-IF(COLUMN(J4)-COLUMN($E4)<Base_V1_Years_Usage_Modeled,Base_V1_Taxes_Fees_Modeled,0)*Data!J$150","v":-11.040808032000001},{"$f":"-IF(COLUMN(K4)-COLUMN($E4)<Base_V1_Years_Usage_Modeled,Base_V1_Taxes_Fees_Modeled,0)*Data!K$150","v":-11.261624192640001},{"$f":"-IF(COLUMN(L4)-COLUMN($E4)<Base_V1_Years_Usage_Modeled,Base_V1_Taxes_Fees_Modeled,0)*Data!L$150","v":0},{"$f":"-IF(COLUMN(M4)-COLUMN($E4)<Base_V1_Years_Usage_Modeled,Base_V1_Taxes_Fees_Modeled,0)*Data!M$150","v":0},{"$f":"-IF(COLUMN(N4)-COLUMN($E4)<Base_V1_Years_Usage_Modeled,Base_V1_Taxes_Fees_Modeled,0)*Data!N$150","v":0},{"$f":"-IF(COLUMN(O4)-COLUMN($E4)<Base_V1_Years_Usage_Modeled,Base_V1_Taxes_Fees_Modeled,0)*Data!O$150","v":0},{"$f":"-IF(COLUMN(P4)-COLUMN($E4)<Base_V1_Years_Usage_Modeled,Base_V1_Taxes_Fees_Modeled,0)*Data!P$150","v":0},{"$f":"-IF(COLUMN(Q4)-COLUMN($E4)<Base_V1_Years_Usage_Modeled,Base_V1_Taxes_Fees_Modeled,0)*Data!Q$150","v":0},{"$f":"-IF(COLUMN(R4)-COLUMN($E4)<Base_V1_Years_Usage_Modeled,Base_V1_Taxes_Fees_Modeled,0)*Data!R$150","v":0},{"$f":"-IF(COLUMN(S4)-COLUMN($E4)<Base_V1_Years_Usage_Modeled,Base_V1_Taxes_Fees_Modeled,0)*Data!S$150","v":0},{"$f":"-IF(COLUMN(T4)-COLUMN($E4)<Base_V1_Years_Usage_Modeled,Base_V1_Taxes_Fees_Modeled,0)*Data!T$150","v":0},{"$f":"-IF(COLUMN(U4)-COLUMN($E4)<Base_V1_Years_Usage_Modeled,Base_V1_Taxes_Fees_Modeled,0)*Data!U$150","v":0},{"$f":"-IF(COLUMN(V4)-COLUMN($E4)<Base_V1_Years_Usage_Modeled,Base_V1_Taxes_Fees_Modeled,0)*Data!V$150","v":0},{"$f":"-IF(COLUMN(W4)-COLUMN($E4)<Base_V1_Years_Usage_Modeled,Base_V1_Taxes_Fees_Modeled,0)*Data!W$150","v":0},{"$f":"-IF(COLUMN(X4)-COLUMN($E4)<Base_V1_Years_Usage_Modeled,Base_V1_Taxes_Fees_Modeled,0)*Data!X$150","v":0},{"$f":"-IF(COLUMN(Y4)-COLUMN($E4)<Base_V1_Years_Usage_Modeled,Base_V1_Taxes_Fees_Modeled,0)*Data!Y$150","v":0},{"$f":"-IF(COLUMN(Z4)-COLUMN($E4)<Base_V1_Years_Usage_Modeled,Base_V1_Taxes_Fees_Modeled,0)*Data!Z$150","v":0},{"$f":"-IF(COLUMN(AA4)-COLUMN($E4)<Base_V1_Years_Usage_Modeled,Base_V1_Taxes_Fees_Modeled,0)*Data!AA$150","v":0},{"$f":"-IF(COLUMN(AB4)-COLUMN($E4)<Base_V1_Years_Usage_Modeled,Base_V1_Taxes_Fees_Modeled,0)*Data!AB$150","v":0},{"$f":"-IF(COLUMN(AC4)-COLUMN($E4)<Base_V1_Years_Usage_Modeled,Base_V1_Taxes_Fees_Modeled,0)*Data!AC$150","v":0}]
[null,"Insurance Cost",null,null,{"$f":"-IF(COLUMN(E4)-COLUMN($E4)<Base_V1_Years_Usage_Modeled,Base_V1_Insurance_Cost_Modeled,0)*Data!E$150","v":-550},{"$f":"-IF(COLUMN(F4)-COLUMN($E4)<Base_V1_Years_Usage_Modeled,Base_V1_Insurance_Cost_Modeled,0)*Data!F$150","v":-561},{"$f":"-IF(COLUMN(G4)-COLUMN($E4)<Base_V1_Years_Usage_Modeled,Base_V1_Insurance_Cost_Modeled,0)*Data!G$150","v":-572.22},{"$f":"-IF(COLUMN(H4)-COLUMN($E4)<Base_V1_Years_Usage_Modeled,Base_V1_Insurance_Cost_Modeled,0)*Data!H$150","v":-583.6644},{"$f":"-IF(COLUMN(I4)-COLUMN($E4)<Base_V1_Years_Usage_Modeled,Base_V1_Insurance_Cost_Modeled,0)*Data!I$150","v":-595.33768799999996},{"$f":"-IF(COLUMN(J4)-COLUMN($E4)<Base_V1_Years_Usage_Modeled,Base_V1_Insurance_Cost_Modeled,0)*Data!J$150","v":-607.24444175999997},{"$f":"-IF(COLUMN(K4)-COLUMN($E4)<Base_V1_Years_Usage_Modeled,Base_V1_Insurance_Cost_Modeled,0)*Data!K$150","v":-619.38933059520002},{"$f":"-IF(COLUMN(L4)-COLUMN($E4)<Base_V1_Years_Usage_Modeled,Base_V1_Insurance_Cost_Modeled,0)*Data!L$150","v":0},{"$f":"-IF(COLUMN(M4)-COLUMN($E4)<Base_V1_Years_Usage_Modeled,Base_V1_Insurance_Cost_Modeled,0)*Data!M$150","v":0},{"$f":"-IF(COLUMN(N4)-COLUMN($E4)<Base_V1_Years_Usage_Modeled,Base_V1_Insurance_Cost_Modeled,0)*Data!N$150","v":0},{"$f":"-IF(COLUMN(O4)-COLUMN($E4)<Base_V1_Years_Usage_Modeled,Base_V1_Insurance_Cost_Modeled,0)*Data!O$150","v":0},{"$f":"-IF(COLUMN(P4)-COLUMN($E4)<Base_V1_Years_Usage_Modeled,Base_V1_Insurance_Cost_Modeled,0)*Data!P$150","v":0},{"$f":"-IF(COLUMN(Q4)-COLUMN($E4)<Base_V1_Years_Usage_Modeled,Base_V1_Insurance_Cost_Modeled,0)*Data!Q$150","v":0},{"$f":"-IF(COLUMN(R4)-COLUMN($E4)<Base_V1_Years_Usage_Modeled,Base_V1_Insurance_Cost_Modeled,0)*Data!R$150","v":0},{"$f":"-IF(COLUMN(S4)-COLUMN($E4)<Base_V1_Years_Usage_Modeled,Base_V1_Insurance_Cost_Modeled,0)*Data!S$150","v":0},{"$f":"-IF(COLUMN(T4)-COLUMN($E4)<Base_V1_Years_Usage_Modeled,Base_V1_Insurance_Cost_Modeled,0)*Data!T$150","v":0},{"$f":"-IF(COLUMN(U4)-COLUMN($E4)<Base_V1_Years_Usage_Modeled,Base_V1_Insurance_Cost_Modeled,0)*Data!U$150","v":0},{"$f":"-IF(COLUMN(V4)-COLUMN($E4)<Base_V1_Years_Usage_Modeled,Base_V1_Insurance_Cost_Modeled,0)*Data!V$150","v":0},{"$f":"-IF(COLUMN(W4)-COLUMN($E4)<Base_V1_Years_Usage_Modeled,Base_V1_Insurance_Cost_Modeled,0)*Data!W$150","v":0},{"$f":"-IF(COLUMN(X4)-COLUMN($E4)<Base_V1_Years_Usage_Modeled,Base_V1_Insurance_Cost_Modeled,0)*Data!X$150","v":0},{"$f":"-IF(COLUMN(Y4)-COLUMN($E4)<Base_V1_Years_Usage_Modeled,Base_V1_Insurance_Cost_Modeled,0)*Data!Y$150","v":0},{"$f":"-IF(COLUMN(Z4)-COLUMN($E4)<Base_V1_Years_Usage_Modeled,Base_V1_Insurance_Cost_Modeled,0)*Data!Z$150","v":0},{"$f":"-IF(COLUMN(AA4)-COLUMN($E4)<Base_V1_Years_Usage_Modeled,Base_V1_Insurance_Cost_Modeled,0)*Data!AA$150","v":0},{"$f":"-IF(COLUMN(AB4)-COLUMN($E4)<Base_V1_Years_Usage_Modeled,Base_V1_Insurance_Cost_Modeled,0)*Data!AB$150","v":0},{"$f":"-IF(COLUMN(AC4)-COLUMN($E4)<Base_V1_Years_Usage_Modeled,Base_V1_Insurance_Cost_Modeled,0)*Data!AC$150","v":0}]
[null,"Subtotal Fuel and Operating Costs",null,{"$f":"SUM(D34:D37)","v":-1000},-2075.0291666666667,-2165.7934525686751,-2250.7297689062416,-2363.0047327849657,-2438.0382777362383,-2763.0515568004744,-2813.6405806413522,0,0,0,0,0,0,0,0,0,0,0,0,0,0,0,0,0,0]
[]
[null,"Other Costs"]
[null,"Cost of Carbon",null,null,{"$f":"-IF(COLUMN(E4)-COLUMN($E4)<Base_V1_Years_Usage_Modeled,Base_V1_CO2_Ex/2204.62*Carbon_Price_Modeled,0)","v":0},0,0,0,0,0,0,0,0,0,0,0,0,0,0,0,0,0,0,0,0,0,0,0,0]
[null,"Subtotal Other Costs",null,{"$f":"SUM(D41:D41)","v":0},0,0,0,0,0,0,0,0,0,0,0,0,0,0,0,0,0,0,0,0,0,0,0,0,{"$f":"SUM(AC41:AC41)","v":0}]
[]
[null,"Total Discounted Costs"]
[null,"Total Annual Costs",null,{"$f":"D31+D38+D42","v":-19224},-2075.0291666666667,-2165.7934525686751,-2250.7297689062416,-2363.0047327849657,-2438.0382777362383,-2763.0515568004744,50.245939212199119,0,0,0,0,0,0,0,0,0,0,0,0,0,0,0,0,0,0]
[null,"Discount Factor",{"$f":"Base_Discount_Rate_Modeled","v":0},{"$f":"(1/(1+$C46))^(COLUMN(D4)-COLUMN($D4))","v":1},1,1,1,1,1,1,1,1,1,1,1,1,1,1,1,1,1,1,1,1,1,1,1,1,1]
[null,"Discounted Total",null,{"$f":"D45*D46","v":-19224},{"$f":"E45*E46","v":-2075.0291666666667},{"$f":"F45*F46","v":-2165.7934525686751},-2250.7297689062416,-2363.0047327849657,-2438.0382777362383,-2763.0515568004744,50.245939212199119,0,0,0,0,0,0,0,0,0,0,0,0,0,0,0,0,0,0]
[null,"Cumulative Discounted Total",null,{"$f":"IF((COLUMN(D4)-COLUMN($D4))<=Base_V1_Years_Usage_Modeled,C48+D47,0)","v":-19224},-21299.029166666667,-23464.822619235343,-25715.552388141587,-28078.557120926551,-30516.59539866279,-33279.646955463264,-33229.401016251068,0,0,0,0,0,0,0,0,0,0,0,0,0,0,0,0,0,0]
[null,"Annualized NPV Total Cost of Ownership",null,{"$f":"OFFSET($D48,0,Base_V1_Years_Usage_Modeled)/Base_V1_Years_Usage_Modeled","v":-4747.0572880358668}]
[]
[null,"Baseline EV Infrastructure"]
[null,null,null,"Year 0","Year 1 ","Year 2","Year 3","Year 4","Year 5","Year 6","Year 7","Year 8","Year 9","Year 10","Year 11","Year 12","Year 13","Year 14","Year 15","Year 16","Year 17","Year 18","Year 19","Year 20","Year 21","Year 22","Year 23","Year 24","Year 25"]
[null,"Capital and Financing Costs"]
[null,"Cash "]
[null,"Cash Payment",null,{"$f":"IF(AND(Base_Inf_Has_Cash_Purchase_Ex=TRUE,_Base_Include_Charging=\"Yes\"),-Base_Num_Stations_Modeled*Base_Station_Cost_Modeled,0)","v":0}]
[null,"Loan"]
[null,"Down Payment",null,{"$f":"IF(AND(Base_Inf_Has_Cash_Purchase_Ex=FALSE,_Base_Include_Charging=\"Yes\"),-Base_Inf_Down_Payment_Modeled,0)","v":0}]
[null,"Loan Payments",null,null,{"$f":"IF(AND(Base_Inf_Has_Cash_Purchase_Ex=FALSE,_Base_Include_Charging=\"Yes\",(COLUMN(E52)-COLUMN($E52))<Base_Inf_Loan_Term_Modeled),PMT(Base_Inf_Loan_APR_Modeled/12,Base_Inf_Loan_Term_Modeled*12,(Base_Num_Stations_Modeled*Base_Station_Cost_Modeled)-Base_Inf_Down_Payment_Modeled,0)*12,0)","v":0},0,0,0,0,0,0,0,0,0,0,0,0,0,0,0,0,0,0,0,0,0,0,0,0]
[null,"Subtotal Loan Cash Flows",null,{"$f":"SUM(D57:D58)","v":0},{"$f":"SUM(E57:E58)","v":0},0,0,0,0,0,0,0,0,0,0,0,0,0,0,0,0,0,0,0,0,0,0,0,0]
[]
[null,"Total Capital and Financing Costs",null,{"$f":"D55+D59","v":0},{"$f":"E55+E59","v":0},0,0,0,0,0,0,0,0,0,0,0,0,0,0,0,0,0,0,0,0,0,0,0,0]
[]
[null,"Operating Costs"]
[null,"Maintenance Cost",null,null,{"$f":"-IF(AND(COLUMN(E52)-COLUMN($E52)<Base_V1_Years_Usage_Modeled,_Base_Include_Charging=\"Yes\"),Base_Station_Maint_Cost_Modeled*Base_Num_Stations_Modeled,0)*Data!E$150","v":0},{"$f":"-IF(AND(COLUMN(F52)-COLUMN($E52)<Base_V1_Years_Usage_Modeled,_Base_Include_Charging=\"Yes\"),Base_Station_Maint_Cost_Modeled*Base_Num_Stations_Modeled,0)*Data!F$150","v":0},{"$f":"-IF(AND(COLUMN(G52)-COLUMN($E52)<Base_V1_Years_Usage_Modeled,_Base_Include_Charging=\"Yes\"),Base_Station_Maint_Cost_Modeled*Base_Num_Stations_Modeled,0)*Data!G$150","v":0},{"$f":"-IF(AND(COLUMN(H52)-COLUMN($E52)<Base_V1_Years_Usage_Modeled,_Base_Include_Charging=\"Yes\"),Base_Station_Maint_Cost_Modeled*Base_Num_Stations_Modeled,0)*Data!H$150","v":0},{"$f":"-IF(AND(COLUMN(I52)-COLUMN($E52)<Base_V1_Years_Usage_Modeled,_Base_Include_Charging=\"Yes\"),Base_Station_Maint_Cost_Modeled*Base_Num_Stations_Modeled,0)*Data!I$150","v":0},{"$f":"-IF(AND(COLUMN(J52)-COLUMN($E52)<Base_V1_Years_Usage_Modeled,_Base_Include_Charging=\"Yes\"),Base_Station_Maint_Cost_Modeled*Base_Num_Stations_Modeled,0)*Data!J$150","v":0},{"$f":"-IF(AND(COLUMN(K52)-COLUMN($E52)<Base_V1_Years_Usage_Modeled,_Base_Include_Charging=\"Yes\"),Base_Station_Maint_Cost_Modeled*Base_Num_Stations_Modeled,0)*Data!K$150","v":0},{"$f":"-IF(AND(COLUMN(L52)-COLUMN($E52)<Base_V1_Years_Usage_Modeled,_Base_Include_Charging=\"Yes\"),Base_Station_Maint_Cost_Modeled*Base_Num_Stations_Modeled,0)*Data!L$150","v":0},{"$f":"-IF(AND(COLUMN(M52)-COLUMN($E52)<Base_V1_Years_Usage_Modeled,_Base_Include_Charging=\"Yes\"),Base_Station_Maint_Cost_Modeled*Base_Num_Stations_Modeled,0)*Data!M$150","v":0},{"$f":"-IF(AND(COLUMN(N52)-COLUMN($E52)<Base_V1_Years_Usage_Modeled,_Base_Include_Charging=\"Yes\"),Base_Station_Maint_Cost_Modeled*Base_Num_Stations_Modeled,0)*Data!N$150","v":0},{"$f":"-IF(AND(COLUMN(O52)-COLUMN($E52)<Base_V1_Years_Usage_Modeled,_Base_Include_Charging=\"Yes\"),Base_Station_Maint_Cost_Modeled*Base_Num_Stations_Modeled,0)*Data!O$150","v":0},{"$f":"-IF(AND(COLUMN(P52)-COLUMN($E52)<Base_V1_Years_Usage_Modeled,_Base_Include_Charging=\"Yes\"),Base_Station_Maint_Cost_Modeled*Base_Num_Stations_Modeled,0)*Data!P$150","v":0},{"$f":"-IF(AND(COLUMN(Q52)-COLUMN($E52)<Base_V1_Years_Usage_Modeled,_Base_Include_Charging=\"Yes\"),Base_Station_Maint_Cost_Modeled*Base_Num_Stations_Modeled,0)*Data!Q$150","v":0},{"$f":"-IF(AND(COLUMN(R52)-COLUMN($E52)<Base_V1_Years_Usage_Modeled,_Base_Include_Charging=\"Yes\"),Base_Station_Maint_Cost_Modeled*Base_Num_Stations_Modeled,0)*Data!R$150","v":0},{"$f":"-IF(AND(COLUMN(S52)-COLUMN($E52)<Base_V1_Years_Usage_Modeled,_Base_Include_Charging=\"Yes\"),Base_Station_Maint_Cost_Modeled*Base_Num_Stations_Modeled,0)*Data!S$150","v":0},{"$f":"-IF(AND(COLUMN(T52)-COLUMN($E52)<Base_V1_Years_Usage_Modeled,_Base_Include_Charging=\"Yes\"),Base_Station_Maint_Cost_Modeled*Base_Num_Stations_Modeled,0)*Data!T$150","v":0},{"$f":"-IF(AND(COLUMN(U52)-COLUMN($E52)<Base_V1_Years_Usage_Modeled,_Base_Include_Charging=\"Yes\"),Base_Station_Maint_Cost_Modeled*Base_Num_Stations_Modeled,0)*Data!U$150","v":0},{"$f":"-IF(AND(COLUMN(V52)-COLUMN($E52)<Base_V1_Years_Usage_Modeled,_Base_Include_Charging=\"Yes\"),Base_Station_Maint_Cost_Modeled*Base_Num_Stations_Modeled,0)*Data!V$150","v":0},{"$f":"-IF(AND(COLUMN(W52)-COLUMN($E52)<Base_V1_Years_Usage_Modeled,_Base_Include_Charging=\"Yes\"),Base_Station_Maint_Cost_Modeled*Base_Num_Stations_Modeled,0)*Data!W$150","v":0},{"$f":"-IF(AND(COLUMN(X52)-COLUMN($E52)<Base_V1_Years_Usage_Modeled,_Base_Include_Charging=\"Yes\"),Base_Station_Maint_Cost_Modeled*Base_Num_Stations_Modeled,0)*Data!X$150","v":0},{"$f":"-IF(AND(COLUMN(Y52)-COLUMN($E52)<Base_V1_Years_Usage_Modeled,_Base_Include_Charging=\"Yes\"),Base_Station_Maint_Cost_Modeled*Base_Num_Stations_Modeled,0)*Data!Y$150","v":0},{"$f":"-IF(AND(COLUMN(Z52)-COLUMN($E52)<Base_V1_Years_Usage_Modeled,_Base_Include_Charging=\"Yes\"),Base_Station_Maint_Cost_Modeled*Base_Num_Stations_Modeled,0)*Data!Z$150","v":0},{"$f":"-IF(AND(COLUMN(AA52)-COLUMN($E52)<Base_V1_Years_Usage_Modeled,_Base_Include_Charging=\"Yes\"),Base_Station_Maint_Cost_Modeled*Base_Num_Stations_Modeled,0)*Data!AA$150","v":0},{"$f":"-IF(AND(COLUMN(AB52)-COLUMN($E52)<Base_V1_Years_Usage_Modeled,_Base_Include_Charging=\"Yes\"),Base_Station_Maint_Cost_Modeled*Base_Num_Stations_Modeled,0)*Data!AB$150","v":0},{"$f":"-IF(AND(COLUMN(AC52)-COLUMN($E52)<Base_V1_Years_Usage_Modeled,_Base_Include_Charging=\"Yes\"),Base_Station_Maint_Cost_Modeled*Base_Num_Stations_Modeled,0)*Data!AC$150","v":0}]
[null,"Subtotal Operating Costs",null,null,{"$f":"SUM(E64:E64)","v":0},0,0,0,0,0,0,0,0,0,0,0,0,0,0,0,0,0,0,0,0,0,0,0,0]
[null,"Total Discounted Costs"]
[null,"Total Annual Costs",null,{"$f":"D61+D65","v":0},{"$f":"E61+E65","v":0},0,0,0,0,0,0,0,0,0,0,0,0,0,0,0,0,0,0,0,0,0,0,0,0]
[null,"Discount Factor",{"$f":"Base_Discount_Rate_Modeled","v":0},{"$f":"(1/(1+$C68))^(COLUMN(D52)-COLUMN($D52))","v":1},1,1,1,1,1,1,1,1,1,1,1,1,1,1,1,1,1,1,1,1,1,1,1,1,1]
[null,"Discounted Total",null,{"$f":"D67*D68","v":0},{"$f":"E67*E68","v":0},{"$f":"F67*F68","v":0},0,0,0,0,0,0,0,0,0,0,0,0,0,0,0,0,0,0,0,0,0,0,0]
[null,"Cumulative Discounted Total",null,{"$f":"IF((COLUMN(D52)-COLUMN($D52))<=Base_V1_Years_Usage_Modeled,C70+D69,0)","v":0},0,0,0,0,0,0,0,0,0,0,0,0,0,0,0,0,0,0,0,0,0,0,0,0,0]
[null,"Annualized NPV Total Cost of Ownership",null,{"$f":"OFFSET($D70,0,Base_V1_Years_Usage_Modeled)/Base_V1_Years_Usage_Modeled","v":0}]
[]
[null,"Comparison Vehicle 1"]
[null,null,null,"Year 0","Year 1 ","Year 2","Year 3","Year 4","Year 5","Year 6","Year 7","Year 8","Year 9","Year 10","Year 11","Year 12","Year 13","Year 14","Year 15","Year 16","Year 17","Year 18","Year 19","Year 20","Year 21","Year 22","Year 23","Year 24","Year 25"]
[null,"Depreciation Calculations"]
[null,"Fair Market Value - BEV",null,{"$f":"IF(VLOOKUP(Comp_V1_Type_Ex,DB_Vehicles,5,FALSE)=\"BEV\",Comp_V1_MSRP_Modeled,0)","v":36620},{"$f":"IF(VLOOKUP(Comp_V1_Type_Ex,DB_Vehicles,5,FALSE)=\"BEV\",MAX(IF(VLOOKUP(Comp_V1_Type_Ex,DB_Vehicles,5,FALSE)=\"BEV\",Reg_BEV_Const_Ex+Reg_BEV_Age_Coef_Ex*(COLUMN(E74)-COLUMN($D74))+Reg_BEV_Agesq_Coef_Ex*((COLUMN(E74)-COLUMN($D74))^2)+Reg_BEV_MSRP_Coef_Ex*Comp_V1_MSRP_Modeled+Reg_BEV_Range_Coef_Ex*VLOOKUP(Comp_V1_Type_Ex,DB_Vehicles,7,FALSE)+Reg_BEV_Mileage_Coef_Ex*Comp_V1_VMT_Modeled*(COLUMN(E74)-COLUMN($D74)),0),300),0)","v":26545.237640000003},{"$f":"IF(VLOOKUP(Comp_V1_Type_Ex,DB_Vehicles,5,FALSE)=\"BEV\",MAX(IF(VLOOKUP(Comp_V1_Type_Ex,DB_Vehicles,5,FALSE)=\"BEV\",Reg_BEV_Const_Ex+Reg_BEV_Age_Coef_Ex*(COLUMN(F74)-COLUMN($D74))+Reg_BEV_Agesq_Coef_Ex*((COLUMN(F74)-COLUMN($D74))^2)+Reg_BEV_MSRP_Coef_Ex*Comp_V1_MSRP_Modeled+Reg_BEV_Range_Coef_Ex*VLOOKUP(Comp_V1_Type_Ex,DB_Vehicles,7,FALSE)+Reg_BEV_Mileage_Coef_Ex*Comp_V1_VMT_Modeled*(COLUMN(F74)-COLUMN($D74)),0),300),0)","v":23137.438640000004},{"$f":"IF(VLOOKUP(Comp_V1_Type_Ex,DB_Vehicles,5,FALSE)=\"BEV\",MAX(IF(VLOOKUP(Comp_V1_Type_Ex,DB_Vehicles,5,FALSE)=\"BEV\",Reg_BEV_Const_Ex+Reg_BEV_Age_Coef_Ex*(COLUMN(G74)-COLUMN($D74))+Reg_BEV_Agesq_Coef_Ex*((COLUMN(G74)-COLUMN($D74))^2)+Reg_BEV_MSRP_Coef_Ex*Comp_V1_MSRP_Modeled+Reg_BEV_Range_Coef_Ex*VLOOKUP(Comp_V1_Type_Ex,DB_Vehicles,7,FALSE)+Reg_BEV_Mileage_Coef_Ex*Comp_V1_VMT_Modeled*(COLUMN(G74)-COLUMN($D74)),0),300),0)","v":19467.073640000002},{"$f":"IF(VLOOKUP(Comp_V1_Type_Ex,DB_Vehicles,5,FALSE)=\"BEV\",MAX(IF(VLOOKUP(Comp_V1_Type_Ex,DB_Vehicles,5,FALSE)=\"BEV\",Reg_BEV_Const_Ex+Reg_BEV_Age_Coef_Ex*(COLUMN(H74)-COLUMN($D74))+Reg_BEV_Agesq_Coef_Ex*((COLUMN(H74)-COLUMN($D74))^2)+Reg_BEV_MSRP_Coef_Ex*Comp_V1_MSRP_Modeled+Reg_BEV_Range_Coef_Ex*VLOOKUP(Comp_V1_Type_Ex,DB_Vehicles,7,FALSE)+Reg_BEV_Mileage_Coef_Ex*Comp_V1_VMT_Modeled*(COLUMN(H74)-COLUMN($D74)),0),300),0)","v":15534.142640000004},{"$f":"IF(VLOOKUP(Comp_V1_Type_Ex,DB_Vehicles,5,FALSE)=\"BEV\",MAX(IF(VLOOKUP(Comp_V1_Type_Ex,DB_Vehicles,5,FALSE)=\"BEV\",Reg_BEV_Const_Ex+Reg_BEV_Age_Coef_Ex*(COLUMN(I74)-COLUMN($D74))+Reg_BEV_Agesq_Coef_Ex*((COLUMN(I74)-COLUMN($D74))^2)+Reg_BEV_MSRP_Coef_Ex*Comp_V1_MSRP_Modeled+Reg_BEV_Range_Coef_Ex*VLOOKUP(Comp_V1_Type_Ex,DB_Vehicles,7,FALSE)+Reg_BEV_Mileage_Coef_Ex*Comp_V1_VMT_Modeled*(COLUMN(I74)-COLUMN($D74)),0),300),0)","v":11338.645640000002},{"$f":"IF($H76-$I76=0,0,MAX((1-($H76-$I76)/$H76)*I76,300))","v":8276.2781267657429},6041.0018803251933,4409.4341875813407,3218.5240527626643,2349.2576683390434,1714.7647498587062,1251.6371392487169,913.59209971851647,666.84704256145562,486.74345838801594,355.28266478244456,300,300,300,300,300,300,300,300,300]
[null,"Fair Market Value - PHEV",null,{"$f":"IF(VLOOKUP(Comp_V1_Type_Ex,DB_Vehicles,5,FALSE)=\"PHEV\",Comp_V1_MSRP_Modeled,0)","v":0},{"$f":"IF(VLOOKUP(Comp_V1_Type_Ex,DB_Vehicles,5,FALSE)=\"PHEV\",MAX(IF(VLOOKUP(Comp_V1_Type_Ex,DB_Vehicles,5,FALSE)=\"PHEV\",Reg_PHEV_Const_Ex+Reg_PHEV_Age_Coef_Ex*(COLUMN(E74)-COLUMN($D74))+Reg_PHEV_Agesq_Coef_Ex*((COLUMN(E74)-COLUMN($D74))^2)+Reg_PHEV_MSRP_Coef_Ex*Comp_V1_MSRP_Modeled+Reg_PHEV_Range_Coef_Ex*VLOOKUP(Comp_V1_Type_Ex,DB_Vehicles,7,FALSE)+Reg_PHEV_Mileage_Coef_Ex*Comp_V1_VMT_Modeled*(COLUMN(E74)-COLUMN($D74)),0),300),0)","v":0},{"$f":"IF(VLOOKUP(Comp_V1_Type_Ex,DB_Vehicles,5,FALSE)=\"PHEV\",MAX(IF(VLOOKUP(Comp_V1_Type_Ex,DB_Vehicles,5,FALSE)=\"PHEV\",Reg_PHEV_Const_Ex+Reg_PHEV_Age_Coef_Ex*(COLUMN(F74)-COLUMN($D74))+Reg_PHEV_Agesq_Coef_Ex*((COLUMN(F74)-COLUMN($D74))^2)+Reg_PHEV_MSRP_Coef_Ex*Comp_V1_MSRP_Modeled+Reg_PHEV_Range_Coef_Ex*VLOOKUP(Comp_V1_Type_Ex,DB_Vehicles,7,FALSE)+Reg_PHEV_Mileage_Coef_Ex*Comp_V1_VMT_Modeled*(COLUMN(F74)-COLUMN($D74)),0),300),0)","v":0},{"$f":"IF(VLOOKUP(Comp_V1_Type_Ex,DB_Vehicles,5,FALSE)=\"PHEV\",MAX(IF(VLOOKUP(Comp_V1_Type_Ex,DB_Vehicles,5,FALSE)=\"PHEV\",Reg_PHEV_Const_Ex+Reg_PHEV_Age_Coef_Ex*(COLUMN(G74)-COLUMN($D74))+Reg_PHEV_Agesq_Coef_Ex*((COLUMN(G74)-COLUMN($D74))^2)+Reg_PHEV_MSRP_Coef_Ex*Comp_V1_MSRP_Modeled+Reg_PHEV_Range_Coef_Ex*VLOOKUP(Comp_V1_Type_Ex,DB_Vehicles,7,FALSE)+Reg_PHEV_Mileage_Coef_Ex*Comp_V1_VMT_Modeled*(COLUMN(G74)-COLUMN($D74)),0),300),0)","v":0},{"$f":"IF(VLOOKUP(Comp_V1_Type_Ex,DB_Vehicles,5,FALSE)=\"PHEV\",MAX(IF(VLOOKUP(Comp_V1_Type_Ex,DB_Vehicles,5,FALSE)=\"PHEV\",Reg_PHEV_Const_Ex+Reg_PHEV_Age_Coef_Ex*(COLUMN(H74)-COLUMN($D74))+Reg_PHEV_Agesq_Coef_Ex*((COLUMN(H74)-COLUMN($D74))^2)+Reg_PHEV_MSRP_Coef_Ex*Comp_V1_MSRP_Modeled+Reg_PHEV_Range_Coef_Ex*VLOOKUP(Comp_V1_Type_Ex,DB_Vehicles,7,FALSE)+Reg_PHEV_Mileage_Coef_Ex*Comp_V1_VMT_Modeled*(COLUMN(H74)-COLUMN($D74)),0),300),0)","v":0},{"$f":"IF(VLOOKUP(Comp_V1_Type_Ex,DB_Vehicles,5,FALSE)=\"PHEV\",MAX(IF(VLOOKUP(Comp_V1_Type_Ex,DB_Vehicles,5,FALSE)=\"PHEV\",Reg_PHEV_Const_Ex+Reg_PHEV_Age_Coef_Ex*(COLUMN(I74)-COLUMN($D74))+Reg_PHEV_Agesq_Coef_Ex*((COLUMN(I74)-COLUMN($D74))^2)+Reg_PHEV_MSRP_Coef_Ex*Comp_V1_MSRP_Modeled+Reg_PHEV_Range_Coef_Ex*VLOOKUP(Comp_V1_Type_Ex,DB_Vehicles,7,FALSE)+Reg_PHEV_Mileage_Coef_Ex*Comp_V1_VMT_Modeled*(COLUMN(I74)-COLUMN($D74)),0),300),0)","v":0},{"$f":"IF($H77-$I77=0,0,MAX((1-($H77-$I77)/$H77)*I77,300))","v":0},0,0,0,0,0,0,0,0,0,0,0,0,0,0,0,0,0,0,0]
[null,"Fair Market Value - ICE",null,{"$f":"IF(VLOOKUP(Comp_V1_Type_Ex,DB_Vehicles,5,FALSE)=\"ICE\",Comp_V1_MSRP_Modeled,0)","v":0},{"$f":"IF(VLOOKUP(Comp_V1_Type_Ex,DB_Vehicles,5,FALSE)=\"ICE\",MAX(IF(VLOOKUP(Comp_V1_Type_Ex,DB_Vehicles,5,FALSE)=\"ICE\",Reg_ICE_Const_Ex+Reg_ICE_Age_Coef_Ex*(COLUMN(E74)-COLUMN($D74))+Reg_ICE_Agesq_Coef_Ex*(COLUMN(E74)-COLUMN($D74))^2+Reg_ICE_MSRP_Coef_Ex*Comp_V1_MSRP_Modeled+Reg_ICE_MPG_Coef_Ex*VLOOKUP(Comp_V1_Type_Ex,DB_Vehicles,10,FALSE)+Reg_ICE_Mileage_Coef_Ex*Comp_V1_VMT_Modeled*(COLUMN(E74)-COLUMN($D74)),0),300),0)","v":0},{"$f":"IF(VLOOKUP(Comp_V1_Type_Ex,DB_Vehicles,5,FALSE)=\"ICE\",MAX(IF(VLOOKUP(Comp_V1_Type_Ex,DB_Vehicles,5,FALSE)=\"ICE\",Reg_ICE_Const_Ex+Reg_ICE_Age_Coef_Ex*(COLUMN(F74)-COLUMN($D74))+Reg_ICE_Agesq_Coef_Ex*(COLUMN(F74)-COLUMN($D74))^2+Reg_ICE_MSRP_Coef_Ex*Comp_V1_MSRP_Modeled+Reg_ICE_MPG_Coef_Ex*VLOOKUP(Comp_V1_Type_Ex,DB_Vehicles,10,FALSE)+Reg_ICE_Mileage_Coef_Ex*Comp_V1_VMT_Modeled*(COLUMN(F74)-COLUMN($D74)),0),300),0)","v":0},{"$f":"IF(VLOOKUP(Comp_V1_Type_Ex,DB_Vehicles,5,FALSE)=\"ICE\",MAX(IF(VLOOKUP(Comp_V1_Type_Ex,DB_Vehicles,5,FALSE)=\"ICE\",Reg_ICE_Const_Ex+Reg_ICE_Age_Coef_Ex*(COLUMN(G74)-COLUMN($D74))+Reg_ICE_Agesq_Coef_Ex*(COLUMN(G74)-COLUMN($D74))^2+Reg_ICE_MSRP_Coef_Ex*Comp_V1_MSRP_Modeled+Reg_ICE_MPG_Coef_Ex*VLOOKUP(Comp_V1_Type_Ex,DB_Vehicles,10,FALSE)+Reg_ICE_Mileage_Coef_Ex*Comp_V1_VMT_Modeled*(COLUMN(G74)-COLUMN($D74)),0),300),0)","v":0},{"$f":"IF(VLOOKUP(Comp_V1_Type_Ex,DB_Vehicles,5,FALSE)=\"ICE\",MAX(IF(VLOOKUP(Comp_V1_Type_Ex,DB_Vehicles,5,FALSE)=\"ICE\",Reg_ICE_Const_Ex+Reg_ICE_Age_Coef_Ex*(COLUMN(H74)-COLUMN($D74))+Reg_ICE_Agesq_Coef_Ex*(COLUMN(H74)-COLUMN($D74))^2+Reg_ICE_MSRP_Coef_Ex*Comp_V1_MSRP_Modeled+Reg_ICE_MPG_Coef_Ex*VLOOKUP(Comp_V1_Type_Ex,DB_Vehicles,10,FALSE)+Reg_ICE_Mileage_Coef_Ex*Comp_V1_VMT_Modeled*(COLUMN(H74)-COLUMN($D74)),0),300),0)","v":0},{"$f":"IF(VLOOKUP(Comp_V1_Type_Ex,DB_Vehicles,5,FALSE)=\"ICE\",MAX(IF(VLOOKUP(Comp_V1_Type_Ex,DB_Vehicles,5,FALSE)=\"ICE\",Reg_ICE_Const_Ex+Reg_ICE_Age_Coef_Ex*(COLUMN(I74)-COLUMN($D74))+Reg_ICE_Agesq_Coef_Ex*(COLUMN(I74)-COLUMN($D74))^2+Reg_ICE_MSRP_Coef_Ex*Comp_V1_MSRP_Modeled+Reg_ICE_MPG_Coef_Ex*VLOOKUP(Comp_V1_Type_Ex,DB_Vehicles,10,FALSE)+Reg_ICE_Mileage_Coef_Ex*Comp_V1_VMT_Modeled*(COLUMN(I74)-COLUMN($D74)),0),300),0)","v":0},{"$f":"IF($H78-$I78=0,0,MAX((1-($H78-$I78)/$H78)*I78,300))","v":0},0,0,0,0,0,0,0,0,0,0,0,0,0,0,0,0,0,0,0]
[]
[null,"Capital and Financing Costs"]
[null,"Cash "]
[null,"Cash Payment",null,{"$f":"IF(AND(Comp_V1_Has_Cash_Purchase_Ex=TRUE,Comp_V1_Has_Loan_Ex=FALSE,Comp_V1_Has_Lease_Ex=FALSE,COLUMN(D74)-COLUMN($D74)=0),-(Comp_V1_Base_Price_Ex-IF(Comp_V1_Tax_Incentives_Monetized=\"Yes\",Comp_V1_Federal_Tax_Incentives_Modeled+IF(Comp_V1_State_Tax_Incentive_Cap_Modeled=0,Comp_V1_State_Tax_Incentives_Modeled,MIN(Comp_V1_State_Tax_Incentive_Cap_Modeled,Comp_V1_State_Tax_Incentives_Modeled*Comp_V1_Num_Vehicles_Modeled)/Comp_V1_Num_Vehicles_Modeled),0)-Comp_V1_Other_Incentives_Modeled),IF(AND(Comp_V1_Has_Cash_Purchase_Ex=TRUE,OR(Comp_V1_Has_Loan_Ex=TRUE,Comp_V1_Has_Lease_Ex=TRUE),COLUMN(D74)-COLUMN($D74)=Comp_V1_Lease_Term_Modeled),IF(ISERROR(FIND(\"Tax\",_Comp_V1_Ownership_Structure,1)),-SUM(D76:D78),-Comp_V1_Lease_Residual_Price_Modeled),0))","v":-26026},0,0,0,0,0,0,0,0,0,0,0,0,0,0,0,0,0,0,0,0,0,0,0,0,0]
[null,"Lease"]
[null,"Down Payment",null,{"$f":"IF(Comp_V1_Has_Lease_Ex=TRUE,-Comp_V1_Down_Payment_Modeled,0)","v":0}]
[null,"Acquisition Fee",null,{"$f":"IF(Comp_V1_Has_Lease_Ex=TRUE,-Comp_V1_Lease_Acquisition_Fee_Modeled,0)","v":0}]
[null,"Disposition Charge",null,{"$f":"IF(AND(Comp_V1_Has_Lease_Ex=TRUE,((COLUMN(D74)-COLUMN($D74))=Comp_V1_Lease_Term_Modeled)),-Comp_V1_Lease_Disposition_Fee_Modeled,0)","v":0},0,0,0,0,0,0,0,0,0,0,0,0,0,0,0,0,0,0,0,0,0,0,0,0,0]
[null,"Lease Payments",null,null,{"$f":"IF(Comp_V1_Has_Lease_Ex=TRUE,IF((COLUMN(E74)-COLUMN($E74))<Comp_V1_Lease_Term_Modeled,-PMT(Comp_V1_Lease_APR_Modeled/12,Comp_V1_Lease_Term_Modeled*12,-(Comp_V1_Base_Price_Ex-IF(Comp_V1_Tax_Incentives_Monetized=\"Yes\",Comp_V1_Federal_Tax_Incentives_Modeled+IF(Comp_V1_State_Tax_Incentive_Cap_Modeled=0,Comp_V1_State_Tax_Incentives_Modeled,MIN(Comp_V1_State_Tax_Incentive_Cap_Modeled,Comp_V1_State_Tax_Incentives_Modeled*Comp_V1_Num_Vehicles_Modeled)/Comp_V1_Num_Vehicles_Modeled),0)-Comp_V1_Other_Incentives_Modeled-Comp_V1_Down_Payment_Modeled)+Comp_V1_Lease_Residual_Price_Modeled,0)*12,0),0)","v":0},0,0,0,0,0,0,0,0,0,0,0,0,0,0,0,0,0,0,0,0,0,0,0,0]
[null,"Principal Payments",null,null,{"$f":"IF(Comp_V1_Has_Lease_Ex=TRUE,IF((COLUMN(E74)-COLUMN($E74))<Comp_V1_Lease_Term_Modeled,-PPMT(Comp_V1_Lease_APR_Modeled/12,(COLUMN(E74)-COLUMN($D74))*12,Comp_V1_Lease_Term_Modeled*12,-(Comp_V1_Base_Price_Ex-IF(Comp_V1_Tax_Incentives_Monetized=\"Yes\",Comp_V1_Federal_Tax_Incentives_Modeled+IF(Comp_V1_State_Tax_Incentive_Cap_Modeled=0,Comp_V1_State_Tax_Incentives_Modeled,MIN(Comp_V1_State_Tax_Incentive_Cap_Modeled,Comp_V1_State_Tax_Incentives_Modeled*Comp_V1_Num_Vehicles_Modeled)/Comp_V1_Num_Vehicles_Modeled),0)-Comp_V1_Other_Incentives_Modeled-Comp_V1_Down_Payment_Modeled)+Comp_V1_Lease_Residual_Price_Modeled,0)*12,0),0)","v":0},0,0,0,0,0,0,0,0,0,0,0,0,0,0,0,0,0,0,0,0,0,0,0,0]
[null,"Interest Payments",null,null,{"$f":"IF(Comp_V1_Has_Lease_Ex=TRUE,IF((COLUMN(E74)-COLUMN($E74))<Comp_V1_Lease_Term_Modeled,-IPMT(Comp_V1_Lease_APR_Modeled/12,(COLUMN(E74)-COLUMN($D74))*12,Comp_V1_Lease_Term_Modeled*12,-(Comp_V1_Base_Price_Ex-IF(Comp_V1_Tax_Incentives_Monetized=\"Yes\",Comp_V1_Federal_Tax_Incentives_Modeled+IF(Comp_V1_State_Tax_Incentive_Cap_Modeled=0,Comp_V1_State_Tax_Incentives_Modeled,MIN(Comp_V1_State_Tax_Incentive_Cap_Modeled,Comp_V1_State_Tax_Incentives_Modeled*Comp_V1_Num_Vehicles_Modeled)/Comp_V1_Num_Vehicles_Modeled),0)-Comp_V1_Other_Incentives_Modeled-Comp_V1_Down_Payment_Modeled)+Comp_V1_Lease_Residual_Price_Modeled,0)*12,0),0)","v":0},0,0,0,0,0,0,0,0,0,0,0,0,0,0,0,0,0,0,0,0,0,0,0,0]
[null,"TRAC Value Adjustment",null,null,{"$f":"IF(ISERROR(FIND(\"TRAC\",_Comp_V1_Ownership_Structure,1)),0,IF(Comp_V1_Has_Loan_Ex=TRUE,0,IF((COLUMN(E74)-COLUMN($D74))=Comp_V1_Lease_Term_Modeled,SUM(E76:E78)-Comp_V1_Lease_Residual_Price_Modeled,0)))","v":0},0,0,0,0,0,0,0,0,0,0,0,0,0,0,0,0,0,0,0,0,0,0,0,0]
[null,"FMV Mileage Adjustment",null,null,{"$f":"MIN(0,MAX(-Comp_V1_Lease_Residual_Price_Modeled+SUM(E76:E78),IF(IFERROR(IF(FIND(\"FMV\",_Comp_V1_Ownership_Structure,1)>0,TRUE,FALSE),FALSE),IF((COLUMN(E74)-COLUMN($D74))=Comp_V1_Lease_Term_Modeled,(Comp_V1_Lease_Mileage_Inc_Modeled-Comp_V1_VMT_Modeled)*(COLUMN(E74)-COLUMN($D74))*Comp_V1_Lease_Mileage_Cost_Modeled,0),0)))","v":0},0,0,0,0,0,0,0,0,0,0,0,0,0,0,0,0,0,0,0,0,0,0,0,0]
[null,"Subtotal Lease Cash Flows",null,{"$f":"SUM(D84:D87)+SUM(D90:D91)","v":0},{"$f":"SUM(E84:E87)+SUM(E90:E91)","v":0},0,0,0,0,0,0,0,0,0,0,0,0,0,0,0,0,0,0,0,0,0,0,0,0]
[null,"Loan"]
[null,"Down Payment",null,{"$f":"IF(AND(Comp_V1_Has_Loan_Ex=TRUE,Comp_V1_Has_Lease_Ex=FALSE),-Comp_V1_Down_Payment_Modeled,0)","v":0}]
[null,"Loan Payments",null,null,{"$f":"IF(Comp_V1_Has_Loan_Ex=TRUE,IF(AND((COLUMN(E74)-COLUMN($E74))<Comp_V1_Loan_Term_Modeled+Comp_V1_Lease_Term_Modeled,(COLUMN(E74)-COLUMN($E74))>=Comp_V1_Lease_Term_Modeled),PMT(Comp_V1_Loan_APR_Modeled/12,Comp_V1_Loan_Term_Modeled*12,IF(Comp_V1_Has_Lease_Ex=TRUE,SUM(OFFSET($D76,0,Comp_V1_Lease_Term_Modeled,3,1)),Comp_V1_Base_Price_Ex-IF(Comp_V1_Tax_Incentives_Monetized=\"Yes\",Comp_V1_Federal_Tax_Incentives_Modeled+IF(Comp_V1_State_Tax_Incentive_Cap_Modeled=0,Comp_V1_State_Tax_Incentives_Modeled,MIN(Comp_V1_State_Tax_Incentive_Cap_Modeled,Comp_V1_State_Tax_Incentives_Modeled*Comp_V1_Num_Vehicles_Modeled)/Comp_V1_Num_Vehicles_Modeled),0)-Comp_V1_Other_Incentives_Modeled-Comp_V1_Down_Payment_Modeled),0)*12,0),0)","v":0},0,0,0,0,0,0,0,0,0,0,0,0,0,0,0,0,0,0,0,0,0,0,0,0]
[null,"Principal Payments",null,null,{"$f":"IF(Comp_V1_Has_Loan_Ex=TRUE,IF(AND((COLUMN(E74)-COLUMN($E74))<Comp_V1_Loan_Term_Modeled+Comp_V1_Lease_Term_Modeled,(COLUMN(E74)-COLUMN($E74))>=Comp_V1_Lease_Term_Modeled),PPMT(Comp_V1_Loan_APR_Modeled/12,IF(Comp_V1_Has_Lease_Ex=TRUE,(COLUMN(E74)-COLUMN($D74)-Comp_V1_Lease_Term_Modeled)*12,(COLUMN(E74)-COLUMN($D74))*12),Comp_V1_Loan_Term_Modeled*12,IF(Comp_V1_Has_Lease_Ex=TRUE,SUM(OFFSET($D76,0,Comp_V1_Lease_Term_Modeled,3,1)),Comp_V1_Base_Price_Ex-IF(Comp_V1_Tax_Incentives_Monetized=\"Yes\",Comp_V1_Federal_Tax_Incentives_Modeled+IF(Comp_V1_State_Tax_Incentive_Cap_Modeled=0,Comp_V1_State_Tax_Incentives_Modeled,MIN(Comp_V1_State_Tax_Incentive_Cap_Modeled,Comp_V1_State_Tax_Incentives_Modeled*Comp_V1_Num_Vehicles_Modeled)/Comp_V1_Num_Vehicles_Modeled),0)-Comp_V1_Other_Incentives_Modeled-Comp_V1_Down_Payment_Modeled),0)*12,0),0)","v":0},0,0,0,0,0,0,0,0,0,0,0,0,0,0,0,0,0,0,0,0,0,0,0,0]
[null,"Interest Payments",null,null,{"$f":"IF(Comp_V1_Has_Loan_Ex=TRUE,IF(AND((COLUMN(E74)-COLUMN($E74))<Comp_V1_Loan_Term_Modeled+Comp_V1_Lease_Term_Modeled,(COLUMN(E74)-COLUMN($E74))>=Comp_V1_Lease_Term_Modeled),IPMT(Comp_V1_Loan_APR_Modeled/12,IF(Comp_V1_Has_Lease_Ex=TRUE,(COLUMN(E74)-COLUMN($D74)-Comp_V1_Lease_Term)*12,(COLUMN(E74)-COLUMN($D74))*12),Comp_V1_Loan_Term_Modeled*12,IF(Comp_V1_Has_Lease_Ex=TRUE,SUM(OFFSET($D76,0,Comp_V1_Lease_Term_Modeled,3,1)),Comp_V1_Base_Price_Ex-IF(Comp_V1_Tax_Incentives_Monetized=\"Yes\",Comp_V1_Federal_Tax_Incentives_Modeled+IF(Comp_V1_State_Tax_Incentive_Cap_Modeled=0,Comp_V1_State_Tax_Incentives_Modeled,MIN(Comp_V1_State_Tax_Incentive_Cap_Modeled,Comp_V1_State_Tax_Incentives_Modeled*Comp_V1_Num_Vehicles_Modeled)/Comp_V1_Num_Vehicles_Modeled),0)-Comp_V1_Other_Incentives_Modeled-Comp_V1_Down_Payment_Modeled),0)*12,0),0)","v":0},0,0,0,0,0,0,0,0,0,0,0,0,0,0,0,0,0,0,0,0,0,0,0,0]
[null,"Subtotal Loan Cash Flows",null,{"$f":"SUM(D94:D95)","v":0},{"$f":"SUM(E94:E95)","v":0},0,0,0,0,0,0,0,0,0,0,0,0,0,0,0,0,0,0,0,0,0,0,0,0]
[null,"Terminal Value",null,null,{"$f":"IF(OR(Comp_V1_Has_Loan_Ex=TRUE,Comp_V1_Has_Cash_Purchase_Ex=TRUE),IF((COLUMN(E74)-COLUMN($D74))=Comp_V1_Years_Usage_Modeled,SUM(E76:E78),0),0)","v":0},0,0,0,0,0,6041.0018803251933,0,0,0,0,0,0,0,0,0,0,0,0,0,0,0,0,0,0]
[]
[null,"Total Capital and Financing Costs",null,{"$f":"D82+D92+D98+D99","v":-26026},0,0,0,0,0,0,6041.0018803251933,0,0,0,0,0,0,0,0,0,0,0,0,0,0,0,0,0,0]
[]
[null,"Fuel and Operating Costs"]
[null,"Fuel Cost",null,null,{"$f":"IF(COLUMN(E74)-COLUMN($E74)<Comp_V1_Years_Usage_Modeled,-((Comp_V1_Gas_Usage_Ex*Gasoline_Price_Modeled*Data!C$142)+(Comp_V1_Electricity_Usage_Ex*Electricity_Price_Modeled*Data!C$144)),0)","v":-296.23640340909094},{"$f":"IF(COLUMN(F74)-COLUMN($E74)<Comp_V1_Years_Usage_Modeled,-((Comp_V1_Gas_Usage_Ex*Gasoline_Price_Modeled*Data!D$142)+(Comp_V1_Electricity_Usage_Ex*Electricity_Price_Modeled*Data!D$144)),0)","v":-293.25223940185509},{"$f":"IF(COLUMN(G74)-COLUMN($E74)<Comp_V1_Years_Usage_Modeled,-((Comp_V1_Gas_Usage_Ex*Gasoline_Price_Modeled*Data!E$142)+(Comp_V1_Electricity_Usage_Ex*Electricity_Price_Modeled*Data!E$144)),0)","v":-304.13952498785977},{"$f":"IF(COLUMN(H74)-COLUMN($E74)<Comp_V1_Years_Usage_Modeled,-((Comp_V1_Gas_Usage_Ex*Gasoline_Price_Modeled*Data!F$142)+(Comp_V1_Electricity_Usage_Ex*Electricity_Price_Modeled*Data!F$144)),0)","v":-320.39892938041982},{"$f":"IF(COLUMN(I74)-COLUMN($E74)<Comp_V1_Years_Usage_Modeled,-((Comp_V1_Gas_Usage_Ex*Gasoline_Price_Modeled*Data!G$142)+(Comp_V1_Electricity_Usage_Ex*Electricity_Price_Modeled*Data!G$144)),0)","v":-328.3231395774767},{"$f":"IF(COLUMN(J74)-COLUMN($E74)<Comp_V1_Years_Usage_Modeled,-((Comp_V1_Gas_Usage_Ex*Gasoline_Price_Modeled*Data!H$142)+(Comp_V1_Electricity_Usage_Ex*Electricity_Price_Modeled*Data!H$144)),0)","v":-334.76658410080478},{"$f":"IF(COLUMN(K74)-COLUMN($E74)<Comp_V1_Years_Usage_Modeled,-((Comp_V1_Gas_Usage_Ex*Gasoline_Price_Modeled*Data!I$142)+(Comp_V1_Electricity_Usage_Ex*Electricity_Price_Modeled*Data!I$144)),0)","v":-338.28982778082138},{"$f":"IF(COLUMN(L74)-COLUMN($E74)<Comp_V1_Years_Usage_Modeled,-((Comp_V1_Gas_Usage_Ex*Gasoline_Price_Modeled*Data!J$142)+(Comp_V1_Electricity_Usage_Ex*Electricity_Price_Modeled*Data!J$144)),0)","v":0},{"$f":"IF(COLUMN(M74)-COLUMN($E74)<Comp_V1_Years_Usage_Modeled,-((Comp_V1_Gas_Usage_Ex*Gasoline_Price_Modeled*Data!K$142)+(Comp_V1_Electricity_Usage_Ex*Electricity_Price_Modeled*Data!K$144)),0)","v":0},{"$f":"IF(COLUMN(N74)-COLUMN($E74)<Comp_V1_Years_Usage_Modeled,-((Comp_V1_Gas_Usage_Ex*Gasoline_Price_Modeled*Data!L$142)+(Comp_V1_Electricity_Usage_Ex*Electricity_Price_Modeled*Data!L$144)),0)","v":0},{"$f":"IF(COLUMN(O74)-COLUMN($E74)<Comp_V1_Years_Usage_Modeled,-((Comp_V1_Gas_Usage_Ex*Gasoline_Price_Modeled*Data!M$142)+(Comp_V1_Electricity_Usage_Ex*Electricity_Price_Modeled*Data!M$144)),0)","v":0},{"$f":"IF(COLUMN(P74)-COLUMN($E74)<Comp_V1_Years_Usage_Modeled,-((Comp_V1_Gas_Usage_Ex*Gasoline_Price_Modeled*Data!N$142)+(Comp_V1_Electricity_Usage_Ex*Electricity_Price_Modeled*Data!N$144)),0)","v":0},{"$f":"IF(COLUMN(Q74)-COLUMN($E74)<Comp_V1_Years_Usage_Modeled,-((Comp_V1_Gas_Usage_Ex*Gasoline_Price_Modeled*Data!O$142)+(Comp_V1_Electricity_Usage_Ex*Electricity_Price_Modeled*Data!O$144)),0)","v":0},{"$f":"IF(COLUMN(R74)-COLUMN($E74)<Comp_V1_Years_Usage_Modeled,-((Comp_V1_Gas_Usage_Ex*Gasoline_Price_Modeled*Data!P$142)+(Comp_V1_Electricity_Usage_Ex*Electricity_Price_Modeled*Data!P$144)),0)","v":0},{"$f":"IF(COLUMN(S74)-COLUMN($E74)<Comp_V1_Years_Usage_Modeled,-((Comp_V1_Gas_Usage_Ex*Gasoline_Price_Modeled*Data!Q$142)+(Comp_V1_Electricity_Usage_Ex*Electricity_Price_Modeled*Data!Q$144)),0)","v":0},{"$f":"IF(COLUMN(T74)-COLUMN($E74)<Comp_V1_Years_Usage_Modeled,-((Comp_V1_Gas_Usage_Ex*Gasoline_Price_Modeled*Data!R$142)+(Comp_V1_Electricity_Usage_Ex*Electricity_Price_Modeled*Data!R$144)),0)","v":0},{"$f":"IF(COLUMN(U74)-COLUMN($E74)<Comp_V1_Years_Usage_Modeled,-((Comp_V1_Gas_Usage_Ex*Gasoline_Price_Modeled*Data!S$142)+(Comp_V1_Electricity_Usage_Ex*Electricity_Price_Modeled*Data!S$144)),0)","v":0},{"$f":"IF(COLUMN(V74)-COLUMN($E74)<Comp_V1_Years_Usage_Modeled,-((Comp_V1_Gas_Usage_Ex*Gasoline_Price_Modeled*Data!T$142)+(Comp_V1_Electricity_Usage_Ex*Electricity_Price_Modeled*Data!T$144)),0)","v":0},{"$f":"IF(COLUMN(W74)-COLUMN($E74)<Comp_V1_Years_Usage_Modeled,-((Comp_V1_Gas_Usage_Ex*Gasoline_Price_Modeled*Data!U$142)+(Comp_V1_Electricity_Usage_Ex*Electricity_Price_Modeled*Data!U$144)),0)","v":0},{"$f":"IF(COLUMN(X74)-COLUMN($E74)<Comp_V1_Years_Usage_Modeled,-((Comp_V1_Gas_Usage_Ex*Gasoline_Price_Modeled*Data!V$142)+(Comp_V1_Electricity_Usage_Ex*Electricity_Price_Modeled*Data!V$144)),0)","v":0},{"$f":"IF(COLUMN(Y74)-COLUMN($E74)<Comp_V1_Years_Usage_Modeled,-((Comp_V1_Gas_Usage_Ex*Gasoline_Price_Modeled*Data!W$142)+(Comp_V1_Electricity_Usage_Ex*Electricity_Price_Modeled*Data!W$144)),0)","v":0},{"$f":"IF(COLUMN(Z74)-COLUMN($E74)<Comp_V1_Years_Usage_Modeled,-((Comp_V1_Gas_Usage_Ex*Gasoline_Price_Modeled*Data!X$142)+(Comp_V1_Electricity_Usage_Ex*Electricity_Price_Modeled*Data!X$144)),0)","v":0},{"$f":"IF(COLUMN(AA74)-COLUMN($E74)<Comp_V1_Years_Usage_Modeled,-((Comp_V1_Gas_Usage_Ex*Gasoline_Price_Modeled*Data!Y$142)+(Comp_V1_Electricity_Usage_Ex*Electricity_Price_Modeled*Data!Y$144)),0)","v":0},{"$f":"IF(COLUMN(AB74)-COLUMN($E74)<Comp_V1_Years_Usage_Modeled,-((Comp_V1_Gas_Usage_Ex*Gasoline_Price_Modeled*Data!Z$142)+(Comp_V1_Electricity_Usage_Ex*Electricity_Price_Modeled*Data!Z$144)),0)","v":0},{"$f":"IF(COLUMN(AC74)-COLUMN($E74)<Comp_V1_Years_Usage_Modeled,-((Comp_V1_Gas_Usage_Ex*Gasoline_Price_Modeled*Data!AA$142)+(Comp_V1_Electricity_Usage_Ex*Electricity_Price_Modeled*Data!AA$144)),0)","v":0}]
[null,"Maintenance and Repair Cost",null,null,{"$f":"-IF(_Comp_V1_Maint_Repair_Cost_Use_Default=\"Yes\",IF(COLUMN(E74)-COLUMN($E74)<Comp_V1_Years_Usage_Modeled,VLOOKUP(_Comp_V1_Vehicle_Drivetrain,DB_Maint_Repair_Costs[],COLUMN(E74)-COLUMN($E74)+2,FALSE)*Comp_V1_VMT_Modeled,0),IF(AND(COLUMN(E74)-COLUMN($E74)<Comp_V1_Years_Usage_Modeled,COLUMN(E74)-COLUMN($E74)<5),Comp_V1_Maint_Repair_Cost_Year_1_Modeled*Comp_V1_VMT_Modeled,IF(AND(COLUMN(E74)-COLUMN($E74)<Comp_V1_Years_Usage_Modeled,COLUMN(E74)-COLUMN($E74)>=5),Comp_V1_Maint_Repair_Cost_Year_5_Modeled*Comp_V1_VMT_Modeled,0)))*Data!E$150","v":-400},{"$f":"-IF(_Comp_V1_Maint_Repair_Cost_Use_Default=\"Yes\",IF(COLUMN(F74)-COLUMN($E74)<Comp_V1_Years_Usage_Modeled,VLOOKUP(_Comp_V1_Vehicle_Drivetrain,DB_Maint_Repair_Costs[],COLUMN(F74)-COLUMN($E74)+2,FALSE)*Comp_V1_VMT_Modeled,0),IF(AND(COLUMN(F74)-COLUMN($E74)<Comp_V1_Years_Usage_Modeled,COLUMN(F74)-COLUMN($E74)<5),Comp_V1_Maint_Repair_Cost_Year_1_Modeled*Comp_V1_VMT_Modeled,IF(AND(COLUMN(F74)-COLUMN($E74)<Comp_V1_Years_Usage_Modeled,COLUMN(F74)-COLUMN($E74)>=5),Comp_V1_Maint_Repair_Cost_Year_5_Modeled*Comp_V1_VMT_Modeled,0)))*Data!F$150","v":-408},{"$f":"-IF(_Comp_V1_Maint_Repair_Cost_Use_Default=\"Yes\",IF(COLUMN(G74)-COLUMN($E74)<Comp_V1_Years_Usage_Modeled,VLOOKUP(_Comp_V1_Vehicle_Drivetrain,DB_Maint_Repair_Costs[],COLUMN(G74)-COLUMN($E74)+2,FALSE)*Comp_V1_VMT_Modeled,0),IF(AND(COLUMN(G74)-COLUMN($E74)<Comp_V1_Years_Usage_Modeled,COLUMN(G74)-COLUMN($E74)<5),Comp_V1_Maint_Repair_Cost_Year_1_Modeled*Comp_V1_VMT_Modeled,IF(AND(COLUMN(G74)-COLUMN($E74)<Comp_V1_Years_Usage_Modeled,COLUMN(G74)-COLUMN($E74)>=5),Comp_V1_Maint_Repair_Cost_Year_5_Modeled*Comp_V1_VMT_Modeled,0)))*Data!G$150","v":-416.15999999999997},{"$f":"-IF(_Comp_V1_Maint_Repair_Cost_Use_Default=\"Yes\",IF(COLUMN(H74)-COLUMN($E74)<Comp_V1_Years_Usage_Modeled,VLOOKUP(_Comp_V1_Vehicle_Drivetrain,DB_Maint_Repair_Costs[],COLUMN(H74)-COLUMN($E74)+2,FALSE)*Comp_V1_VMT_Modeled,0),IF(AND(COLUMN(H74)-COLUMN($E74)<Comp_V1_Years_Usage_Modeled,COLUMN(H74)-COLUMN($E74)<5),Comp_V1_Maint_Repair_Cost_Year_1_Modeled*Comp_V1_VMT_Modeled,IF(AND(COLUMN(H74)-COLUMN($E74)<Comp_V1_Years_Usage_Modeled,COLUMN(H74)-COLUMN($E74)>=5),Comp_V1_Maint_Repair_Cost_Year_5_Modeled*Comp_V1_VMT_Modeled,0)))*Data!H$150","v":-424.48319999999995},{"$f":"-IF(_Comp_V1_Maint_Repair_Cost_Use_Default=\"Yes\",IF(COLUMN(I74)-COLUMN($E74)<Comp_V1_Years_Usage_Modeled,VLOOKUP(_Comp_V1_Vehicle_Drivetrain,DB_Maint_Repair_Costs[],COLUMN(I74)-COLUMN($E74)+2,FALSE)*Comp_V1_VMT_Modeled,0),IF(AND(COLUMN(I74)-COLUMN($E74)<Comp_V1_Years_Usage_Modeled,COLUMN(I74)-COLUMN($E74)<5),Comp_V1_Maint_Repair_Cost_Year_1_Modeled*Comp_V1_VMT_Modeled,IF(AND(COLUMN(I74)-COLUMN($E74)<Comp_V1_Years_Usage_Modeled,COLUMN(I74)-COLUMN($E74)>=5),Comp_V1_Maint_Repair_Cost_Year_5_Modeled*Comp_V1_VMT_Modeled,0)))*Data!I$150","v":-432.97286400000002},{"$f":"-IF(_Comp_V1_Maint_Repair_Cost_Use_Default=\"Yes\",IF(COLUMN(J74)-COLUMN($E74)<Comp_V1_Years_Usage_Modeled,VLOOKUP(_Comp_V1_Vehicle_Drivetrain,DB_Maint_Repair_Costs[],COLUMN(J74)-COLUMN($E74)+2,FALSE)*Comp_V1_VMT_Modeled,0),IF(AND(COLUMN(J74)-COLUMN($E74)<Comp_V1_Years_Usage_Modeled,COLUMN(J74)-COLUMN($E74)<5),Comp_V1_Maint_Repair_Cost_Year_1_Modeled*Comp_V1_VMT_Modeled,IF(AND(COLUMN(J74)-COLUMN($E74)<Comp_V1_Years_Usage_Modeled,COLUMN(J74)-COLUMN($E74)>=5),Comp_V1_Maint_Repair_Cost_Year_5_Modeled*Comp_V1_VMT_Modeled,0)))*Data!J$150","v":-574.12201766400005},{"$f":"-IF(_Comp_V1_Maint_Repair_Cost_Use_Default=\"Yes\",IF(COLUMN(K74)-COLUMN($E74)<Comp_V1_Years_Usage_Modeled,VLOOKUP(_Comp_V1_Vehicle_Drivetrain,DB_Maint_Repair_Costs[],COLUMN(K74)-COLUMN($E74)+2,FALSE)*Comp_V1_VMT_Modeled,0),IF(AND(COLUMN(K74)-COLUMN($E74)<Comp_V1_Years_Usage_Modeled,COLUMN(K74)-COLUMN($E74)<5),Comp_V1_Maint_Repair_Cost_Year_1_Modeled*Comp_V1_VMT_Modeled,IF(AND(COLUMN(K74)-COLUMN($E74)<Comp_V1_Years_Usage_Modeled,COLUMN(K74)-COLUMN($E74)>=5),Comp_V1_Maint_Repair_Cost_Year_5_Modeled*Comp_V1_VMT_Modeled,0)))*Data!K$150","v":-585.60445801728008},{"$f":"-IF(_Comp_V1_Maint_Repair_Cost_Use_Default=\"Yes\",IF(COLUMN(L74)-COLUMN($E74)<Comp_V1_Years_Usage_Modeled,VLOOKUP(_Comp_V1_Vehicle_Drivetrain,DB_Maint_Repair_Costs[],COLUMN(L74)-COLUMN($E74)+2,FALSE)*Comp_V1_VMT_Modeled,0),IF(AND(COLUMN(L74)-COLUMN($E74)<Comp_V1_Years_Usage_Modeled,COLUMN(L74)-COLUMN($E74)<5),Comp_V1_Maint_Repair_Cost_Year_1_Modeled*Comp_V1_VMT_Modeled,IF(AND(COLUMN(L74)-COLUMN($E74)<Comp_V1_Years_Usage_Modeled,COLUMN(L74)-COLUMN($E74)>=5),Comp_V1_Maint_Repair_Cost_Year_5_Modeled*Comp_V1_VMT_Modeled,0)))*Data!L$150","v":0},{"$f":"-IF(_Comp_V1_Maint_Repair_Cost_Use_Default=\"Yes\",IF(COLUMN(M74)-COLUMN($E74)<Comp_V1_Years_Usage_Modeled,VLOOKUP(_Comp_V1_Vehicle_Drivetrain,DB_Maint_Repair_Costs[],COLUMN(M74)-COLUMN($E74)+2,FALSE)*Comp_V1_VMT_Modeled,0),IF(AND(COLUMN(M74)-COLUMN($E74)<Comp_V1_Years_Usage_Modeled,COLUMN(M74)-COLUMN($E74)<5),Comp_V1_Maint_Repair_Cost_Year_1_Modeled*Comp_V1_VMT_Modeled,IF(AND(COLUMN(M74)-COLUMN($E74)<Comp_V1_Years_Usage_Modeled,COLUMN(M74)-COLUMN($E74)>=5),Comp_V1_Maint_Repair_Cost_Year_5_Modeled*Comp_V1_VMT_Modeled,0)))*Data!M$150","v":0},{"$f":"-IF(_Comp_V1_Maint_Repair_Cost_Use_Default=\"Yes\",IF(COLUMN(N74)-COLUMN($E74)<Comp_V1_Years_Usage_Modeled,VLOOKUP(_Comp_V1_Vehicle_Drivetrain,DB_Maint_Repair_Costs[],COLUMN(N74)-COLUMN($E74)+2,FALSE)*Comp_V1_VMT_Modeled,0),IF(AND(COLUMN(N74)-COLUMN($E74)<Comp_V1_Years_Usage_Modeled,COLUMN(N74)-COLUMN($E74)<5),Comp_V1_Maint_Repair_Cost_Year_1_Modeled*Comp_V1_VMT_Modeled,IF(AND(COLUMN(N74)-COLUMN($E74)<Comp_V1_Years_Usage_Modeled,COLUMN(N74)-COLUMN($E74)>=5),Comp_V1_Maint_Repair_Cost_Year_5_Modeled*Comp_V1_VMT_Modeled,0)))*Data!N$150","v":0},{"$f":"-IF(_Comp_V1_Maint_Repair_Cost_Use_Default=\"Yes\",IF(COLUMN(O74)-COLUMN($E74)<Comp_V1_Years_Usage_Modeled,VLOOKUP(_Comp_V1_Vehicle_Drivetrain,DB_Maint_Repair_Costs[],COLUMN(O74)-COLUMN($E74)+2,FALSE)*Comp_V1_VMT_Modeled,0),IF(AND(COLUMN(O74)-COLUMN($E74)<Comp_V1_Years_Usage_Modeled,COLUMN(O74)-COLUMN($E74)<5),Comp_V1_Maint_Repair_Cost_Year_1_Modeled*Comp_V1_VMT_Modeled,IF(AND(COLUMN(O74)-COLUMN($E74)<Comp_V1_Years_Usage_Modeled,COLUMN(O74)-COLUMN($E74)>=5),Comp_V1_Maint_Repair_Cost_Year_5_Modeled*Comp_V1_VMT_Modeled,0)))*Data!O$150","v":0},{"$f":"-IF(_Comp_V1_Maint_Repair_Cost_Use_Default=\"Yes\",IF(COLUMN(P74)-COLUMN($E74)<Comp_V1_Years_Usage_Modeled,VLOOKUP(_Comp_V1_Vehicle_Drivetrain,DB_Maint_Repair_Costs[],COLUMN(P74)-COLUMN($E74)+2,FALSE)*Comp_V1_VMT_Modeled,0),IF(AND(COLUMN(P74)-COLUMN($E74)<Comp_V1_Years_Usage_Modeled,COLUMN(P74)-COLUMN($E74)<5),Comp_V1_Maint_Repair_Cost_Year_1_Modeled*Comp_V1_VMT_Modeled,IF(AND(COLUMN(P74)-COLUMN($E74)<Comp_V1_Years_Usage_Modeled,COLUMN(P74)-COLUMN($E74)>=5),Comp_V1_Maint_Repair_Cost_Year_5_Modeled*Comp_V1_VMT_Modeled,0)))*Data!P$150","v":0},{"$f":"-IF(_Comp_V1_Maint_Repair_Cost_Use_Default=\"Yes\",IF(COLUMN(Q74)-COLUMN($E74)<Comp_V1_Years_Usage_Modeled,VLOOKUP(_Comp_V1_Vehicle_Drivetrain,DB_Maint_Repair_Costs[],COLUMN(Q74)-COLUMN($E74)+2,FALSE)*Comp_V1_VMT_Modeled,0),IF(AND(COLUMN(Q74)-COLUMN($E74)<Comp_V1_Years_Usage_Modeled,COLUMN(Q74)-COLUMN($E74)<5),Comp_V1_Maint_Repair_Cost_Year_1_Modeled*Comp_V1_VMT_Modeled,IF(AND(COLUMN(Q74)-COLUMN($E74)<Comp_V1_Years_Usage_Modeled,COLUMN(Q74)-COLUMN($E74)>=5),Comp_V1_Maint_Repair_Cost_Year_5_Modeled*Comp_V1_VMT_Modeled,0)))*Data!Q$150","v":0},{"$f":"-IF(_Comp_V1_Maint_Repair_Cost_Use_Default=\"Yes\",IF(COLUMN(R74)-COLUMN($E74)<Comp_V1_Years_Usage_Modeled,VLOOKUP(_Comp_V1_Vehicle_Drivetrain,DB_Maint_Repair_Costs[],COLUMN(R74)-COLUMN($E74)+2,FALSE)*Comp_V1_VMT_Modeled,0),IF(AND(COLUMN(R74)-COLUMN($E74)<Comp_V1_Years_Usage_Modeled,COLUMN(R74)-COLUMN($E74)<5),Comp_V1_Maint_Repair_Cost_Year_1_Modeled*Comp_V1_VMT_Modeled,IF(AND(COLUMN(R74)-COLUMN($E74)<Comp_V1_Years_Usage_Modeled,COLUMN(R74)-COLUMN($E74)>=5),Comp_V1_Maint_Repair_Cost_Year_5_Modeled*Comp_V1_VMT_Modeled,0)))*Data!R$150","v":0},{"$f":"-IF(_Comp_V1_Maint_Repair_Cost_Use_Default=\"Yes\",IF(COLUMN(S74)-COLUMN($E74)<Comp_V1_Years_Usage_Modeled,VLOOKUP(_Comp_V1_Vehicle_Drivetrain,DB_Maint_Repair_Costs[],COLUMN(S74)-COLUMN($E74)+2,FALSE)*Comp_V1_VMT_Modeled,0),IF(AND(COLUMN(S74)-COLUMN($E74)<Comp_V1_Years_Usage_Modeled,COLUMN(S74)-COLUMN($E74)<5),Comp_V1_Maint_Repair_Cost_Year_1_Modeled*Comp_V1_VMT_Modeled,IF(AND(COLUMN(S74)-COLUMN($E74)<Comp_V1_Years_Usage_Modeled,COLUMN(S74)-COLUMN($E74)>=5),Comp_V1_Maint_Repair_Cost_Year_5_Modeled*Comp_V1_VMT_Modeled,0)))*Data!S$150","v":0},{"$f":"-IF(_Comp_V1_Maint_Repair_Cost_Use_Default=\"Yes\",IF(COLUMN(T74)-COLUMN($E74)<Comp_V1_Years_Usage_Modeled,VLOOKUP(_Comp_V1_Vehicle_Drivetrain,DB_Maint_Repair_Costs[],COLUMN(T74)-COLUMN($E74)+2,FALSE)*Comp_V1_VMT_Modeled,0),IF(AND(COLUMN(T74)-COLUMN($E74)<Comp_V1_Years_Usage_Modeled,COLUMN(T74)-COLUMN($E74)<5),Comp_V1_Maint_Repair_Cost_Year_1_Modeled*Comp_V1_VMT_Modeled,IF(AND(COLUMN(T74)-COLUMN($E74)<Comp_V1_Years_Usage_Modeled,COLUMN(T74)-COLUMN($E74)>=5),Comp_V1_Maint_Repair_Cost_Year_5_Modeled*Comp_V1_VMT_Modeled,0)))*Data!T$150","v":0},{"$f":"-IF(_Comp_V1_Maint_Repair_Cost_Use_Default=\"Yes\",IF(COLUMN(U74)-COLUMN($E74)<Comp_V1_Years_Usage_Modeled,VLOOKUP(_Comp_V1_Vehicle_Drivetrain,DB_Maint_Repair_Costs[],COLUMN(U74)-COLUMN($E74)+2,FALSE)*Comp_V1_VMT_Modeled,0),IF(AND(COLUMN(U74)-COLUMN($E74)<Comp_V1_Years_Usage_Modeled,COLUMN(U74)-COLUMN($E74)<5),Comp_V1_Maint_Repair_Cost_Year_1_Modeled*Comp_V1_VMT_Modeled,IF(AND(COLUMN(U74)-COLUMN($E74)<Comp_V1_Years_Usage_Modeled,COLUMN(U74)-COLUMN($E74)>=5),Comp_V1_Maint_Repair_Cost_Year_5_Modeled*Comp_V1_VMT_Modeled,0)))*Data!U$150","v":0},{"$f":"-IF(_Comp_V1_Maint_Repair_Cost_Use_Default=\"Yes\",IF(COLUMN(V74)-COLUMN($E74)<Comp_V1_Years_Usage_Modeled,VLOOKUP(_Comp_V1_Vehicle_Drivetrain,DB_Maint_Repair_Costs[],COLUMN(V74)-COLUMN($E74)+2,FALSE)*Comp_V1_VMT_Modeled,0),IF(AND(COLUMN(V74)-COLUMN($E74)<Comp_V1_Years_Usage_Modeled,COLUMN(V74)-COLUMN($E74)<5),Comp_V1_Maint_Repair_Cost_Year_1_Modeled*Comp_V1_VMT_Modeled,IF(AND(COLUMN(V74)-COLUMN($E74)<Comp_V1_Years_Usage_Modeled,COLUMN(V74)-COLUMN($E74)>=5),Comp_V1_Maint_Repair_Cost_Year_5_Modeled*Comp_V1_VMT_Modeled,0)))*Data!V$150","v":0},{"$f":"-IF(_Comp_V1_Maint_Repair_Cost_Use_Default=\"Yes\",IF(COLUMN(W74)-COLUMN($E74)<Comp_V1_Years_Usage_Modeled,VLOOKUP(_Comp_V1_Vehicle_Drivetrain,DB_Maint_Repair_Costs[],COLUMN(W74)-COLUMN($E74)+2,FALSE)*Comp_V1_VMT_Modeled,0),IF(AND(COLUMN(W74)-COLUMN($E74)<Comp_V1_Years_Usage_Modeled,COLUMN(W74)-COLUMN($E74)<5),Comp_V1_Maint_Repair_Cost_Year_1_Modeled*Comp_V1_VMT_Modeled,IF(AND(COLUMN(W74)-COLUMN($E74)<Comp_V1_Years_Usage_Modeled,COLUMN(W74)-COLUMN($E74)>=5),Comp_V1_Maint_Repair_Cost_Year_5_Modeled*Comp_V1_VMT_Modeled,0)))*Data!W$150","v":0},{"$f":"-IF(_Comp_V1_Maint_Repair_Cost_Use_Default=\"Yes\",IF(COLUMN(X74)-COLUMN($E74)<Comp_V1_Years_Usage_Modeled,VLOOKUP(_Comp_V1_Vehicle_Drivetrain,DB_Maint_Repair_Costs[],COLUMN(X74)-COLUMN($E74)+2,FALSE)*Comp_V1_VMT_Modeled,0),IF(AND(COLUMN(X74)-COLUMN($E74)<Comp_V1_Years_Usage_Modeled,COLUMN(X74)-COLUMN($E74)<5),Comp_V1_Maint_Repair_Cost_Year_1_Modeled*Comp_V1_VMT_Modeled,IF(AND(COLUMN(X74)-COLUMN($E74)<Comp_V1_Years_Usage_Modeled,COLUMN(X74)-COLUMN($E74)>=5),Comp_V1_Maint_Repair_Cost_Year_5_Modeled*Comp_V1_VMT_Modeled,0)))*Data!X$150","v":0},{"$f":"-IF(_Comp_V1_Maint_Repair_Cost_Use_Default=\"Yes\",IF(COLUMN(Y74)-COLUMN($E74)<Comp_V1_Years_Usage_Modeled,VLOOKUP(_Comp_V1_Vehicle_Drivetrain,DB_Maint_Repair_Costs[],COLUMN(Y74)-COLUMN($E74)+2,FALSE)*Comp_V1_VMT_Modeled,0),IF(AND(COLUMN(Y74)-COLUMN($E74)<Comp_V1_Years_Usage_Modeled,COLUMN(Y74)-COLUMN($E74)<5),Comp_V1_Maint_Repair_Cost_Year_1_Modeled*Comp_V1_VMT_Modeled,IF(AND(COLUMN(Y74)-COLUMN($E74)<Comp_V1_Years_Usage_Modeled,COLUMN(Y74)-COLUMN($E74)>=5),Comp_V1_Maint_Repair_Cost_Year_5_Modeled*Comp_V1_VMT_Modeled,0)))*Data!Y$150","v":0},{"$f":"-IF(_Comp_V1_Maint_Repair_Cost_Use_Default=\"Yes\",IF(COLUMN(Z74)-COLUMN($E74)<Comp_V1_Years_Usage_Modeled,VLOOKUP(_Comp_V1_Vehicle_Drivetrain,DB_Maint_Repair_Costs[],COLUMN(Z74)-COLUMN($E74)+2,FALSE)*Comp_V1_VMT_Modeled,0),IF(AND(COLUMN(Z74)-COLUMN($E74)<Comp_V1_Years_Usage_Modeled,COLUMN(Z74)-COLUMN($E74)<5),Comp_V1_Maint_Repair_Cost_Year_1_Modeled*Comp_V1_VMT_Modeled,IF(AND(COLUMN(Z74)-COLUMN($E74)<Comp_V1_Years_Usage_Modeled,COLUMN(Z74)-COLUMN($E74)>=5),Comp_V1_Maint_Repair_Cost_Year_5_Modeled*Comp_V1_VMT_Modeled,0)))*Data!Z$150","v":0},{"$f":"-IF(_Comp_V1_Maint_Repair_Cost_Use_Default=\"Yes\",IF(COLUMN(AA74)-COLUMN($E74)<Comp_V1_Years_Usage_Modeled,VLOOKUP(_Comp_V1_Vehicle_Drivetrain,DB_Maint_Repair_Costs[],COLUMN(AA74)-COLUMN($E74)+2,FALSE)*Comp_V1_VMT_Modeled,0),IF(AND(COLUMN(AA74)-COLUMN($E74)<Comp_V1_Years_Usage_Modeled,COLUMN(AA74)-COLUMN($E74)<5),Comp_V1_Maint_Repair_Cost_Year_1_Modeled*Comp_V1_VMT_Modeled,IF(AND(COLUMN(AA74)-COLUMN($E74)<Comp_V1_Years_Usage_Modeled,COLUMN(AA74)-COLUMN($E74)>=5),Comp_V1_Maint_Repair_Cost_Year_5_Modeled*Comp_V1_VMT_Modeled,0)))*Data!AA$150","v":0},{"$f":"-IF(_Comp_V1_Maint_Repair_Cost_Use_Default=\"Yes\",IF(COLUMN(AB74)-COLUMN($E74)<Comp_V1_Years_Usage_Modeled,VLOOKUP(_Comp_V1_Vehicle_Drivetrain,DB_Maint_Repair_Costs[],COLUMN(AB74)-COLUMN($E74)+2,FALSE)*Comp_V1_VMT_Modeled,0),IF(AND(COLUMN(AB74)-COLUMN($E74)<Comp_V1_Years_Usage_Modeled,COLUMN(AB74)-COLUMN($E74)<5),Comp_V1_Maint_Repair_Cost_Year_1_Modeled*Comp_V1_VMT_Modeled,IF(AND(COLUMN(AB74)-COLUMN($E74)<Comp_V1_Years_Usage_Modeled,COLUMN(AB74)-COLUMN($E74)>=5),Comp_V1_Maint_Repair_Cost_Year_5_Modeled*Comp_V1_VMT_Modeled,0)))*Data!AB$150","v":0},{"$f":"-IF(_Comp_V1_Maint_Repair_Cost_Use_Default=\"Yes\",IF(COLUMN(AC74)-COLUMN($E74)<Comp_V1_Years_Usage_Modeled,VLOOKUP(_Comp_V1_Vehicle_Drivetrain,DB_Maint_Repair_Costs[],COLUMN(AC74)-COLUMN($E74)+2,FALSE)*Comp_V1_VMT_Modeled,0),IF(AND(COLUMN(AC74)-COLUMN($E74)<Comp_V1_Years_Usage_Modeled,COLUMN(AC74)-COLUMN($E74)<5),Comp_V1_Maint_Repair_Cost_Year_1_Modeled*Comp_V1_VMT_Modeled,IF(AND(COLUMN(AC74)-COLUMN($E74)<Comp_V1_Years_Usage_Modeled,COLUMN(AC74)-COLUMN($E74)>=5),Comp_V1_Maint_Repair_Cost_Year_5_Modeled*Comp_V1_VMT_Modeled,0)))*Data!AC$150","v":0}]
[null,"Taxes and Fees",null,{"$f":"-Comp_V1_Initial_Taxes_Fees_Modeled-(Comp_V1_Initial_Percent_Base_Price_Modeled*Comp_V1_Base_Price_Ex)","v":-1000},{"$f":"-IF(COLUMN(E74)-COLUMN($E74)<Comp_V1_Years_Usage_Modeled,Comp_V1_Taxes_Fees_Modeled,0)*Data!E$150","v":-10},{"$f":"-IF(COLUMN(F74)-COLUMN($E74)<Comp_V1_Years_Usage_Modeled,Comp_V1_Taxes_Fees_Modeled,0)*Data!F$150","v":-10.199999999999999},{"$f":"-IF(COLUMN(G74)-COLUMN($E74)<Comp_V1_Years_Usage_Modeled,Comp_V1_Taxes_Fees_Modeled,0)*Data!G$150","v":-10.404},{"$f":"-IF(COLUMN(H74)-COLUMN($E74)<Comp_V1_Years_Usage_Modeled,Comp_V1_Taxes_Fees_Modeled,0)*Data!H$150","v":-10.612079999999999},{"$f":"-IF(COLUMN(I74)-COLUMN($E74)<Comp_V1_Years_Usage_Modeled,Comp_V1_Taxes_Fees_Modeled,0)*Data!I$150","v":-10.824321599999999},{"$f":"-IF(COLUMN(J74)-COLUMN($E74)<Comp_V1_Years_Usage_Modeled,Comp_V1_Taxes_Fees_Modeled,0)*Data!J$150","v":-11.040808032000001},{"$f":"-IF(COLUMN(K74)-COLUMN($E74)<Comp_V1_Years_Usage_Modeled,Comp_V1_Taxes_Fees_Modeled,0)*Data!K$150","v":-11.261624192640001},{"$f":"-IF(COLUMN(L74)-COLUMN($E74)<Comp_V1_Years_Usage_Modeled,Comp_V1_Taxes_Fees_Modeled,0)*Data!L$150","v":0},{"$f":"-IF(COLUMN(M74)-COLUMN($E74)<Comp_V1_Years_Usage_Modeled,Comp_V1_Taxes_Fees_Modeled,0)*Data!M$150","v":0},{"$f":"-IF(COLUMN(N74)-COLUMN($E74)<Comp_V1_Years_Usage_Modeled,Comp_V1_Taxes_Fees_Modeled,0)*Data!N$150","v":0},{"$f":"-IF(COLUMN(O74)-COLUMN($E74)<Comp_V1_Years_Usage_Modeled,Comp_V1_Taxes_Fees_Modeled,0)*Data!O$150","v":0},{"$f":"-IF(COLUMN(P74)-COLUMN($E74)<Comp_V1_Years_Usage_Modeled,Comp_V1_Taxes_Fees_Modeled,0)*Data!P$150","v":0},{"$f":"-IF(COLUMN(Q74)-COLUMN($E74)<Comp_V1_Years_Usage_Modeled,Comp_V1_Taxes_Fees_Modeled,0)*Data!Q$150","v":0},{"$f":"-IF(COLUMN(R74)-COLUMN($E74)<Comp_V1_Years_Usage_Modeled,Comp_V1_Taxes_Fees_Modeled,0)*Data!R$150","v":0},{"$f":"-IF(COLUMN(S74)-COLUMN($E74)<Comp_V1_Years_Usage_Modeled,Comp_V1_Taxes_Fees_Modeled,0)*Data!S$150","v":0},{"$f":"-IF(COLUMN(T74)-COLUMN($E74)<Comp_V1_Years_Usage_Modeled,Comp_V1_Taxes_Fees_Modeled,0)*Data!T$150","v":0},{"$f":"-IF(COLUMN(U74)-COLUMN($E74)<Comp_V1_Years_Usage_Modeled,Comp_V1_Taxes_Fees_Modeled,0)*Data!U$150","v":0},{"$f":"-IF(COLUMN(V74)-COLUMN($E74)<Comp_V1_Years_Usage_Modeled,Comp_V1_Taxes_Fees_Modeled,0)*Data!V$150","v":0},{"$f":"-IF(COLUMN(W74)-COLUMN($E74)<Comp_V1_Years_Usage_Modeled,Comp_V1_Taxes_Fees_Modeled,0)*Data!W$150","v":0},{"$f":"-IF(COLUMN(X74)-COLUMN($E74)<Comp_V1_Years_Usage_Modeled,Comp_V1_Taxes_Fees_Modeled,0)*Data!X$150","v":0},{"$f":"-IF(COLUMN(Y74)-COLUMN($E74)<Comp_V1_Years_Usage_Modeled,Comp_V1_Taxes_Fees_Modeled,0)*Data!Y$150","v":0},{"$f":"-IF(COLUMN(Z74)-COLUMN($E74)<Comp_V1_Years_Usage_Modeled,Comp_V1_Taxes_Fees_Modeled,0)*Data!Z$150","v":0},{"$f":"-IF(COLUMN(AA74)-COLUMN($E74)<Comp_V1_Years_Usage_Modeled,Comp_V1_Taxes_Fees_Modeled,0)*Data!AA$150","v":0},{"$f":"-IF(COLUMN(AB74)-COLUMN($E74)<Comp_V1_Years_Usage_Modeled,Comp_V1_Taxes_Fees_Modeled,0)*Data!AB$150","v":0},{"$f":"-IF(COLUMN(AC74)-COLUMN($E74)<Comp_V1_Years_Usage_Modeled,Comp_V1_Taxes_Fees_Modeled,0)*Data!AC$150","v":0}]
[null,"Insurance Cost",null,null,{"$f":"-IF(COLUMN(E74)-COLUMN($E74)<Comp_V1_Years_Usage_Modeled,Comp_V1_Insurance_Cost_Modeled,0)*Data!E$150","v":-550},{"$f":"-IF(COLUMN(F74)-COLUMN($E74)<Comp_V1_Years_Usage_Modeled,Comp_V1_Insurance_Cost_Modeled,0)*Data!F$150","v":-561},{"$f":"-IF(COLUMN(G74)-COLUMN($E74)<Comp_V1_Years_Usage_Modeled,Comp_V1_Insurance_Cost_Modeled,0)*Data!G$150","v":-572.22},{"$f":"-IF(COLUMN(H74)-COLUMN($E74)<Comp_V1_Years_Usage_Modeled,Comp_V1_Insurance_Cost_Modeled,0)*Data!H$150","v":-583.6644},{"$f":"-IF(COLUMN(I74)-COLUMN($E74)<Comp_V1_Years_Usage_Modeled,Comp_V1_Insurance_Cost_Modeled,0)*Data!I$150","v":-595.33768799999996},{"$f":"-IF(COLUMN(J74)-COLUMN($E74)<Comp_V1_Years_Usage_Modeled,Comp_V1_Insurance_Cost_Modeled,0)*Data!J$150","v":-607.24444175999997},{"$f":"-IF(COLUMN(K74)-COLUMN($E74)<Comp_V1_Years_Usage_Modeled,Comp_V1_Insurance_Cost_Modeled,0)*Data!K$150","v":-619.38933059520002},{"$f":"-IF(COLUMN(L74)-COLUMN($E74)<Comp_V1_Years_Usage_Modeled,Comp_V1_Insurance_Cost_Modeled,0)*Data!L$150","v":0},{"$f":"-IF(COLUMN(M74)-COLUMN($E74)<Comp_V1_Years_Usage_Modeled,Comp_V1_Insurance_Cost_Modeled,0)*Data!M$150","v":0},{"$f":"-IF(COLUMN(N74)-COLUMN($E74)<Comp_V1_Years_Usage_Modeled,Comp_V1_Insurance_Cost_Modeled,0)*Data!N$150","v":0},{"$f":"-IF(COLUMN(O74)-COLUMN($E74)<Comp_V1_Years_Usage_Modeled,Comp_V1_Insurance_Cost_Modeled,0)*Data!O$150","v":0},{"$f":"-IF(COLUMN(P74)-COLUMN($E74)<Comp_V1_Years_Usage_Modeled,Comp_V1_Insurance_Cost_Modeled,0)*Data!P$150","v":0},{"$f":"-IF(COLUMN(Q74)-COLUMN($E74)<Comp_V1_Years_Usage_Modeled,Comp_V1_Insurance_Cost_Modeled,0)*Data!Q$150","v":0},{"$f":"-IF(COLUMN(R74)-COLUMN($E74)<Comp_V1_Years_Usage_Modeled,Comp_V1_Insurance_Cost_Modeled,0)*Data!R$150","v":0},{"$f":"-IF(COLUMN(S74)-COLUMN($E74)<Comp_V1_Years_Usage_Modeled,Comp_V1_Insurance_Cost_Modeled,0)*Data!S$150","v":0},{"$f":"-IF(COLUMN(T74)-COLUMN($E74)<Comp_V1_Years_Usage_Modeled,Comp_V1_Insurance_Cost_Modeled,0)*Data!T$150","v":0},{"$f":"-IF(COLUMN(U74)-COLUMN($E74)<Comp_V1_Years_Usage_Modeled,Comp_V1_Insurance_Cost_Modeled,0)*Data!U$150","v":0},{"$f":"-IF(COLUMN(V74)-COLUMN($E74)<Comp_V1_Years_Usage_Modeled,Comp_V1_Insurance_Cost_Modeled,0)*Data!V$150","v":0},{"$f":"-IF(COLUMN(W74)-COLUMN($E74)<Comp_V1_Years_Usage_Modeled,Comp_V1_Insurance_Cost_Modeled,0)*Data!W$150","v":0},{"$f":"-IF(COLUMN(X74)-COLUMN($E74)<Comp_V1_Years_Usage_Modeled,Comp_V1_Insurance_Cost_Modeled,0)*Data!X$150","v":0},{"$f":"-IF(COLUMN(Y74)-COLUMN($E74)<Comp_V1_Years_Usage_Modeled,Comp_V1_Insurance_Cost_Modeled,0)*Data!Y$150","v":0},{"$f":"-IF(COLUMN(Z74)-COLUMN($E74)<Comp_V1_Years_Usage_Modeled,Comp_V1_Insurance_Cost_Modeled,0)*Data!Z$150","v":0},{"$f":"-IF(COLUMN(AA74)-COLUMN($E74)<Comp_V1_Years_Usage_Modeled,Comp_V1_Insurance_Cost_Modeled,0)*Data!AA$150","v":0},{"$f":"-IF(COLUMN(AB74)-COLUMN($E74)<Comp_V1_Years_Usage_Modeled,Comp_V1_Insurance_Cost_Modeled,0)*Data!AB$150","v":0},{"$f":"-IF(COLUMN(AC74)-COLUMN($E74)<Comp_V1_Years_Usage_Modeled,Comp_V1_Insurance_Cost_Modeled,0)*Data!AC$150","v":0}]
[null,"Subtotal Fuel and Operating Costs",null,{"$f":"SUM(D104:D107)","v":-1000},-1256.2364034090911,-1272.4522394018552,-1302.9235249878598,-1339.1586093804199,-1367.4580131774767,-1527.1738515568049,-1554.5452405859414,0,0,0,0,0,0,0,0,0,0,0,0,0,0,0,0,0,0]
[]
[null,"Other Costs"]
[null,"Cost of Carbon",null,null,{"$f":"-IF(COLUMN(E74)-COLUMN($E74)<Comp_V1_Years_Usage_Modeled,Comp_V1_CO2_Ex/2204.62*Carbon_Price_Modeled,0)","v":0},0,0,0,0,0,0,0,0,0,0,0,0,0,0,0,0,0,0,0,0,0,0,0,0]
[null,"Subtotal Other Costs",null,{"$f":"SUM(D111:D111)","v":0},0,0,0,0,0,0,0,0,0,0,0,0,0,0,0,0,0,0,0,0,0,0,0,0,{"$f":"SUM(AC111:AC111)","v":0}]
[]
[null,"Total Discounted Costs"]
[null,"Total Annual Costs",null,{"$f":"D101+D108+D112","v":-27026},-1256.2364034090911,-1272.4522394018552,-1302.9235249878598,-1339.1586093804199,-1367.4580131774767,-1527.1738515568049,4486.4566397392518,0,0,0,0,0,0,0,0,0,0,0,0,0,0,0,0,0,0]
[null,"Discount Factor",{"$f":"Comp_Discount_Rate_Modeled","v":0},{"$f":"(1/(1+$C116))^(COLUMN(D74)-COLUMN($D74))","v":1},1,1,1,1,1,1,1,1,1,1,1,1,1,1,1,1,1,1,1,1,1,1,1,1,1]
[null,"Discounted Total",null,{"$f":"D115*D116","v":-27026},{"$f":"E115*E116","v":-1256.2364034090911},{"$f":"F115*F116","v":-1272.4522394018552},-1302.9235249878598,-1339.1586093804199,-1367.4580131774767,-1527.1738515568049,4486.4566397392518,0,0,0,0,0,0,0,0,0,0,0,0,0,0,0,0,0,0]
[null,"Cumulative Discounted Total",null,{"$f":"IF((COLUMN(D74)-COLUMN($D74))<=Comp_V1_Years_Usage_Modeled,C118+D117,0)","v":-27026},-28282.23640340909,-29554.688642810946,-30857.612167798805,-32196.770777179227,-33564.228790356705,-35091.402641913512,-30604.94600217426,0,0,0,0,0,0,0,0,0,0,0,0,0,0,0,0,0,0]
[null,"Annualized NPV Total Cost of Ownership",null,{"$f":"OFFSET($D118,0,Comp_V1_Years_Usage_Modeled)/Comp_V1_Years_Usage_Modeled","v":-4372.1351431677513}]
[]
[null,"Comparison EV Infrastructure"]
[null,null,null,"Year 0","Year 1 ","Year 2","Year 3","Year 4","Year 5","Year 6","Year 7","Year 8","Year 9","Year 10","Year 11","Year 12","Year 13","Year 14","Year 15","Year 16","Year 17","Year 18","Year 19","Year 20","Year 21","Year 22","Year 23","Year 24","Year 25"]
[null,"Capital and Financing Costs"]
[null,"Cash "]
[null,"Cash Payment",null,{"$f":"IF(AND(Comp_Inf_Has_Cash_Purchase_Ex=TRUE,_Comp_Include_Charging=\"Yes\"),-Comp_Num_Stations_Modeled*Comp_Station_Cost_Modeled,0)","v":0}]
[null,"Loan"]
[null,"Down Payment",null,{"$f":"IF(AND(Comp_Inf_Has_Cash_Purchase_Ex=FALSE,_Comp_Include_Charging=\"Yes\"),-Comp_Inf_Down_Payment_Modeled,0)","v":0}]
[null,"Loan Payments",null,null,{"$f":"IF(AND(Comp_Inf_Has_Cash_Purchase_Ex=FALSE,_Comp_Include_Charging=\"Yes\",(COLUMN(E122)-COLUMN($E122))<Comp_Inf_Loan_Term_Modeled),PMT(Comp_Inf_Loan_APR_Modeled/12,Comp_Inf_Loan_Term_Modeled*12,(Comp_Num_Stations_Modeled*Comp_Station_Cost_Modeled)-Comp_Inf_Down_Payment_Modeled,0)*12,0)","v":0},0,0,0,0,0,0,0,0,0,0,0,0,0,0,0,0,0,0,0,0,0,0,0,0]
[null,"Subtotal Loan Cash Flows",null,{"$f":"SUM(D127:D128)","v":0},0,0,0,0,0,0,0,0,0,0,0,0,0,0,0,0,0,0,0,0,0,0,0,0,0]
[]
[null,"Total Capital and Financing Costs",null,{"$f":"D125+D129","v":0},{"$f":"E125+E129","v":0},0,0,0,0,0,0,0,0,0,0,0,0,0,0,0,0,0,0,0,0,0,0,0,0]
[]
[null,"Operating Costs"]
[null,"Maintenance Cost",null,null,{"$f":"-IF(AND(COLUMN(E122)-COLUMN($E122)<Comp_V1_Years_Usage_Modeled,_Comp_Include_Charging=\"Yes\"),Comp_Station_Maint_Cost_Modeled*Comp_Num_Stations_Modeled,0)*Data!E$150","v":0},{"$f":"-IF(AND(COLUMN(F122)-COLUMN($E122)<Comp_V1_Years_Usage_Modeled,_Comp_Include_Charging=\"Yes\"),Comp_Station_Maint_Cost_Modeled*Comp_Num_Stations_Modeled,0)*Data!F$150","v":0},{"$f":"-IF(AND(COLUMN(G122)-COLUMN($E122)<Comp_V1_Years_Usage_Modeled,_Comp_Include_Charging=\"Yes\"),Comp_Station_Maint_Cost_Modeled*Comp_Num_Stations_Modeled,0)*Data!G$150","v":0},{"$f":"-IF(AND(COLUMN(H122)-COLUMN($E122)<Comp_V1_Years_Usage_Modeled,_Comp_Include_Charging=\"Yes\"),Comp_Station_Maint_Cost_Modeled*Comp_Num_Stations_Modeled,0)*Data!H$150","v":0},{"$f":"-IF(AND(COLUMN(I122)-COLUMN($E122)<Comp_V1_Years_Usage_Modeled,_Comp_Include_Charging=\"Yes\"),Comp_Station_Maint_Cost_Modeled*Comp_Num_Stations_Modeled,0)*Data!I$150","v":0},{"$f":"-IF(AND(COLUMN(J122)-COLUMN($E122)<Comp_V1_Years_Usage_Modeled,_Comp_Include_Charging=\"Yes\"),Comp_Station_Maint_Cost_Modeled*Comp_Num_Stations_Modeled,0)*Data!J$150","v":0},{"$f":"-IF(AND(COLUMN(K122)-COLUMN($E122)<Comp_V1_Years_Usage_Modeled,_Comp_Include_Charging=\"Yes\"),Comp_Station_Maint_Cost_Modeled*Comp_Num_Stations_Modeled,0)*Data!K$150","v":0},{"$f":"-IF(AND(COLUMN(L122)-COLUMN($E122)<Comp_V1_Years_Usage_Modeled,_Comp_Include_Charging=\"Yes\"),Comp_Station_Maint_Cost_Modeled*Comp_Num_Stations_Modeled,0)*Data!L$150","v":0},{"$f":"-IF(AND(COLUMN(M122)-COLUMN($E122)<Comp_V1_Years_Usage_Modeled,_Comp_Include_Charging=\"Yes\"),Comp_Station_Maint_Cost_Modeled*Comp_Num_Stations_Modeled,0)*Data!M$150","v":0},{"$f":"-IF(AND(COLUMN(N122)-COLUMN($E122)<Comp_V1_Years_Usage_Modeled,_Comp_Include_Charging=\"Yes\"),Comp_Station_Maint_Cost_Modeled*Comp_Num_Stations_Modeled,0)*Data!N$150","v":0},{"$f":"-IF(AND(COLUMN(O122)-COLUMN($E122)<Comp_V1_Years_Usage_Modeled,_Comp_Include_Charging=\"Yes\"),Comp_Station_Maint_Cost_Modeled*Comp_Num_Stations_Modeled,0)*Data!O$150","v":0},{"$f":"-IF(AND(COLUMN(P122)-COLUMN($E122)<Comp_V1_Years_Usage_Modeled,_Comp_Include_Charging=\"Yes\"),Comp_Station_Maint_Cost_Modeled*Comp_Num_Stations_Modeled,0)*Data!P$150","v":0},{"$f":"-IF(AND(COLUMN(Q122)-COLUMN($E122)<Comp_V1_Years_Usage_Modeled,_Comp_Include_Charging=\"Yes\"),Comp_Station_Maint_Cost_Modeled*Comp_Num_Stations_Modeled,0)*Data!Q$150","v":0},{"$f":"-IF(AND(COLUMN(R122)-COLUMN($E122)<Comp_V1_Years_Usage_Modeled,_Comp_Include_Charging=\"Yes\"),Comp_Station_Maint_Cost_Modeled*Comp_Num_Stations_Modeled,0)*Data!R$150","v":0},{"$f":"-IF(AND(COLUMN(S122)-COLUMN($E122)<Comp_V1_Years_Usage_Modeled,_Comp_Include_Charging=\"Yes\"),Comp_Station_Maint_Cost_Modeled*Comp_Num_Stations_Modeled,0)*Data!S$150","v":0},{"$f":"-IF(AND(COLUMN(T122)-COLUMN($E122)<Comp_V1_Years_Usage_Modeled,_Comp_Include_Charging=\"Yes\"),Comp_Station_Maint_Cost_Modeled*Comp_Num_Stations_Modeled,0)*Data!T$150","v":0},{"$f":"-IF(AND(COLUMN(U122)-COLUMN($E122)<Comp_V1_Years_Usage_Modeled,_Comp_Include_Charging=\"Yes\"),Comp_Station_Maint_Cost_Modeled*Comp_Num_Stations_Modeled,0)*Data!U$150","v":0},{"$f":"-IF(AND(COLUMN(V122)-COLUMN($E122)<Comp_V1_Years_Usage_Modeled,_Comp_Include_Charging=\"Yes\"),Comp_Station_Maint_Cost_Modeled*Comp_Num_Stations_Modeled,0)*Data!V$150","v":0},{"$f":"-IF(AND(COLUMN(W122)-COLUMN($E122)<Comp_V1_Years_Usage_Modeled,_Comp_Include_Charging=\"Yes\"),Comp_Station_Maint_Cost_Modeled*Comp_Num_Stations_Modeled,0)*Data!W$150","v":0},{"$f":"-IF(AND(COLUMN(X122)-COLUMN($E122)<Comp_V1_Years_Usage_Modeled,_Comp_Include_Charging=\"Yes\"),Comp_Station_Maint_Cost_Modeled*Comp_Num_Stations_Modeled,0)*Data!X$150","v":0},{"$f":"-IF(AND(COLUMN(Y122)-COLUMN($E122)<Comp_V1_Years_Usage_Modeled,_Comp_Include_Charging=\"Yes\"),Comp_Station_Maint_Cost_Modeled*Comp_Num_Stations_Modeled,0)*Data!Y$150","v":0},{"$f":"-IF(AND(COLUMN(Z122)-COLUMN($E122)<Comp_V1_Years_Usage_Modeled,_Comp_Include_Charging=\"Yes\"),Comp_Station_Maint_Cost_Modeled*Comp_Num_Stations_Modeled,0)*Data!Z$150","v":0},{"$f":"-IF(AND(COLUMN(AA122)-COLUMN($E122)<Comp_V1_Years_Usage_Modeled,_Comp_Include_Charging=\"Yes\"),Comp_Station_Maint_Cost_Modeled*Comp_Num_Stations_Modeled,0)*Data!AA$150","v":0},{"$f":"-IF(AND(COLUMN(AB122)-COLUMN($E122)<Comp_V1_Years_Usage_Modeled,_Comp_Include_Charging=\"Yes\"),Comp_Station_Maint_Cost_Modeled*Comp_Num_Stations_Modeled,0)*Data!AB$150","v":0},{"$f":"-IF(AND(COLUMN(AC122)-COLUMN($E122)<Comp_V1_Years_Usage_Modeled,_Comp_Include_Charging=\"Yes\"),Comp_Station_Maint_Cost_Modeled*Comp_Num_Stations_Modeled,0)*Data!AC$150","v":0}]
[null,"Subtotal Operating Costs",null,null,{"$f":"SUM(E134:E134)","v":0},0,0,0,0,0,0,0,0,0,0,0,0,0,0,0,0,0,0,0,0,0,0,0,0]
[null,"Total Discounted Costs"]
[null,"Total Annual Costs",null,{"$f":"D131+D135","v":0},{"$f":"E131+E135","v":0},0,0,0,0,0,0,0,0,0,0,0,0,0,0,0,0,0,0,0,0,0,0,0,0]
[null,"Discount Factor",{"$f":"Comp_Discount_Rate_Modeled","v":0},{"$f":"(1/(1+$C138))^(COLUMN(D122)-COLUMN($D122))","v":1},1,1,1,1,1,1,1,1,1,1,1,1,1,1,1,1,1,1,1,1,1,1,1,1,1]
[null,"Discounted Total",null,{"$f":"D137*D138","v":0},{"$f":"E137*E138","v":0},{"$f":"F137*F138","v":0},0,0,0,0,0,0,0,0,0,0,0,0,0,0,0,0,0,0,0,0,0,0,0]
[null,"Cumulative Discounted Total",null,{"$f":"IF((COLUMN(D122)-COLUMN($D122))<=Comp_V1_Years_Usage_Modeled,C140+D139,0)","v":0},0,0,0,0,0,0,0,0,0,0,0,0,0,0,0,0,0,0,0,0,0,0,0,0,0]
[null,"Annualized NPV Total Cost of Ownership",null,{"$f":"OFFSET($D140,0,Comp_V1_Years_Usage_Modeled)/Comp_V1_Years_Usage_Modeled","v":0}]

{"sheet":"Results Tables","index":6,"n_rows":73,"n_cols":29,"rows_kept":73,"cut":false,"hidden":true,"merged":[]}
["Results Tables - EV Fleet Procurement Analysis Tool"]
[]
[null,"Total Cost per Vehicle"]
[null,null,{"$f":"Base_V1_Type_Ex&\" (Baseline)\"","v":"2017 Chevrolet Cruze ICE (Baseline)"},{"$f":"Comp_V1_Type_Ex&\" (Comparison)\"","v":"2017 Chevrolet Bolt EV BEV (Comparison)"}]
[null,"Depreciation (less tax credits and incentives)",{"$f":"SUM('Financial Model'!D31:AC31)-SUM('Financial Model'!D19:AC19)-SUM('Financial Model'!D27:AC27)","v":-15360.113480146449},{"$f":"SUM('Financial Model'!D101:AC101)-SUM('Financial Model'!D89:AC89)-SUM('Financial Model'!D97:AC97)","v":-19984.998119674805}]
[null,"Financing",{"$f":"SUM('Financial Model'!E19:AC19)+SUM('Financial Model'!E27:AC27)","v":0},{"$f":"SUM('Financial Model'!E89:AC89)+SUM('Financial Model'!E97:AC97)","v":0}]
[null,"Fuel",{"$f":"SUM('Financial Model'!D34:AC34)","v":-6223.4037625622132},{"$f":"SUM('Financial Model'!D104:AC104)","v":-2215.4066486383285}]
[null,"Maintenance and Repairs",{"$f":"SUM('Financial Model'!D35:AC35)","v":-6482.6850793625599},{"$f":"SUM('Financial Model'!D105:AC105)","v":-3241.34253968128}]
[null,"Taxes & Fees",{"$f":"SUM('Financial Model'!D36:AC36)","v":-1074.3428338246404},{"$f":"SUM('Financial Model'!D106:AC106)","v":-1074.3428338246404}]
[null,"Insurance",{"$f":"SUM('Financial Model'!D37:AC37)","v":-4088.8558603552001},{"$f":"SUM('Financial Model'!D107:AC107)","v":-4088.8558603552001}]
[null,"Carbon",{"$f":"SUM('Financial Model'!D41:AC41)","v":0},{"$f":"SUM('Financial Model'!D111:AC111)","v":0}]
[null,"Vehicle Total ",{"$f":"SUM(C5:C11)","v":-33229.40101625106},{"$f":"SUM(D5:D11)","v":-30604.946002174252}]
[null,"Vehicle Total - Check",{"$f":"SUM('Financial Model'!D45:AC45)","v":-33229.401016251068},{"$f":"SUM('Financial Model'!D115:AC115)","v":-30604.94600217426}]
[null,"Infrastructure per Vehicle",{"$f":"SUM('Financial Model'!D67:AC67)/Base_V1_Num_Vehicles_Modeled","v":0},{"$f":"SUM('Financial Model'!D137:AC137)/Comp_V1_Num_Vehicles_Modeled","v":0}]
[null,"Grand Total",{"$f":"C12+C14","v":-33229.40101625106},{"$f":"D12+D14","v":-30604.946002174252}]
[]
[null,"Vehicle Cost per Mile"]
[null,null,{"$f":"C4","v":"2017 Chevrolet Cruze ICE (Baseline)"},{"$f":"D4","v":"2017 Chevrolet Bolt EV BEV (Comparison)"}]
[null,"Depreciation (less tax credits and incentives)",{"$f":"-C5/(Base_V1_VMT_Modeled*Base_V1_Years_Usage_Modeled)","v":0.2194301925735207},{"$f":"-D5/(Comp_V1_VMT_Modeled*Comp_V1_Years_Usage_Modeled)","v":0.28549997313821152}]
[null,"Financing",0,0]
[null,"Fuel",8.890576803660305E-2,3.1648666409118981E-2]
[null,"Maintenance and Repairs",9.2609786848036571E-2,4.6304893424018286E-2]
[null,"Taxes & Fees",1.5347754768923434E-2,1.5347754768923434E-2]
[null,"Insurance",5.8412226576502857E-2,5.8412226576502857E-2]
[null,"Carbon",0,0]
[null,"Vehicle Total ",{"$f":"SUM(C19:C25)","v":0.47470572880358658},{"$f":"SUM(D19:D25)","v":0.43721351431677508}]
[null,"Vehicle Total - Check",{"$f":"-C13/(Base_V1_VMT_Modeled*Base_V1_Years_Usage_Modeled)","v":0.47470572880358669},{"$f":"-D13/(Comp_V1_VMT_Modeled*Comp_V1_Years_Usage_Modeled)","v":0.43721351431677513}]
[null,"Charging Infrastructure",{"$f":"-C14/(Base_V1_VMT_Modeled*Base_V1_Years_Usage_Modeled)","v":0},{"$f":"-D14/(Comp_V1_VMT_Modeled*Comp_V1_Years_Usage_Modeled)","v":0}]
[null,"Grand Total",{"$f":"-C15/(Base_V1_VMT_Modeled*Base_V1_Years_Usage_Modeled)","v":0.47470572880358658},{"$f":"-D15/(Comp_V1_VMT_Modeled*Comp_V1_Years_Usage_Modeled)","v":0.43721351431677502}]
[]
[null,"Gasoline Displaced"]
[null,null,{"$f":"C4","v":"2017 Chevrolet Cruze ICE (Baseline)"},{"$f":"D4","v":"2017 Chevrolet Bolt EV BEV (Comparison)"}]
[null,"Gallons of Gasoline / Year / Vehicle",{"$f":"Base_V1_Gas_Usage_Ex","v":295.83333333333337},{"$f":"Comp_V1_Gas_Usage_Ex","v":0}]
[null,"Number of Years",{"$f":"Base_V1_Years_Usage_Modeled","v":7},{"$f":"Comp_V1_Years_Usage_Modeled","v":7}]
[null,"Number of Vehicles",{"$f":"Base_V1_Num_Vehicles_Modeled","v":19},{"$f":"Comp_V1_Num_Vehicles_Modeled","v":19}]
[null,"Total Gasoline Consumption (Gallons)",{"$f":"C33*C34*C35","v":39345.833333333336},{"$f":"D33*D34*D35","v":0}]
[null,"Gasoline Consumption / Mile (Average)",{"$f":"C33/Base_V1_VMT_Modeled","v":2.9583333333333336E-2},{"$f":"D33/Comp_V1_VMT_Modeled","v":0}]
[]
[null,"Cash Flow Chart"]
[]
[null,{"$f":"Base_V1_Type_Ex&\" (Baseline)\"","v":"2017 Chevrolet Cruze ICE (Baseline)"}]
[null,null,"Year 0","Year 1 ","Year 2","Year 3","Year 4","Year 5","Year 6","Year 7","Year 8","Year 9","Year 10","Year 11","Year 12","Year 13","Year 14","Year 15","Year 16","Year 17","Year 18","Year 19","Year 20","Year 21","Year 22","Year 23","Year 24","Year 25","Totals"]
[null,"Principal (less tax credits and incentives)",{"$f":"('Financial Model'!D31-'Financial Model'!D27-'Financial Model'!D29)*Base_V1_Num_Vehicles_Modeled","v":-346256},{"$f":"('Financial Model'!E31-'Financial Model'!E27-'Financial Model'!E29)*Base_V1_Num_Vehicles_Modeled","v":0},{"$f":"('Financial Model'!F31-'Financial Model'!F27-'Financial Model'!F29)*Base_V1_Num_Vehicles_Modeled","v":0},{"$f":"('Financial Model'!G31-'Financial Model'!G27-'Financial Model'!G29)*Base_V1_Num_Vehicles_Modeled","v":0},{"$f":"('Financial Model'!H31-'Financial Model'!H27-'Financial Model'!H29)*Base_V1_Num_Vehicles_Modeled","v":0},{"$f":"('Financial Model'!I31-'Financial Model'!I27-'Financial Model'!I29)*Base_V1_Num_Vehicles_Modeled","v":0},{"$f":"('Financial Model'!J31-'Financial Model'!J27-'Financial Model'!J29)*Base_V1_Num_Vehicles_Modeled","v":0},{"$f":"('Financial Model'!K31-'Financial Model'!K27-'Financial Model'!K29)*Base_V1_Num_Vehicles_Modeled","v":0},{"$f":"('Financial Model'!L31-'Financial Model'!L27-'Financial Model'!L29)*Base_V1_Num_Vehicles_Modeled","v":0},{"$f":"('Financial Model'!M31-'Financial Model'!M27-'Financial Model'!M29)*Base_V1_Num_Vehicles_Modeled","v":0},{"$f":"('Financial Model'!N31-'Financial Model'!N27-'Financial Model'!N29)*Base_V1_Num_Vehicles_Modeled","v":0},{"$f":"('Financial Model'!O31-'Financial Model'!O27-'Financial Model'!O29)*Base_V1_Num_Vehicles_Modeled","v":0},{"$f":"('Financial Model'!P31-'Financial Model'!P27-'Financial Model'!P29)*Base_V1_Num_Vehicles_Modeled","v":0},{"$f":"('Financial Model'!Q31-'Financial Model'!Q27-'Financial Model'!Q29)*Base_V1_Num_Vehicles_Modeled","v":0},{"$f":"('Financial Model'!R31-'Financial Model'!R27-'Financial Model'!R29)*Base_V1_Num_Vehicles_Modeled","v":0},{"$f":"('Financial Model'!S31-'Financial Model'!S27-'Financial Model'!S29)*Base_V1_Num_Vehicles_Modeled","v":0},{"$f":"('Financial Model'!T31-'Financial Model'!T27-'Financial Model'!T29)*Base_V1_Num_Vehicles_Modeled","v":0},{"$f":"('Financial Model'!U31-'Financial Model'!U27-'Financial Model'!U29)*Base_V1_Num_Vehicles_Modeled","v":0},{"$f":"('Financial Model'!V31-'Financial Model'!V27-'Financial Model'!V29)*Base_V1_Num_Vehicles_Modeled","v":0},{"$f":"('Financial Model'!W31-'Financial Model'!W27-'Financial Model'!W29)*Base_V1_Num_Vehicles_Modeled","v":0},{"$f":"('Financial Model'!X31-'Financial Model'!X27-'Financial Model'!X29)*Base_V1_Num_Vehicles_Modeled","v":0},{"$f":"('Financial Model'!Y31-'Financial Model'!Y27-'Financial Model'!Y29)*Base_V1_Num_Vehicles_Modeled","v":0},{"$f":"('Financial Model'!Z31-'Financial Model'!Z27-'Financial Model'!Z29)*Base_V1_Num_Vehicles_Modeled","v":0},{"$f":"('Financial Model'!AA31-'Financial Model'!AA27-'Financial Model'!AA29)*Base_V1_Num_Vehicles_Modeled","v":0},{"$f":"('Financial Model'!AB31-'Financial Model'!AB27-'Financial Model'!AB29)*Base_V1_Num_Vehicles_Modeled","v":0},{"$f":"('Financial Model'!AC31-'Financial Model'!AC27-'Financial Model'!AC29)*Base_V1_Num_Vehicles_Modeled","v":0},{"$f":"SUM(C43:AB43)","v":-346256}]
[null,"Financing",{"$f":"'Financial Model'!D27*Base_V1_Num_Vehicles_Modeled","v":0},{"$f":"'Financial Model'!E27*Base_V1_Num_Vehicles_Modeled","v":0},{"$f":"'Financial Model'!F27*Base_V1_Num_Vehicles_Modeled","v":0},{"$f":"'Financial Model'!G27*Base_V1_Num_Vehicles_Modeled","v":0},{"$f":"'Financial Model'!H27*Base_V1_Num_Vehicles_Modeled","v":0},{"$f":"'Financial Model'!I27*Base_V1_Num_Vehicles_Modeled","v":0},{"$f":"'Financial Model'!J27*Base_V1_Num_Vehicles_Modeled","v":0},{"$f":"'Financial Model'!K27*Base_V1_Num_Vehicles_Modeled","v":0},{"$f":"'Financial Model'!L27*Base_V1_Num_Vehicles_Modeled","v":0},{"$f":"'Financial Model'!M27*Base_V1_Num_Vehicles_Modeled","v":0},{"$f":"'Financial Model'!N27*Base_V1_Num_Vehicles_Modeled","v":0},{"$f":"'Financial Model'!O27*Base_V1_Num_Vehicles_Modeled","v":0},{"$f":"'Financial Model'!P27*Base_V1_Num_Vehicles_Modeled","v":0},{"$f":"'Financial Model'!Q27*Base_V1_Num_Vehicles_Modeled","v":0},{"$f":"'Financial Model'!R27*Base_V1_Num_Vehicles_Modeled","v":0},{"$f":"'Financial Model'!S27*Base_V1_Num_Vehicles_Modeled","v":0},{"$f":"'Financial Model'!T27*Base_V1_Num_Vehicles_Modeled","v":0},{"$f":"'Financial Model'!U27*Base_V1_Num_Vehicles_Modeled","v":0},{"$f":"'Financial Model'!V27*Base_V1_Num_Vehicles_Modeled","v":0},{"$f":"'Financial Model'!W27*Base_V1_Num_Vehicles_Modeled","v":0},{"$f":"'Financial Model'!X27*Base_V1_Num_Vehicles_Modeled","v":0},{"$f":"'Financial Model'!Y27*Base_V1_Num_Vehicles_Modeled","v":0},{"$f":"'Financial Model'!Z27*Base_V1_Num_Vehicles_Modeled","v":0},{"$f":"'Financial Model'!AA27*Base_V1_Num_Vehicles_Modeled","v":0},{"$f":"'Financial Model'!AB27*Base_V1_Num_Vehicles_Modeled","v":0},{"$f":"'Financial Model'!AC27*Base_V1_Num_Vehicles_Modeled","v":0},{"$f":"SUM(C44:AB44)","v":0}]
[null,"Residual Value (Vehicle Sale)",{"$f":"'Financial Model'!D29*Base_V1_Num_Vehicles_Modeled","v":0},{"$f":"'Financial Model'!E29*Base_V1_Num_Vehicles_Modeled","v":0},{"$f":"'Financial Model'!F29*Base_V1_Num_Vehicles_Modeled","v":0},{"$f":"'Financial Model'!G29*Base_V1_Num_Vehicles_Modeled","v":0},{"$f":"'Financial Model'!H29*Base_V1_Num_Vehicles_Modeled","v":0},{"$f":"'Financial Model'!I29*Base_V1_Num_Vehicles_Modeled","v":0},{"$f":"'Financial Model'!J29*Base_V1_Num_Vehicles_Modeled","v":0},{"$f":"'Financial Model'!K29*Base_V1_Num_Vehicles_Modeled","v":54413.843877217478},{"$f":"'Financial Model'!L29*Base_V1_Num_Vehicles_Modeled","v":0},{"$f":"'Financial Model'!M29*Base_V1_Num_Vehicles_Modeled","v":0},{"$f":"'Financial Model'!N29*Base_V1_Num_Vehicles_Modeled","v":0},{"$f":"'Financial Model'!O29*Base_V1_Num_Vehicles_Modeled","v":0},{"$f":"'Financial Model'!P29*Base_V1_Num_Vehicles_Modeled","v":0},{"$f":"'Financial Model'!Q29*Base_V1_Num_Vehicles_Modeled","v":0},{"$f":"'Financial Model'!R29*Base_V1_Num_Vehicles_Modeled","v":0},{"$f":"'Financial Model'!S29*Base_V1_Num_Vehicles_Modeled","v":0},{"$f":"'Financial Model'!T29*Base_V1_Num_Vehicles_Modeled","v":0},{"$f":"'Financial Model'!U29*Base_V1_Num_Vehicles_Modeled","v":0},{"$f":"'Financial Model'!V29*Base_V1_Num_Vehicles_Modeled","v":0},{"$f":"'Financial Model'!W29*Base_V1_Num_Vehicles_Modeled","v":0},{"$f":"'Financial Model'!X29*Base_V1_Num_Vehicles_Modeled","v":0},{"$f":"'Financial Model'!Y29*Base_V1_Num_Vehicles_Modeled","v":0},{"$f":"'Financial Model'!Z29*Base_V1_Num_Vehicles_Modeled","v":0},{"$f":"'Financial Model'!AA29*Base_V1_Num_Vehicles_Modeled","v":0},{"$f":"'Financial Model'!AB29*Base_V1_Num_Vehicles_Modeled","v":0},{"$f":"'Financial Model'!AC29*Base_V1_Num_Vehicles_Modeled","v":0},54413.843877217478]
[null,"Fuel",{"$f":"'Financial Model'!D34*Base_V1_Num_Vehicles_Modeled","v":0},{"$f":"'Financial Model'!E34*Base_V1_Num_Vehicles_Modeled","v":-13585.554166666667},{"$f":"'Financial Model'!F34*Base_V1_Num_Vehicles_Modeled","v":-14793.275598804823},{"$f":"'Financial Model'!G34*Base_V1_Num_Vehicles_Modeled","v":-15879.929609218587},{"$f":"'Financial Model'!H34*Base_V1_Num_Vehicles_Modeled","v":-17475.475202914346},{"$f":"'Financial Model'!I34*Base_V1_Num_Vehicles_Modeled","v":-18352.680262588525},{"$f":"'Financial Model'!J34*Base_V1_Num_Vehicles_Modeled","v":-18933.923161929015},{"$f":"'Financial Model'!K34*Base_V1_Num_Vehicles_Modeled","v":-19223.833486560092},{"$f":"'Financial Model'!L34*Base_V1_Num_Vehicles_Modeled","v":0},{"$f":"'Financial Model'!M34*Base_V1_Num_Vehicles_Modeled","v":0},{"$f":"'Financial Model'!N34*Base_V1_Num_Vehicles_Modeled","v":0},{"$f":"'Financial Model'!O34*Base_V1_Num_Vehicles_Modeled","v":0},{"$f":"'Financial Model'!P34*Base_V1_Num_Vehicles_Modeled","v":0},{"$f":"'Financial Model'!Q34*Base_V1_Num_Vehicles_Modeled","v":0},{"$f":"'Financial Model'!R34*Base_V1_Num_Vehicles_Modeled","v":0},{"$f":"'Financial Model'!S34*Base_V1_Num_Vehicles_Modeled","v":0},{"$f":"'Financial Model'!T34*Base_V1_Num_Vehicles_Modeled","v":0},{"$f":"'Financial Model'!U34*Base_V1_Num_Vehicles_Modeled","v":0},{"$f":"'Financial Model'!V34*Base_V1_Num_Vehicles_Modeled","v":0},{"$f":"'Financial Model'!W34*Base_V1_Num_Vehicles_Modeled","v":0},{"$f":"'Financial Model'!X34*Base_V1_Num_Vehicles_Modeled","v":0},{"$f":"'Financial Model'!Y34*Base_V1_Num_Vehicles_Modeled","v":0},{"$f":"'Financial Model'!Z34*Base_V1_Num_Vehicles_Modeled","v":0},{"$f":"'Financial Model'!AA34*Base_V1_Num_Vehicles_Modeled","v":0},{"$f":"'Financial Model'!AB34*Base_V1_Num_Vehicles_Modeled","v":0},{"$f":"'Financial Model'!AC34*Base_V1_Num_Vehicles_Modeled","v":0},-118244.67148868204]
[null,"Maintenance and Repairs",{"$f":"'Financial Model'!D35*Base_V1_Num_Vehicles_Modeled","v":0},{"$f":"'Financial Model'!E35*Base_V1_Num_Vehicles_Modeled","v":-15200},{"$f":"'Financial Model'!F35*Base_V1_Num_Vehicles_Modeled","v":-15504},{"$f":"'Financial Model'!G35*Base_V1_Num_Vehicles_Modeled","v":-15814.079999999998},{"$f":"'Financial Model'!H35*Base_V1_Num_Vehicles_Modeled","v":-16130.361599999998},{"$f":"'Financial Model'!I35*Base_V1_Num_Vehicles_Modeled","v":-16452.968832000002},{"$f":"'Financial Model'!J35*Base_V1_Num_Vehicles_Modeled","v":-21816.636671232001},{"$f":"'Financial Model'!K35*Base_V1_Num_Vehicles_Modeled","v":-22252.969404656644},{"$f":"'Financial Model'!L35*Base_V1_Num_Vehicles_Modeled","v":0},{"$f":"'Financial Model'!M35*Base_V1_Num_Vehicles_Modeled","v":0},{"$f":"'Financial Model'!N35*Base_V1_Num_Vehicles_Modeled","v":0},{"$f":"'Financial Model'!O35*Base_V1_Num_Vehicles_Modeled","v":0},{"$f":"'Financial Model'!P35*Base_V1_Num_Vehicles_Modeled","v":0},{"$f":"'Financial Model'!Q35*Base_V1_Num_Vehicles_Modeled","v":0},{"$f":"'Financial Model'!R35*Base_V1_Num_Vehicles_Modeled","v":0},{"$f":"'Financial Model'!S35*Base_V1_Num_Vehicles_Modeled","v":0},{"$f":"'Financial Model'!T35*Base_V1_Num_Vehicles_Modeled","v":0},{"$f":"'Financial Model'!U35*Base_V1_Num_Vehicles_Modeled","v":0},{"$f":"'Financial Model'!V35*Base_V1_Num_Vehicles_Modeled","v":0},{"$f":"'Financial Model'!W35*Base_V1_Num_Vehicles_Modeled","v":0},{"$f":"'Financial Model'!X35*Base_V1_Num_Vehicles_Modeled","v":0},{"$f":"'Financial Model'!Y35*Base_V1_Num_Vehicles_Modeled","v":0},{"$f":"'Financial Model'!Z35*Base_V1_Num_Vehicles_Modeled","v":0},{"$f":"'Financial Model'!AA35*Base_V1_Num_Vehicles_Modeled","v":0},{"$f":"'Financial Model'!AB35*Base_V1_Num_Vehicles_Modeled","v":0},{"$f":"'Financial Model'!AC35*Base_V1_Num_Vehicles_Modeled","v":0},-123171.01650788865]
[null,"Taxes & Fees",{"$f":"'Financial Model'!D36*Base_V1_Num_Vehicles_Modeled","v":-19000},{"$f":"'Financial Model'!E36*Base_V1_Num_Vehicles_Modeled","v":-190},{"$f":"'Financial Model'!F36*Base_V1_Num_Vehicles_Modeled","v":-193.79999999999998},{"$f":"'Financial Model'!G36*Base_V1_Num_Vehicles_Modeled","v":-197.67599999999999},{"$f":"'Financial Model'!H36*Base_V1_Num_Vehicles_Modeled","v":-201.62951999999999},{"$f":"'Financial Model'!I36*Base_V1_Num_Vehicles_Modeled","v":-205.66211039999999},{"$f":"'Financial Model'!J36*Base_V1_Num_Vehicles_Modeled","v":-209.77535260800002},{"$f":"'Financial Model'!K36*Base_V1_Num_Vehicles_Modeled","v":-213.97085966016002},{"$f":"'Financial Model'!L36*Base_V1_Num_Vehicles_Modeled","v":0},{"$f":"'Financial Model'!M36*Base_V1_Num_Vehicles_Modeled","v":0},{"$f":"'Financial Model'!N36*Base_V1_Num_Vehicles_Modeled","v":0},{"$f":"'Financial Model'!O36*Base_V1_Num_Vehicles_Modeled","v":0},{"$f":"'Financial Model'!P36*Base_V1_Num_Vehicles_Modeled","v":0},{"$f":"'Financial Model'!Q36*Base_V1_Num_Vehicles_Modeled","v":0},{"$f":"'Financial Model'!R36*Base_V1_Num_Vehicles_Modeled","v":0},{"$f":"'Financial Model'!S36*Base_V1_Num_Vehicles_Modeled","v":0},{"$f":"'Financial Model'!T36*Base_V1_Num_Vehicles_Modeled","v":0},{"$f":"'Financial Model'!U36*Base_V1_Num_Vehicles_Modeled","v":0},{"$f":"'Financial Model'!V36*Base_V1_Num_Vehicles_Modeled","v":0},{"$f":"'Financial Model'!W36*Base_V1_Num_Vehicles_Modeled","v":0},{"$f":"'Financial Model'!X36*Base_V1_Num_Vehicles_Modeled","v":0},{"$f":"'Financial Model'!Y36*Base_V1_Num_Vehicles_Modeled","v":0},{"$f":"'Financial Model'!Z36*Base_V1_Num_Vehicles_Modeled","v":0},{"$f":"'Financial Model'!AA36*Base_V1_Num_Vehicles_Modeled","v":0},{"$f":"'Financial Model'!AB36*Base_V1_Num_Vehicles_Modeled","v":0},{"$f":"'Financial Model'!AC36*Base_V1_Num_Vehicles_Modeled","v":0},-20412.513842668159]
[null,"Insurance",{"$f":"'Financial Model'!D37*Base_V1_Num_Vehicles_Modeled","v":0},{"$f":"'Financial Model'!E37*Base_V1_Num_Vehicles_Modeled","v":-10450},{"$f":"'Financial Model'!F37*Base_V1_Num_Vehicles_Modeled","v":-10659},{"$f":"'Financial Model'!G37*Base_V1_Num_Vehicles_Modeled","v":-10872.18},{"$f":"'Financial Model'!H37*Base_V1_Num_Vehicles_Modeled","v":-11089.623600000001},{"$f":"'Financial Model'!I37*Base_V1_Num_Vehicles_Modeled","v":-11311.416072},{"$f":"'Financial Model'!J37*Base_V1_Num_Vehicles_Modeled","v":-11537.644393439999},{"$f":"'Financial Model'!K37*Base_V1_Num_Vehicles_Modeled","v":-11768.3972813088},{"$f":"'Financial Model'!L37*Base_V1_Num_Vehicles_Modeled","v":0},{"$f":"'Financial Model'!M37*Base_V1_Num_Vehicles_Modeled","v":0},{"$f":"'Financial Model'!N37*Base_V1_Num_Vehicles_Modeled","v":0},{"$f":"'Financial Model'!O37*Base_V1_Num_Vehicles_Modeled","v":0},{"$f":"'Financial Model'!P37*Base_V1_Num_Vehicles_Modeled","v":0},{"$f":"'Financial Model'!Q37*Base_V1_Num_Vehicles_Modeled","v":0},{"$f":"'Financial Model'!R37*Base_V1_Num_Vehicles_Modeled","v":0},{"$f":"'Financial Model'!S37*Base_V1_Num_Vehicles_Modeled","v":0},{"$f":"'Financial Model'!T37*Base_V1_Num_Vehicles_Modeled","v":0},{"$f":"'Financial Model'!U37*Base_V1_Num_Vehicles_Modeled","v":0},{"$f":"'Financial Model'!V37*Base_V1_Num_Vehicles_Modeled","v":0},{"$f":"'Financial Model'!W37*Base_V1_Num_Vehicles_Modeled","v":0},{"$f":"'Financial Model'!X37*Base_V1_Num_Vehicles_Modeled","v":0},{"$f":"'Financial Model'!Y37*Base_V1_Num_Vehicles_Modeled","v":0},{"$f":"'Financial Model'!Z37*Base_V1_Num_Vehicles_Modeled","v":0},{"$f":"'Financial Model'!AA37*Base_V1_Num_Vehicles_Modeled","v":0},{"$f":"'Financial Model'!AB37*Base_V1_Num_Vehicles_Modeled","v":0},{"$f":"'Financial Model'!AC37*Base_V1_Num_Vehicles_Modeled","v":0},-77688.261346748797]
[null,"Carbon",{"$f":"'Financial Model'!D42*Base_V1_Num_Vehicles_Modeled","v":0},{"$f":"'Financial Model'!E42*Base_V1_Num_Vehicles_Modeled","v":0},{"$f":"'Financial Model'!F42*Base_V1_Num_Vehicles_Modeled","v":0},{"$f":"'Financial Model'!G42*Base_V1_Num_Vehicles_Modeled","v":0},{"$f":"'Financial Model'!H42*Base_V1_Num_Vehicles_Modeled","v":0},{"$f":"'Financial Model'!I42*Base_V1_Num_Vehicles_Modeled","v":0},{"$f":"'Financial Model'!J42*Base_V1_Num_Vehicles_Modeled","v":0},{"$f":"'Financial Model'!K42*Base_V1_Num_Vehicles_Modeled","v":0},{"$f":"'Financial Model'!L42*Base_V1_Num_Vehicles_Modeled","v":0},{"$f":"'Financial Model'!M42*Base_V1_Num_Vehicles_Modeled","v":0},{"$f":"'Financial Model'!N42*Base_V1_Num_Vehicles_Modeled","v":0},{"$f":"'Financial Model'!O42*Base_V1_Num_Vehicles_Modeled","v":0},{"$f":"'Financial Model'!P42*Base_V1_Num_Vehicles_Modeled","v":0},{"$f":"'Financial Model'!Q42*Base_V1_Num_Vehicles_Modeled","v":0},{"$f":"'Financial Model'!R42*Base_V1_Num_Vehicles_Modeled","v":0},{"$f":"'Financial Model'!S42*Base_V1_Num_Vehicles_Modeled","v":0},{"$f":"'Financial Model'!T42*Base_V1_Num_Vehicles_Modeled","v":0},{"$f":"'Financial Model'!U42*Base_V1_Num_Vehicles_Modeled","v":0},{"$f":"'Financial Model'!V42*Base_V1_Num_Vehicles_Modeled","v":0},{"$f":"'Financial Model'!W42*Base_V1_Num_Vehicles_Modeled","v":0},{"$f":"'Financial Model'!X42*Base_V1_Num_Vehicles_Modeled","v":0},{"$f":"'Financial Model'!Y42*Base_V1_Num_Vehicles_Modeled","v":0},{"$f":"'Financial Model'!Z42*Base_V1_Num_Vehicles_Modeled","v":0},{"$f":"'Financial Model'!AA42*Base_V1_Num_Vehicles_Modeled","v":0},{"$f":"'Financial Model'!AB42*Base_V1_Num_Vehicles_Modeled","v":0},{"$f":"'Financial Model'!AC42*Base_V1_Num_Vehicles_Modeled","v":0},0]
[null,"Vehicle Total ",{"$f":"SUM(C43:C50)","v":-365256},-39425.554166666669,-41150.075598804819,-42763.865609218585,-44897.089922914347,-46322.727276988531,-52497.979579209015,954.67284503178234,0,0,0,0,0,0,0,0,0,0,0,0,0,0,0,0,0,0,-631358.61930877017]
[null,"Vehicle Total - Check",{"$f":"'Financial Model'!D45*Base_V1_Num_Vehicles_Modeled","v":-365256},{"$f":"'Financial Model'!E45*Base_V1_Num_Vehicles_Modeled","v":-39425.554166666669},{"$f":"'Financial Model'!F45*Base_V1_Num_Vehicles_Modeled","v":-41150.075598804826},{"$f":"'Financial Model'!G45*Base_V1_Num_Vehicles_Modeled","v":-42763.865609218592},{"$f":"'Financial Model'!H45*Base_V1_Num_Vehicles_Modeled","v":-44897.089922914347},{"$f":"'Financial Model'!I45*Base_V1_Num_Vehicles_Modeled","v":-46322.727276988531},{"$f":"'Financial Model'!J45*Base_V1_Num_Vehicles_Modeled","v":-52497.979579209015},{"$f":"'Financial Model'!K45*Base_V1_Num_Vehicles_Modeled","v":954.67284503178325},{"$f":"'Financial Model'!L45*Base_V1_Num_Vehicles_Modeled","v":0},{"$f":"'Financial Model'!M45*Base_V1_Num_Vehicles_Modeled","v":0},{"$f":"'Financial Model'!N45*Base_V1_Num_Vehicles_Modeled","v":0},{"$f":"'Financial Model'!O45*Base_V1_Num_Vehicles_Modeled","v":0},{"$f":"'Financial Model'!P45*Base_V1_Num_Vehicles_Modeled","v":0},{"$f":"'Financial Model'!Q45*Base_V1_Num_Vehicles_Modeled","v":0},{"$f":"'Financial Model'!R45*Base_V1_Num_Vehicles_Modeled","v":0},{"$f":"'Financial Model'!S45*Base_V1_Num_Vehicles_Modeled","v":0},{"$f":"'Financial Model'!T45*Base_V1_Num_Vehicles_Modeled","v":0},{"$f":"'Financial Model'!U45*Base_V1_Num_Vehicles_Modeled","v":0},{"$f":"'Financial Model'!V45*Base_V1_Num_Vehicles_Modeled","v":0},{"$f":"'Financial Model'!W45*Base_V1_Num_Vehicles_Modeled","v":0},{"$f":"'Financial Model'!X45*Base_V1_Num_Vehicles_Modeled","v":0},{"$f":"'Financial Model'!Y45*Base_V1_Num_Vehicles_Modeled","v":0},{"$f":"'Financial Model'!Z45*Base_V1_Num_Vehicles_Modeled","v":0},{"$f":"'Financial Model'!AA45*Base_V1_Num_Vehicles_Modeled","v":0},{"$f":"'Financial Model'!AB45*Base_V1_Num_Vehicles_Modeled","v":0},{"$f":"'Financial Model'!AC45*Base_V1_Num_Vehicles_Modeled","v":0},-631358.61930877017]
[null,"Charging Infrastructure",{"$f":"'Financial Model'!D67","v":0},{"$f":"'Financial Model'!E67","v":0},{"$f":"'Financial Model'!F67","v":0},{"$f":"'Financial Model'!G67","v":0},{"$f":"'Financial Model'!H67","v":0},{"$f":"'Financial Model'!I67","v":0},{"$f":"'Financial Model'!J67","v":0},{"$f":"'Financial Model'!K67","v":0},{"$f":"'Financial Model'!L67","v":0},{"$f":"'Financial Model'!M67","v":0},{"$f":"'Financial Model'!N67","v":0},{"$f":"'Financial Model'!O67","v":0},{"$f":"'Financial Model'!P67","v":0},{"$f":"'Financial Model'!Q67","v":0},{"$f":"'Financial Model'!R67","v":0},{"$f":"'Financial Model'!S67","v":0},{"$f":"'Financial Model'!T67","v":0},{"$f":"'Financial Model'!U67","v":0},{"$f":"'Financial Model'!V67","v":0},{"$f":"'Financial Model'!W67","v":0},{"$f":"'Financial Model'!X67","v":0},{"$f":"'Financial Model'!Y67","v":0},{"$f":"'Financial Model'!Z67","v":0},{"$f":"'Financial Model'!AA67","v":0},{"$f":"'Financial Model'!AB67","v":0},{"$f":"'Financial Model'!AC67","v":0},0]
[null,"Grand Total",{"$f":"C51+C53","v":-365256},{"$f":"D51+D53","v":-39425.554166666669},-41150.075598804819,-42763.865609218585,-44897.089922914347,-46322.727276988531,-52497.979579209015,954.67284503178234,0,0,0,0,0,0,0,0,0,0,0,0,0,0,0,0,0,0,-631358.61930877017]
[null,"Discount Factor",{"$f":"'Financial Model'!D46","v":1},{"$f":"'Financial Model'!E46","v":1},{"$f":"'Financial Model'!F46","v":1},{"$f":"'Financial Model'!G46","v":1},{"$f":"'Financial Model'!H46","v":1},{"$f":"'Financial Model'!I46","v":1},{"$f":"'Financial Model'!J46","v":1},{"$f":"'Financial Model'!K46","v":1},{"$f":"'Financial Model'!L46","v":1},{"$f":"'Financial Model'!M46","v":1},{"$f":"'Financial Model'!N46","v":1},{"$f":"'Financial Model'!O46","v":1},{"$f":"'Financial Model'!P46","v":1},{"$f":"'Financial Model'!Q46","v":1},{"$f":"'Financial Model'!R46","v":1},{"$f":"'Financial Model'!S46","v":1},{"$f":"'Financial Model'!T46","v":1},{"$f":"'Financial Model'!U46","v":1},{"$f":"'Financial Model'!V46","v":1},{"$f":"'Financial Model'!W46","v":1},{"$f":"'Financial Model'!X46","v":1},{"$f":"'Financial Model'!Y46","v":1},{"$f":"'Financial Model'!Z46","v":1},{"$f":"'Financial Model'!AA46","v":1},{"$f":"'Financial Model'!AB46","v":1},{"$f":"'Financial Model'!AC46","v":1}]
[null,"NPV Total",{"$f":"C54*C55","v":-365256},{"$f":"D54*D55","v":-39425.554166666669},-41150.075598804819,-42763.865609218585,-44897.089922914347,-46322.727276988531,-52497.979579209015,954.67284503178234,0,0,0,0,0,0,0,0,0,0,0,0,0,0,0,0,0,0,-631358.61930877017]
[]
[null,{"$f":"Comp_V1_Type_Ex&\" (Comparison)\"","v":"2017 Chevrolet Bolt EV BEV (Comparison)"}]
[null,null,"Year 0","Year 1 ","Year 2","Year 3","Year 4","Year 5","Year 6","Year 7","Year 8","Year 9","Year 10","Year 11","Year 12","Year 13","Year 14","Year 15","Year 16","Year 17","Year 18","Year 19","Year 20","Year 21","Year 22","Year 23","Year 24","Year 25","Totals"]
[null,"Principal (less tax credits and incentives)",{"$f":"('Financial Model'!D101-'Financial Model'!D97-'Financial Model'!D99)*Comp_V1_Num_Vehicles_Modeled","v":-494494},{"$f":"('Financial Model'!E101-'Financial Model'!E97-'Financial Model'!E99)*Comp_V1_Num_Vehicles_Modeled","v":0},{"$f":"('Financial Model'!F101-'Financial Model'!F97-'Financial Model'!F99)*Comp_V1_Num_Vehicles_Modeled","v":0},{"$f":"('Financial Model'!G101-'Financial Model'!G97-'Financial Model'!G99)*Comp_V1_Num_Vehicles_Modeled","v":0},{"$f":"('Financial Model'!H101-'Financial Model'!H97-'Financial Model'!H99)*Comp_V1_Num_Vehicles_Modeled","v":0},{"$f":"('Financial Model'!I101-'Financial Model'!I97-'Financial Model'!I99)*Comp_V1_Num_Vehicles_Modeled","v":0},{"$f":"('Financial Model'!J101-'Financial Model'!J97-'Financial Model'!J99)*Comp_V1_Num_Vehicles_Modeled","v":0},{"$f":"('Financial Model'!K101-'Financial Model'!K97-'Financial Model'!K99)*Comp_V1_Num_Vehicles_Modeled","v":0},{"$f":"('Financial Model'!L101-'Financial Model'!L97-'Financial Model'!L99)*Comp_V1_Num_Vehicles_Modeled","v":0},{"$f":"('Financial Model'!M101-'Financial Model'!M97-'Financial Model'!M99)*Comp_V1_Num_Vehicles_Modeled","v":0},{"$f":"('Financial Model'!N101-'Financial Model'!N97-'Financial Model'!N99)*Comp_V1_Num_Vehicles_Modeled","v":0},{"$f":"('Financial Model'!O101-'Financial Model'!O97-'Financial Model'!O99)*Comp_V1_Num_Vehicles_Modeled","v":0},{"$f":"('Financial Model'!P101-'Financial Model'!P97-'Financial Model'!P99)*Comp_V1_Num_Vehicles_Modeled","v":0},{"$f":"('Financial Model'!Q101-'Financial Model'!Q97-'Financial Model'!Q99)*Comp_V1_Num_Vehicles_Modeled","v":0},{"$f":"('Financial Model'!R101-'Financial Model'!R97-'Financial Model'!R99)*Comp_V1_Num_Vehicles_Modeled","v":0},{"$f":"('Financial Model'!S101-'Financial Model'!S97-'Financial Model'!S99)*Comp_V1_Num_Vehicles_Modeled","v":0},{"$f":"('Financial Model'!T101-'Financial Model'!T97-'Financial Model'!T99)*Comp_V1_Num_Vehicles_Modeled","v":0},{"$f":"('Financial Model'!U101-'Financial Model'!U97-'Financial Model'!U99)*Comp_V1_Num_Vehicles_Modeled","v":0},{"$f":"('Financial Model'!V101-'Financial Model'!V97-'Financial Model'!V99)*Comp_V1_Num_Vehicles_Modeled","v":0},{"$f":"('Financial Model'!W101-'Financial Model'!W97-'Financial Model'!W99)*Comp_V1_Num_Vehicles_Modeled","v":0},{"$f":"('Financial Model'!X101-'Financial Model'!X97-'Financial Model'!X99)*Comp_V1_Num_Vehicles_Modeled","v":0},{"$f":"('Financial Model'!Y101-'Financial Model'!Y97-'Financial Model'!Y99)*Comp_V1_Num_Vehicles_Modeled","v":0},{"$f":"('Financial Model'!Z101-'Financial Model'!Z97-'Financial Model'!Z99)*Comp_V1_Num_Vehicles_Modeled","v":0},{"$f":"('Financial Model'!AA101-'Financial Model'!AA97-'Financial Model'!AA99)*Comp_V1_Num_Vehicles_Modeled","v":0},{"$f":"('Financial Model'!AB101-'Financial Model'!AB97-'Financial Model'!AB99)*Comp_V1_Num_Vehicles_Modeled","v":0},{"$f":"('Financial Model'!AC101-'Financial Model'!AC97-'Financial Model'!AC99)*Comp_V1_Num_Vehicles_Modeled","v":0},{"$f":"SUM(C60:AB60)","v":-494494}]
[null,"Financing",{"$f":"'Financial Model'!D97*Comp_V1_Num_Vehicles_Modeled","v":0},{"$f":"'Financial Model'!E97*Comp_V1_Num_Vehicles_Modeled","v":0},{"$f":"'Financial Model'!F97*Comp_V1_Num_Vehicles_Modeled","v":0},{"$f":"'Financial Model'!G97*Comp_V1_Num_Vehicles_Modeled","v":0},{"$f":"'Financial Model'!H97*Comp_V1_Num_Vehicles_Modeled","v":0},{"$f":"'Financial Model'!I97*Comp_V1_Num_Vehicles_Modeled","v":0},{"$f":"'Financial Model'!J97*Comp_V1_Num_Vehicles_Modeled","v":0},{"$f":"'Financial Model'!K97*Comp_V1_Num_Vehicles_Modeled","v":0},{"$f":"'Financial Model'!L97*Comp_V1_Num_Vehicles_Modeled","v":0},{"$f":"'Financial Model'!M97*Comp_V1_Num_Vehicles_Modeled","v":0},{"$f":"'Financial Model'!N97*Comp_V1_Num_Vehicles_Modeled","v":0},{"$f":"'Financial Model'!O97*Comp_V1_Num_Vehicles_Modeled","v":0},{"$f":"'Financial Model'!P97*Comp_V1_Num_Vehicles_Modeled","v":0},{"$f":"'Financial Model'!Q97*Comp_V1_Num_Vehicles_Modeled","v":0},{"$f":"'Financial Model'!R97*Comp_V1_Num_Vehicles_Modeled","v":0},{"$f":"'Financial Model'!S97*Comp_V1_Num_Vehicles_Modeled","v":0},{"$f":"'Financial Model'!T97*Comp_V1_Num_Vehicles_Modeled","v":0},{"$f":"'Financial Model'!U97*Comp_V1_Num_Vehicles_Modeled","v":0},{"$f":"'Financial Model'!V97*Comp_V1_Num_Vehicles_Modeled","v":0},{"$f":"'Financial Model'!W97*Comp_V1_Num_Vehicles_Modeled","v":0},{"$f":"'Financial Model'!X97*Comp_V1_Num_Vehicles_Modeled","v":0},{"$f":"'Financial Model'!Y97*Comp_V1_Num_Vehicles_Modeled","v":0},{"$f":"'Financial Model'!Z97*Comp_V1_Num_Vehicles_Modeled","v":0},{"$f":"'Financial Model'!AA97*Comp_V1_Num_Vehicles_Modeled","v":0},{"$f":"'Financial Model'!AB97*Comp_V1_Num_Vehicles_Modeled","v":0},{"$f":"'Financial Model'!AC97*Comp_V1_Num_Vehicles_Modeled","v":0},{"$f":"SUM(C61:AB61)","v":0}]
[null,"Residual Value (Vehicle Sale)",{"$f":"'Financial Model'!D99*Comp_V1_Num_Vehicles_Modeled","v":0},{"$f":"'Financial Model'!E99*Comp_V1_Num_Vehicles_Modeled","v":0},{"$f":"'Financial Model'!F99*Comp_V1_Num_Vehicles_Modeled","v":0},{"$f":"'Financial Model'!G99*Comp_V1_Num_Vehicles_Modeled","v":0},{"$f":"'Financial Model'!H99*Comp_V1_Num_Vehicles_Modeled","v":0},{"$f":"'Financial Model'!I99*Comp_V1_Num_Vehicles_Modeled","v":0},{"$f":"'Financial Model'!J99*Comp_V1_Num_Vehicles_Modeled","v":0},{"$f":"'Financial Model'!K99*Comp_V1_Num_Vehicles_Modeled","v":114779.03572617867},{"$f":"'Financial Model'!L99*Comp_V1_Num_Vehicles_Modeled","v":0},{"$f":"'Financial Model'!M99*Comp_V1_Num_Vehicles_Modeled","v":0},{"$f":"'Financial Model'!N99*Comp_V1_Num_Vehicles_Modeled","v":0},{"$f":"'Financial Model'!O99*Comp_V1_Num_Vehicles_Modeled","v":0},{"$f":"'Financial Model'!P99*Comp_V1_Num_Vehicles_Modeled","v":0},{"$f":"'Financial Model'!Q99*Comp_V1_Num_Vehicles_Modeled","v":0},{"$f":"'Financial Model'!R99*Comp_V1_Num_Vehicles_Modeled","v":0},{"$f":"'Financial Model'!S99*Comp_V1_Num_Vehicles_Modeled","v":0},{"$f":"'Financial Model'!T99*Comp_V1_Num_Vehicles_Modeled","v":0},{"$f":"'Financial Model'!U99*Comp_V1_Num_Vehicles_Modeled","v":0},{"$f":"'Financial Model'!V99*Comp_V1_Num_Vehicles_Modeled","v":0},{"$f":"'Financial Model'!W99*Comp_V1_Num_Vehicles_Modeled","v":0},{"$f":"'Financial Model'!X99*Comp_V1_Num_Vehicles_Modeled","v":0},{"$f":"'Financial Model'!Y99*Comp_V1_Num_Vehicles_Modeled","v":0},{"$f":"'Financial Model'!Z99*Comp_V1_Num_Vehicles_Modeled","v":0},{"$f":"'Financial Model'!AA99*Comp_V1_Num_Vehicles_Modeled","v":0},{"$f":"'Financial Model'!AB99*Comp_V1_Num_Vehicles_Modeled","v":0},{"$f":"'Financial Model'!AC99*Comp_V1_Num_Vehicles_Modeled","v":0},114779.03572617867]
[null,"Fuel",{"$f":"'Financial Model'!D104*Comp_V1_Num_Vehicles_Modeled","v":0},{"$f":"'Financial Model'!E104*Comp_V1_Num_Vehicles_Modeled","v":-5628.4916647727277},{"$f":"'Financial Model'!F104*Comp_V1_Num_Vehicles_Modeled","v":-5571.7925486352469},{"$f":"'Financial Model'!G104*Comp_V1_Num_Vehicles_Modeled","v":-5778.6509747693353},{"$f":"'Financial Model'!H104*Comp_V1_Num_Vehicles_Modeled","v":-6087.5796582279763},{"$f":"'Financial Model'!I104*Comp_V1_Num_Vehicles_Modeled","v":-6238.1396519720574},{"$f":"'Financial Model'!J104*Comp_V1_Num_Vehicles_Modeled","v":-6360.5650979152906},{"$f":"'Financial Model'!K104*Comp_V1_Num_Vehicles_Modeled","v":-6427.5067278356064},{"$f":"'Financial Model'!L104*Comp_V1_Num_Vehicles_Modeled","v":0},{"$f":"'Financial Model'!M104*Comp_V1_Num_Vehicles_Modeled","v":0},{"$f":"'Financial Model'!N104*Comp_V1_Num_Vehicles_Modeled","v":0},{"$f":"'Financial Model'!O104*Comp_V1_Num_Vehicles_Modeled","v":0},{"$f":"'Financial Model'!P104*Comp_V1_Num_Vehicles_Modeled","v":0},{"$f":"'Financial Model'!Q104*Comp_V1_Num_Vehicles_Modeled","v":0},{"$f":"'Financial Model'!R104*Comp_V1_Num_Vehicles_Modeled","v":0},{"$f":"'Financial Model'!S104*Comp_V1_Num_Vehicles_Modeled","v":0},{"$f":"'Financial Model'!T104*Comp_V1_Num_Vehicles_Modeled","v":0},{"$f":"'Financial Model'!U104*Comp_V1_Num_Vehicles_Modeled","v":0},{"$f":"'Financial Model'!V104*Comp_V1_Num_Vehicles_Modeled","v":0},{"$f":"'Financial Model'!W104*Comp_V1_Num_Vehicles_Modeled","v":0},{"$f":"'Financial Model'!X104*Comp_V1_Num_Vehicles_Modeled","v":0},{"$f":"'Financial Model'!Y104*Comp_V1_Num_Vehicles_Modeled","v":0},{"$f":"'Financial Model'!Z104*Comp_V1_Num_Vehicles_Modeled","v":0},{"$f":"'Financial Model'!AA104*Comp_V1_Num_Vehicles_Modeled","v":0},{"$f":"'Financial Model'!AB104*Comp_V1_Num_Vehicles_Modeled","v":0},{"$f":"'Financial Model'!AC104*Comp_V1_Num_Vehicles_Modeled","v":0},-42092.726324128242]
[null,"Maintenance and Repairs",{"$f":"'Financial Model'!D105*Comp_V1_Num_Vehicles_Modeled","v":0},{"$f":"'Financial Model'!E105*Comp_V1_Num_Vehicles_Modeled","v":-7600},{"$f":"'Financial Model'!F105*Comp_V1_Num_Vehicles_Modeled","v":-7752},{"$f":"'Financial Model'!G105*Comp_V1_Num_Vehicles_Modeled","v":-7907.0399999999991},{"$f":"'Financial Model'!H105*Comp_V1_Num_Vehicles_Modeled","v":-8065.1807999999992},{"$f":"'Financial Model'!I105*Comp_V1_Num_Vehicles_Modeled","v":-8226.4844160000011},{"$f":"'Financial Model'!J105*Comp_V1_Num_Vehicles_Modeled","v":-10908.318335616001},{"$f":"'Financial Model'!K105*Comp_V1_Num_Vehicles_Modeled","v":-11126.484702328322},{"$f":"'Financial Model'!L105*Comp_V1_Num_Vehicles_Modeled","v":0},{"$f":"'Financial Model'!M105*Comp_V1_Num_Vehicles_Modeled","v":0},{"$f":"'Financial Model'!N105*Comp_V1_Num_Vehicles_Modeled","v":0},{"$f":"'Financial Model'!O105*Comp_V1_Num_Vehicles_Modeled","v":0},{"$f":"'Financial Model'!P105*Comp_V1_Num_Vehicles_Modeled","v":0},{"$f":"'Financial Model'!Q105*Comp_V1_Num_Vehicles_Modeled","v":0},{"$f":"'Financial Model'!R105*Comp_V1_Num_Vehicles_Modeled","v":0},{"$f":"'Financial Model'!S105*Comp_V1_Num_Vehicles_Modeled","v":0},{"$f":"'Financial Model'!T105*Comp_V1_Num_Vehicles_Modeled","v":0},{"$f":"'Financial Model'!U105*Comp_V1_Num_Vehicles_Modeled","v":0},{"$f":"'Financial Model'!V105*Comp_V1_Num_Vehicles_Modeled","v":0},{"$f":"'Financial Model'!W105*Comp_V1_Num_Vehicles_Modeled","v":0},{"$f":"'Financial Model'!X105*Comp_V1_Num_Vehicles_Modeled","v":0},{"$f":"'Financial Model'!Y105*Comp_V1_Num_Vehicles_Modeled","v":0},{"$f":"'Financial Model'!Z105*Comp_V1_Num_Vehicles_Modeled","v":0},{"$f":"'Financial Model'!AA105*Comp_V1_Num_Vehicles_Modeled","v":0},{"$f":"'Financial Model'!AB105*Comp_V1_Num_Vehicles_Modeled","v":0},{"$f":"'Financial Model'!AC105*Comp_V1_Num_Vehicles_Modeled","v":0},-61585.508253944325]
[null,"Taxes & Fees",{"$f":"'Financial Model'!D106*Comp_V1_Num_Vehicles_Modeled","v":-19000},{"$f":"'Financial Model'!E106*Comp_V1_Num_Vehicles_Modeled","v":-190},{"$f":"'Financial Model'!F106*Comp_V1_Num_Vehicles_Modeled","v":-193.79999999999998},{"$f":"'Financial Model'!G106*Comp_V1_Num_Vehicles_Modeled","v":-197.67599999999999},{"$f":"'Financial Model'!H106*Comp_V1_Num_Vehicles_Modeled","v":-201.62951999999999},{"$f":"'Financial Model'!I106*Comp_V1_Num_Vehicles_Modeled","v":-205.66211039999999},{"$f":"'Financial Model'!J106*Comp_V1_Num_Vehicles_Modeled","v":-209.77535260800002},{"$f":"'Financial Model'!K106*Comp_V1_Num_Vehicles_Modeled","v":-213.97085966016002},{"$f":"'Financial Model'!L106*Comp_V1_Num_Vehicles_Modeled","v":0},{"$f":"'Financial Model'!M106*Comp_V1_Num_Vehicles_Modeled","v":0},{"$f":"'Financial Model'!N106*Comp_V1_Num_Vehicles_Modeled","v":0},{"$f":"'Financial Model'!O106*Comp_V1_Num_Vehicles_Modeled","v":0},{"$f":"'Financial Model'!P106*Comp_V1_Num_Vehicles_Modeled","v":0},{"$f":"'Financial Model'!Q106*Comp_V1_Num_Vehicles_Modeled","v":0},{"$f":"'Financial Model'!R106*Comp_V1_Num_Vehicles_Modeled","v":0},{"$f":"'Financial Model'!S106*Comp_V1_Num_Vehicles_Modeled","v":0},{"$f":"'Financial Model'!T106*Comp_V1_Num_Vehicles_Modeled","v":0},{"$f":"'Financial Model'!U106*Comp_V1_Num_Vehicles_Modeled","v":0},{"$f":"'Financial Model'!V106*Comp_V1_Num_Vehicles_Modeled","v":0},{"$f":"'Financial Model'!W106*Comp_V1_Num_Vehicles_Modeled","v":0},{"$f":"'Financial Model'!X106*Comp_V1_Num_Vehicles_Modeled","v":0},{"$f":"'Financial Model'!Y106*Comp_V1_Num_Vehicles_Modeled","v":0},{"$f":"'Financial Model'!Z106*Comp_V1_Num_Vehicles_Modeled","v":0},{"$f":"'Financial Model'!AA106*Comp_V1_Num_Vehicles_Modeled","v":0},{"$f":"'Financial Model'!AB106*Comp_V1_Num_Vehicles_Modeled","v":0},{"$f":"'Financial Model'!AC106*Comp_V1_Num_Vehicles_Modeled","v":0},-20412.513842668159]
[null,"Insurance",{"$f":"'Financial Model'!D107*Comp_V1_Num_Vehicles_Modeled","v":0},{"$f":"'Financial Model'!E107*Comp_V1_Num_Vehicles_Modeled","v":-10450},{"$f":"'Financial Model'!F107*Comp_V1_Num_Vehicles_Modeled","v":-10659},{"$f":"'Financial Model'!G107*Comp_V1_Num_Vehicles_Modeled","v":-10872.18},{"$f":"'Financial Model'!H107*Comp_V1_Num_Vehicles_Modeled","v":-11089.623600000001},{"$f":"'Financial Model'!I107*Comp_V1_Num_Vehicles_Modeled","v":-11311.416072},{"$f":"'Financial Model'!J107*Comp_V1_Num_Vehicles_Modeled","v":-11537.644393439999},{"$f":"'Financial Model'!K107*Comp_V1_Num_Vehicles_Modeled","v":-11768.3972813088},{"$f":"'Financial Model'!L107*Comp_V1_Num_Vehicles_Modeled","v":0},{"$f":"'Financial Model'!M107*Comp_V1_Num_Vehicles_Modeled","v":0},{"$f":"'Financial Model'!N107*Comp_V1_Num_Vehicles_Modeled","v":0},{"$f":"'Financial Model'!O107*Comp_V1_Num_Vehicles_Modeled","v":0},{"$f":"'Financial Model'!P107*Comp_V1_Num_Vehicles_Modeled","v":0},{"$f":"'Financial Model'!Q107*Comp_V1_Num_Vehicles_Modeled","v":0},{"$f":"'Financial Model'!R107*Comp_V1_Num_Vehicles_Modeled","v":0},{"$f":"'Financial Model'!S107*Comp_V1_Num_Vehicles_Modeled","v":0},{"$f":"'Financial Model'!T107*Comp_V1_Num_Vehicles_Modeled","v":0},{"$f":"'Financial Model'!U107*Comp_V1_Num_Vehicles_Modeled","v":0},{"$f":"'Financial Model'!V107*Comp_V1_Num_Vehicles_Modeled","v":0},{"$f":"'Financial Model'!W107*Comp_V1_Num_Vehicles_Modeled","v":0},{"$f":"'Financial Model'!X107*Comp_V1_Num_Vehicles_Modeled","v":0},{"$f":"'Financial Model'!Y107*Comp_V1_Num_Vehicles_Modeled","v":0},{"$f":"'Financial Model'!Z107*Comp_V1_Num_Vehicles_Modeled","v":0},{"$f":"'Financial Model'!AA107*Comp_V1_Num_Vehicles_Modeled","v":0},{"$f":"'Financial Model'!AB107*Comp_V1_Num_Vehicles_Modeled","v":0},{"$f":"'Financial Model'!AC107*Comp_V1_Num_Vehicles_Modeled","v":0},-77688.261346748797]
[null,"Carbon",{"$f":"'Financial Model'!D112*Comp_V1_Num_Vehicles_Modeled","v":0},{"$f":"'Financial Model'!E112*Comp_V1_Num_Vehicles_Modeled","v":0},{"$f":"'Financial Model'!F112*Comp_V1_Num_Vehicles_Modeled","v":0},{"$f":"'Financial Model'!G112*Comp_V1_Num_Vehicles_Modeled","v":0},{"$f":"'Financial Model'!H112*Comp_V1_Num_Vehicles_Modeled","v":0},{"$f":"'Financial Model'!I112*Comp_V1_Num_Vehicles_Modeled","v":0},{"$f":"'Financial Model'!J112*Comp_V1_Num_Vehicles_Modeled","v":0},{"$f":"'Financial Model'!K112*Comp_V1_Num_Vehicles_Modeled","v":0},{"$f":"'Financial Model'!L112*Comp_V1_Num_Vehicles_Modeled","v":0},{"$f":"'Financial Model'!M112*Comp_V1_Num_Vehicles_Modeled","v":0},{"$f":"'Financial Model'!N112*Comp_V1_Num_Vehicles_Modeled","v":0},{"$f":"'Financial Model'!O112*Comp_V1_Num_Vehicles_Modeled","v":0},{"$f":"'Financial Model'!P112*Comp_V1_Num_Vehicles_Modeled","v":0},{"$f":"'Financial Model'!Q112*Comp_V1_Num_Vehicles_Modeled","v":0},{"$f":"'Financial Model'!R112*Comp_V1_Num_Vehicles_Modeled","v":0},{"$f":"'Financial Model'!S112*Comp_V1_Num_Vehicles_Modeled","v":0},{"$f":"'Financial Model'!T112*Comp_V1_Num_Vehicles_Modeled","v":0},{"$f":"'Financial Model'!U112*Comp_V1_Num_Vehicles_Modeled","v":0},{"$f":"'Financial Model'!V112*Comp_V1_Num_Vehicles_Modeled","v":0},{"$f":"'Financial Model'!W112*Comp_V1_Num_Vehicles_Modeled","v":0},{"$f":"'Financial Model'!X112*Comp_V1_Num_Vehicles_Modeled","v":0},{"$f":"'Financial Model'!Y112*Comp_V1_Num_Vehicles_Modeled","v":0},{"$f":"'Financial Model'!Z112*Comp_V1_Num_Vehicles_Modeled","v":0},{"$f":"'Financial Model'!AA112*Comp_V1_Num_Vehicles_Modeled","v":0},{"$f":"'Financial Model'!AB112*Comp_V1_Num_Vehicles_Modeled","v":0},{"$f":"'Financial Model'!AC112*Comp_V1_Num_Vehicles_Modeled","v":0},0]
[null,"Vehicle Total ",{"$f":"SUM(C60:C67)","v":-513494},-23868.49166477273,-24176.592548635246,-24755.546974769335,-25444.013578227976,-25981.702250372058,-29016.303179579292,85242.676155045789,0,0,0,0,0,0,0,0,0,0,0,0,0,0,0,0,0,0,-581493.97404131084]
[null,"Vehicle Total - Check",{"$f":"'Financial Model'!D115*Comp_V1_Num_Vehicles_Modeled","v":-513494},{"$f":"'Financial Model'!E115*Comp_V1_Num_Vehicles_Modeled","v":-23868.49166477273},{"$f":"'Financial Model'!F115*Comp_V1_Num_Vehicles_Modeled","v":-24176.59254863525},{"$f":"'Financial Model'!G115*Comp_V1_Num_Vehicles_Modeled","v":-24755.546974769335},{"$f":"'Financial Model'!H115*Comp_V1_Num_Vehicles_Modeled","v":-25444.013578227976},{"$f":"'Financial Model'!I115*Comp_V1_Num_Vehicles_Modeled","v":-25981.702250372058},{"$f":"'Financial Model'!J115*Comp_V1_Num_Vehicles_Modeled","v":-29016.303179579292},{"$f":"'Financial Model'!K115*Comp_V1_Num_Vehicles_Modeled","v":85242.676155045789},{"$f":"'Financial Model'!L115*Comp_V1_Num_Vehicles_Modeled","v":0},{"$f":"'Financial Model'!M115*Comp_V1_Num_Vehicles_Modeled","v":0},{"$f":"'Financial Model'!N115*Comp_V1_Num_Vehicles_Modeled","v":0},{"$f":"'Financial Model'!O115*Comp_V1_Num_Vehicles_Modeled","v":0},{"$f":"'Financial Model'!P115*Comp_V1_Num_Vehicles_Modeled","v":0},{"$f":"'Financial Model'!Q115*Comp_V1_Num_Vehicles_Modeled","v":0},{"$f":"'Financial Model'!R115*Comp_V1_Num_Vehicles_Modeled","v":0},{"$f":"'Financial Model'!S115*Comp_V1_Num_Vehicles_Modeled","v":0},{"$f":"'Financial Model'!T115*Comp_V1_Num_Vehicles_Modeled","v":0},{"$f":"'Financial Model'!U115*Comp_V1_Num_Vehicles_Modeled","v":0},{"$f":"'Financial Model'!V115*Comp_V1_Num_Vehicles_Modeled","v":0},{"$f":"'Financial Model'!W115*Comp_V1_Num_Vehicles_Modeled","v":0},{"$f":"'Financial Model'!X115*Comp_V1_Num_Vehicles_Modeled","v":0},{"$f":"'Financial Model'!Y115*Comp_V1_Num_Vehicles_Modeled","v":0},{"$f":"'Financial Model'!Z115*Comp_V1_Num_Vehicles_Modeled","v":0},{"$f":"'Financial Model'!AA115*Comp_V1_Num_Vehicles_Modeled","v":0},{"$f":"'Financial Model'!AB115*Comp_V1_Num_Vehicles_Modeled","v":0},{"$f":"'Financial Model'!AC115*Comp_V1_Num_Vehicles_Modeled","v":0},-581493.97404131084]
[null,"Charging Infrastructure",{"$f":"'Financial Model'!D137","v":0},{"$f":"'Financial Model'!E137","v":0},{"$f":"'Financial Model'!F137","v":0},{"$f":"'Financial Model'!G137","v":0},{"$f":"'Financial Model'!H137","v":0},{"$f":"'Financial Model'!I137","v":0},{"$f":"'Financial Model'!J137","v":0},{"$f":"'Financial Model'!K137","v":0},{"$f":"'Financial Model'!L137","v":0},{"$f":"'Financial Model'!M137","v":0},{"$f":"'Financial Model'!N137","v":0},{"$f":"'Financial Model'!O137","v":0},{"$f":"'Financial Model'!P137","v":0},{"$f":"'Financial Model'!Q137","v":0},{"$f":"'Financial Model'!R137","v":0},{"$f":"'Financial Model'!S137","v":0},{"$f":"'Financial Model'!T137","v":0},{"$f":"'Financial Model'!U137","v":0},{"$f":"'Financial Model'!V137","v":0},{"$f":"'Financial Model'!W137","v":0},{"$f":"'Financial Model'!X137","v":0},{"$f":"'Financial Model'!Y137","v":0},{"$f":"'Financial Model'!Z137","v":0},{"$f":"'Financial Model'!AA137","v":0},{"$f":"'Financial Model'!AB137","v":0},{"$f":"'Financial Model'!AC137","v":0},0]
[null,"Grand Total",{"$f":"C68+C70","v":-513494},-23868.49166477273,-24176.592548635246,-24755.546974769335,-25444.013578227976,-25981.702250372058,-29016.303179579292,85242.676155045789,0,0,0,0,0,0,0,0,0,0,0,0,0,0,0,0,0,0,-581493.97404131084]
[null,"Discount Factor",{"$f":"'Financial Model'!D116","v":1},{"$f":"'Financial Model'!E116","v":1},{"$f":"'Financial Model'!F116","v":1},{"$f":"'Financial Model'!G116","v":1},{"$f":"'Financial Model'!H116","v":1},{"$f":"'Financial Model'!I116","v":1},{"$f":"'Financial Model'!J116","v":1},{"$f":"'Financial Model'!K116","v":1},{"$f":"'Financial Model'!L116","v":1},{"$f":"'Financial Model'!M116","v":1},{"$f":"'Financial Model'!N116","v":1},{"$f":"'Financial Model'!O116","v":1},{"$f":"'Financial Model'!P116","v":1},{"$f":"'Financial Model'!Q116","v":1},{"$f":"'Financial Model'!R116","v":1},{"$f":"'Financial Model'!S116","v":1},{"$f":"'Financial Model'!T116","v":1},{"$f":"'Financial Model'!U116","v":1},{"$f":"'Financial Model'!V116","v":1},{"$f":"'Financial Model'!W116","v":1},{"$f":"'Financial Model'!X116","v":1},{"$f":"'Financial Model'!Y116","v":1},{"$f":"'Financial Model'!Z116","v":1},{"$f":"'Financial Model'!AA116","v":1},{"$f":"'Financial Model'!AB116","v":1},{"$f":"'Financial Model'!AC116","v":1}]
[null,"NPV Total",{"$f":"C71*C72","v":-513494},-23868.49166477273,-24176.592548635246,-24755.546974769335,-25444.013578227976,-25981.702250372058,-29016.303179579292,85242.676155045789,0,0,0,0,0,0,0,0,0,0,0,0,0,0,0,0,0,0,{"$f":"SUM(C73:AB73)","v":-581493.97404131084}]

{"sheet":"Environmental Model","index":7,"n_rows":26,"n_cols":3,"rows_kept":26,"cut":false,"hidden":false,"merged":[]}
["Environmental Models - Fleet Procurement Analysis Tool"]
[]
[null,{"$f":"Base_V1_Type_Ex&\" (Baseline)\"","v":"2017 Chevrolet Cruze ICE (Baseline)"},{"$f":"Comp_V1_Type_Ex&\" (Comparison)\"","v":"2017 Chevrolet Bolt EV BEV (Comparison)"}]
["Annual VMT",{"$f":"Base_V1_VMT_Modeled","v":10000},{"$f":"Comp_V1_VMT_Modeled","v":10000}]
["Fuel Economy Gas City (MPG)",{"$f":"Base_V1_Fuel_Economy_Gas_City_Modeled","v":30},{"$f":"Comp_V1_Fuel_Economy_Gas_City_Modeled","v":0}]
["Fuel Economy Gas Highway (MPG)",{"$f":"Base_V1_Fuel_Economy_Gas_Hwy_Modeled","v":40},{"$f":"Comp_V1_Fuel_Economy_Gas_Hwy_Modeled","v":0}]
["Fuel Economy Electric City (MPGe)",{"$f":"Base_V1_Fuel_Economy_Electric_City_Modeled","v":0},{"$f":"Comp_V1_Fuel_Economy_Electric_City_Modeled","v":128}]
["Fuel Economy Electric Highway (MPGe)",{"$f":"Base_V1_Fuel_Economy_Electric_Hwy_Modeled","v":0},{"$f":"Comp_V1_Fuel_Economy_Electric_Hwy_Modeled","v":110}]
["% of Annual Miles on Gasoline*",{"$f":"Base_V1_Miles_Gas_Modeled","v":1},{"$f":"Comp_V1_Miles_Gas_Modeled","v":0}]
["% of Annual Miles City Driving",{"$f":"Base_V1_Miles_City_Modeled","v":0.55000000000000004},{"$f":"Comp_V1_Miles_City_Modeled","v":0.55000000000000004}]
["Gallons of Gasoline / Year",{"$f":"IF(B5=0,0,(B4*B10*B9)/B5)+IF(B6=0,0,(B4*B9*(1-B10))/B6)","v":295.83333333333337},{"$f":"IF(C5=0,0,(C4*C10*C9)/C5)+IF(C6=0,0,(C4*C9*(1-C10))/C6)","v":0}]
["Lifecycle Carbon Intensity of Gallon of Gasoline (lbs)",{"$f":"Data!$C$199*Data!$B$215/Data!$B$217","v":24.074508509842389},{"$f":"Data!$C$199*Data!$B$215/Data!$B$217","v":24.074508509842389}]
["kWh Electricity / Year",{"$f":"IF(B7=0,0,((B4*(1-B9)*B10)/B7*33.7))+IF(B8=0,0,((B4*(1-B9)*(1-B10))/B8*33.7))","v":0},{"$f":"IF(C7=0,0,((C4*(1-C9)*C10)/C7*33.7))+IF(C8=0,0,((C4*(1-C9)*(1-C10))/C8*33.7))","v":2826.683238636364}]
["eGrid Region",{"$f":"eGrid_Region_Ex","v":"FRCC"},{"$f":"eGrid_Region_Ex","v":"FRCC"}]
["Lifecycle Carbon Intensity of kWh (lbs)",{"$f":"(VLOOKUP(eGrid_Region_Ex,Data!$B$167:$G$194,2,FALSE)+VLOOKUP(eGrid_Region_Ex,Data!$B$167:$G$194,5,FALSE))/1000","v":1.2571379536147023},{"$f":"(VLOOKUP(eGrid_Region_Ex,Data!$B$167:$G$194,2,FALSE)+VLOOKUP(eGrid_Region_Ex,Data!$B$167:$G$194,5,FALSE))/1000","v":1.2571379536147023}]
["Electrical Transmission Line Loss",{"$f":"VLOOKUP(eGrid_Region_Ex,Data!$B$167:$G$194,6,FALSE)","v":4.9700000000000001E-2},{"$f":"VLOOKUP(eGrid_Region_Ex,Data!$B$167:$G$194,6,FALSE)","v":4.9700000000000001E-2}]
["Total Annual CO2 (lbs)",{"$f":"(B11*B12)+(B13*(B15/(1-B16)))","v":7122.0421008283738},{"$f":"(C11*C12)+(C13*(C15/(1-C16)))","v":3739.3778618713013}]
["Lifecycle CO2 (lbs/mile)",{"$f":"B17/B4","v":0.71220421008283741},{"$f":"C17/C4","v":0.37393778618713014}]
["Other Lifecycle Emissions"]
["NOX (mg/mile)",{"$f":"(VLOOKUP(eGrid_Region_Ex,Data!$B$167:$L$194,7,FALSE)/1000*Data!$B$216*Base_V1_Electricity_Usage_Ex/Base_V1_VMT_Modeled)+(Base_V1_Gas_Usage_Ex*Data!$B$215*Data!$C201/Base_V1_VMT_Modeled)","v":243.48095721523427},{"$f":"(VLOOKUP(eGrid_Region_Ex,Data!$B$167:$L$194,7,FALSE)/1000*Data!$B$216*Comp_V1_Electricity_Usage_Ex/Comp_V1_VMT_Modeled)+(Comp_V1_Gas_Usage_Ex*Data!$B$215*Data!$C201/Comp_V1_VMT_Modeled)","v":79.365759931573862}]
["SOX (mg/mile)",{"$f":"(VLOOKUP(eGrid_Region_Ex,Data!$B$167:$L$194,8,FALSE)/1000*Data!$B$216*Base_V1_Electricity_Usage_Ex/Base_V1_VMT_Modeled)+(Base_V1_Gas_Usage_Ex*Data!$B$215*Data!$C202/Base_V1_VMT_Modeled)","v":127.37528259977395},{"$f":"(VLOOKUP(eGrid_Region_Ex,Data!$B$167:$L$194,8,FALSE)/1000*Data!$B$216*Comp_V1_Electricity_Usage_Ex/Comp_V1_VMT_Modeled)+(Comp_V1_Gas_Usage_Ex*Data!$B$215*Data!$C202/Comp_V1_VMT_Modeled)","v":105.52184236459659}]
["PM10 (mg/mile)",{"$f":"(VLOOKUP(eGrid_Region_Ex,Data!$B$167:$L$194,9,FALSE)/1000*Data!$B$216*Base_V1_Electricity_Usage_Ex/Base_V1_VMT_Modeled)+(Base_V1_Gas_Usage_Ex*Data!$B$215*Data!$C203/Base_V1_VMT_Modeled)","v":17.478659517072387},{"$f":"(VLOOKUP(eGrid_Region_Ex,Data!$B$167:$L$194,9,FALSE)/1000*Data!$B$216*Comp_V1_Electricity_Usage_Ex/Comp_V1_VMT_Modeled)+(Comp_V1_Gas_Usage_Ex*Data!$B$215*Data!$C203/Comp_V1_VMT_Modeled)","v":15.837513336197153}]
["PM2.5 (mg/mile)",{"$f":"(VLOOKUP(eGrid_Region_Ex,Data!$B$167:$L$194,10,FALSE)/1000*Data!$B$216*Base_V1_Electricity_Usage_Ex/Base_V1_VMT_Modeled)+(Base_V1_Gas_Usage_Ex*Data!$B$215*Data!$C204/Base_V1_VMT_Modeled)","v":12.561664950668041},{"$f":"(VLOOKUP(eGrid_Region_Ex,Data!$B$167:$L$194,10,FALSE)/1000*Data!$B$216*Comp_V1_Electricity_Usage_Ex/Comp_V1_VMT_Modeled)+(Comp_V1_Gas_Usage_Ex*Data!$B$215*Data!$C204/Comp_V1_VMT_Modeled)","v":12.286650729713642}]
["VOC (mg/mile)",{"$f":"(VLOOKUP(eGrid_Region_Ex,Data!$B$167:$L$194,11,FALSE)/1000*Data!$B$216*Base_V1_Electricity_Usage_Ex/Base_V1_VMT_Modeled)+(Base_V1_Gas_Usage_Ex*Data!$B$215*Data!$C205/Base_V1_VMT_Modeled)","v":208.12884299692564},{"$f":"(VLOOKUP(eGrid_Region_Ex,Data!$B$167:$L$194,11,FALSE)/1000*Data!$B$216*Comp_V1_Electricity_Usage_Ex/Comp_V1_VMT_Modeled)+(Comp_V1_Gas_Usage_Ex*Data!$B$215*Data!$C205/Comp_V1_VMT_Modeled)","v":2.5883831307134271}]
[]
["*For PHEV calculations, assumes an equal number of miles driven on a daily basis, 365 days per year. No charging during the day."]

{"sheet":"Data","index":8,"n_rows":219,"n_cols":29,"rows_kept":219,"cut":false,"hidden":false,"merged":[]}
["Data - Fleet Procurement Analysis Tool"]
["Electricity and Gasoline Prices"]
["Vehicles"]
["Federal and State Vehicles Incentive"]
["Energy Inflation"]
["General Inflation (Maintenance, Insurance)"]
["Maintenance and Repair Costs"]
["Electricity Emissions"]
["Gasoline Emissions"]
["Other Default Values and Scalars"]
[]
["Electricity and Gasoline Prices"]
["State Abbreviation","Commerical Electricity Price ($/kWh)","Gasoline Price"]
["AK",0.16600000000000001,2.6459999999999999]
["AL",0.112,2.024]
["AR",8.1000000000000003E-2,2.024]
["AZ",0.104,2.6459999999999999]
["CA",0.156,2.782]
["CO",9.4E-2,2.14]
["CT",0.156,2.2549999999999999]
["DC",0.122,2.3119999999999998]
["DE",0.122,2.3119999999999998]
["FL",8.6999999999999994E-2,2.2160000000000002]
["GA",9.5000000000000001E-2,2.206]
["HI",0.246,2.6459999999999999]
["IA",9.1999999999999998E-2,2.1429999999999998]
["ID",7.8E-2,2.2120000000000002]
["IL",8.8999999999999996E-2,2.1429999999999998]
["IN",9.9000000000000005E-2,2.1429999999999998]
["KS",0.10100000000000001,2.1429999999999998]
["KY",9.4E-2,2.1429999999999998]
["LA",8.5999999999999993E-2,2.024]
["MA",0.152,2.2210000000000001]
["MD",0.11700000000000001,2.3119999999999998]
["ME",0.11799999999999999,2.2549999999999999]
["MI",0.11,2.1429999999999998]
["MN",9.7000000000000003E-2,2.09]
["MO",9.1999999999999998E-2,2.1429999999999998]
["MS",0.09,2.024]
["MT",0.10299999999999999,2.2120000000000002]
["NC",8.2000000000000003E-2,2.206]
["ND",0.09,2.1429999999999998]
["NE",8.5000000000000006E-2,2.1429999999999998]
["NH",0.191,2.2549999999999999]
["NJ",0.128,2.3119999999999998]
["NM",9.5000000000000001E-2,2.024]
["NV",8.2000000000000003E-2,2.6459999999999999]
["NY",0.16,2.3610000000000002]
["OH",0.108,2.1850000000000001]
["OK",7.0000000000000007E-2,2.1429999999999998]
["OR",9.1999999999999998E-2,2.6459999999999999]
["PA",0.111,2.3119999999999998]
["RI",0.16400000000000001,2.2549999999999999]
["SC",0.1,2.206]
["SD",9.5000000000000001E-2,2.1429999999999998]
["TN",0.1,2.1429999999999998]
["TX",8.2000000000000003E-2,2.016]
["UT",8.7999999999999995E-2,2.2120000000000002]
["VA",7.8E-2,2.206]
["VT",0.14499999999999999,2.2549999999999999]
["WA",8.8999999999999996E-2,2.5310000000000001]
["WI",0.108,2.1429999999999998]
["WV",9.2999999999999999E-2,2.206]
["WY",9.1999999999999998E-2,2.2120000000000002]
[]
["Source: Electricity Prices, https://www.eia.gov/electricity/data/eia861m/index.html"]
["Source: Gasoline Prices, http://www.eia.gov/dnav/pet/pet_pri_gnd_a_epmr_pte_dpgal_w.htm"]
[]
["Vehicles"]
["Selection Name","Year","Make","Model","Drivetrain Type","Battery Size (kwh)1","Electric Range1","Fuel Economy Electric City (MPGe)2","Fuel Economy Electric Hwy (MPGe)2","Fuel Economy Gas City (MPG)2","Fuel Economy Gas Hwy (MPG)2","MSRP1","Annual Insurance Cost (National Average)3"]
[{"$f":"B71&\" \"&C71&\" \"&D71&\" \"&E71","v":"*Custom   BEV"},"*Custom",null,null,"BEV"]
["*Custom   ICE","*Custom",null,null,"ICE"]
["*Custom   PHEV","*Custom",null,null,"PHEV"]
["2016 Chevrolet Malibu ICE",2016,"Chevrolet","Malibu","ICE",null,null,null,null,22,32,21625,{"$f":"4113/5","v":822.6}]
["2016 Chevrolet Sonic ICE",2016,"Chevrolet","Sonic","ICE",null,null,null,null,24,34,14345,{"$f":"3793/5","v":758.6}]
["2016 Chevrolet Spark EV BEV",2016,"Chevrolet","Spark EV","BEV",19,82,128,109,null,null,25120,845]
["2016 Chevrolet Volt PHEV",2016,"Chevrolet","Volt","PHEV",18.399999999999999,53,113,99,43,42,33170,855]
["2016 Fiat 500e BEV",2016,"Fiat","500e","BEV",24,84,121,103,null,null,31800,862]
["2016 Ford C-MAX Energi Plug-in Hybrid PHEV",2016,"Ford","C-MAX Energi Plug-in Hybrid","PHEV",7.6,20,95,81,40,36,31770,886]
["2016 Ford Edge ICE",2016,"Ford","Edge","ICE",null,null,null,null,18,26,28700,{"$f":"3898/5","v":779.6}]
["2016 Ford Focus Electric BEV",2016,"Ford","Focus Electric","BEV",23,76,110,99,null,null,29170,888]
["2016 Ford Fusion Energi Plug-in Hybrid PHEV",2016,"Ford","Fusion Energi Plug-in Hybrid","PHEV",7.6,20,95,81,40,36,33900,942]
["2016 Ford Taurus ICE",2016,"Ford","Taurus","ICE",null,null,null,null,18,27,27110,{"$f":"4397/5","v":879.4}]
["2016 Hyundai Sonata Plug-in Hybrid PHEV",2016,"Hyundai","Sonata Plug-in Hybrid","PHEV",9.8000000000000007,27,99,98,38,41,34600,855]
["2016 Kia Soul Electric BEV",2016,"Kia","Soul Electric","BEV",27,93,120,92,null,null,31950,868.625]
["2016 Mitsubishi i-MiEV BEV",2016,"Mitsubishi","i-MiEV","BEV",16,62,126,99,null,null,22995,868.625]
["2016 Nissan Leaf BEV",2016,"Nissan","Leaf","BEV",24,84,124,101,null,null,29010,915]
["2016 Smart fortwo electric drive coupe BEV",2016,"Smart","fortwo electric drive coupe","BEV",17.600000000000001,68,122,93,null,null,25750,868.625]
["2016 Volkswagen e-Golf  BEV",2016,"Volkswagen","e-Golf ","BEV",24.2,83,126,105,null,null,28995,868.625]
["2017 Chevrolet Bolt EV BEV",2017,"Chevrolet","Bolt EV","BEV",60,238,128,110,null,null,36620,868.625]
["2017 Chevrolet Cruze ICE",2017,"Chevrolet","Cruze","ICE",null,null,null,null,30,40,19525,805.4]
["2017 Chevrolet Volt PHEV",2017,"Chevrolet","Volt","PHEV",18.399999999999999,53,113,99,43,42,33220,855]
["2017 Chrysler Pacifica Plug-in Hybrid PHEV",2017,"Chrysler","Pacifica Plug-in Hybrid","PHEV",16,33,89,78,32,33,41995,855]
["2017 Fiat 500e BEV",2017,"Fiat","500e","BEV",24,84,121,103,null,null,31800,868.625]
["2017 Ford C-MAX Energi Plug-in Hybrid PHEV",2017,"Ford","C-MAX Energi Plug-in Hybrid","PHEV",7.6,20,104,87,41,38,27120,855]
["2017 Ford Focus Electric BEV",2017,"Ford","Focus Electric","BEV",33.5,115,118,96,null,null,29120,868.625]
["2017 Ford Fusion Energi Plug-in Hybrid PHEV",2017,"Ford","Fusion Energi Plug-in Hybrid","PHEV",7.6,22,104,91,43,41,33120,855]
["2017 Hyundai Ioniq Electric BEV",2017,"Hyundai","Ioniq Electric","BEV",28,124,150,122,null,null,29500,868.625]
["2017 Hyundai Sonata Plug-in Hybrid PHEV",2017,"Hyundai","Sonata Plug-in Hybrid","PHEV",9.8000000000000007,27,99,98,38,40,34600,855]
["2017 Kia Soul Electric BEV",2017,"Kia","Soul Electric","BEV",27,93,120,92,null,null,32250,868.625]
["2017 Mitsubishi i-MiEV BEV",2017,"Mitsubishi","i-MiEV","BEV",16,59,121,102,null,null,22995,868.625]
["2017 Nissan Leaf BEV",2017,"Nissan","Leaf","BEV",30,107,124,101,null,null,30680,868.625]
["2017 Toyota Prius Prime PHEV",2017,"Toyota","Prius Prime","PHEV",8.8000000000000007,25,145,121,55,53,27100,855]
["2017 Volkswagen e-Golf  BEV",2017,"Volkswagen","e-Golf ","BEV",36,125,126,111,null,null,28995,868.625]
[]
["1 Battery size and range from manufacturer website/specifications; , MSRP from manufacturer's website or fueleconomy.gov"]
["2 Fuel economy data from http://www.fueleconomy.gov"]
["3 Annual insurance cost data is from Edmunds True Cost to Own https://www.edmunds.com/tco.html?mktcat=tco&kw=total+cost+ownership&mktid=ga56677244. Based on zip code 62701 (Springfiled,Illinois). Yellow cells are an average price based on vehicle type and available data."]
[]
["Federal and State Vehicle Incentives"]
["Selection Name","Year","Make","Model","Drivetrain Type","Battery Size (kWh)","Federal Tax Credit ","CA","DE","MA","MD","NY"]
[{"$f":"Data!$B112&\" \"&Data!$C112&\" \"&Data!$D112&\" \"&Data!$E112","v":"2017 Chevrolet Bolt EV BEV"},2017,"Chevrolet","Bolt EV","BEV",60,7500,2500,3500,7500,3000,5000]
[{"$f":"Data!$B113&\" \"&Data!$C113&\" \"&Data!$D113&\" \"&Data!$E113","v":"2016 Chevrolet Spark EV BEV"},2016,"Chevrolet","Spark EV","BEV",19,7500,2500,3500,7500,{"$f":"Data!$F113*125","v":2375},5000]
[{"$f":"Data!$B114&\" \"&Data!$C114&\" \"&Data!$D114&\" \"&Data!$E114","v":"2016 Chevrolet Volt PHEV"},2016,"Chevrolet","Volt","PHEV",18.399999999999999,7500,1500,1500,5000,{"$f":"Data!$F114*125","v":2300},5000]
[{"$f":"Data!$B115&\" \"&Data!$C115&\" \"&Data!$D115&\" \"&Data!$E115","v":"2017 Chevrolet Volt PHEV"},2017,"Chevrolet","Volt","PHEV",18.399999999999999,7500,1500,1500,5000,{"$f":"Data!$F115*125","v":2300},5000]
[{"$f":"Data!$B116&\" \"&Data!$C116&\" \"&Data!$D116&\" \"&Data!$E116","v":"2017 Chrysler Pacifica Plug-in Hybrid PHEV"},2017,"Chrysler","Pacifica Plug-in Hybrid","PHEV",16,7500,1500,1500,5000,{"$f":"Data!$F116*125","v":2000},2500]
[{"$f":"Data!$B117&\" \"&Data!$C117&\" \"&Data!$D117&\" \"&Data!$E117","v":"2016 Fiat 500e BEV"},2016,"Fiat","500e","BEV",24,7500,2500,3500,7500,{"$f":"Data!$F117*125","v":3000},5000]
[{"$f":"Data!$B118&\" \"&Data!$C118&\" \"&Data!$D118&\" \"&Data!$E118","v":"2017 Fiat 500e BEV"},2017,"Fiat","500e","BEV",24,7500,2500,3500,7500,{"$f":"Data!$F118*125","v":3000},5000]
[{"$f":"Data!$B119&\" \"&Data!$C119&\" \"&Data!$D119&\" \"&Data!$E119","v":"2016 Ford C-MAX Energi Plug-in Hybrid PHEV"},2016,"Ford","C-MAX Energi Plug-in Hybrid","PHEV",7.6,4007,1500,1500,5000,{"$f":"Data!$F119*125","v":950},2500]
[{"$f":"Data!$B120&\" \"&Data!$C120&\" \"&Data!$D120&\" \"&Data!$E120","v":"2016 Ford Focus Electric BEV"},2016,"Ford","Focus Electric","BEV",23,7500,2500,3500,7500,{"$f":"Data!$F120*125","v":2875},5000]
[{"$f":"Data!$B121&\" \"&Data!$C121&\" \"&Data!$D121&\" \"&Data!$E121","v":"2017 Ford Focus Electric BEV"},2017,"Ford","Focus Electric","BEV",33.5,7500,2500,3500,7500,3000,5000]
[{"$f":"Data!$B122&\" \"&Data!$C122&\" \"&Data!$D122&\" \"&Data!$E122","v":"2016 Ford Fusion Energi Plug-in Hybrid PHEV"},2016,"Ford","Fusion Energi Plug-in Hybrid","PHEV",7.6,4007,1500,1500,5000,{"$f":"Data!$F122*125","v":950},2500]
[{"$f":"Data!$B123&\" \"&Data!$C123&\" \"&Data!$D123&\" \"&Data!$E123","v":"2017 Ford Fusion Energi Plug-in Hybrid PHEV"},2017,"Ford","Fusion Energi Plug-in Hybrid","PHEV",7.6,4007,1500,1500,5000,{"$f":"Data!$F123*125","v":950},2500]
[{"$f":"Data!$B124&\" \"&Data!$C124&\" \"&Data!$D124&\" \"&Data!$E124","v":"2017 Hyundai Ioniq Electric BEV"},2017,"Hyundai","Ioniq Electric","BEV",28,7500,2500,3500,7500,3000,5000]
[{"$f":"Data!$B125&\" \"&Data!$C125&\" \"&Data!$D125&\" \"&Data!$E125","v":"2016 Hyundai Sonata Plug-in Hybrid PHEV"},2016,"Hyundai","Sonata Plug-in Hybrid","PHEV",9.8000000000000007,4918.6000000000004,1500,1500,5000,{"$f":"Data!$F125*125","v":1225},2500]
[{"$f":"Data!$B126&\" \"&Data!$C126&\" \"&Data!$D126&\" \"&Data!$E126","v":"2017 Hyundai Sonata Plug-in Hybrid PHEV"},2017,"Hyundai","Sonata Plug-in Hybrid","PHEV",9.8000000000000007,4918.6000000000004,1500,1500,5000,{"$f":"Data!$F126*125","v":1225},2500]
[{"$f":"Data!$B127&\" \"&Data!$C127&\" \"&Data!$D127&\" \"&Data!$E127","v":"2016 Kia Soul Electric BEV"},2016,"Kia","Soul Electric","BEV",27,7500,2500,3500,7500,3000,5000]
[{"$f":"Data!$B128&\" \"&Data!$C128&\" \"&Data!$D128&\" \"&Data!$E128","v":"2017 Kia Soul Electric BEV"},2017,"Kia","Soul Electric","BEV",27,7500,2500,3500,7500,3000,5000]
[{"$f":"Data!$B129&\" \"&Data!$C129&\" \"&Data!$D129&\" \"&Data!$E129","v":"2016 Mitsubishi i-MiEV BEV"},2016,"Mitsubishi","i-MiEV","BEV",16,7500,2500,3500,7500,{"$f":"Data!$F129*125","v":2000},5000]
[{"$f":"Data!$B130&\" \"&Data!$C130&\" \"&Data!$D130&\" \"&Data!$E130","v":"2017 Mitsubishi i-MiEV BEV"},2017,"Mitsubishi","i-MiEV","BEV",16,7500,2500,3500,7500,{"$f":"Data!$F130*125","v":2000},5000]
[{"$f":"Data!$B131&\" \"&Data!$C131&\" \"&Data!$D131&\" \"&Data!$E131","v":"2016 Nissan Leaf BEV"},2016,"Nissan","Leaf","BEV",24,7500,2500,3500,7500,{"$f":"Data!$F131*125","v":3000},5000]
[{"$f":"Data!$B132&\" \"&Data!$C132&\" \"&Data!$D132&\" \"&Data!$E132","v":"2017 Nissan Leaf BEV"},2017,"Nissan","Leaf","BEV",30,7500,2500,3500,7500,3000,5000]
[{"$f":"Data!$B133&\" \"&Data!$C133&\" \"&Data!$D133&\" \"&Data!$E133","v":"2016 Smart fortwo electric drive coupe BEV"},2016,"Smart","fortwo electric drive coupe","BEV",17.600000000000001,7500,2500,3500,7500,{"$f":"Data!$F133*125","v":2200},5000]
[{"$f":"Data!$B134&\" \"&Data!$C134&\" \"&Data!$D134&\" \"&Data!$E134","v":"2017 Toyota Prius Prime PHEV"},2017,"Toyota","Prius Prime","PHEV",8.8000000000000007,4501.6000000000004,1500,1500,5000,{"$f":"Data!$F134*125","v":1100},2500]
[{"$f":"Data!$B135&\" \"&Data!$C135&\" \"&Data!$D135&\" \"&Data!$E135","v":"2016 Volkswagen e-Golf  BEV"},2016,"Volkswagen","e-Golf ","BEV",24.2,7500,2500,3500,7500,3000,5000]
[]
["Source: https://www.irs.gov/businesses/qualified-vehicles-acquired-after-12-31-2009 (Federal Tax Credit)"]
[]
["Energy Inflation"]
["Field","Units","2016","2017","2018","2019","2020","2021","2022","2023","2024","2025","2026","2027","2028","2029","2030","2031","2032","2033","2034","2035","2036","2037","2038","2039","2040"]
["Motor Gasoline - Reference case without Clean Power Plan","2015 $/MMBtu",16.811793999999999,18.306319999999999,19.651028,21.625477,22.710996999999999,23.430271000000001,23.789027999999998,24.166338,24.381392999999999,24.682074,25.206372999999999,25.613256,25.905723999999999,26.279841999999999,26.534842999999999,27.035015000000001,27.612431999999998,28.160969000000001,28.710021999999999,28.920518999999999,29.497012999999999,29.873716000000002,30.530477999999999,31.132334,31.788157999999999]
["Motor Gasoline - % over base","%",{"$f":"C141/$C$141","v":1},1.0888974728098619,1.168883463597044,1.2863277411084149,1.3508966978776924,1.3936805911373886,1.4150201935617341,1.4374633664914049,1.4502552791213121,1.4681404019107063,1.4993267821387772,1.523529017783587,1.5409256144823094,1.5631789207029303,1.5783469033703363,1.608098160136866,1.6424441079875236,1.6750722141848755,1.7077310131209078,1.7202518065591335,1.7545428524760653,1.77694991980035,1.8160154710437209,1.8518151007560526,1.8908248578349225]
["Electricity - Reference case without Clean Power Plan","2015 $/MMBtu",29.737959,29.438390999999999,30.531320999999998,32.163536000000001,32.959015000000001,33.605846,33.959530000000001,34.370037000000004,34.751632999999998,35.272613999999997,35.575626,35.519874999999999,35.526302000000001,35.511578,35.512962000000002,35.480690000000003,35.475903000000002,35.448684999999998,35.458553000000002,35.297573,35.112625000000001,34.956843999999997,34.850203999999998,34.678581000000001,34.537486999999999]
["Electricity - % over base","%",{"$f":"C143/$C$143","v":1},0.98992641021530758,1.0266784280656247,1.0815650125820673,1.1083146291243458,1.130065651109412,1.1419590026336375,1.155763144336839,1.1685950942362924,1.1861141512771605,1.1963035526412555,1.1944288106658563,1.1946449317520413,1.194149806985745,1.1941963468306618,1.1931111344931238,1.1929501617780831,1.1920349005794244,1.1923667323638452,1.1869534489572737,1.1807341922826649,1.1754957359380311,1.1719097467314417,1.1661385705723786,1.161393994792985]
[]
["Source: http://www.eia.gov/outlooks/aeo/data/browser/#/?id=3-AEO2016&region=1-0&cases=ref2016~ref_no_cpp&start=2016&end=2040&f=A&linechart=ref2016-d032416a.3-3-AEO2016.1-0~ref_no_cpp-d032316a.3-3-AEO2016.1-0&map=ref_no_cpp-d032316a.3-3-AEO2016.1-0&chartin"]
[]
["General Inflation (Maintenance"]
["Federal Inflation",null,null,null,"2016","2017","2018","2019","2020","2021","2022","2023","2024","2025","2026","2027","2028","2029","2030","2031","2032","2033","2034","2035","2036","2037","2038","2039","2040"]
[{"$f":"Inflation_Rate_General_Modeled","v":0.02},null,null,null,{"$f":"(1+$A$150)^(C140-$C$140)","v":1},1.02,1.0404,1.0612079999999999,1.08243216,1.1040808032,1.1261624192640001,1.1486856676492798,1.1716593810022655,1.1950925686223108,1.2189944199947571,1.243374308394652,1.2682417945625453,1.2936066304537961,1.3194787630628722,1.3458683383241292,1.372785705090612,1.4002414191924244,1.4282462475762727,1.4568111725277981,1.4859473959783542,1.5156663438979212,1.5459796707758797,1.576899264191397,1.608437249475225]
[]
["Source: https://www.federalreserve.gov/faqs/economy_14400.htm"]
[]
["Maintenance and Repair Costs"]
["Vehicle Type ($/mile)","Year 1 ","Year 2","Year 3","Year 4","Year 5","Year 6","Year 7","Year 8","Year 9","Year 10","Year 11","Year 12","Year 13","Year 14","Year 15","Year 16","Year 17","Year 18","Year 19","Year 20","Year 21","Year 22","Year 23","Year 24","Year 25"]
["ICE",0.08,0.08,0.08,0.08,0.08,{"$f":"DB_Maint_Repair_Costs[[#This Row],[Year 5]]*1.3","v":0.10400000000000001},{"$f":"DB_Maint_Repair_Costs[[#This Row],[Year 5]]*1.3","v":0.10400000000000001},{"$f":"DB_Maint_Repair_Costs[[#This Row],[Year 5]]*1.3","v":0.10400000000000001},{"$f":"DB_Maint_Repair_Costs[[#This Row],[Year 5]]*1.3","v":0.10400000000000001},{"$f":"DB_Maint_Repair_Costs[[#This Row],[Year 5]]*1.3","v":0.10400000000000001},{"$f":"DB_Maint_Repair_Costs[[#This Row],[Year 5]]*1.3","v":0.10400000000000001},{"$f":"DB_Maint_Repair_Costs[[#This Row],[Year 5]]*1.3","v":0.10400000000000001},{"$f":"DB_Maint_Repair_Costs[[#This Row],[Year 5]]*1.3","v":0.10400000000000001},{"$f":"DB_Maint_Repair_Costs[[#This Row],[Year 5]]*1.3","v":0.10400000000000001},{"$f":"DB_Maint_Repair_Costs[[#This Row],[Year 5]]*1.3","v":0.10400000000000001},{"$f":"DB_Maint_Repair_Costs[[#This Row],[Year 5]]*1.3","v":0.10400000000000001},{"$f":"DB_Maint_Repair_Costs[[#This Row],[Year 5]]*1.3","v":0.10400000000000001},{"$f":"DB_Maint_Repair_Costs[[#This Row],[Year 5]]*1.3","v":0.10400000000000001},{"$f":"DB_Maint_Repair_Costs[[#This Row],[Year 5]]*1.3","v":0.10400000000000001},{"$f":"DB_Maint_Repair_Costs[[#This Row],[Year 5]]*1.3","v":0.10400000000000001},{"$f":"DB_Maint_Repair_Costs[[#This Row],[Year 5]]*1.3","v":0.10400000000000001},{"$f":"DB_Maint_Repair_Costs[[#This Row],[Year 5]]*1.3","v":0.10400000000000001},{"$f":"DB_Maint_Repair_Costs[[#This Row],[Year 5]]*1.3","v":0.10400000000000001},{"$f":"DB_Maint_Repair_Costs[[#This Row],[Year 5]]*1.3","v":0.10400000000000001},{"$f":"DB_Maint_Repair_Costs[[#This Row],[Year 5]]*1.3","v":0.10400000000000001}]
["BEV",0.04,0.04,0.04,0.04,0.04,{"$f":"DB_Maint_Repair_Costs[[#This Row],[Year 5]]*1.3","v":5.2000000000000005E-2},{"$f":"DB_Maint_Repair_Costs[[#This Row],[Year 5]]*1.3","v":5.2000000000000005E-2},{"$f":"DB_Maint_Repair_Costs[[#This Row],[Year 5]]*1.3","v":5.2000000000000005E-2},{"$f":"DB_Maint_Repair_Costs[[#This Row],[Year 5]]*1.3","v":5.2000000000000005E-2},{"$f":"DB_Maint_Repair_Costs[[#This Row],[Year 5]]*1.3","v":5.2000000000000005E-2},{"$f":"DB_Maint_Repair_Costs[[#This Row],[Year 5]]*1.3","v":5.2000000000000005E-2},{"$f":"DB_Maint_Repair_Costs[[#This Row],[Year 5]]*1.3","v":5.2000000000000005E-2},{"$f":"DB_Maint_Repair_Costs[[#This Row],[Year 5]]*1.3","v":5.2000000000000005E-2},{"$f":"DB_Maint_Repair_Costs[[#This Row],[Year 5]]*1.3","v":5.2000000000000005E-2},{"$f":"DB_Maint_Repair_Costs[[#This Row],[Year 5]]*1.3","v":5.2000000000000005E-2},{"$f":"DB_Maint_Repair_Costs[[#This Row],[Year 5]]*1.3","v":5.2000000000000005E-2},{"$f":"DB_Maint_Repair_Costs[[#This Row],[Year 5]]*1.3","v":5.2000000000000005E-2},{"$f":"DB_Maint_Repair_Costs[[#This Row],[Year 5]]*1.3","v":5.2000000000000005E-2},{"$f":"DB_Maint_Repair_Costs[[#This Row],[Year 5]]*1.3","v":5.2000000000000005E-2},{"$f":"DB_Maint_Repair_Costs[[#This Row],[Year 5]]*1.3","v":5.2000000000000005E-2},{"$f":"DB_Maint_Repair_Costs[[#This Row],[Year 5]]*1.3","v":5.2000000000000005E-2},{"$f":"DB_Maint_Repair_Costs[[#This Row],[Year 5]]*1.3","v":5.2000000000000005E-2},{"$f":"DB_Maint_Repair_Costs[[#This Row],[Year 5]]*1.3","v":5.2000000000000005E-2},{"$f":"DB_Maint_Repair_Costs[[#This Row],[Year 5]]*1.3","v":5.2000000000000005E-2},{"$f":"DB_Maint_Repair_Costs[[#This Row],[Year 5]]*1.3","v":5.2000000000000005E-2}]
["PHEV",7.0000000000000007E-2,7.0000000000000007E-2,7.0000000000000007E-2,7.0000000000000007E-2,7.0000000000000007E-2,{"$f":"DB_Maint_Repair_Costs[[#This Row],[Year 5]]*1.3","v":9.1000000000000011E-2},{"$f":"DB_Maint_Repair_Costs[[#This Row],[Year 5]]*1.3","v":9.1000000000000011E-2},{"$f":"DB_Maint_Repair_Costs[[#This Row],[Year 5]]*1.3","v":9.1000000000000011E-2},{"$f":"DB_Maint_Repair_Costs[[#This Row],[Year 5]]*1.3","v":9.1000000000000011E-2},{"$f":"DB_Maint_Repair_Costs[[#This Row],[Year 5]]*1.3","v":9.1000000000000011E-2},{"$f":"DB_Maint_Repair_Costs[[#This Row],[Year 5]]*1.3","v":9.1000000000000011E-2},{"$f":"DB_Maint_Repair_Costs[[#This Row],[Year 5]]*1.3","v":9.1000000000000011E-2},{"$f":"DB_Maint_Repair_Costs[[#This Row],[Year 5]]*1.3","v":9.1000000000000011E-2},{"$f":"DB_Maint_Repair_Costs[[#This Row],[Year 5]]*1.3","v":9.1000000000000011E-2},{"$f":"DB_Maint_Repair_Costs[[#This Row],[Year 5]]*1.3","v":9.1000000000000011E-2},{"$f":"DB_Maint_Repair_Costs[[#This Row],[Year 5]]*1.3","v":9.1000000000000011E-2},{"$f":"DB_Maint_Repair_Costs[[#This Row],[Year 5]]*1.3","v":9.1000000000000011E-2},{"$f":"DB_Maint_Repair_Costs[[#This Row],[Year 5]]*1.3","v":9.1000000000000011E-2},{"$f":"DB_Maint_Repair_Costs[[#This Row],[Year 5]]*1.3","v":9.1000000000000011E-2},{"$f":"DB_Maint_Repair_Costs[[#This Row],[Year 5]]*1.3","v":9.1000000000000011E-2},{"$f":"DB_Maint_Repair_Costs[[#This Row],[Year 5]]*1.3","v":9.1000000000000011E-2},{"$f":"DB_Maint_Repair_Costs[[#This Row],[Year 5]]*1.3","v":9.1000000000000011E-2},{"$f":"DB_Maint_Repair_Costs[[#This Row],[Year 5]]*1.3","v":9.1000000000000011E-2},{"$f":"DB_Maint_Repair_Costs[[#This Row],[Year 5]]*1.3","v":9.1000000000000011E-2},{"$f":"DB_Maint_Repair_Costs[[#This Row],[Year 5]]*1.3","v":9.1000000000000011E-2}]
[]
["Source: Alameda County, 2017"]
[]
["Electricity Emissions"]
["eGRID subregion name ","eGRID subregion acronym","eGRID subregion annual CO2 total direct plant output emission rate (lb/MWh)1","eGRID subregion annual CH4 total output emission rate (lb/GWh)1","eGRID subregion annual N2O total output emission rate (lb/GWh)1","eGrid upstream CO2 emissions from extraction (lb/MWh)3","Grid Loss Factors eGrid 2014 (%)2","eGRID subregion annual NOx total direct plant output emission rate (lb/MWh)1","eGRID subregion annual SOx total direct plant output emission rate (lb/MWh)1","EPA PM10 total direct plant output emission rate based on national average (lb/MWh)4","EPA PM2.5 total direct plant output emission rate based on national average (lb/MWh)4","EPA VOC total direct plant output emission rate based on national average (lb/MWh)4"]
["ASCC Alaska Grid","AKGD",929.73599999999999,46.628999999999998,7.1609999999999996,194.00694897617242,5.6300000000000003E-2,2.0579999999999998,0.625,{"$f":"228.579845629779*1000/4079690473.912*2204.62","v":0.12352204229579826},{"$f":"177.330914739379*1000/4079690473.912*2204.62","v":9.582768196574773E-2},{"$f":"37.3576459820216*1000/4079690473.912*2204.62","v":2.0187662277699792E-2}]
["ASCC Miscellaneous","AKMS",683.11500000000001,36.07,5.9980000000000002,112.43584542937266,5.6300000000000003E-2,9.6430000000000007,0.96699999999999997,{"$f":"228.579845629779*1000/4079690473.912*2204.62","v":0.12352204229579826},{"$f":"177.330914739379*1000/4079690473.912*2204.62","v":9.582768196574773E-2},{"$f":"37.3576459820216*1000/4079690473.912*2204.62","v":2.0187662277699792E-2}]
["WECC Southwest","AZNM",879.87199999999996,66.378,9.3130000000000006,125.66359195047532,4.7899999999999998E-2,0.65400000000000003,0.32600000000000001,0.12352204229579826,9.582768196574773E-2,2.0187662277699792E-2]
["WECC California","CAMX",570.48900000000003,33.104999999999997,4.0359999999999996,130.07284079084289,4.7899999999999998E-2,0.24,0.04,0.12352204229579826,9.582768196574773E-2,2.0187662277699792E-2]
["ERCOT All","ERCT",1148.049,81.834999999999994,11.574999999999999,147.7098361523131,5.1200000000000002E-2,0.59499999999999997,1.587,0.12352204229579826,9.582768196574773E-2,2.0187662277699792E-2]
["FRCC All","FRCC",1080.768,87.777000000000001,12.051,176.36995361470221,4.9700000000000001E-2,0.61899999999999999,0.82299999999999995,0.12352204229579826,9.582768196574773E-2,2.0187662277699792E-2]
["HICC Miscellaneous","HIMS",947.52700000000004,95.34,15.22,253.53180832113441,5.1799999999999999E-2,6.9139999999999997,3.8159999999999998,0.12352204229579826,9.582768196574773E-2,2.0187662277699792E-2]
["HICC Oahu","HIOA",1490.366,159.41,24.46,308.64741882572883,5.1799999999999999E-2,2.6389999999999998,8.73,0.12352204229579826,9.582768196574773E-2,2.0187662277699792E-2]
["MRO East","MROE",1676.5309999999999,191.16,28.178000000000001,123.45896753029155,4.9700000000000001E-2,1.1080000000000001,3.052,0.12352204229579826,9.582768196574773E-2,2.0187662277699792E-2]
["MRO West","MROW",1375.606,161.369,23.347000000000001,105.82197216882132,4.9700000000000001E-2,1.4570000000000001,2.302,0.12352204229579826,9.582768196574773E-2,2.0187662277699792E-2]
["NPCC New England","NEWE",576.76,96.003,12.843,130.07284079084289,4.9700000000000001E-2,0.46500000000000002,0.23499999999999999,0.12352204229579826,9.582768196574773E-2,2.0187662277699792E-2]
["WECC Northwest","NWPP",913.423,97.807000000000002,14.224,59.524859344961996,4.7899999999999998E-2,1.1950000000000001,0.626,0.12352204229579826,9.582768196574773E-2,2.0187662277699792E-2]
["NPCC NYC/Westchester","NYCW",666.93899999999996,24.364999999999998,2.9710000000000001,138.891338471578,4.9700000000000001E-2,0.31,4.5999999999999999E-2,0.12352204229579826,9.582768196574773E-2,2.0187662277699792E-2]
["NPCC Long Island","NYLI",1204.3230000000001,132.411,17.193999999999999,202.82544665690753,4.9700000000000001E-2,0.89400000000000002,0.44800000000000001,0.12352204229579826,9.582768196574773E-2,2.0187662277699792E-2]
["NPCC Upstate NY","NYUP",367.64,30.686,4.1379999999999999,81.571103546799776,4.9700000000000001E-2,0.40200000000000002,0.42199999999999999,0.12352204229579826,9.582768196574773E-2,2.0187662277699792E-2]
["RFC East","RFCE",834.476,73.933000000000007,11.226000000000001,114.64046984955644,4.9700000000000001E-2,0.83,1.925,0.12352204229579826,9.582768196574773E-2,2.0187662277699792E-2]
["RFC Michigan","RFCM",1542.6179999999999,170.08500000000001,24.460999999999999,145.50521173212931,4.9700000000000001E-2,1.3939999999999999,3.504,0.12352204229579826,9.582768196574773E-2,2.0187662277699792E-2]
["RFC West","RFCW",1390.8679999999999,150.19900000000001,22.033999999999999,121.25434311010777,4.9700000000000001E-2,1.254,2.9049999999999998,0.12352204229579826,9.582768196574773E-2,2.0187662277699792E-2]
["WECC Rockies","RMPA",1749.42,178.15799999999999,25.771000000000001,134.48208963121044,4.7899999999999998E-2,1.526,1.0589999999999999,0.12352204229579826,9.582768196574773E-2,2.0187662277699792E-2]
["SPP North","SPNO",1586.4590000000001,173.78899999999999,25.216999999999999,130.07284079084289,4.9700000000000001E-2,1.1919999999999999,1.5629999999999999,0.12352204229579826,9.582768196574773E-2,2.0187662277699792E-2]
["SPP South","SPSO",1484.8009999999999,135.441,19.690000000000001,156.52833383304821,4.9700000000000001E-2,1.1359999999999999,2.3090000000000002,0.12352204229579826,9.582768196574773E-2,2.0187662277699792E-2]
["SERC Mississippi Valley","SRMV",1027.116,78.625,11.247,154.32370941286442,4.9700000000000001E-2,0.96599999999999997,1.4610000000000001,0.12352204229579826,9.582768196574773E-2,2.0187662277699792E-2]
["SERC Midwest","SRMW",1785.806,208.84100000000001,30.370999999999999,132.27746521102665,4.9700000000000001E-2,1.282,2.907,0.12352204229579826,9.582768196574773E-2,2.0187662277699792E-2]
["SERC South","SRSO",1150.7329999999999,103.712,15.324999999999999,145.50521173212931,4.9700000000000001E-2,0.75700000000000001,1.9890000000000001,0.12352204229579826,9.582768196574773E-2,2.0187662277699792E-2]
["SERC Tennessee Valley","SRTV",1345.4169999999999,138.63900000000001,20.193999999999999,121.25434311010777,4.9700000000000001E-2,0.98099999999999998,2.1150000000000002,0.12352204229579826,9.582768196574773E-2,2.0187662277699792E-2]
["SERC Virginia/Carolina","SRVC",862.78599999999994,95.722999999999999,13.776999999999999,108.02659658900509,4.9700000000000001E-2,0.58199999999999996,0.67600000000000005,0.12352204229579826,9.582768196574773E-2,2.0187662277699792E-2]
[]
["Source: http://www.epa.gov/cleanenergy/energy-resources/egrid/index.html"]
["1 - eGrid 2014 Data File V2 - SRL14 tab - https://www.epa.gov/energy/emissions-generation-resource-integrated-database-egrid"]
["2 - Table 3.5 - Grid Loss Factors https://www.epa.gov/sites/production/files/2017-02/documents/egrid2014_technicalsupportdocument_v2.pdf"]
["3 - http://www.ucsusa.org/sites/default/files/attach/2015/11/Cleaner-Cars-from-Cradle-to-Grave-full-report.pdf"]
["4 - National Average Annual Emissions Trends - https://www.epa.gov/air-emissions-inventories/air-pollutant-emissions-trends-data"]
[]
["Gasoline Emissions"]
["Pollutant","Car Tailpipe Emissions","Car Lifecycle Emissions","Pickup Tailpipe Emissions","Pickup Lifecycle Emissions","SUV Tailpipe Emissions","SUV Lifecycle Emissions"]
["CO2 ( g/MJ)",71.67,90.01,70.59,88.93,71.64,89.98]
["GHG-100 (g/MJ)",68.59,90.24,69.95,91.59,68.59,90.24]
["Nox (mg/MJ)",26.45,67.84,86.16,{"$f":"0.13*1000","v":130},33.79,75.180000000000007]
["Sox (mg/MJ)",0,35.49,0,35.49,0,35.49]
["PM10 (mg/MJ)",1.19,4.87,1.97,5.66,1.39,5.07]
["PM2.5 (mg/MJ)",1.05,3.5,1.75,4.1900000000000004,1.23,3.68]
["VOC (mg/MJ)",29.66,57.99,30.32,58.66,24.5,52.83]
[]
["Source: https://greet.es.anl.gov"]
[]
["Other Default Values and Scalars"]
["Factor","Value","Source"]
["% of Annual Miles City Driving",0.55000000000000004,"https://www.epa.gov/fueleconomy/plug-hybrid-electric-vehicle-learn-more-about-new-label"]
["Carbon Price",36,"https://www.epa.gov/climatechange/social-cost-carbon"]
["kWh per Gasoline Gallon",33.700000000000003,"*EPA number "]
["KWh per MJ",0.27777800000000002,"kWh / MJ"]
["MJ per Gasoline Gallon",{"$f":"B213/B214","v":121.31990294407764},"*EPA uses 121 MJ/gallon"]
["Miligram per Pound",453592]
["Grab per Pound",{"$f":"B216/1000","v":453.59199999999998}]
["Level 2 Charging Station Cost",5000]
["Level 2 Charging Annual Maintenance Cost",75]

{"sheet":"Zipcode Data","index":9,"n_rows":42525,"n_cols":6,"rows_kept":4500,"cut":true,"hidden":true,"merged":[],"bounds":{"rows_first":2000,"rows_last":500,"rows_between":2000,"halvings":0}}
["Zipcode Data - EV Fleet Procurement Analysis Tool"]
[]
["Zip Code Lookup Table"]
["PostalCodeStandardized","City","StateCode","State Name","PADD Region","Primary eGRID Subregion"]
["00705","AIBONITO","PR","Puerto Rico"]
["00610","ANASCO","PR","Puerto Rico"]
["00611","ANGELES","PR","Puerto Rico"]
["00612","ARECIBO","PR","Puerto Rico"]
["00601","ADJUNTAS","PR","Puerto Rico"]
["00631","CASTANER","PR","Puerto Rico"]
["00602","AGUADA","PR","Puerto Rico"]
["00603","AGUADILLA","PR","Puerto Rico"]
["00604","AGUADILLA","PR","Puerto Rico"]
["00605","AGUADILLA","PR","Puerto Rico"]
["00703","AGUAS BUENAS","PR","Puerto Rico"]
["00704","AGUIRRE","PR","Puerto Rico"]
["07675","WESTWOOD","NJ","New Jersey","1b","NYUP"]
["07677","WOODCLIFF LAKE","NJ","New Jersey","1b","RFCE"]
["07885","WHARTON","NJ","New Jersey","1b","RFCE"]
["07981","WHIPPANY","NJ","New Jersey","1b","RFCE"]
["07999","WHIPPANY","NJ","New Jersey","1b","RFCE"]
["08888","WHITEHOUSE","NJ","New Jersey","1b","RFCE"]
["08889","WHITEHOUSE STATION","NJ","New Jersey","1b","RFCE"]
["07095","WOODBRIDGE","NJ","New Jersey","1b","RFCE"]
["07481","WYCKOFF","NJ","New Jersey","1b","NYUP"]
["10451","BRONX","NY","New York","1b","NYCW"]
["10452","BRONX","NY","New York","1b","NYCW"]
["10453","BRONX","NY","New York","1b","NYCW"]
["10454","BRONX","NY","New York","1b","NYCW"]
["10455","BRONX","NY","New York","1b","NYCW"]
["10456","BRONX","NY","New York","1b","NYCW"]
["10457","BRONX","NY","New York","1b","NYCW"]
["10458","BRONX","NY","New York","1b","NYCW"]
["10459","BRONX","NY","New York","1b","NYCW"]
["10460","BRONX","NY","New York","1b","NYCW"]
["10461","BRONX","NY","New York","1b","NYCW"]
["10462","BRONX","NY","New York","1b","NYCW"]
["10463","BRONX","NY","New York","1b","NYCW"]
["10464","BRONX","NY","New York","1b","NYCW"]
["10465","BRONX","NY","New York","1b","NYCW"]
["10466","BRONX","NY","New York","1b","NYCW"]
["10467","BRONX","NY","New York","1b","NYCW"]
["10468","BRONX","NY","New York","1b","NYCW"]
["10469","BRONX","NY","New York","1b","NYCW"]
["10470","BRONX","NY","New York","1b","NYCW"]
["10471","BRONX","NY","New York","1b","NYCW"]
["10472","BRONX","NY","New York","1b","NYCW"]
["10473","BRONX","NY","New York","1b","NYCW"]
["10474","BRONX","NY","New York","1b","NYCW"]
["10475","BRONX","NY","New York","1b","NYCW"]
["10499","BRONX","NY","New York","1b","NYCW"]
["10001","NEW YORK","NY","New York","1b","NYCW"]
["10002","NEW YORK","NY","New York","1b","NYCW"]
["10003","NEW YORK","NY","New York","1b","NYCW"]
["10004","NEW YORK","NY","New York","1b","NYCW"]
["10005","NEW YORK","NY","New York","1b","NYCW"]
["10006","NEW YORK","NY","New York","1b","NYCW"]
["10007","NEW YORK","NY","New York","1b","NYCW"]
["10008","NEW YORK","NY","New York","1b","NYCW"]
["10009","NEW YORK","NY","New York","1b","NYCW"]
["10010","NEW YORK","NY","New York","1b","NYCW"]
["10011","NEW YORK","NY","New York","1b","NYCW"]
["10012","NEW YORK","NY","New York","1b","NYCW"]
["10013","NEW YORK","NY","New York","1b","NYCW"]
["10014","NEW YORK","NY","New York","1b","NYCW"]
["10016","NEW YORK","NY","New York","1b","NYCW"]
["10017","NEW YORK","NY","New York","1b","NYCW"]
["10018","NEW YORK","NY","New York","1b","NYCW"]
["10019","NEW YORK","NY","New York","1b","NYCW"]
["10020","NEW YORK","NY","New York","1b","NYCW"]
["10021","NEW YORK","NY","New York","1b","NYCW"]
["10022","NEW YORK","NY","New York","1b","NYCW"]
["10023","NEW YORK","NY","New York","1b","NYCW"]
["10024","NEW YORK","NY","New York","1b","NYCW"]
["10025","NEW YORK","NY","New York","1b","NYCW"]
["10026","NEW YORK","NY","New York","1b","NYCW"]
["10027","NEW YORK","NY","New York","1b","NYCW"]
["10028","NEW YORK","NY","New York","1b","NYCW"]
["10029","NEW YORK","NY","New York","1b","NYCW"]
["10030","NEW YORK","NY","New York","1b","NYCW"]
["10031","NEW YORK","NY","New York","1b","NYCW"]
["10032","NEW YORK","NY","New York","1b","NYCW"]
["10033","NEW YORK","NY","New York","1b","NYCW"]
["10034","NEW YORK","NY","New York","1b","NYCW"]
["00613","ARECIBO","PR","Puerto Rico"]
["00614","ARECIBO","PR","Puerto Rico"]
["00714","ARROYO","PR","Puerto Rico"]
["00616","BAJADERO","PR","Puerto Rico"]
["00617","BARCELONETA","PR","Puerto Rico"]
["00794","BARRANQUITAS","PR","Puerto Rico"]
["00622","BOQUERON","PR","Puerto Rico"]
["00623","CABO ROJO","PR","Puerto Rico"]
["00627","CAMUY","PR","Puerto Rico"]
["00729","CANOVANAS","PR","Puerto Rico"]
["00979","CAROLINA","PR","Puerto Rico"]
["00981","CAROLINA","PR","Puerto Rico"]
["00982","CAROLINA","PR","Puerto Rico"]
["00983","CAROLINA","PR","Puerto Rico"]
["00984","CAROLINA","PR","Puerto Rico"]
["00985","CAROLINA","PR","Puerto Rico"]
["00986","CAROLINA","PR","Puerto Rico"]
["00987","CAROLINA","PR","Puerto Rico"]
["00988","CAROLINA","PR","Puerto Rico"]
["00736","CAYEY","PR","Puerto Rico"]
["00739","CIDRA","PR","Puerto Rico"]
["00769","COAMO","PR","Puerto Rico"]
["00782","COMERIO","PR","Puerto Rico"]
["00783","COROZAL","PR","Puerto Rico"]
["09848","APO","AE","U.S. Armed Forces – Europe"]
["10200","NEW YORK","NY","New York","1b","NYCW"]
["09323","APO","AE","U.S. Armed Forces – Europe"]
["00659","HATILLO","PR","Puerto Rico"]
["00660","HORMIGUEROS","PR","Puerto Rico"]
["00791","HUMACAO","PR","Puerto Rico"]
["00792","HUMACAO","PR","Puerto Rico"]
["00662","ISABELA","PR","Puerto Rico"]
["00664","JAYUYA","PR","Puerto Rico"]
["00795","JUANA DIAZ","PR","Puerto Rico"]
["00777","JUNCOS","PR","Puerto Rico"]
["00728","PONCE","PR","Puerto Rico"]
["00725","CAGUAS","PR","Puerto Rico"]
["00726","CAGUAS","PR","Puerto Rico"]
["00727","CAGUAS","PR","Puerto Rico"]
["00737","CAYEY","PR","Puerto Rico"]
["00735","CEIBA","PR","Puerto Rico"]
["00742","ROOSEVELT ROADS","PR","Puerto Rico"]
["00638","CIALES","PR","Puerto Rico"]
["00780","COTO LAUREL","PR","Puerto Rico"]
["00775","CULEBRA","PR","Puerto Rico"]
["00646","DORADO","PR","Puerto Rico"]
["00647","ENSENADA","PR","Puerto Rico"]
["00738","FAJARDO","PR","Puerto Rico"]
["00650","FLORIDA","PR","Puerto Rico"]
["00652","GARROCHALES","PR","Puerto Rico"]
["00653","GUANICA","PR","Puerto Rico"]
["00784","GUAYAMA","PR","Puerto Rico"]
["00785","GUAYAMA","PR","Puerto Rico"]
["00965","GUAYNABO","PR","Puerto Rico"]
["00966","GUAYNABO","PR","Puerto Rico"]
["00968","GUAYNABO","PR","Puerto Rico"]
["00969","GUAYNABO","PR","Puerto Rico"]
["00970","GUAYNABO","PR","Puerto Rico"]
["00971","GUAYNABO","PR","Puerto Rico"]
["00778","GURABO","PR","Puerto Rico"]
["00667","LAJAS","PR","Puerto Rico"]
["00786","LA PLATA","PR","Puerto Rico"]
["00669","LARES","PR","Puerto Rico"]
["00670","LAS MARIAS","PR","Puerto Rico"]
["00771","LAS PIEDRAS","PR","Puerto Rico"]
["00931","SAN JUAN","PR","Puerto Rico"]
["00933","SAN JUAN","PR","Puerto Rico"]
["00934","FORT BUCHANAN","PR","Puerto Rico"]
["00935","SAN JUAN","PR","Puerto Rico"]
["00936","SAN JUAN","PR","Puerto Rico"]
["00772","LOIZA","PR","Puerto Rico"]
["00773","LUQUILLO","PR","Puerto Rico"]
["00674","MANATI","PR","Puerto Rico"]
["00606","MARICAO","PR","Puerto Rico"]
["00707","MAUNABO","PR","Puerto Rico"]
["00636","ROSARIO","PR","Puerto Rico"]
["00680","MAYAGUEZ","PR","Puerto Rico"]
["00681","MAYAGUEZ","PR","Puerto Rico"]
["00682","MAYAGUEZ","PR","Puerto Rico"]
["00715","MERCEDITA","PR","Puerto Rico"]
["00676","MOCA","PR","Puerto Rico"]
["00687","MOROVIS","PR","Puerto Rico"]
["00718","NAGUABO","PR","Puerto Rico"]
["00719","NARANJITO","PR","Puerto Rico"]
["00720","OROCOVIS","PR","Puerto Rico"]
["00723","PATILLAS","PR","Puerto Rico"]
["00624","PENUELAS","PR","Puerto Rico"]
["00716","PONCE","PR","Puerto Rico"]
["00717","PONCE","PR","Puerto Rico"]
["00730","PONCE","PR","Puerto Rico"]
["00731","PONCE","PR","Puerto Rico"]
["00732","PONCE","PR","Puerto Rico"]
["00733","PONCE","PR","Puerto Rico"]
["00734","PONCE","PR","Puerto Rico"]
["00740","PUERTO REAL","PR","Puerto Rico"]
["00741","PUNTA SANTIAGO","PR","Puerto Rico"]
["00678","QUEBRADILLAS","PR","Puerto Rico"]
["00677","RINCON","PR","Puerto Rico"]
["00744","RIO BLANCO","PR","Puerto Rico"]
["00721","PALMER","PR","Puerto Rico"]
["00745","RIO GRANDE","PR","Puerto Rico"]
["00637","SABANA GRANDE","PR","Puerto Rico"]
["00688","SABANA HOYOS","PR","Puerto Rico"]
["00952","SABANA SECA","PR","Puerto Rico"]
["00751","SALINAS","PR","Puerto Rico"]
["00690","SAN ANTONIO","PR","Puerto Rico"]
["00683","SAN GERMAN","PR","Puerto Rico"]
["00901","SAN JUAN","PR","Puerto Rico"]
["00902","SAN JUAN","PR","Puerto Rico"]
["00906","SAN JUAN","PR","Puerto Rico"]
["00907","SAN JUAN","PR","Puerto Rico"]
["00908","SAN JUAN","PR","Puerto Rico"]
["00909","SAN JUAN","PR","Puerto Rico"]
["00910","SAN JUAN","PR","Puerto Rico"]
["00911","SAN JUAN","PR","Puerto Rico"]
["00912","SAN JUAN","PR","Puerto Rico"]
["00913","SAN JUAN","PR","Puerto Rico"]
["00914","SAN JUAN","PR","Puerto Rico"]
["00915","SAN JUAN","PR","Puerto Rico"]
["00916","SAN JUAN","PR","Puerto Rico"]
["00917","SAN JUAN","PR","Puerto Rico"]
["00918","SAN JUAN","PR","Puerto Rico"]
["00919","SAN JUAN","PR","Puerto Rico"]
["00920","SAN JUAN","PR","Puerto Rico"]
["00921","SAN JUAN","PR","Puerto Rico"]
["00922","SAN JUAN","PR","Puerto Rico"]
["00923","SAN JUAN","PR","Puerto Rico"]
["00924","SAN JUAN","PR","Puerto Rico"]
["00925","SAN JUAN","PR","Puerto Rico"]
["00926","SAN JUAN","PR","Puerto Rico"]
["00927","SAN JUAN","PR","Puerto Rico"]
["00928","SAN JUAN","PR","Puerto Rico"]
["00929","SAN JUAN","PR","Puerto Rico"]
["00930","SAN JUAN","PR","Puerto Rico"]
["00937","SAN JUAN","PR","Puerto Rico"]
["00939","SAN JUAN","PR","Puerto Rico"]
["00940","SAN JUAN","PR","Puerto Rico"]
["00955","SAN JUAN","PR","Puerto Rico"]
["00956","BAYAMON","PR","Puerto Rico"]
["00957","BAYAMON","PR","Puerto Rico"]
["00958","BAYAMON","PR","Puerto Rico"]
["00959","BAYAMON","PR","Puerto Rico"]
["00801","ST THOMAS","VI","U.S. Virgin Islands"]
["00802","ST THOMAS","VI","U.S. Virgin Islands"]
["00803","ST THOMAS","VI","U.S. Virgin Islands"]
["00804","ST THOMAS","VI","U.S. Virgin Islands"]
["00805","ST THOMAS","VI","U.S. Virgin Islands"]
["00820","CHRISTIANSTED","VI","U.S. Virgin Islands"]
["00821","CHRISTIANSTED","VI","U.S. Virgin Islands"]
["00822","CHRISTIANSTED","VI","U.S. Virgin Islands"]
["00823","CHRISTIANSTED","VI","U.S. Virgin Islands"]
["00824","CHRISTIANSTED","VI","U.S. Virgin Islands"]
["00830","ST JOHN","VI","U.S. Virgin Islands"]
["00831","ST JOHN","VI","U.S. Virgin Islands"]
["00840","FREDERIKSTED","VI","U.S. Virgin Islands"]
["00841","FREDERIKSTED","VI","U.S. Virgin Islands"]
["00850","KINGSHILL","VI","U.S. Virgin Islands"]
["00851","KINGSHILL","VI","U.S. Virgin Islands"]
["02478","BELMONT","MA","Massachusetts","1a","NEWE"]
["02479","WAVERLEY","MA","Massachusetts","1a","NEWE"]
["02445","BROOKLINE","MA","Massachusetts","1a","NEWE"]
["02446","BROOKLINE","MA","Massachusetts","1a","NEWE"]
["02447","BROOKLINE VILLAGE","MA","Massachusetts","1a","NEWE"]
["02420","LEXINGTON","MA","Massachusetts","1a","NEWE"]
["02421","LEXINGTON","MA","Massachusetts","1a","NEWE"]
["02492","NEEDHAM","MA","Massachusetts","1a","NEWE"]
["02494","NEEDHAM HEIGHTS","MA","Massachusetts","1a","NEWE"]
["02456","NEW TOWN","MA","Massachusetts","1a","NEWE"]
["02458","NEWTON","MA","Massachusetts","1a","NEWE"]
["02459","NEWTON CENTER","MA","Massachusetts","1a","NEWE"]
["02460","NEWTONVILLE","MA","Massachusetts","1a","NEWE"]
["02461","NEWTON HIGHLANDS","MA","Massachusetts","1a","NEWE"]
["02462","NEWTON LOWER FALLS","MA","Massachusetts","1a","NEWE"]
["02464","NEWTON UPPER FALLS","MA","Massachusetts","1a","NEWE"]
["02465","WEST NEWTON","MA","Massachusetts","1a","NEWE"]
["02466","AUBURNDALE","MA","Massachusetts","1a","NEWE"]
["00960","BAYAMON","PR","Puerto Rico"]
["00961","BAYAMON","PR","Puerto Rico"]
["00962","CATANO","PR","Puerto Rico"]
["00963","CATANO","PR","Puerto Rico"]
["00975","SAN JUAN","PR","Puerto Rico"]
["00976","TRUJILLO ALTO","PR","Puerto Rico"]
["00977","TRUJILLO ALTO","PR","Puerto Rico"]
["00978","SAINT JUST","PR","Puerto Rico"]
["00754","SAN LORENZO","PR","Puerto Rico"]
["00685","SAN SEBASTIAN","PR","Puerto Rico"]
["00757","SANTA ISABEL","PR","Puerto Rico"]
["00953","TOA ALTA","PR","Puerto Rico"]
["00954","TOA ALTA","PR","Puerto Rico"]
["00949","TOA BAJA","PR","Puerto Rico"]
["00950","TOA BAJA","PR","Puerto Rico"]
["00951","TOA BAJA","PR","Puerto Rico"]
["00641","UTUADO","PR","Puerto Rico"]
["00692","VEGA ALTA","PR","Puerto Rico"]
["00693","VEGA BAJA","PR","Puerto Rico"]
["00694","VEGA BAJA","PR","Puerto Rico"]
["00765","VIEQUES","PR","Puerto Rico"]
["00766","VILLALBA","PR","Puerto Rico"]
["00767","YABUCOA","PR","Puerto Rico"]
["00698","YAUCO","PR","Puerto Rico"]
["02467","CHESTNUT HILL","MA","Massachusetts","1a","NEWE"]
["02468","WABAN","MA","Massachusetts","1a","NEWE"]
["02495","NONANTUM","MA","Massachusetts","1a","NEWE"]
["02451","WALTHAM","MA","Massachusetts","1a","NEWE"]
["02452","WALTHAM","MA","Massachusetts","1a","NEWE"]
["02453","WALTHAM","MA","Massachusetts","1a","NEWE"]
["02454","WALTHAM","MA","Massachusetts","1a","NEWE"]
["02455","NORTH WALTHAM","MA","Massachusetts","1a","NEWE"]
["02471","WATERTOWN","MA","Massachusetts","1a","NEWE"]
["02472","WATERTOWN","MA","Massachusetts","1a","NEWE"]
["02477","WATERTOWN","MA","Massachusetts","1a","NEWE"]
["02457","BABSON PARK","MA","Massachusetts","1a","NEWE"]
["02481","WELLESLEY HILLS","MA","Massachusetts","1a","NEWE"]
["02482","WELLESLEY","MA","Massachusetts","1a","NEWE"]
["02493","WESTON","MA","Massachusetts","1a","NEWE"]
["02184","BRAINTREE","MA","Massachusetts","1a","NEWE"]
["02185","BRAINTREE","MA","Massachusetts","1a","NEWE"]
["02186","MILTON","MA","Massachusetts","1a","NEWE"]
["02187","MILTON VILLAGE","MA","Massachusetts","1a","NEWE"]
["02169","QUINCY","MA","Massachusetts","1a","NEWE"]
["02170","QUINCY","MA","Massachusetts","1a","NEWE"]
["02171","QUINCY","MA","Massachusetts","1a","NEWE"]
["02269","QUINCY","MA","Massachusetts","1a","NEWE"]
["02188","WEYMOUTH","MA","Massachusetts","1a","NEWE"]
["02189","EAST WEYMOUTH","MA","Massachusetts","1a","NEWE"]
["02190","SOUTH WEYMOUTH","MA","Massachusetts","1a","NEWE"]
["02191","NORTH WEYMOUTH","MA","Massachusetts","1a","NEWE"]
["01718","VILLAGE OF NAGOG WOODS","MA","Massachusetts","1a","NEWE"]
["01719","BOXBOROUGH","MA","Massachusetts","1a","NEWE"]
["01720","ACTON","MA","Massachusetts","1a","NEWE"]
["02474","ARLINGTON","MA","Massachusetts","1a","NEWE"]
["02475","ARLINGTON HEIGHTS","MA","Massachusetts","1a","NEWE"]
["02476","ARLINGTON","MA","Massachusetts","1a","NEWE"]
["02150","CHELSEA","MA","Massachusetts","1a","NEWE"]
["02149","EVERETT","MA","Massachusetts","1a","NEWE"]
["02152","WINTHROP","MA","Massachusetts","1a","NEWE"]
["02151","REVERE","MA","Massachusetts","1a","NEWE"]
["02148","MALDEN","MA","Massachusetts","1a","NEWE"]
["02176","MELROSE","MA","Massachusetts","1a","NEWE"]
["02153","MEDFORD","MA","Massachusetts","1a","NEWE"]
["02155","MEDFORD","MA","Massachusetts","1a","NEWE"]
["02156","WEST MEDFORD","MA","Massachusetts","1a","NEWE"]
["02143","SOMERVILLE","MA","Massachusetts","1a","NEWE"]
["02144","SOMERVILLE","MA","Massachusetts","1a","NEWE"]
["02145","SOMERVILLE","MA","Massachusetts","1a","NEWE"]
["02180","STONEHAM","MA","Massachusetts","1a","NEWE"]
["01913","AMESBURY","MA","Massachusetts","1a","NEWE"]
["01810","ANDOVER","MA","Massachusetts","1a","NEWE"]
["01812","ANDOVER","MA","Massachusetts","1a","NEWE"]
["01899","ANDOVER","MA","Massachusetts","1a","NEWE"]
["05501","ANDOVER","MA","Massachusetts","1a","NEWE"]
["01586","WEST MILLBURY","MA","Massachusetts","1a","NEWE"]
["02054","MILLIS","MA","Massachusetts","1a","NEWE"]
["01529","MILLVILLE","MA","Massachusetts","1a","NEWE"]
["02350","MONPONSETT","MA","Massachusetts","1a","NEWE"]
["02553","MONUMENT BEACH","MA","Massachusetts","1a","NEWE"]
["02554","NANTUCKET","MA","Massachusetts","1a","NEWE"]
["02564","SIASCONSET","MA","Massachusetts","1a","NEWE"]
["02584","NANTUCKET","MA","Massachusetts","1a","NEWE"]
["01760","NATICK","MA","Massachusetts","1a","NEWE"]
["01531","NEW BRAINTREE","MA","Massachusetts","1a","NEWE"]
["01950","NEWBURYPORT","MA","Massachusetts","1a","NEWE"]
["01951","NEWBURY","MA","Massachusetts","1a","NEWE"]
["01952","SALISBURY","MA","Massachusetts","1a","NEWE"]
["02056","NORFOLK","MA","Massachusetts","1a","NEWE"]
["02351","ABINGTON","MA","Massachusetts","1a","NEWE"]
["01862","NORTH BILLERICA","MA","Massachusetts","1a","NEWE"]
["01532","NORTHBOROUGH","MA","Massachusetts","1a","NEWE"]
["01534","NORTHBRIDGE","MA","Massachusetts","1a","NEWE"]
["01535","NORTH BROOKFIELD","MA","Massachusetts","1a","NEWE"]
["02355","NORTH CARVER","MA","Massachusetts","1a","NEWE"]
["02650","NORTH CHATHAM","MA","Massachusetts","1a","NEWE"]
["01863","NORTH CHELMSFORD","MA","Massachusetts","1a","NEWE"]
["02651","NORTH EASTHAM","MA","Massachusetts","1a","NEWE"]
["02356","NORTH EASTON","MA","Massachusetts","1a","NEWE"]
["02357","NORTH EASTON","MA","Massachusetts","1a","NEWE"]
["02556","NORTH FALMOUTH","MA","Massachusetts","1a","NEWE"]
["02565","SILVER BEACH","MA","Massachusetts","1a","NEWE"]
["01536","NORTH GRAFTON","MA","Massachusetts","1a","NEWE"]
["02059","NORTH MARSHFIELD","MA","Massachusetts","1a","NEWE"]
["01537","NORTH OXFORD","MA","Massachusetts","1a","NEWE"]
["02358","NORTH PEMBROKE","MA","Massachusetts","1a","NEWE"]
["01864","NORTH READING","MA","Massachusetts","1a","NEWE"]
["01889","NORTH READING","MA","Massachusetts","1a","NEWE"]
["05544","ANDOVER","MA","Massachusetts","1a","NEWE"]
["01430","ASHBURNHAM","MA","Massachusetts","1a","NEWE"]
["01431","ASHBY","MA","Massachusetts","1a","NEWE"]
["01721","ASHLAND","MA","Massachusetts","1a","NEWE"]
["01501","AUBURN","MA","Massachusetts","1a","NEWE"]
["02322","AVON","MA","Massachusetts","1a","NEWE"]
["01432","AYER","MA","Massachusetts","1a","NEWE"]
["01434","DEVENS","MA","Massachusetts","1a","NEWE"]
["01436","BALDWINVILLE","MA","Massachusetts","1a","NEWE"]
["02630","BARNSTABLE","MA","Massachusetts","1a","NEWE"]
["01730","BEDFORD","MA","Massachusetts","1a","NEWE"]
["01731","HANSCOM AFB","MA","Massachusetts","1a","NEWE"]
["02019","BELLINGHAM","MA","Massachusetts","1a","NEWE"]
["01503","BERLIN","MA","Massachusetts","1a","NEWE"]
["01915","BEVERLY","MA","Massachusetts","1a","NEWE"]
["01821","BILLERICA","MA","Massachusetts","1a","NEWE"]
["01822","BILLERICA","MA","Massachusetts","1a","NEWE"]
["01504","BLACKSTONE","MA","Massachusetts","1a","NEWE"]
["01740","BOLTON","MA","Massachusetts","1a","NEWE"]
["02108","BOSTON","MA","Massachusetts","1a","NEWE"]
["02109","BOSTON","MA","Massachusetts","1a","NEWE"]
["02110","BOSTON","MA","Massachusetts","1a","NEWE"]
["02111","BOSTON","MA","Massachusetts","1a","NEWE"]
["02112","BOSTON","MA","Massachusetts","1a","NEWE"]
["02113","BOSTON","MA","Massachusetts","1a","NEWE"]
["02114","BOSTON","MA","Massachusetts","1a","NEWE"]
["02115","BOSTON","MA","Massachusetts","1a","NEWE"]
["02116","BOSTON","MA","Massachusetts","1a","NEWE"]
["02117","BOSTON","MA","Massachusetts","1a","NEWE"]
["02118","BOSTON","MA","Massachusetts","1a","NEWE"]
["02119","ROXBURY","MA","Massachusetts","1a","NEWE"]
["02120","ROXBURY CROSSING","MA","Massachusetts","1a","NEWE"]
["02121","DORCHESTER","MA","Massachusetts","1a","NEWE"]
["02122","DORCHESTER","MA","Massachusetts","1a","NEWE"]
["02123","BOSTON","MA","Massachusetts","1a","NEWE"]
["02124","DORCHESTER CENTER","MA","Massachusetts","1a","NEWE"]
["02125","DORCHESTER","MA","Massachusetts","1a","NEWE"]
["02126","MATTAPAN","MA","Massachusetts","1a","NEWE"]
["02127","BOSTON","MA","Massachusetts","1a","NEWE"]
["02128","BOSTON","MA","Massachusetts","1a","NEWE"]
["02129","CHARLESTOWN","MA","Massachusetts","1a","NEWE"]
["02130","JAMAICA PLAIN","MA","Massachusetts","1a","NEWE"]
["02131","ROSLINDALE","MA","Massachusetts","1a","NEWE"]
["02132","WEST ROXBURY","MA","Massachusetts","1a","NEWE"]
["02133","BOSTON","MA","Massachusetts","1a","NEWE"]
["02134","ALLSTON","MA","Massachusetts","1a","NEWE"]
["02135","BRIGHTON","MA","Massachusetts","1a","NEWE"]
["02136","HYDE PARK","MA","Massachusetts","1a","NEWE"]
["02137","READVILLE","MA","Massachusetts","1a","NEWE"]
["02163","BOSTON","MA","Massachusetts","1a","NEWE"]
["02196","BOSTON","MA","Massachusetts","1a","NEWE"]
["02199","BOSTON","MA","Massachusetts","1a","NEWE"]
["02201","BOSTON","MA","Massachusetts","1a","NEWE"]
["02203","BOSTON","MA","Massachusetts","1a","NEWE"]
["02204","BOSTON","MA","Massachusetts","1a","NEWE"]
["02205","BOSTON","MA","Massachusetts","1a","NEWE"]
["02206","BOSTON","MA","Massachusetts","1a","NEWE"]
["02210","BOSTON","MA","Massachusetts","1a","NEWE"]
["02211","BOSTON","MA","Massachusetts","1a","NEWE"]
["02212","BOSTON","MA","Massachusetts","1a","NEWE"]
["02215","BOSTON","MA","Massachusetts","1a","NEWE"]
["02217","BOSTON","MA","Massachusetts","1a","NEWE"]
["02222","BOSTON","MA","Massachusetts","1a","NEWE"]
["02228","EAST BOSTON","MA","Massachusetts","1a","NEWE"]
["02241","BOSTON","MA","Massachusetts","1a","NEWE"]
["02266","BOSTON","MA","Massachusetts","1a","NEWE"]
["02283","BOSTON","MA","Massachusetts","1a","NEWE"]
["02284","BOSTON","MA","Massachusetts","1a","NEWE"]
["02293","BOSTON","MA","Massachusetts","1a","NEWE"]
["02295","BOSTON","MA","Massachusetts","1a","NEWE"]
["02297","BOSTON","MA","Massachusetts","1a","NEWE"]
["02298","BOSTON","MA","Massachusetts","1a","NEWE"]
["01921","BOXFORD","MA","Massachusetts","1a","NEWE"]
["01505","BOYLSTON","MA","Massachusetts","1a","NEWE"]
["02020","BRANT ROCK","MA","Massachusetts","1a","NEWE"]
["02631","BREWSTER","MA","Massachusetts","1a","NEWE"]
["02324","BRIDGEWATER","MA","Massachusetts","1a","NEWE"]
["02325","BRIDGEWATER","MA","Massachusetts","1a","NEWE"]
["02301","BROCKTON","MA","Massachusetts","1a","NEWE"]
["02302","BROCKTON","MA","Massachusetts","1a","NEWE"]
["02303","BROCKTON","MA","Massachusetts","1a","NEWE"]
["02304","BROCKTON","MA","Massachusetts","1a","NEWE"]
["02305","BROCKTON","MA","Massachusetts","1a","NEWE"]
["01506","BROOKFIELD","MA","Massachusetts","1a","NEWE"]
["02327","BRYANTVILLE","MA","Massachusetts","1a","NEWE"]
["01803","BURLINGTON","MA","Massachusetts","1a","NEWE"]
["01805","BURLINGTON","MA","Massachusetts","1a","NEWE"]
["02532","BUZZARDS BAY","MA","Massachusetts","1a","NEWE"]
["02542","BUZZARDS BAY","MA","Massachusetts","1a","NEWE"]
["01922","BYFIELD","MA","Massachusetts","1a","NEWE"]
["02138","CAMBRIDGE","MA","Massachusetts","1a","NEWE"]
["02139","CAMBRIDGE","MA","Massachusetts","1a","NEWE"]
["02140","CAMBRIDGE","MA","Massachusetts","1a","NEWE"]
["02141","CAMBRIDGE","MA","Massachusetts","1a","NEWE"]
["02142","CAMBRIDGE","MA","Massachusetts","1a","NEWE"]
["02238","CAMBRIDGE","MA","Massachusetts","1a","NEWE"]
["02021","CANTON","MA","Massachusetts","1a","NEWE"]
["01741","CARLISLE","MA","Massachusetts","1a","NEWE"]
["02330","CARVER","MA","Massachusetts","1a","NEWE"]
["02534","CATAUMET","MA","Massachusetts","1a","NEWE"]
["02632","CENTERVILLE","MA","Massachusetts","1a","NEWE"]
["02634","CENTERVILLE","MA","Massachusetts","1a","NEWE"]
["01507","CHARLTON","MA","Massachusetts","1a","NEWE"]
["01509","CHARLTON DEPOT","MA","Massachusetts","1a","NEWE"]
["01508","CHARLTON CITY","MA","Massachusetts","1a","NEWE"]
["02633","CHATHAM","MA","Massachusetts","1a","NEWE"]
["01824","CHELMSFORD","MA","Massachusetts","1a","NEWE"]
["02535","CHILMARK","MA","Massachusetts","1a","NEWE"]
["02552","MENEMSHA","MA","Massachusetts","1a","NEWE"]
["01510","CLINTON","MA","Massachusetts","1a","NEWE"]
["02025","COHASSET","MA","Massachusetts","1a","NEWE"]
["01742","CONCORD","MA","Massachusetts","1a","NEWE"]
["02635","COTUIT","MA","Massachusetts","1a","NEWE"]
["02652","NORTH TRURO","MA","Massachusetts","1a","NEWE"]
["01538","NORTH UXBRIDGE","MA","Massachusetts","1a","NEWE"]
["02061","NORWELL","MA","Massachusetts","1a","NEWE"]
["02062","NORWOOD","MA","Massachusetts","1a","NEWE"]
["01865","NUTTING LAKE","MA","Massachusetts","1a","NEWE"]
["02557","OAK BLUFFS","MA","Massachusetts","1a","NEWE"]
["02558","ONSET","MA","Massachusetts","1a","NEWE"]
["02653","ORLEANS","MA","Massachusetts","1a","NEWE"]
["02655","OSTERVILLE","MA","Massachusetts","1a","NEWE"]
["01540","OXFORD","MA","Massachusetts","1a","NEWE"]
["01960","PEABODY","MA","Massachusetts","1a","NEWE"]
["01961","PEABODY","MA","Massachusetts","1a","NEWE"]
["02359","PEMBROKE","MA","Massachusetts","1a","NEWE"]
["01463","PEPPERELL","MA","Massachusetts","1a","NEWE"]
["01866","PINEHURST","MA","Massachusetts","1a","NEWE"]
["02360","PLYMOUTH","MA","Massachusetts","1a","NEWE"]
["02361","PLYMOUTH","MA","Massachusetts","1a","NEWE"]
["02362","PLYMOUTH","MA","Massachusetts","1a","NEWE"]
["02367","PLYMPTON","MA","Massachusetts","1a","NEWE"]
["02559","POCASSET","MA","Massachusetts","1a","NEWE"]
["01965","PRIDES CROSSING","MA","Massachusetts","1a","NEWE"]
["01541","PRINCETON","MA","Massachusetts","1a","NEWE"]
["02657","PROVINCETOWN","MA","Massachusetts","1a","NEWE"]
["02368","RANDOLPH","MA","Massachusetts","1a","NEWE"]
["01867","READING","MA","Massachusetts","1a","NEWE"]
["01542","ROCHDALE","MA","Massachusetts","1a","NEWE"]
["02370","ROCKLAND","MA","Massachusetts","1a","NEWE"]
["01966","ROCKPORT","MA","Massachusetts","1a","NEWE"]
["01969","ROWLEY","MA","Massachusetts","1a","NEWE"]
["01543","RUTLAND","MA","Massachusetts","1a","NEWE"]
["02561","SAGAMORE","MA","Massachusetts","1a","NEWE"]
["02562","SAGAMORE BEACH","MA","Massachusetts","1a","NEWE"]
["01970","SALEM","MA","Massachusetts","1a","NEWE"]
["01971","SALEM","MA","Massachusetts","1a","NEWE"]
["02563","SANDWICH","MA","Massachusetts","1a","NEWE"]
["02040","GREENBUSH","MA","Massachusetts","1a","NEWE"]
["02055","MINOT","MA","Massachusetts","1a","NEWE"]
["02060","NORTH SCITUATE","MA","Massachusetts","1a","NEWE"]
["02066","SCITUATE","MA","Massachusetts","1a","NEWE"]
["02067","SHARON","MA","Massachusetts","1a","NEWE"]
["02070","SHELDONVILLE","MA","Massachusetts","1a","NEWE"]
["01770","SHERBORN","MA","Massachusetts","1a","NEWE"]
["01464","SHIRLEY","MA","Massachusetts","1a","NEWE"]
["01545","SHREWSBURY","MA","Massachusetts","1a","NEWE"]
["01546","SHREWSBURY","MA","Massachusetts","1a","NEWE"]
["01745","FAYVILLE","MA","Massachusetts","1a","NEWE"]
["01772","SOUTHBOROUGH","MA","Massachusetts","1a","NEWE"]
["01550","SOUTHBRIDGE","MA","Massachusetts","1a","NEWE"]
["02366","SOUTH CARVER","MA","Massachusetts","1a","NEWE"]
["02659","SOUTH CHATHAM","MA","Massachusetts","1a","NEWE"]
["02660","SOUTH DENNIS","MA","Massachusetts","1a","NEWE"]
["02375","SOUTH EASTON","MA","Massachusetts","1a","NEWE"]
["01560","SOUTH GRAFTON","MA","Massachusetts","1a","NEWE"]
["01982","SOUTH HAMILTON","MA","Massachusetts","1a","NEWE"]
["02661","SOUTH HARWICH","MA","Massachusetts","1a","NEWE"]
["01561","SOUTH LANCASTER","MA","Massachusetts","1a","NEWE"]
["02662","SOUTH ORLEANS","MA","Massachusetts","1a","NEWE"]
["02071","SOUTH WALPOLE","MA","Massachusetts","1a","NEWE"]
["02663","SOUTH WELLFLEET","MA","Massachusetts","1a","NEWE"]
["02664","SOUTH YARMOUTH","MA","Massachusetts","1a","NEWE"]
["02673","WEST YARMOUTH","MA","Massachusetts","1a","NEWE"]
["01562","SPENCER","MA","Massachusetts","1a","NEWE"]
["01564","STERLING","MA","Massachusetts","1a","NEWE"]
["01467","STILL RIVER","MA","Massachusetts","1a","NEWE"]
["02072","STOUGHTON","MA","Massachusetts","1a","NEWE"]
["01775","STOW","MA","Massachusetts","1a","NEWE"]
["01518","FISKDALE","MA","Massachusetts","1a","NEWE"]
["01566","STURBRIDGE","MA","Massachusetts","1a","NEWE"]
["01776","SUDBURY","MA","Massachusetts","1a","NEWE"]
["01590","SUTTON","MA","Massachusetts","1a","NEWE"]
["01468","TEMPLETON","MA","Massachusetts","1a","NEWE"]
["01876","TEWKSBURY","MA","Massachusetts","1a","NEWE"]
["01983","TOPSFIELD","MA","Massachusetts","1a","NEWE"]
["01469","TOWNSEND","MA","Massachusetts","1a","NEWE"]
["01474","WEST TOWNSEND","MA","Massachusetts","1a","NEWE"]
["02666","TRURO","MA","Massachusetts","1a","NEWE"]
["01879","TYNGSBORO","MA","Massachusetts","1a","NEWE"]
["01569","UXBRIDGE","MA","Massachusetts","1a","NEWE"]
["02568","VINEYARD HAVEN","MA","Massachusetts","1a","NEWE"]
["02573","WEST CHOP","MA","Massachusetts","1a","NEWE"]
["01880","WAKEFIELD","MA","Massachusetts","1a","NEWE"]
["02081","WALPOLE","MA","Massachusetts","1a","NEWE"]
["02571","WAREHAM","MA","Massachusetts","1a","NEWE"]
["01778","WAYLAND","MA","Massachusetts","1a","NEWE"]
["01570","WEBSTER","MA","Massachusetts","1a","NEWE"]
["01571","DUDLEY","MA","Massachusetts","1a","NEWE"]
["02667","WELLFLEET","MA","Massachusetts","1a","NEWE"]
["02637","CUMMAQUID","MA","Massachusetts","1a","NEWE"]
["01923","DANVERS","MA","Massachusetts","1a","NEWE"]
["02026","DEDHAM","MA","Massachusetts","1a","NEWE"]
["02027","DEDHAM","MA","Massachusetts","1a","NEWE"]
["02638","DENNIS","MA","Massachusetts","1a","NEWE"]
["02639","DENNIS PORT","MA","Massachusetts","1a","NEWE"]
["02030","DOVER","MA","Massachusetts","1a","NEWE"]
["01826","DRACUT","MA","Massachusetts","1a","NEWE"]
["01827","DUNSTABLE","MA","Massachusetts","1a","NEWE"]
["02331","DUXBURY","MA","Massachusetts","1a","NEWE"]
["02332","DUXBURY","MA","Massachusetts","1a","NEWE"]
["02333","EAST BRIDGEWATER","MA","Massachusetts","1a","NEWE"]
["01515","EAST BROOKFIELD","MA","Massachusetts","1a","NEWE"]
["02641","EAST DENNIS","MA","Massachusetts","1a","NEWE"]
["01516","DOUGLAS","MA","Massachusetts","1a","NEWE"]
["02536","EAST FALMOUTH","MA","Massachusetts","1a","NEWE"]
["02642","EASTHAM","MA","Massachusetts","1a","NEWE"]
["02334","EASTON","MA","Massachusetts","1a","NEWE"]
["02643","EAST ORLEANS","MA","Massachusetts","1a","NEWE"]
["01517","EAST PRINCETON","MA","Massachusetts","1a","NEWE"]
["02537","EAST SANDWICH","MA","Massachusetts","1a","NEWE"]
["01438","EAST TEMPLETON","MA","Massachusetts","1a","NEWE"]
["02032","EAST WALPOLE","MA","Massachusetts","1a","NEWE"]
["02538","EAST WAREHAM","MA","Massachusetts","1a","NEWE"]
["02539","EDGARTOWN","MA","Massachusetts","1a","NEWE"]
["02337","ELMWOOD","MA","Massachusetts","1a","NEWE"]
["01929","ESSEX","MA","Massachusetts","1a","NEWE"]
["02540","FALMOUTH","MA","Massachusetts","1a","NEWE"]
["02541","FALMOUTH","MA","Massachusetts","1a","NEWE"]
["02543","WOODS HOLE","MA","Massachusetts","1a","NEWE"]
["01521","HOLLAND","MA","Massachusetts","1a","NEWE"]
["01420","FITCHBURG","MA","Massachusetts","1a","NEWE"]
["02644","FORESTDALE","MA","Massachusetts","1a","NEWE"]
["02035","FOXBORO","MA","Massachusetts","1a","NEWE"]
["01701","FRAMINGHAM","MA","Massachusetts","1a","NEWE"]
["01702","FRAMINGHAM","MA","Massachusetts","1a","NEWE"]
["01703","FRAMINGHAM","MA","Massachusetts","1a","NEWE"]
["01704","FRAMINGHAM","MA","Massachusetts","1a","NEWE"]
["01705","FRAMINGHAM","MA","Massachusetts","1a","NEWE"]
["02038","FRANKLIN","MA","Massachusetts","1a","NEWE"]
["01440","GARDNER","MA","Massachusetts","1a","NEWE"]
["01930","GLOUCESTER","MA","Massachusetts","1a","NEWE"]
["01931","GLOUCESTER","MA","Massachusetts","1a","NEWE"]
["01519","GRAFTON","MA","Massachusetts","1a","NEWE"]
["02041","GREEN HARBOR","MA","Massachusetts","1a","NEWE"]
["01450","GROTON","MA","Massachusetts","1a","NEWE"]
["01470","GROTON","MA","Massachusetts","1a","NEWE"]
["01471","GROTON","MA","Massachusetts","1a","NEWE"]
["02338","HALIFAX","MA","Massachusetts","1a","NEWE"]
["01936","HAMILTON","MA","Massachusetts","1a","NEWE"]
["02339","HANOVER","MA","Massachusetts","1a","NEWE"]
["02340","HANOVER","MA","Massachusetts","1a","NEWE"]
["02341","HANSON","MA","Massachusetts","1a","NEWE"]
["01451","HARVARD","MA","Massachusetts","1a","NEWE"]
["02645","HARWICH","MA","Massachusetts","1a","NEWE"]
["02646","HARWICH PORT","MA","Massachusetts","1a","NEWE"]
["01937","HATHORNE","MA","Massachusetts","1a","NEWE"]
["01830","HAVERHILL","MA","Massachusetts","1a","NEWE"]
["01831","HAVERHILL","MA","Massachusetts","1a","NEWE"]
["01832","HAVERHILL","MA","Massachusetts","1a","NEWE"]
["01833","GEORGETOWN","MA","Massachusetts","1a","NEWE"]
["01834","GROVELAND","MA","Massachusetts","1a","NEWE"]
["01835","HAVERHILL","MA","Massachusetts","1a","NEWE"]
["02018","ACCORD","MA","Massachusetts","1a","NEWE"]
["02043","HINGHAM","MA","Massachusetts","1a","NEWE"]
["02044","HINGHAM","MA","Massachusetts","1a","NEWE"]
["02343","HOLBROOK","MA","Massachusetts","1a","NEWE"]
["01520","HOLDEN","MA","Massachusetts","1a","NEWE"]
["01746","HOLLISTON","MA","Massachusetts","1a","NEWE"]
["01747","HOPEDALE","MA","Massachusetts","1a","NEWE"]
["01748","HOPKINTON","MA","Massachusetts","1a","NEWE"]
["01452","HUBBARDSTON","MA","Massachusetts","1a","NEWE"]
["01749","HUDSON","MA","Massachusetts","1a","NEWE"]
["02045","HULL","MA","Massachusetts","1a","NEWE"]
["02047","HUMAROCK","MA","Massachusetts","1a","NEWE"]
["02601","HYANNIS","MA","Massachusetts","1a","NEWE"]
["02647","HYANNIS PORT","MA","Massachusetts","1a","NEWE"]
["01938","IPSWICH","MA","Massachusetts","1a","NEWE"]
["01522","JEFFERSON","MA","Massachusetts","1a","NEWE"]
["01523","LANCASTER","MA","Massachusetts","1a","NEWE"]
["01840","LAWRENCE","MA","Massachusetts","1a","NEWE"]
["01841","LAWRENCE","MA","Massachusetts","1a","NEWE"]
["01842","LAWRENCE","MA","Massachusetts","1a","NEWE"]
["01843","LAWRENCE","MA","Massachusetts","1a","NEWE"]
["01844","METHUEN","MA","Massachusetts","1a","NEWE"]
["01845","NORTH ANDOVER","MA","Massachusetts","1a","NEWE"]
["01524","LEICESTER","MA","Massachusetts","1a","NEWE"]
["01453","LEOMINSTER","MA","Massachusetts","1a","NEWE"]
["01773","LINCOLN","MA","Massachusetts","1a","NEWE"]
["01525","LINWOOD","MA","Massachusetts","1a","NEWE"]
["01460","LITTLETON","MA","Massachusetts","1a","NEWE"]
["01850","LOWELL","MA","Massachusetts","1a","NEWE"]
["01851","LOWELL","MA","Massachusetts","1a","NEWE"]
["01852","LOWELL","MA","Massachusetts","1a","NEWE"]
["01853","LOWELL","MA","Massachusetts","1a","NEWE"]
["01854","LOWELL","MA","Massachusetts","1a","NEWE"]
["01462","LUNENBURG","MA","Massachusetts","1a","NEWE"]
["01901","LYNN","MA","Massachusetts","1a","NEWE"]
["01902","LYNN","MA","Massachusetts","1a","NEWE"]
["01903","LYNN","MA","Massachusetts","1a","NEWE"]
["01904","LYNN","MA","Massachusetts","1a","NEWE"]
["01905","LYNN","MA","Massachusetts","1a","NEWE"]
["01906","SAUGUS","MA","Massachusetts","1a","NEWE"]
["01907","SWAMPSCOTT","MA","Massachusetts","1a","NEWE"]
["01908","NAHANT","MA","Massachusetts","1a","NEWE"]
["01910","LYNN","MA","Massachusetts","1a","NEWE"]
["01940","LYNNFIELD","MA","Massachusetts","1a","NEWE"]
["01526","MANCHAUG","MA","Massachusetts","1a","NEWE"]
["01944","MANCHESTER","MA","Massachusetts","1a","NEWE"]
["02345","MANOMET","MA","Massachusetts","1a","NEWE"]
["02048","MANSFIELD","MA","Massachusetts","1a","NEWE"]
["01945","MARBLEHEAD","MA","Massachusetts","1a","NEWE"]
["01752","MARLBOROUGH","MA","Massachusetts","1a","NEWE"]
["02050","MARSHFIELD","MA","Massachusetts","1a","NEWE"]
["02065","OCEAN BLUFF","MA","Massachusetts","1a","NEWE"]
["02051","MARSHFIELD HILLS","MA","Massachusetts","1a","NEWE"]
["02648","MARSTONS MILLS","MA","Massachusetts","1a","NEWE"]
["02649","MASHPEE","MA","Massachusetts","1a","NEWE"]
["01754","MAYNARD","MA","Massachusetts","1a","NEWE"]
["02052","MEDFIELD","MA","Massachusetts","1a","NEWE"]
["02053","MEDWAY","MA","Massachusetts","1a","NEWE"]
["01756","MENDON","MA","Massachusetts","1a","NEWE"]
["01860","MERRIMAC","MA","Massachusetts","1a","NEWE"]
["02344","MIDDLEBORO","MA","Massachusetts","1a","NEWE"]
["02346","MIDDLEBORO","MA","Massachusetts","1a","NEWE"]
["02348","LAKEVILLE","MA","Massachusetts","1a","NEWE"]
["02349","MIDDLEBORO","MA","Massachusetts","1a","NEWE"]
["01949","MIDDLETON","MA","Massachusetts","1a","NEWE"]
["01757","MILFORD","MA","Massachusetts","1a","NEWE"]
["01527","MILLBURY","MA","Massachusetts","1a","NEWE"]
["01984","WENHAM","MA","Massachusetts","1a","NEWE"]
["02668","WEST BARNSTABLE","MA","Massachusetts","1a","NEWE"]
["01580","WESTBOROUGH","MA","Massachusetts","1a","NEWE"]
["01581","WESTBOROUGH","MA","Massachusetts","1a","NEWE"]
["01582","WESTBOROUGH","MA","Massachusetts","1a","NEWE"]
["01885","WEST BOXFORD","MA","Massachusetts","1a","NEWE"]
["01583","WEST BOYLSTON","MA","Massachusetts","1a","NEWE"]
["02379","WEST BRIDGEWATER","MA","Massachusetts","1a","NEWE"]
["01585","WEST BROOKFIELD","MA","Massachusetts","1a","NEWE"]
["02669","WEST CHATHAM","MA","Massachusetts","1a","NEWE"]
["02670","WEST DENNIS","MA","Massachusetts","1a","NEWE"]
["02574","WEST FALMOUTH","MA","Massachusetts","1a","NEWE"]
["01886","WESTFORD","MA","Massachusetts","1a","NEWE"]
["01472","WEST GROTON","MA","Massachusetts","1a","NEWE"]
["02671","WEST HARWICH","MA","Massachusetts","1a","NEWE"]
["02672","WEST HYANNISPORT","MA","Massachusetts","1a","NEWE"]
["01441","WESTMINSTER","MA","Massachusetts","1a","NEWE"]
["01473","WESTMINSTER","MA","Massachusetts","1a","NEWE"]
["01985","WEST NEWBURY","MA","Massachusetts","1a","NEWE"]
["02575","WEST TISBURY","MA","Massachusetts","1a","NEWE"]
["01568","UPTON","MA","Massachusetts","1a","NEWE"]
["02576","WEST WAREHAM","MA","Massachusetts","1a","NEWE"]
["02090","WESTWOOD","MA","Massachusetts","1a","NEWE"]
["02381","WHITE HORSE BEACH","MA","Massachusetts","1a","NEWE"]
["01588","WHITINSVILLE","MA","Massachusetts","1a","NEWE"]
["02382","WHITMAN","MA","Massachusetts","1a","NEWE"]
["01887","WILMINGTON","MA","Massachusetts","1a","NEWE"]
["01475","WINCHENDON","MA","Massachusetts","1a","NEWE"]
["01477","WINCHENDON SPRINGS","MA","Massachusetts","1a","NEWE"]
["01890","WINCHESTER","MA","Massachusetts","1a","NEWE"]
["01801","WOBURN","MA","Massachusetts","1a","NEWE"]
["01807","WOBURN","MA","Massachusetts","1a","NEWE"]
["01813","WOBURN","MA","Massachusetts","1a","NEWE"]
["01815","WOBURN","MA","Massachusetts","1a","NEWE"]
["01888","WOBURN","MA","Massachusetts","1a","NEWE"]
["01784","WOODVILLE","MA","Massachusetts","1a","NEWE"]
["01601","WORCESTER","MA","Massachusetts","1a","NEWE"]
["01602","WORCESTER","MA","Massachusetts","1a","NEWE"]
["01603","WORCESTER","MA","Massachusetts","1a","NEWE"]
["01604","WORCESTER","MA","Massachusetts","1a","NEWE"]
["01605","WORCESTER","MA","Massachusetts","1a","NEWE"]
["01606","WORCESTER","MA","Massachusetts","1a","NEWE"]
["01607","WORCESTER","MA","Massachusetts","1a","NEWE"]
["01608","WORCESTER","MA","Massachusetts","1a","NEWE"]
["01609","WORCESTER","MA","Massachusetts","1a","NEWE"]
["01610","WORCESTER","MA","Massachusetts","1a","NEWE"]
["01611","CHERRY VALLEY","MA","Massachusetts","1a","NEWE"]
["01612","PAXTON","MA","Massachusetts","1a","NEWE"]
["01613","WORCESTER","MA","Massachusetts","1a","NEWE"]
["01614","WORCESTER","MA","Massachusetts","1a","NEWE"]
["01615","WORCESTER","MA","Massachusetts","1a","NEWE"]
["01653","WORCESTER","MA","Massachusetts","1a","NEWE"]
["01654","WORCESTER","MA","Massachusetts","1a","NEWE"]
["01655","WORCESTER","MA","Massachusetts","1a","NEWE"]
["02093","WRENTHAM","MA","Massachusetts","1a","NEWE"]
["02675","YARMOUTH PORT","MA","Massachusetts","1a","NEWE"]
["02364","KINGSTON","MA","Massachusetts","1a","NEWE"]
["02347","LAKEVILLE","MA","Massachusetts","1a","NEWE"]
["04406","ABBOT","ME","Maine","1a","NEWE"]
["04001","ACTON","ME","Maine","1a","NEWE"]
["04606","ADDISON","ME","Maine","1a","NEWE"]
["04910","ALBION","ME","Maine","1a","NEWE"]
["04002","ALFRED","ME","Maine","1a","NEWE"]
["04535","ALNA","ME","Maine","1a","NEWE"]
["04216","ANDOVER","ME","Maine","1a","NEWE"]
["04911","ANSON","ME","Maine","1a","NEWE"]
["04732","ASHLAND","ME","Maine","1a","NEWE"]
["04912","ATHENS","ME","Maine","1a","NEWE"]
["04210","AUBURN","ME","Maine","1a","NEWE"]
["04211","AUBURN","ME","Maine","1a","NEWE"]
["04212","AUBURN","ME","Maine","1a","NEWE"]
["04330","AUGUSTA","ME","Maine","1a","NEWE"]
["04332","AUGUSTA","ME","Maine","1a","NEWE"]
["04333","AUGUSTA","ME","Maine","1a","NEWE"]
["04336","AUGUSTA","ME","Maine","1a","NEWE"]
["04338","AUGUSTA","ME","Maine","1a","NEWE"]
["04408","AURORA","ME","Maine","1a","NEWE"]
["04003","BAILEY ISLAND","ME","Maine","1a","NEWE"]
["04401","BANGOR","ME","Maine","1a","NEWE"]
["04402","BANGOR","ME","Maine","1a","NEWE"]
["04609","BAR HARBOR","ME","Maine","1a","NEWE"]
["04004","BAR MILLS","ME","Maine","1a","NEWE"]
["04635","FRENCHBORO","ME","Maine","1a","NEWE"]
["04653","BASS HARBOR","ME","Maine","1a","NEWE"]
["04530","BATH","ME","Maine","1a","NEWE"]
["04611","BEALS","ME","Maine","1a","NEWE"]
["04915","BELFAST","ME","Maine","1a","NEWE"]
["04917","BELGRADE","ME","Maine","1a","NEWE"]
["04918","BELGRADE LAKES","ME","Maine","1a","NEWE"]
["04733","BENEDICTA","ME","Maine","1a","NEWE"]
["04612","BERNARD","ME","Maine","1a","NEWE"]
["03901","BERWICK","ME","Maine","1a","NEWE"]
["04217","BETHEL","ME","Maine","1a","NEWE"]
["04286","WEST BETHEL","ME","Maine","1a","NEWE"]
["04005","BIDDEFORD","ME","Maine","1a","NEWE"]
["04007","BIDDEFORD","ME","Maine","1a","NEWE"]
["04006","BIDDEFORD POOL","ME","Maine","1a","NEWE"]
["04920","BINGHAM","ME","Maine","1a","NEWE"]
["04613","BIRCH HARBOR","ME","Maine","1a","NEWE"]
["04734","BLAINE","ME","Maine","1a","NEWE"]
["04614","BLUE HILL","ME","Maine","1a","NEWE"]
["04629","EAST BLUE HILL","ME","Maine","1a","NEWE"]
["04537","BOOTHBAY","ME","Maine","1a","NEWE"]
["04549","ISLE OF SPRINGS","ME","Maine","1a","NEWE"]
["04538","BOOTHBAY HARBOR","ME","Maine","1a","NEWE"]
["04570","SQUIRREL ISLAND","ME","Maine","1a","NEWE"]
["04008","BOWDOINHAM","ME","Maine","1a","NEWE"]
["04410","BRADFORD","ME","Maine","1a","NEWE"]
["04411","BRADLEY","ME","Maine","1a","NEWE"]
["04412","BREWER","ME","Maine","1a","NEWE"]
["04735","BRIDGEWATER","ME","Maine","1a","NEWE"]
["04009","BRIDGTON","ME","Maine","1a","NEWE"]
["04539","BRISTOL","ME","Maine","1a","NEWE"]
["04616","BROOKLIN","ME","Maine","1a","NEWE"]
["04921","BROOKS","ME","Maine","1a","NEWE"]
["04617","BROOKSVILLE","ME","Maine","1a","NEWE"]
["04642","HARBORSIDE","ME","Maine","1a","NEWE"]
["04413","BROOKTON","ME","Maine","1a","NEWE"]
["04010","BROWNFIELD","ME","Maine","1a","NEWE"]
["04414","BROWNVILLE","ME","Maine","1a","NEWE"]
["04415","BROWNVILLE JUNCTION","ME","Maine","1a","NEWE"]
["04011","BRUNSWICK","ME","Maine","1a","NEWE"]
["04219","BRYANT POND","ME","Maine","1a","NEWE"]
["04220","BUCKFIELD","ME","Maine","1a","NEWE"]
["04416","BUCKSPORT","ME","Maine","1a","NEWE"]
["04417","BURLINGTON","ME","Maine","1a","NEWE"]
["04922","BURNHAM","ME","Maine","1a","NEWE"]
["04619","CALAIS","ME","Maine","1a","NEWE"]
["04923","CAMBRIDGE","ME","Maine","1a","NEWE"]
["04843","CAMDEN","ME","Maine","1a","NEWE"]
["04847","HOPE","ME","Maine","1a","NEWE"]
["04924","CANAAN","ME","Maine","1a","NEWE"]
["04221","CANTON","ME","Maine","1a","NEWE"]
["03902","CAPE NEDDICK","ME","Maine","1a","NEWE"]
["04925","CARATUNK","ME","Maine","1a","NEWE"]
["04418","GREENBUSH","ME","Maine","1a","NEWE"]
["04736","CARIBOU","ME","Maine","1a","NEWE"]
["04419","CARMEL","ME","Maine","1a","NEWE"]
["04015","CASCO","ME","Maine","1a","NEWE"]
["04420","CASTINE","ME","Maine","1a","NEWE"]
["04421","CASTINE","ME","Maine","1a","NEWE"]
["04016","CENTER LOVELL","ME","Maine","1a","NEWE"]
["04541","CHAMBERLAIN","ME","Maine","1a","NEWE"]
["04422","CHARLESTON","ME","Maine","1a","NEWE"]
["04017","CHEBEAGUE ISLAND","ME","Maine","1a","NEWE"]
["04622","CHERRYFIELD","ME","Maine","1a","NEWE"]
["04926","CHINA VILLAGE","ME","Maine","1a","NEWE"]
["04019","CLIFF ISLAND","ME","Maine","1a","NEWE"]
["04927","CLINTON","ME","Maine","1a","NEWE"]
["04623","COLUMBIA FALLS","ME","Maine","1a","NEWE"]
["04341","COOPERS MILLS","ME","Maine","1a","NEWE"]
["04624","COREA","ME","Maine","1a","NEWE"]
["04928","CORINNA","ME","Maine","1a","NEWE"]
["04020","CORNISH","ME","Maine","1a","NEWE"]
["04625","CRANBERRY ISLES","ME","Maine","1a","NEWE"]
["04738","CROUSEVILLE","ME","Maine","1a","NEWE"]
["04021","CUMBERLAND CENTER","ME","Maine","1a","NEWE"]
["04563","CUSHING","ME","Maine","1a","NEWE"]
["04626","CUTLER","ME","Maine","1a","NEWE"]
["04543","DAMARISCOTTA","ME","Maine","1a","NEWE"]
["04424","DANFORTH","ME","Maine","1a","NEWE"]
["04492","WAITE","ME","Maine","1a","NEWE"]
["04223","DANVILLE","ME","Maine","1a","NEWE"]
["04627","DEER ISLE","ME","Maine","1a","NEWE"]
["04022","DENMARK","ME","Maine","1a","NEWE"]
["04628","DENNYSVILLE","ME","Maine","1a","NEWE"]
["04929","DETROIT","ME","Maine","1a","NEWE"]
["04930","DEXTER","ME","Maine","1a","NEWE"]
["04224","DIXFIELD","ME","Maine","1a","NEWE"]
["04932","DIXMONT","ME","Maine","1a","NEWE"]
["04426","DOVER FOXCROFT","ME","Maine","1a","NEWE"]
["04481","SEBEC","ME","Maine","1a","NEWE"]
["04342","DRESDEN","ME","Maine","1a","NEWE"]
["04225","DRYDEN","ME","Maine","1a","NEWE"]
["04739","EAGLE LAKE","ME","Maine","1a","NEWE"]
["04226","EAST ANDOVER","ME","Maine","1a","NEWE"]
["04024","EAST BALDWIN","ME","Maine","1a","NEWE"]
["04544","EAST BOOTHBAY","ME","Maine","1a","NEWE"]
["04427","CORINTH","ME","Maine","1a","NEWE"]
["04227","EAST DIXFIELD","ME","Maine","1a","NEWE"]
["04428","EDDINGTON","ME","Maine","1a","NEWE"]
["04429","HOLDEN","ME","Maine","1a","NEWE"]
["04027","LEBANON","ME","Maine","1a","NEWE"]
["04228","EAST LIVERMORE","ME","Maine","1a","NEWE"]
["04630","EAST MACHIAS","ME","Maine","1a","NEWE"]
["04430","EAST MILLINOCKET","ME","Maine","1a","NEWE"]
["04933","EAST NEWPORT","ME","Maine","1a","NEWE"]
["04740","EASTON","ME","Maine","1a","NEWE"]
["04431","EAST ORLAND","ME","Maine","1a","NEWE"]
["04028","EAST PARSONSFIELD","ME","Maine","1a","NEWE"]
["04230","EAST POLAND","ME","Maine","1a","NEWE"]
["04631","EASTPORT","ME","Maine","1a","NEWE"]
["04029","SEBAGO","ME","Maine","1a","NEWE"]
["04231","STONEHAM","ME","Maine","1a","NEWE"]
["04935","EAST VASSALBORO","ME","Maine","1a","NEWE"]
["04030","EAST WATERBORO","ME","Maine","1a","NEWE"]
["04234","EAST WILTON","ME","Maine","1a","NEWE"]
["04343","EAST WINTHROP","ME","Maine","1a","NEWE"]
["03903","ELIOT","ME","Maine","1a","NEWE"]
["04605","ELLSWORTH","ME","Maine","1a","NEWE"]
["04434","ETNA","ME","Maine","1a","NEWE"]
["04936","EUSTIS","ME","Maine","1a","NEWE"]
["04435","EXETER","ME","Maine","1a","NEWE"]
["04937","FAIRFIELD","ME","Maine","1a","NEWE"]
["04938","FARMINGTON","ME","Maine","1a","NEWE"]
["04940","FARMINGTON FALLS","ME","Maine","1a","NEWE"]
["04742","FORT FAIRFIELD","ME","Maine","1a","NEWE"]
["04737","CLAYTON LAKE","ME","Maine","1a","NEWE"]
["04741","ESTCOURT STATION","ME","Maine","1a","NEWE"]
["04743","FORT KENT","ME","Maine","1a","NEWE"]
["04744","FORT KENT MILLS","ME","Maine","1a","NEWE"]
["04438","FRANKFORT","ME","Maine","1a","NEWE"]
["04634","FRANKLIN","ME","Maine","1a","NEWE"]
["04941","FREEDOM","ME","Maine","1a","NEWE"]
["04032","FREEPORT","ME","Maine","1a","NEWE"]
["04033","FREEPORT","ME","Maine","1a","NEWE"]
["04034","FREEPORT","ME","Maine","1a","NEWE"]
["04547","FRIENDSHIP","ME","Maine","1a","NEWE"]
["04037","FRYEBURG","ME","Maine","1a","NEWE"]
["04344","FARMINGDALE","ME","Maine","1a","NEWE"]
["04345","GARDINER","ME","Maine","1a","NEWE"]
["04346","RANDOLPH","ME","Maine","1a","NEWE"]
["04939","GARLAND","ME","Maine","1a","NEWE"]
["04548","GEORGETOWN","ME","Maine","1a","NEWE"]
["04038","GORHAM","ME","Maine","1a","NEWE"]
["04607","GOULDSBORO","ME","Maine","1a","NEWE"]
["04746","GRAND ISLE","ME","Maine","1a","NEWE"]
["04039","GRAY","ME","Maine","1a","NEWE"]
["04236","GREENE","ME","Maine","1a","NEWE"]
["04441","GREENVILLE","ME","Maine","1a","NEWE"]
["04485","SHIRLEY MILLS","ME","Maine","1a","NEWE"]
["04442","GREENVILLE JUNCTION","ME","Maine","1a","NEWE"]
["04443","GUILFORD","ME","Maine","1a","NEWE"]
["04347","HALLOWELL","ME","Maine","1a","NEWE"]
["04444","HAMPDEN","ME","Maine","1a","NEWE"]
["04640","HANCOCK","ME","Maine","1a","NEWE"]
["04237","HANOVER","ME","Maine","1a","NEWE"]
["04942","HARMONY","ME","Maine","1a","NEWE"]
["04643","HARRINGTON","ME","Maine","1a","NEWE"]
["04040","HARRISON","ME","Maine","1a","NEWE"]
["04943","HARTLAND","ME","Maine","1a","NEWE"]
["04238","HEBRON","ME","Maine","1a","NEWE"]
["04944","HINCKLEY","ME","Maine","1a","NEWE"]
["04041","HIRAM","ME","Maine","1a","NEWE"]
["04042","HOLLIS CENTER","ME","Maine","1a","NEWE"]
["04730","HOULTON","ME","Maine","1a","NEWE"]
["04761","NEW LIMERICK","ME","Maine","1a","NEWE"]
["04448","HOWLAND","ME","Maine","1a","NEWE"]
["04449","HUDSON","ME","Maine","1a","NEWE"]
["04644","HULLS COVE","ME","Maine","1a","NEWE"]
["04747","ISLAND FALLS","ME","Maine","1a","NEWE"]
["04848","ISLESBORO","ME","Maine","1a","NEWE"]
["04646","ISLESFORD","ME","Maine","1a","NEWE"]
["04945","JACKMAN","ME","Maine","1a","NEWE"]
["04239","JAY","ME","Maine","1a","NEWE"]
["04262","NORTH JAY","ME","Maine","1a","NEWE"]
["04348","JEFFERSON","ME","Maine","1a","NEWE"]
["04648","JONESBORO","ME","Maine","1a","NEWE"]
["04649","JONESPORT","ME","Maine","1a","NEWE"]
["04450","KENDUSKEAG","ME","Maine","1a","NEWE"]
["04043","KENNEBUNK","ME","Maine","1a","NEWE"]
["04014","CAPE PORPOISE","ME","Maine","1a","NEWE"]
["04046","KENNEBUNKPORT","ME","Maine","1a","NEWE"]
["04349","KENTS HILL","ME","Maine","1a","NEWE"]
["04047","PARSONSFIELD","ME","Maine","1a","NEWE"]
["04947","KINGFIELD","ME","Maine","1a","NEWE"]
["04451","KINGMAN","ME","Maine","1a","NEWE"]
["03904","KITTERY","ME","Maine","1a","NEWE"]
["03905","KITTERY POINT","ME","Maine","1a","NEWE"]
["04453","LAGRANGE","ME","Maine","1a","NEWE"]
["04455","LEE","ME","Maine","1a","NEWE"]
["04263","LEEDS","ME","Maine","1a","NEWE"]
["04456","LEVANT","ME","Maine","1a","NEWE"]
["04240","LEWISTON","ME","Maine","1a","NEWE"]
["04241","LEWISTON","ME","Maine","1a","NEWE"]
["04243","LEWISTON","ME","Maine","1a","NEWE"]
["04949","LIBERTY","ME","Maine","1a","NEWE"]
["04048","LIMERICK","ME","Maine","1a","NEWE"]
["04750","LIMESTONE","ME","Maine","1a","NEWE"]
["04751","LIMESTONE","ME","Maine","1a","NEWE"]
["04049","LIMINGTON","ME","Maine","1a","NEWE"]
["04457","LINCOLN","ME","Maine","1a","NEWE"]
["04849","LINCOLNVILLE","ME","Maine","1a","NEWE"]
["04850","LINCOLNVILLE CENTER","ME","Maine","1a","NEWE"]
["04222","DURHAM","ME","Maine","1a","NEWE"]
["04250","LISBON","ME","Maine","1a","NEWE"]
["04252","LISBON FALLS","ME","Maine","1a","NEWE"]
["04350","LITCHFIELD","ME","Maine","1a","NEWE"]
["04650","LITTLE DEER ISLE","ME","Maine","1a","NEWE"]
["04253","LIVERMORE","ME","Maine","1a","NEWE"]
["04254","LIVERMORE FALLS","ME","Maine","1a","NEWE"]
["04255","GREENWOOD","ME","Maine","1a","NEWE"]
["04050","LONG ISLAND","ME","Maine","1a","NEWE"]
["04051","LOVELL","ME","Maine","1a","NEWE"]
["04652","LUBEC","ME","Maine","1a","NEWE"]
["04654","MACHIAS","ME","Maine","1a","NEWE"]
["04686","WESLEY","ME","Maine","1a","NEWE"]
["04655","MACHIASPORT","ME","Maine","1a","NEWE"]
["04756","MADAWASKA","ME","Maine","1a","NEWE"]
["04950","MADISON","ME","Maine","1a","NEWE"]
["04351","MANCHESTER","ME","Maine","1a","NEWE"]
["04757","MAPLETON","ME","Maine","1a","NEWE"]
["04758","MARS HILL","ME","Maine","1a","NEWE"]
["04851","MATINICUS","ME","Maine","1a","NEWE"]
["04459","MATTAWAMKEAG","ME","Maine","1a","NEWE"]
["04256","MECHANIC FALLS","ME","Maine","1a","NEWE"]
["04657","MEDDYBEMPS","ME","Maine","1a","NEWE"]
["04551","BREMEN","ME","Maine","1a","NEWE"]
["04460","MEDWAY","ME","Maine","1a","NEWE"]
["04257","MEXICO","ME","Maine","1a","NEWE"]
["04658","MILBRIDGE","ME","Maine","1a","NEWE"]
["04461","MILFORD","ME","Maine","1a","NEWE"]
["04462","MILLINOCKET","ME","Maine","1a","NEWE"]
["04463","MILO","ME","Maine","1a","NEWE"]
["04258","MINOT","ME","Maine","1a","NEWE"]
["04852","MONHEGAN","ME","Maine","1a","NEWE"]
["04259","MONMOUTH","ME","Maine","1a","NEWE"]
["04951","MONROE","ME","Maine","1a","NEWE"]
["04464","MONSON","ME","Maine","1a","NEWE"]
["04760","MONTICELLO","ME","Maine","1a","NEWE"]
["04054","MOODY","ME","Maine","1a","NEWE"]
["04952","MORRILL","ME","Maine","1a","NEWE"]
["04660","MOUNT DESERT","ME","Maine","1a","NEWE"]
["04352","MOUNT VERNON","ME","Maine","1a","NEWE"]
["04055","NAPLES","ME","Maine","1a","NEWE"]
["04553","NEWCASTLE","ME","Maine","1a","NEWE"]
["04056","NEWFIELD","ME","Maine","1a","NEWE"]
["04260","NEW GLOUCESTER","ME","Maine","1a","NEWE"]
["04554","NEW HARBOR","ME","Maine","1a","NEWE"]
["04558","PEMAQUID","ME","Maine","1a","NEWE"]
["04953","NEWPORT","ME","Maine","1a","NEWE"]
["04261","NEWRY","ME","Maine","1a","NEWE"]
["04955","NEW SHARON","ME","Maine","1a","NEWE"]
["04762","NEW SWEDEN","ME","Maine","1a","NEWE"]
["04956","NEW VINEYARD","ME","Maine","1a","NEWE"]
["04555","NOBLEBORO","ME","Maine","1a","NEWE"]
["04957","NORRIDGEWOCK","ME","Maine","1a","NEWE"]
["04958","NORTH ANSON","ME","Maine","1a","NEWE"]
["03906","NORTH BERWICK","ME","Maine","1a","NEWE"]
["04057","NORTH BRIDGTON","ME","Maine","1a","NEWE"]
["04662","NORTHEAST HARBOR","ME","Maine","1a","NEWE"]
["04556","EDGECOMB","ME","Maine","1a","NEWE"]
["04853","NORTH HAVEN","ME","Maine","1a","NEWE"]
["04265","NORTH MONMOUTH","ME","Maine","1a","NEWE"]
["04954","NEW PORTLAND","ME","Maine","1a","NEWE"]
["04961","NEW PORTLAND","ME","Maine","1a","NEWE"]
["04664","SULLIVAN","ME","Maine","1a","NEWE"]
["04266","NORTH TURNER","ME","Maine","1a","NEWE"]
["04962","NORTH VASSALBORO","ME","Maine","1a","NEWE"]
["04061","NORTH WATERBORO","ME","Maine","1a","NEWE"]
["04267","NORTH WATERFORD","ME","Maine","1a","NEWE"]
["04353","WHITEFIELD","ME","Maine","1a","NEWE"]
["04062","WINDHAM","ME","Maine","1a","NEWE"]
["04082","SOUTH WINDHAM","ME","Maine","1a","NEWE"]
["04268","NORWAY","ME","Maine","1a","NEWE"]
["04763","OAKFIELD","ME","Maine","1a","NEWE"]
["04963","OAKLAND","ME","Maine","1a","NEWE"]
["03907","OGUNQUIT","ME","Maine","1a","NEWE"]
["04063","OCEAN PARK","ME","Maine","1a","NEWE"]
["04064","OLD ORCHARD BEACH","ME","Maine","1a","NEWE"]
["04468","OLD TOWN","ME","Maine","1a","NEWE"]
["04964","OQUOSSOC","ME","Maine","1a","NEWE"]
["04471","ORIENT","ME","Maine","1a","NEWE"]
["04472","ORLAND","ME","Maine","1a","NEWE"]
["04469","ORONO","ME","Maine","1a","NEWE"]
["04473","ORONO","ME","Maine","1a","NEWE"]
["04474","ORRINGTON","ME","Maine","1a","NEWE"]
["04066","ORRS ISLAND","ME","Maine","1a","NEWE"]
["04854","OWLS HEAD","ME","Maine","1a","NEWE"]
["04764","OXBOW","ME","Maine","1a","NEWE"]
["04270","OXFORD","ME","Maine","1a","NEWE"]
["04354","PALERMO","ME","Maine","1a","NEWE"]
["04965","PALMYRA","ME","Maine","1a","NEWE"]
["04271","PARIS","ME","Maine","1a","NEWE"]
["04475","PASSADUMKEAG","ME","Maine","1a","NEWE"]
["04765","PATTEN","ME","Maine","1a","NEWE"]
["04666","PEMBROKE","ME","Maine","1a","NEWE"]
["04476","PENOBSCOT","ME","Maine","1a","NEWE"]
["04766","PERHAM","ME","Maine","1a","NEWE"]
["04667","PERRY","ME","Maine","1a","NEWE"]
["04966","PHILLIPS","ME","Maine","1a","NEWE"]
["04562","PHIPPSBURG","ME","Maine","1a","NEWE"]
["04967","PITTSFIELD","ME","Maine","1a","NEWE"]
["04969","PLYMOUTH","ME","Maine","1a","NEWE"]
["04274","POLAND","ME","Maine","1a","NEWE"]
["04768","PORTAGE","ME","Maine","1a","NEWE"]
["04855","PORT CLYDE","ME","Maine","1a","NEWE"]
["04068","PORTER","ME","Maine","1a","NEWE"]
["04101","PORTLAND","ME","Maine","1a","NEWE"]
["04102","PORTLAND","ME","Maine","1a","NEWE"]
["04103","PORTLAND","ME","Maine","1a","NEWE"]
["04104","PORTLAND","ME","Maine","1a","NEWE"]
["04105","FALMOUTH","ME","Maine","1a","NEWE"]
["04106","SOUTH PORTLAND","ME","Maine","1a","NEWE"]
["04107","CAPE ELIZABETH","ME","Maine","1a","NEWE"]
["04108","PEAKS ISLAND","ME","Maine","1a","NEWE"]
["04109","PORTLAND","ME","Maine","1a","NEWE"]
["04110","CUMBERLAND FORESIDE","ME","Maine","1a","NEWE"]
["04112","PORTLAND","ME","Maine","1a","NEWE"]
["04116","SOUTH PORTLAND","ME","Maine","1a","NEWE"]
["04122","PORTLAND","ME","Maine","1a","NEWE"]
["04123","PORTLAND","ME","Maine","1a","NEWE"]
["04124","PORTLAND","ME","Maine","1a","NEWE"]
["04069","POWNAL","ME","Maine","1a","NEWE"]
["04769","PRESQUE ISLE","ME","Maine","1a","NEWE"]
["04637","GRAND LAKE STREAM","ME","Maine","1a","NEWE"]
["04668","PRINCETON","ME","Maine","1a","NEWE"]
["04669","PROSPECT HARBOR","ME","Maine","1a","NEWE"]
["04970","RANGELEY","ME","Maine","1a","NEWE"]
["04071","RAYMOND","ME","Maine","1a","NEWE"]
["04355","READFIELD","ME","Maine","1a","NEWE"]
["04357","RICHMOND","ME","Maine","1a","NEWE"]
["04671","ROBBINSTON","ME","Maine","1a","NEWE"]
["04841","ROCKLAND","ME","Maine","1a","NEWE"]
["04846","GLEN COVE","ME","Maine","1a","NEWE"]
["04856","ROCKPORT","ME","Maine","1a","NEWE"]
["04478","ROCKWOOD","ME","Maine","1a","NEWE"]
["04564","ROUND POND","ME","Maine","1a","NEWE"]
["04275","ROXBURY","ME","Maine","1a","NEWE"]
["04276","RUMFORD","ME","Maine","1a","NEWE"]
["04280","SABATTUS","ME","Maine","1a","NEWE"]
["04072","SACO","ME","Maine","1a","NEWE"]
["04772","SAINT AGATHA","ME","Maine","1a","NEWE"]
["04971","SAINT ALBANS","ME","Maine","1a","NEWE"]
["04773","SAINT DAVID","ME","Maine","1a","NEWE"]
["04774","SAINT FRANCIS","ME","Maine","1a","NEWE"]
["04672","SALSBURY COVE","ME","Maine","1a","NEWE"]
["04972","SANDY POINT","ME","Maine","1a","NEWE"]
["04073","SANFORD","ME","Maine","1a","NEWE"]
["04479","SANGERVILLE","ME","Maine","1a","NEWE"]
["04070","SCARBOROUGH","ME","Maine","1a","NEWE"]
["04074","SCARBOROUGH","ME","Maine","1a","NEWE"]
["04674","SEAL COVE","ME","Maine","1a","NEWE"]
["04675","SEAL HARBOR","ME","Maine","1a","NEWE"]
["04973","SEARSMONT","ME","Maine","1a","NEWE"]
["04974","SEARSPORT","ME","Maine","1a","NEWE"]
["04565","SEBASCO ESTATES","ME","Maine","1a","NEWE"]
["04673","SARGENTVILLE","ME","Maine","1a","NEWE"]
["04676","SEDGWICK","ME","Maine","1a","NEWE"]
["04076","SHAPLEIGH","ME","Maine","1a","NEWE"]
["04975","SHAWMUT","ME","Maine","1a","NEWE"]
["04775","SHERIDAN","ME","Maine","1a","NEWE"]
["04776","SHERMAN","ME","Maine","1a","NEWE"]
["04777","STACYVILLE","ME","Maine","1a","NEWE"]
["04779","SINCLAIR","ME","Maine","1a","NEWE"]
["04976","SKOWHEGAN","ME","Maine","1a","NEWE"]
["04978","SMITHFIELD","ME","Maine","1a","NEWE"]
["04780","SMYRNA MILLS","ME","Maine","1a","NEWE"]
["04781","WALLAGRASS","ME","Maine","1a","NEWE"]
["04979","SOLON","ME","Maine","1a","NEWE"]
["04677","SORRENTO","ME","Maine","1a","NEWE"]
["03908","SOUTH BERWICK","ME","Maine","1a","NEWE"]
["04568","SOUTH BRISTOL","ME","Maine","1a","NEWE"]
["04077","SOUTH CASCO","ME","Maine","1a","NEWE"]
["04358","SOUTH CHINA","ME","Maine","1a","NEWE"]
["04013","BUSTINS ISLAND","ME","Maine","1a","NEWE"]
["04078","SOUTH FREEPORT","ME","Maine","1a","NEWE"]
["04359","SOUTH GARDINER","ME","Maine","1a","NEWE"]
["04079","HARPSWELL","ME","Maine","1a","NEWE"]
["04281","SOUTH PARIS","ME","Maine","1a","NEWE"]
["04858","SOUTH THOMASTON","ME","Maine","1a","NEWE"]
["04679","SOUTHWEST HARBOR","ME","Maine","1a","NEWE"]
["04487","SPRINGFIELD","ME","Maine","1a","NEWE"]
["04083","SPRINGVALE","ME","Maine","1a","NEWE"]
["04859","SPRUCE HEAD","ME","Maine","1a","NEWE"]
["04084","STANDISH","ME","Maine","1a","NEWE"]
["04085","STEEP FALLS","ME","Maine","1a","NEWE"]
["04488","STETSON","ME","Maine","1a","NEWE"]
["04680","STEUBEN","ME","Maine","1a","NEWE"]
["04489","STILLWATER","ME","Maine","1a","NEWE"]
["04783","STOCKHOLM","ME","Maine","1a","NEWE"]
["04981","STOCKTON SPRINGS","ME","Maine","1a","NEWE"]
["04645","ISLE AU HAUT","ME","Maine","1a","NEWE"]
["04681","STONINGTON","ME","Maine","1a","NEWE"]
["04982","STRATTON","ME","Maine","1a","NEWE"]
["04983","STRONG","ME","Maine","1a","NEWE"]
["04683","SUNSET","ME","Maine","1a","NEWE"]
["04684","SURRY","ME","Maine","1a","NEWE"]
["04685","SWANS ISLAND","ME","Maine","1a","NEWE"]
["04984","TEMPLE","ME","Maine","1a","NEWE"]
["04860","TENANTS HARBOR","ME","Maine","1a","NEWE"]
["04861","THOMASTON","ME","Maine","1a","NEWE"]
["04986","THORNDIKE","ME","Maine","1a","NEWE"]
["04490","TOPSFIELD","ME","Maine","1a","NEWE"]
["04086","TOPSHAM","ME","Maine","1a","NEWE"]
["04571","TREVETT","ME","Maine","1a","NEWE"]
["04987","TROY","ME","Maine","1a","NEWE"]
["04282","TURNER","ME","Maine","1a","NEWE"]
["04862","UNION","ME","Maine","1a","NEWE"]
["04988","UNITY","ME","Maine","1a","NEWE"]
["04745","FRENCHVILLE","ME","Maine","1a","NEWE"]
["04785","VAN BUREN","ME","Maine","1a","NEWE"]
["04454","LAMBERT LAKE","ME","Maine","1a","NEWE"]
["04491","VANCEBORO","ME","Maine","1a","NEWE"]
["04989","VASSALBORO","ME","Maine","1a","NEWE"]
["04360","VIENNA","ME","Maine","1a","NEWE"]
["04863","VINALHAVEN","ME","Maine","1a","NEWE"]
["04572","WALDOBORO","ME","Maine","1a","NEWE"]
["04573","WALPOLE","ME","Maine","1a","NEWE"]
["04864","WARREN","ME","Maine","1a","NEWE"]
["04786","WASHBURN","ME","Maine","1a","NEWE"]
["04574","WASHINGTON","ME","Maine","1a","NEWE"]
["04087","WATERBORO","ME","Maine","1a","NEWE"]
["04088","WATERFORD","ME","Maine","1a","NEWE"]
["04901","WATERVILLE","ME","Maine","1a","NEWE"]
["04903","WATERVILLE","ME","Maine","1a","NEWE"]
["04284","WAYNE","ME","Maine","1a","NEWE"]
["04285","WELD","ME","Maine","1a","NEWE"]
["04090","WELLS","ME","Maine","1a","NEWE"]
["04091","WEST BALDWIN","ME","Maine","1a","NEWE"]
["04575","WEST BOOTHBAY HARBOR","ME","Maine","1a","NEWE"]
["04287","BOWDOIN","ME","Maine","1a","NEWE"]
["04092","WESTBROOK","ME","Maine","1a","NEWE"]
["04098","WESTBROOK","ME","Maine","1a","NEWE"]
["04093","BUXTON","ME","Maine","1a","NEWE"]
["04493","WEST ENFIELD","ME","Maine","1a","NEWE"]
["04992","WEST FARMINGTON","ME","Maine","1a","NEWE"]
["04787","WESTFIELD","ME","Maine","1a","NEWE"]
["04985","WEST FORKS","ME","Maine","1a","NEWE"]
["04094","WEST KENNEBUNK","ME","Maine","1a","NEWE"]
["04288","WEST MINOT","ME","Maine","1a","NEWE"]
["04095","WEST NEWFIELD","ME","Maine","1a","NEWE"]
["04289","WEST PARIS","ME","Maine","1a","NEWE"]
["04290","PERU","ME","Maine","1a","NEWE"]
["04291","WEST POLAND","ME","Maine","1a","NEWE"]
["04865","WEST ROCKPORT","ME","Maine","1a","NEWE"]
["04576","SOUTHPORT","ME","Maine","1a","NEWE"]
["04292","SUMNER","ME","Maine","1a","NEWE"]
["04691","WHITING","ME","Maine","1a","NEWE"]
["04294","WILTON","ME","Maine","1a","NEWE"]
["04363","WINDSOR","ME","Maine","1a","NEWE"]
["04495","WINN","ME","Maine","1a","NEWE"]
["04693","WINTER HARBOR","ME","Maine","1a","NEWE"]
["04496","WINTERPORT","ME","Maine","1a","NEWE"]
["04364","WINTHROP","ME","Maine","1a","NEWE"]
["04578","WISCASSET","ME","Maine","1a","NEWE"]
["04694","BAILEYVILLE","ME","Maine","1a","NEWE"]
["04579","WOOLWICH","ME","Maine","1a","NEWE"]
["04497","WYTOPITLOCK","ME","Maine","1a","NEWE"]
["04096","YARMOUTH","ME","Maine","1a","NEWE"]
["04097","NORTH YARMOUTH","ME","Maine","1a","NEWE"]
["03909","YORK","ME","Maine","1a","NEWE"]
["03910","YORK BEACH","ME","Maine","1a","NEWE"]
["03911","YORK HARBOR","ME","Maine","1a","NEWE"]
["03601","ACWORTH","NH","New Hampshire","1a","NEWE"]
["03602","ALSTEAD","NH","New Hampshire","1a","NEWE"]
["03607","SOUTH ACWORTH","NH","New Hampshire","1a","NEWE"]
["03809","ALTON","NH","New Hampshire","1a","NEWE"]
["03810","ALTON BAY","NH","New Hampshire","1a","NEWE"]
["03031","AMHERST","NH","New Hampshire","1a","NEWE"]
["03216","ANDOVER","NH","New Hampshire","1a","NEWE"]
["03440","ANTRIM","NH","New Hampshire","1a","NEWE"]
["03217","ASHLAND","NH","New Hampshire","1a","NEWE"]
["03441","ASHUELOT","NH","New Hampshire","1a","NEWE"]
["03811","ATKINSON","NH","New Hampshire","1a","NEWE"]
["03032","AUBURN","NH","New Hampshire","1a","NEWE"]
["03218","BARNSTEAD","NH","New Hampshire","1a","NEWE"]
["03825","BARRINGTON","NH","New Hampshire","1a","NEWE"]
["03812","BARTLETT","NH","New Hampshire","1a","NEWE"]
["03740","BATH","NH","New Hampshire","1a","NEWE"]
["03220","BELMONT","NH","New Hampshire","1a","NEWE"]
["03442","BENNINGTON","NH","New Hampshire","1a","NEWE"]
["03570","BERLIN","NH","New Hampshire","1a","NEWE"]
["03574","BETHLEHEM","NH","New Hampshire","1a","NEWE"]
["03221","BRADFORD","NH","New Hampshire","1a","NEWE"]
["03222","BRISTOL","NH","New Hampshire","1a","NEWE"]
["03033","BROOKLINE","NH","New Hampshire","1a","NEWE"]
["03215","WATERVILLE VALLEY","NH","New Hampshire","1a","NEWE"]
["03223","CAMPTON","NH","New Hampshire","1a","NEWE"]
["03285","THORNTON","NH","New Hampshire","1a","NEWE"]
["03741","CANAAN","NH","New Hampshire","1a","NEWE"]
["03034","CANDIA","NH","New Hampshire","1a","NEWE"]
["03040","EAST CANDIA","NH","New Hampshire","1a","NEWE"]
["03224","CANTERBURY","NH","New Hampshire","1a","NEWE"]
["03225","CENTER BARNSTEAD","NH","New Hampshire","1a","NEWE"]
["03813","CENTER CONWAY","NH","New Hampshire","1a","NEWE"]
["03226","CENTER HARBOR","NH","New Hampshire","1a","NEWE"]
["03814","CENTER OSSIPEE","NH","New Hampshire","1a","NEWE"]
["03227","CENTER SANDWICH","NH","New Hampshire","1a","NEWE"]
["03603","CHARLESTOWN","NH","New Hampshire","1a","NEWE"]
["03036","CHESTER","NH","New Hampshire","1a","NEWE"]
["03443","CHESTERFIELD","NH","New Hampshire","1a","NEWE"]
["03817","CHOCORUA","NH","New Hampshire","1a","NEWE"]
["03743","CLAREMONT","NH","New Hampshire","1a","NEWE"]
["03576","COLEBROOK","NH","New Hampshire","1a","NEWE"]
["03301","CONCORD","NH","New Hampshire","1a","NEWE"]
["03302","CONCORD","NH","New Hampshire","1a","NEWE"]
["03303","CONCORD","NH","New Hampshire","1a","NEWE"]
["03304","BOW","NH","New Hampshire","1a","NEWE"]
["03305","CONCORD","NH","New Hampshire","1a","NEWE"]
["03307","LOUDON","NH","New Hampshire","1a","NEWE"]
["03229","CONTOOCOOK","NH","New Hampshire","1a","NEWE"]
["03818","CONWAY","NH","New Hampshire","1a","NEWE"]
["03745","CORNISH","NH","New Hampshire","1a","NEWE"]
["03746","CORNISH FLAT","NH","New Hampshire","1a","NEWE"]
["03230","DANBURY","NH","New Hampshire","1a","NEWE"]
["03819","DANVILLE","NH","New Hampshire","1a","NEWE"]
["03037","DEERFIELD","NH","New Hampshire","1a","NEWE"]
["03038","DERRY","NH","New Hampshire","1a","NEWE"]
["03820","DOVER","NH","New Hampshire","1a","NEWE"]
["03821","DOVER","NH","New Hampshire","1a","NEWE"]
["03822","DOVER","NH","New Hampshire","1a","NEWE"]
["03823","MADBURY","NH","New Hampshire","1a","NEWE"]
["03444","DUBLIN","NH","New Hampshire","1a","NEWE"]
["03824","DURHAM","NH","New Hampshire","1a","NEWE"]
["03861","LEE","NH","New Hampshire","1a","NEWE"]
["03231","EAST ANDOVER","NH","New Hampshire","1a","NEWE"]
["03041","EAST DERRY","NH","New Hampshire","1a","NEWE"]
["03826","EAST HAMPSTEAD","NH","New Hampshire","1a","NEWE"]
["03827","EAST KINGSTON","NH","New Hampshire","1a","NEWE"]
["03605","LEMPSTER","NH","New Hampshire","1a","NEWE"]
["03445","SULLIVAN","NH","New Hampshire","1a","NEWE"]
["03457","NELSON","NH","New Hampshire","1a","NEWE"]
["03446","SWANZEY","NH","New Hampshire","1a","NEWE"]
["03830","EAST WAKEFIELD","NH","New Hampshire","1a","NEWE"]
["03233","ELKINS","NH","New Hampshire","1a","NEWE"]
["03748","ENFIELD","NH","New Hampshire","1a","NEWE"]
["03749","ENFIELD CENTER","NH","New Hampshire","1a","NEWE"]
["03042","EPPING","NH","New Hampshire","1a","NEWE"]
["03234","EPSOM","NH","New Hampshire","1a","NEWE"]
["03258","CHICHESTER","NH","New Hampshire","1a","NEWE"]
["03579","ERROL","NH","New Hampshire","1a","NEWE"]
["03750","ETNA","NH","New Hampshire","1a","NEWE"]
["03833","EXETER","NH","New Hampshire","1a","NEWE"]
["03835","FARMINGTON","NH","New Hampshire","1a","NEWE"]
["03447","FITZWILLIAM","NH","New Hampshire","1a","NEWE"]
["03043","FRANCESTOWN","NH","New Hampshire","1a","NEWE"]
["03580","FRANCONIA","NH","New Hampshire","1a","NEWE"]
["03235","FRANKLIN","NH","New Hampshire","1a","NEWE"]
["03836","FREEDOM","NH","New Hampshire","1a","NEWE"]
["03044","FREMONT","NH","New Hampshire","1a","NEWE"]
["03751","GEORGES MILLS","NH","New Hampshire","1a","NEWE"]
["03237","GILMANTON","NH","New Hampshire","1a","NEWE"]
["03837","GILMANTON IRON WORKS","NH","New Hampshire","1a","NEWE"]
["03448","GILSUM","NH","New Hampshire","1a","NEWE"]
["03838","GLEN","NH","New Hampshire","1a","NEWE"]
["03238","GLENCLIFF","NH","New Hampshire","1a","NEWE"]
["03045","GOFFSTOWN","NH","New Hampshire","1a","NEWE"]
["03046","DUNBARTON","NH","New Hampshire","1a","NEWE"]
["03581","GORHAM","NH","New Hampshire","1a","NEWE"]
["03593","RANDOLPH","NH","New Hampshire","1a","NEWE"]
["03752","GOSHEN","NH","New Hampshire","1a","NEWE"]
["03240","GRAFTON","NH","New Hampshire","1a","NEWE"]
["03753","GRANTHAM","NH","New Hampshire","1a","NEWE"]
["03047","GREENFIELD","NH","New Hampshire","1a","NEWE"]
["03840","GREENLAND","NH","New Hampshire","1a","NEWE"]
["03048","GREENVILLE","NH","New Hampshire","1a","NEWE"]
["03582","GROVETON","NH","New Hampshire","1a","NEWE"]
["03754","GUILD","NH","New Hampshire","1a","NEWE"]
["03841","HAMPSTEAD","NH","New Hampshire","1a","NEWE"]
["03842","HAMPTON","NH","New Hampshire","1a","NEWE"]
["03843","HAMPTON","NH","New Hampshire","1a","NEWE"]
["03844","HAMPTON FALLS","NH","New Hampshire","1a","NEWE"]
["03449","HANCOCK","NH","New Hampshire","1a","NEWE"]
["03755","HANOVER","NH","New Hampshire","1a","NEWE"]
["03450","HARRISVILLE","NH","New Hampshire","1a","NEWE"]
["03765","HAVERHILL","NH","New Hampshire","1a","NEWE"]
["03241","HEBRON","NH","New Hampshire","1a","NEWE"]
["03242","HENNIKER","NH","New Hampshire","1a","NEWE"]
["03243","HILL","NH","New Hampshire","1a","NEWE"]
["03244","HILLSBOROUGH","NH","New Hampshire","1a","NEWE"]
["03451","HINSDALE","NH","New Hampshire","1a","NEWE"]
["03245","HOLDERNESS","NH","New Hampshire","1a","NEWE"]
["03049","HOLLIS","NH","New Hampshire","1a","NEWE"]
["03051","HUDSON","NH","New Hampshire","1a","NEWE"]
["03052","LITCHFIELD","NH","New Hampshire","1a","NEWE"]
["03845","INTERVALE","NH","New Hampshire","1a","NEWE"]
["03846","JACKSON","NH","New Hampshire","1a","NEWE"]
["03452","JAFFREY","NH","New Hampshire","1a","NEWE"]
["03583","JEFFERSON","NH","New Hampshire","1a","NEWE"]
["03847","KEARSARGE","NH","New Hampshire","1a","NEWE"]
["03431","KEENE","NH","New Hampshire","1a","NEWE"]
["03435","KEENE","NH","New Hampshire","1a","NEWE"]
["03848","KINGSTON","NH","New Hampshire","1a","NEWE"]
["03246","LACONIA","NH","New Hampshire","1a","NEWE"]
["03247","LACONIA","NH","New Hampshire","1a","NEWE"]
["03249","GILFORD","NH","New Hampshire","1a","NEWE"]
["03584","LANCASTER","NH","New Hampshire","1a","NEWE"]
["03756","LEBANON","NH","New Hampshire","1a","NEWE"]
["03766","LEBANON","NH","New Hampshire","1a","NEWE"]
["03784","WEST LEBANON","NH","New Hampshire","1a","NEWE"]
["03251","LINCOLN","NH","New Hampshire","1a","NEWE"]
["03585","LISBON","NH","New Hampshire","1a","NEWE"]
["03586","SUGAR HILL","NH","New Hampshire","1a","NEWE"]
["03561","LITTLETON","NH","New Hampshire","1a","NEWE"]
["03252","LOCHMERE","NH","New Hampshire","1a","NEWE"]
["03053","LONDONDERRY","NH","New Hampshire","1a","NEWE"]
["03768","LYME","NH","New Hampshire","1a","NEWE"]
["03769","LYME CENTER","NH","New Hampshire","1a","NEWE"]
["03832","EATON CENTER","NH","New Hampshire","1a","NEWE"]
["03849","MADISON","NH","New Hampshire","1a","NEWE"]
["03101","MANCHESTER","NH","New Hampshire","1a","NEWE"]
["03102","MANCHESTER","NH","New Hampshire","1a","NEWE"]
["03103","MANCHESTER","NH","New Hampshire","1a","NEWE"]
["03104","MANCHESTER","NH","New Hampshire","1a","NEWE"]
["03105","MANCHESTER","NH","New Hampshire","1a","NEWE"]
["03106","HOOKSETT","NH","New Hampshire","1a","NEWE"]
["03107","MANCHESTER","NH","New Hampshire","1a","NEWE"]
["03108","MANCHESTER","NH","New Hampshire","1a","NEWE"]
["03109","MANCHESTER","NH","New Hampshire","1a","NEWE"]
["03110","BEDFORD","NH","New Hampshire","1a","NEWE"]
["03111","MANCHESTER","NH","New Hampshire","1a","NEWE"]
["03455","MARLBOROUGH","NH","New Hampshire","1a","NEWE"]
["03456","MARLOW","NH","New Hampshire","1a","NEWE"]
["03464","STODDARD","NH","New Hampshire","1a","NEWE"]
["03850","MELVIN VILLAGE","NH","New Hampshire","1a","NEWE"]
["03253","MEREDITH","NH","New Hampshire","1a","NEWE"]
["03770","MERIDEN","NH","New Hampshire","1a","NEWE"]
["03054","MERRIMACK","NH","New Hampshire","1a","NEWE"]
["03588","MILAN","NH","New Hampshire","1a","NEWE"]
["03055","MILFORD","NH","New Hampshire","1a","NEWE"]
["03851","MILTON","NH","New Hampshire","1a","NEWE"]
["03852","MILTON MILLS","NH","New Hampshire","1a","NEWE"]
["03853","MIRROR LAKE","NH","New Hampshire","1a","NEWE"]
["03771","MONROE","NH","New Hampshire","1a","NEWE"]
["03057","MONT VERNON","NH","New Hampshire","1a","NEWE"]
["03254","MOULTONBOROUGH","NH","New Hampshire","1a","NEWE"]
["03060","NASHUA","NH","New Hampshire","1a","NEWE"]
["03061","NASHUA","NH","New Hampshire","1a","NEWE"]
["03062","NASHUA","NH","New Hampshire","1a","NEWE"]
["03063","NASHUA","NH","New Hampshire","1a","NEWE"]
["03064","NASHUA","NH","New Hampshire","1a","NEWE"]
["03070","NEW BOSTON","NH","New Hampshire","1a","NEWE"]
["03255","NEWBURY","NH","New Hampshire","1a","NEWE"]
["03272","SOUTH NEWBURY","NH","New Hampshire","1a","NEWE"]
["03854","NEW CASTLE","NH","New Hampshire","1a","NEWE"]
["03855","NEW DURHAM","NH","New Hampshire","1a","NEWE"]
["03856","NEWFIELDS","NH","New Hampshire","1a","NEWE"]
["03256","NEW HAMPTON","NH","New Hampshire","1a","NEWE"]
["03071","NEW IPSWICH","NH","New Hampshire","1a","NEWE"]
["03257","NEW LONDON","NH","New Hampshire","1a","NEWE"]
["03857","NEWMARKET","NH","New Hampshire","1a","NEWE"]
["03773","NEWPORT","NH","New Hampshire","1a","NEWE"]
["03858","NEWTON","NH","New Hampshire","1a","NEWE"]
["03859","NEWTON JUNCTION","NH","New Hampshire","1a","NEWE"]
["03860","NORTH CONWAY","NH","New Hampshire","1a","NEWE"]
["03862","NORTH HAMPTON","NH","New Hampshire","1a","NEWE"]
["03774","NORTH HAVERHILL","NH","New Hampshire","1a","NEWE"]
["03073","NORTH SALEM","NH","New Hampshire","1a","NEWE"]
["03259","NORTH SANDWICH","NH","New Hampshire","1a","NEWE"]
["03590","NORTH STRATFORD","NH","New Hampshire","1a","NEWE"]
["03260","NORTH SUTTON","NH","New Hampshire","1a","NEWE"]
["03261","NORTHWOOD","NH","New Hampshire","1a","NEWE"]
["03262","NORTH WOODSTOCK","NH","New Hampshire","1a","NEWE"]
["03293","WOODSTOCK","NH","New Hampshire","1a","NEWE"]
["03290","NOTTINGHAM","NH","New Hampshire","1a","NEWE"]
["03777","ORFORD","NH","New Hampshire","1a","NEWE"]
["03864","OSSIPEE","NH","New Hampshire","1a","NEWE"]
["03076","PELHAM","NH","New Hampshire","1a","NEWE"]
["03458","PETERBOROUGH","NH","New Hampshire","1a","NEWE"]
["03779","PIERMONT","NH","New Hampshire","1a","NEWE"]
["03780","PIKE","NH","New Hampshire","1a","NEWE"]
["03592","PITTSBURG","NH","New Hampshire","1a","NEWE"]
["03263","PITTSFIELD","NH","New Hampshire","1a","NEWE"]
["03781","PLAINFIELD","NH","New Hampshire","1a","NEWE"]
["03865","PLAISTOW","NH","New Hampshire","1a","NEWE"]
["03264","PLYMOUTH","NH","New Hampshire","1a","NEWE"]
["03801","PORTSMOUTH","NH","New Hampshire","1a","NEWE"]
["03802","PORTSMOUTH","NH","New Hampshire","1a","NEWE"]
["03803","PORTSMOUTH","NH","New Hampshire","1a","NEWE"]
["03804","PORTSMOUTH","NH","New Hampshire","1a","NEWE"]
["03805","NEWINGTON","NH","New Hampshire","1a","NEWE"]
["03077","RAYMOND","NH","New Hampshire","1a","NEWE"]
["03461","RINDGE","NH","New Hampshire","1a","NEWE"]
["03839","ROCHESTER","NH","New Hampshire","1a","NEWE"]
["03866","ROCHESTER","NH","New Hampshire","1a","NEWE"]
["03867","ROCHESTER","NH","New Hampshire","1a","NEWE"]
["03868","ROCHESTER","NH","New Hampshire","1a","NEWE"]
["03869","ROLLINSFORD","NH","New Hampshire","1a","NEWE"]
["03266","RUMNEY","NH","New Hampshire","1a","NEWE"]
["03274","STINSON LAKE","NH","New Hampshire","1a","NEWE"]
["03870","RYE","NH","New Hampshire","1a","NEWE"]
["03871","RYE BEACH","NH","New Hampshire","1a","NEWE"]
["03079","SALEM","NH","New Hampshire","1a","NEWE"]
["03268","SALISBURY","NH","New Hampshire","1a","NEWE"]
["03269","SANBORNTON","NH","New Hampshire","1a","NEWE"]
["03872","SANBORNVILLE","NH","New Hampshire","1a","NEWE"]
["03873","SANDOWN","NH","New Hampshire","1a","NEWE"]
["03874","SEABROOK","NH","New Hampshire","1a","NEWE"]
["03875","SILVER LAKE","NH","New Hampshire","1a","NEWE"]
["03878","SOMERSWORTH","NH","New Hampshire","1a","NEWE"]
["03882","EFFINGHAM","NH","New Hampshire","1a","NEWE"]
["03082","LYNDEBOROUGH","NH","New Hampshire","1a","NEWE"]
["03273","SOUTH SUTTON","NH","New Hampshire","1a","NEWE"]
["03883","SOUTH TAMWORTH","NH","New Hampshire","1a","NEWE"]
["03462","SPOFFORD","NH","New Hampshire","1a","NEWE"]
["03815","CENTER STRAFFORD","NH","New Hampshire","1a","NEWE"]
["03884","STRAFFORD","NH","New Hampshire","1a","NEWE"]
["03885","STRATHAM","NH","New Hampshire","1a","NEWE"]
["03782","SUNAPEE","NH","New Hampshire","1a","NEWE"]
["03275","SUNCOOK","NH","New Hampshire","1a","NEWE"]
["03886","TAMWORTH","NH","New Hampshire","1a","NEWE"]
["03897","WONALANCET","NH","New Hampshire","1a","NEWE"]
["03084","TEMPLE","NH","New Hampshire","1a","NEWE"]
["03276","TILTON","NH","New Hampshire","1a","NEWE"]
["03298","TILTON","NH","New Hampshire","1a","NEWE"]
["03299","TILTON","NH","New Hampshire","1a","NEWE"]
["03465","TROY","NH","New Hampshire","1a","NEWE"]
["03575","BRETTON WOODS","NH","New Hampshire","1a","NEWE"]
["03589","MOUNT WASHINGTON","NH","New Hampshire","1a","NEWE"]
["03595","TWIN MOUNTAIN","NH","New Hampshire","1a","NEWE"]
["03887","UNION","NH","New Hampshire","1a","NEWE"]
["03604","DREWSVILLE","NH","New Hampshire","1a","NEWE"]
["03608","WALPOLE","NH","New Hampshire","1a","NEWE"]
["03609","NORTH WALPOLE","NH","New Hampshire","1a","NEWE"]
["03278","WARNER","NH","New Hampshire","1a","NEWE"]
["03279","WARREN","NH","New Hampshire","1a","NEWE"]
["03280","WASHINGTON","NH","New Hampshire","1a","NEWE"]
["03281","WEARE","NH","New Hampshire","1a","NEWE"]
["03282","WENTWORTH","NH","New Hampshire","1a","NEWE"]
["03466","WEST CHESTERFIELD","NH","New Hampshire","1a","NEWE"]
["03467","WESTMORELAND","NH","New Hampshire","1a","NEWE"]
["03291","WEST NOTTINGHAM","NH","New Hampshire","1a","NEWE"]
["03890","WEST OSSIPEE","NH","New Hampshire","1a","NEWE"]
["03468","WEST PETERBOROUGH","NH","New Hampshire","1a","NEWE"]
["03284","SPRINGFIELD","NH","New Hampshire","1a","NEWE"]
["03597","WEST STEWARTSTOWN","NH","New Hampshire","1a","NEWE"]
["03469","WEST SWANZEY","NH","New Hampshire","1a","NEWE"]
["03598","WHITEFIELD","NH","New Hampshire","1a","NEWE"]
["03287","WILMOT","NH","New Hampshire","1a","NEWE"]
["03086","WILTON","NH","New Hampshire","1a","NEWE"]
["03470","WINCHESTER","NH","New Hampshire","1a","NEWE"]
["03087","WINDHAM","NH","New Hampshire","1a","NEWE"]
["03289","WINNISQUAM","NH","New Hampshire","1a","NEWE"]
["03816","CENTER TUFTONBORO","NH","New Hampshire","1a","NEWE"]
["03894","WOLFEBORO","NH","New Hampshire","1a","NEWE"]
["03896","WOLFEBORO FALLS","NH","New Hampshire","1a","NEWE"]
["03785","WOODSVILLE","NH","New Hampshire","1a","NEWE"]
["05820","ALBANY","VT","Vermont","1a","NEWE"]
["05440","ALBURGH","VT","Vermont","1a","NEWE"]
["05250","ARLINGTON","VT","Vermont","1a","NEWE"]
["05030","ASCUTNEY","VT","Vermont","1a","NEWE"]
["05441","BAKERSFIELD","VT","Vermont","1a","NEWE"]
["05031","BARNARD","VT","Vermont","1a","NEWE"]
["05821","BARNET","VT","Vermont","1a","NEWE"]
["05641","BARRE","VT","Vermont","1a","NEWE"]
["05822","BARTON","VT","Vermont","1a","NEWE"]
["05839","GLOVER","VT","Vermont","1a","NEWE"]
["05875","WEST GLOVER","VT","Vermont","1a","NEWE"]
["05823","BEEBE PLAIN","VT","Vermont","1a","NEWE"]
["05902","BEECHER FALLS","VT","Vermont","1a","NEWE"]
["05101","BELLOWS FALLS","VT","Vermont","1a","NEWE"]
["05730","BELMONT","VT","Vermont","1a","NEWE"]
["05201","BENNINGTON","VT","Vermont","1a","NEWE"]
["05032","BETHEL","VT","Vermont","1a","NEWE"]
["05732","BOMOSEEN","VT","Vermont","1a","NEWE"]
["05340","BONDVILLE","VT","Vermont","1a","NEWE"]
["05033","BRADFORD","VT","Vermont","1a","NEWE"]
["05733","BRANDON","VT","Vermont","1a","NEWE"]
["05301","BRATTLEBORO","VT","Vermont","1a","NEWE"]
["05302","BRATTLEBORO","VT","Vermont","1a","NEWE"]
["05303","BRATTLEBORO","VT","Vermont","1a","NEWE"]
["05304","BRATTLEBORO","VT","Vermont","1a","NEWE"]
["05034","BRIDGEWATER","VT","Vermont","1a","NEWE"]
["05035","BRIDGEWATER CORNERS","VT","Vermont","1a","NEWE"]
["05734","BRIDPORT","VT","Vermont","1a","NEWE"]
["05443","BRISTOL","VT","Vermont","1a","NEWE"]
["05036","BROOKFIELD","VT","Vermont","1a","NEWE"]
["05037","BROWNSVILLE","VT","Vermont","1a","NEWE"]
["05401","BURLINGTON","VT","Vermont","1a","NEWE"]
["05402","BURLINGTON","VT","Vermont","1a","NEWE"]
["05403","SOUTH BURLINGTON","VT","Vermont","1a","NEWE"]
["05404","WINOOSKI","VT","Vermont","1a","NEWE"]
["05405","BURLINGTON","VT","Vermont","1a","NEWE"]
["05406","BURLINGTON","VT","Vermont","1a","NEWE"]
["05407","SOUTH BURLINGTON","VT","Vermont","1a","NEWE"]
["05408","BURLINGTON","VT","Vermont","1a","NEWE"]
["05647","CABOT","VT","Vermont","1a","NEWE"]
["05648","CALAIS","VT","Vermont","1a","NEWE"]
["05444","CAMBRIDGE","VT","Vermont","1a","NEWE"]
["05141","CAMBRIDGEPORT","VT","Vermont","1a","NEWE"]
["05901","AVERILL","VT","Vermont","1a","NEWE"]
["05903","CANAAN","VT","Vermont","1a","NEWE"]
["05735","CASTLETON","VT","Vermont","1a","NEWE"]
["05142","CAVENDISH","VT","Vermont","1a","NEWE"]
["05445","CHARLOTTE","VT","Vermont","1a","NEWE"]
["05038","CHELSEA","VT","Vermont","1a","NEWE"]
["05143","CHESTER","VT","Vermont","1a","NEWE"]
["05144","CHESTER DEPOT","VT","Vermont","1a","NEWE"]
["05737","CHITTENDEN","VT","Vermont","1a","NEWE"]
["05439","COLCHESTER","VT","Vermont","1a","NEWE"]
["05446","COLCHESTER","VT","Vermont","1a","NEWE"]
["05449","COLCHESTER","VT","Vermont","1a","NEWE"]
["05824","CONCORD","VT","Vermont","1a","NEWE"]
["05039","CORINTH","VT","Vermont","1a","NEWE"]
["05825","COVENTRY","VT","Vermont","1a","NEWE"]
["05826","CRAFTSBURY","VT","Vermont","1a","NEWE"]
["05827","CRAFTSBURY COMMON","VT","Vermont","1a","NEWE"]
["05738","CUTTINGSVILLE","VT","Vermont","1a","NEWE"]
["05739","DANBY","VT","Vermont","1a","NEWE"]
["05828","DANVILLE","VT","Vermont","1a","NEWE"]
["05829","DERBY","VT","Vermont","1a","NEWE"]
["05830","DERBY LINE","VT","Vermont","1a","NEWE"]
["05251","DORSET","VT","Vermont","1a","NEWE"]
["05252","EAST ARLINGTON","VT","Vermont","1a","NEWE"]
["05649","EAST BARRE","VT","Vermont","1a","NEWE"]
["05832","EAST BURKE","VT","Vermont","1a","NEWE"]
["05640","ADAMANT","VT","Vermont","1a","NEWE"]
["05650","EAST CALAIS","VT","Vermont","1a","NEWE"]
["05833","EAST CHARLESTON","VT","Vermont","1a","NEWE"]
["05040","EAST CORINTH","VT","Vermont","1a","NEWE"]
["05076","TOPSHAM","VT","Vermont","1a","NEWE"]
["05253","EAST DORSET","VT","Vermont","1a","NEWE"]
["05341","EAST DOVER","VT","Vermont","1a","NEWE"]
["05448","EAST FAIRFIELD","VT","Vermont","1a","NEWE"]
["05836","EAST HARDWICK","VT","Vermont","1a","NEWE"]
["05837","EAST HAVEN","VT","Vermont","1a","NEWE"]
["05740","EAST MIDDLEBURY","VT","Vermont","1a","NEWE"]
["05766","RIPTON","VT","Vermont","1a","NEWE"]
["05651","EAST MONTPELIER","VT","Vermont","1a","NEWE"]
["05666","NORTH MONTPELIER","VT","Vermont","1a","NEWE"]
["05041","EAST RANDOLPH","VT","Vermont","1a","NEWE"]
["05042","EAST RYEGATE","VT","Vermont","1a","NEWE"]
["05838","EAST SAINT JOHNSBURY","VT","Vermont","1a","NEWE"]
["05043","EAST THETFORD","VT","Vermont","1a","NEWE"]
["05742","EAST WALLINGFORD","VT","Vermont","1a","NEWE"]
["05652","EDEN","VT","Vermont","1a","NEWE"]
["05653","EDEN MILLS","VT","Vermont","1a","NEWE"]
["05447","EAST BERKSHIRE","VT","Vermont","1a","NEWE"]
["05450","ENOSBURG FALLS","VT","Vermont","1a","NEWE"]
["05451","ESSEX","VT","Vermont","1a","NEWE"]
["05452","ESSEX JUNCTION","VT","Vermont","1a","NEWE"]
["05453","ESSEX JUNCTION","VT","Vermont","1a","NEWE"]
["05454","FAIRFAX","VT","Vermont","1a","NEWE"]
["05455","FAIRFIELD","VT","Vermont","1a","NEWE"]
["05731","BENSON","VT","Vermont","1a","NEWE"]
["05743","FAIR HAVEN","VT","Vermont","1a","NEWE"]
["05045","FAIRLEE","VT","Vermont","1a","NEWE"]
["05456","FERRISBURGH","VT","Vermont","1a","NEWE"]
["05744","FLORENCE","VT","Vermont","1a","NEWE"]
["05745","FOREST DALE","VT","Vermont","1a","NEWE"]
["05457","FRANKLIN","VT","Vermont","1a","NEWE"]
["05746","GAYSVILLE","VT","Vermont","1a","NEWE"]
["05904","GILMAN","VT","Vermont","1a","NEWE"]
["05146","GRAFTON","VT","Vermont","1a","NEWE"]
["05458","GRAND ISLE","VT","Vermont","1a","NEWE"]
["05654","GRANITEVILLE","VT","Vermont","1a","NEWE"]
["05747","GRANVILLE","VT","Vermont","1a","NEWE"]
["05841","GREENSBORO","VT","Vermont","1a","NEWE"]
["05842","GREENSBORO BEND","VT","Vermont","1a","NEWE"]
["05046","GROTON","VT","Vermont","1a","NEWE"]
["05905","GUILDHALL","VT","Vermont","1a","NEWE"]
["05748","HANCOCK","VT","Vermont","1a","NEWE"]
["05843","HARDWICK","VT","Vermont","1a","NEWE"]
["05047","HARTFORD","VT","Vermont","1a","NEWE"]
["05048","HARTLAND","VT","Vermont","1a","NEWE"]
["05049","HARTLAND FOUR CORNERS","VT","Vermont","1a","NEWE"]
["05459","HIGHGATE CENTER","VT","Vermont","1a","NEWE"]
["05460","HIGHGATE SPRINGS","VT","Vermont","1a","NEWE"]
["05461","HINESBURG","VT","Vermont","1a","NEWE"]
["05462","HUNTINGTON","VT","Vermont","1a","NEWE"]
["05655","HYDE PARK","VT","Vermont","1a","NEWE"]
["05750","HYDEVILLE","VT","Vermont","1a","NEWE"]
["05845","IRASBURG","VT","Vermont","1a","NEWE"]
["05846","ISLAND POND","VT","Vermont","1a","NEWE"]
["05463","ISLE LA MOTTE","VT","Vermont","1a","NEWE"]
["05342","JACKSONVILLE","VT","Vermont","1a","NEWE"]
["05343","JAMAICA","VT","Vermont","1a","NEWE"]
["05464","JEFFERSONVILLE","VT","Vermont","1a","NEWE"]
["05465","JERICHO","VT","Vermont","1a","NEWE"]
["05656","JOHNSON","VT","Vermont","1a","NEWE"]
["05466","JONESVILLE","VT","Vermont","1a","NEWE"]
["05751","KILLINGTON","VT","Vermont","1a","NEWE"]
["05148","LONDONDERRY","VT","Vermont","1a","NEWE"]
["05847","LOWELL","VT","Vermont","1a","NEWE"]
["05848","LOWER WATERFORD","VT","Vermont","1a","NEWE"]
["05149","LUDLOW","VT","Vermont","1a","NEWE"]
["05906","LUNENBURG","VT","Vermont","1a","NEWE"]
["05849","LYNDON","VT","Vermont","1a","NEWE"]
["05850","LYNDON CENTER","VT","Vermont","1a","NEWE"]
["05851","LYNDONVILLE","VT","Vermont","1a","NEWE"]
["05050","MC INDOE FALLS","VT","Vermont","1a","NEWE"]
["05254","MANCHESTER","VT","Vermont","1a","NEWE"]
["05255","MANCHESTER CENTER","VT","Vermont","1a","NEWE"]
["05344","MARLBORO","VT","Vermont","1a","NEWE"]
["05658","MARSHFIELD","VT","Vermont","1a","NEWE"]
["05753","MIDDLEBURY","VT","Vermont","1a","NEWE"]
["05757","MIDDLETOWN SPRINGS","VT","Vermont","1a","NEWE"]
["05468","MILTON","VT","Vermont","1a","NEWE"]
["05469","MONKTON","VT","Vermont","1a","NEWE"]
["05470","MONTGOMERY","VT","Vermont","1a","NEWE"]
["05471","MONTGOMERY CENTER","VT","Vermont","1a","NEWE"]
["05601","MONTPELIER","VT","Vermont","1a","NEWE"]
["05602","MONTPELIER","VT","Vermont","1a","NEWE"]
["05603","MONTPELIER","VT","Vermont","1a","NEWE"]
["05604","MONTPELIER","VT","Vermont","1a","NEWE"]
["05609","MONTPELIER","VT","Vermont","1a","NEWE"]
["05620","MONTPELIER","VT","Vermont","1a","NEWE"]
["05633","MONTPELIER","VT","Vermont","1a","NEWE"]
["05660","MORETOWN","VT","Vermont","1a","NEWE"]
["05853","MORGAN","VT","Vermont","1a","NEWE"]
["05657","LAKE ELMORE","VT","Vermont","1a","NEWE"]
["05661","MORRISVILLE","VT","Vermont","1a","NEWE"]
["05758","MOUNT HOLLY","VT","Vermont","1a","NEWE"]
["05051","NEWBURY","VT","Vermont","1a","NEWE"]
["05345","NEWFANE","VT","Vermont","1a","NEWE"]
["05472","NEW HAVEN","VT","Vermont","1a","NEWE"]
["05855","NEWPORT","VT","Vermont","1a","NEWE"]
["05857","NEWPORT CENTER","VT","Vermont","1a","NEWE"]
["05257","NORTH BENNINGTON","VT","Vermont","1a","NEWE"]
["05759","NORTH CLARENDON","VT","Vermont","1a","NEWE"]
["05840","GRANBY","VT","Vermont","1a","NEWE"]
["05858","NORTH CONCORD","VT","Vermont","1a","NEWE"]
["05473","NORTH FERRISBURGH","VT","Vermont","1a","NEWE"]
["05663","NORTHFIELD","VT","Vermont","1a","NEWE"]
["05664","NORTHFIELD FALLS","VT","Vermont","1a","NEWE"]
["05052","NORTH HARTLAND","VT","Vermont","1a","NEWE"]
["05474","NORTH HERO","VT","Vermont","1a","NEWE"]
["05665","NORTH HYDE PARK","VT","Vermont","1a","NEWE"]
["05053","NORTH POMFRET","VT","Vermont","1a","NEWE"]
["05260","NORTH POWNAL","VT","Vermont","1a","NEWE"]
["05150","NORTH SPRINGFIELD","VT","Vermont","1a","NEWE"]
["05054","NORTH THETFORD","VT","Vermont","1a","NEWE"]
["05859","NORTH TROY","VT","Vermont","1a","NEWE"]
["05907","NORTON","VT","Vermont","1a","NEWE"]
["05055","NORWICH","VT","Vermont","1a","NEWE"]
["05860","ORLEANS","VT","Vermont","1a","NEWE"]
["05760","ORWELL","VT","Vermont","1a","NEWE"]
["05861","PASSUMPSIC","VT","Vermont","1a","NEWE"]
["05761","PAWLET","VT","Vermont","1a","NEWE"]
["05862","PEACHAM","VT","Vermont","1a","NEWE"]
["05151","PERKINSVILLE","VT","Vermont","1a","NEWE"]
["05152","PERU","VT","Vermont","1a","NEWE"]
["05762","PITTSFIELD","VT","Vermont","1a","NEWE"]
["05763","PITTSFORD","VT","Vermont","1a","NEWE"]
["05667","PLAINFIELD","VT","Vermont","1a","NEWE"]
["05056","PLYMOUTH","VT","Vermont","1a","NEWE"]
["05058","POST MILLS","VT","Vermont","1a","NEWE"]
["05741","EAST POULTNEY","VT","Vermont","1a","NEWE"]
["05764","POULTNEY","VT","Vermont","1a","NEWE"]
["05261","POWNAL","VT","Vermont","1a","NEWE"]
["05765","PROCTOR","VT","Vermont","1a","NEWE"]
["05153","PROCTORSVILLE","VT","Vermont","1a","NEWE"]
["05346","PUTNEY","VT","Vermont","1a","NEWE"]
["05059","QUECHEE","VT","Vermont","1a","NEWE"]
["05060","RANDOLPH","VT","Vermont","1a","NEWE"]
["05061","RANDOLPH CENTER","VT","Vermont","1a","NEWE"]
["05062","READING","VT","Vermont","1a","NEWE"]
["05350","READSBORO","VT","Vermont","1a","NEWE"]
["05352","STAMFORD","VT","Vermont","1a","NEWE"]
["05476","RICHFORD","VT","Vermont","1a","NEWE"]
["05477","RICHMOND","VT","Vermont","1a","NEWE"]
["05767","ROCHESTER","VT","Vermont","1a","NEWE"]
["05669","ROXBURY","VT","Vermont","1a","NEWE"]
["05768","RUPERT","VT","Vermont","1a","NEWE"]
["05701","RUTLAND","VT","Vermont","1a","NEWE"]
["05702","RUTLAND","VT","Vermont","1a","NEWE"]
["05478","SAINT ALBANS","VT","Vermont","1a","NEWE"]
["05479","SAINT ALBANS","VT","Vermont","1a","NEWE"]
["05481","SAINT ALBANS BAY","VT","Vermont","1a","NEWE"]
["05819","SAINT JOHNSBURY","VT","Vermont","1a","NEWE"]
["05863","SAINT JOHNSBURY CENTER","VT","Vermont","1a","NEWE"]
["05769","SALISBURY","VT","Vermont","1a","NEWE"]
["05154","SAXTONS RIVER","VT","Vermont","1a","NEWE"]
["05262","SHAFTSBURY","VT","Vermont","1a","NEWE"]
["05065","SHARON","VT","Vermont","1a","NEWE"]
["05866","SHEFFIELD","VT","Vermont","1a","NEWE"]
["05482","SHELBURNE","VT","Vermont","1a","NEWE"]
["05483","SHELDON","VT","Vermont","1a","NEWE"]
["05485","SHELDON SPRINGS","VT","Vermont","1a","NEWE"]
["05770","SHOREHAM","VT","Vermont","1a","NEWE"]
["05670","SOUTH BARRE","VT","Vermont","1a","NEWE"]
["05486","SOUTH HERO","VT","Vermont","1a","NEWE"]
["05155","SOUTH LONDONDERRY","VT","Vermont","1a","NEWE"]
["05067","SOUTH POMFRET","VT","Vermont","1a","NEWE"]
["05068","SOUTH ROYALTON","VT","Vermont","1a","NEWE"]
["05069","SOUTH RYEGATE","VT","Vermont","1a","NEWE"]
["05070","SOUTH STRAFFORD","VT","Vermont","1a","NEWE"]
["05071","SOUTH WOODSTOCK","VT","Vermont","1a","NEWE"]
["05156","SPRINGFIELD","VT","Vermont","1a","NEWE"]
["05487","STARKSBORO","VT","Vermont","1a","NEWE"]
["05772","STOCKBRIDGE","VT","Vermont","1a","NEWE"]
["05662","MOSCOW","VT","Vermont","1a","NEWE"]
["05672","STOWE","VT","Vermont","1a","NEWE"]
["05072","STRAFFORD","VT","Vermont","1a","NEWE"]
["05488","SWANTON","VT","Vermont","1a","NEWE"]
["05073","TAFTSVILLE","VT","Vermont","1a","NEWE"]
["05074","THETFORD","VT","Vermont","1a","NEWE"]
["05083","WEST FAIRLEE","VT","Vermont","1a","NEWE"]
["05075","THETFORD CENTER","VT","Vermont","1a","NEWE"]
["05353","TOWNSHEND","VT","Vermont","1a","NEWE"]
["05359","WEST TOWNSHEND","VT","Vermont","1a","NEWE"]
["05868","TROY","VT","Vermont","1a","NEWE"]
["05874","WESTFIELD","VT","Vermont","1a","NEWE"]
["05077","TUNBRIDGE","VT","Vermont","1a","NEWE"]
["05489","UNDERHILL","VT","Vermont","1a","NEWE"]
["05490","UNDERHILL CENTER","VT","Vermont","1a","NEWE"]
["05491","VERGENNES","VT","Vermont","1a","NEWE"]
["05354","VERNON","VT","Vermont","1a","NEWE"]
["05079","VERSHIRE","VT","Vermont","1a","NEWE"]
["05673","WAITSFIELD","VT","Vermont","1a","NEWE"]
["05773","WALLINGFORD","VT","Vermont","1a","NEWE"]
["05355","WARDSBORO","VT","Vermont","1a","NEWE"]
["05674","WARREN","VT","Vermont","1a","NEWE"]
["05675","WASHINGTON","VT","Vermont","1a","NEWE"]
["05671","WATERBURY","VT","Vermont","1a","NEWE"]
["05676","WATERBURY","VT","Vermont","1a","NEWE"]
["05677","WATERBURY CENTER","VT","Vermont","1a","NEWE"]
["05442","BELVIDERE CENTER","VT","Vermont","1a","NEWE"]
["05492","WATERVILLE","VT","Vermont","1a","NEWE"]
["05678","WEBSTERVILLE","VT","Vermont","1a","NEWE"]
["05774","WELLS","VT","Vermont","1a","NEWE"]
["05081","WELLS RIVER","VT","Vermont","1a","NEWE"]
["05867","SUTTON","VT","Vermont","1a","NEWE"]
["05871","WEST BURKE","VT","Vermont","1a","NEWE"]
["05872","WEST CHARLESTON","VT","Vermont","1a","NEWE"]
["05873","WEST DANVILLE","VT","Vermont","1a","NEWE"]
["05356","WEST DOVER","VT","Vermont","1a","NEWE"]
["05357","WEST DUMMERSTON","VT","Vermont","1a","NEWE"]
["05494","WESTFORD","VT","Vermont","1a","NEWE"]
["05358","WEST HALIFAX","VT","Vermont","1a","NEWE"]
["05084","WEST HARTFORD","VT","Vermont","1a","NEWE"]
["05158","WESTMINSTER","VT","Vermont","1a","NEWE"]
["05159","WESTMINSTER STATION","VT","Vermont","1a","NEWE"]
["05085","WEST NEWBURY","VT","Vermont","1a","NEWE"]
["05161","WESTON","VT","Vermont","1a","NEWE"]
["05775","WEST PAWLET","VT","Vermont","1a","NEWE"]
["05776","WEST RUPERT","VT","Vermont","1a","NEWE"]
["05736","CENTER RUTLAND","VT","Vermont","1a","NEWE"]
["05777","WEST RUTLAND","VT","Vermont","1a","NEWE"]
["05086","WEST TOPSHAM","VT","Vermont","1a","NEWE"]
["05360","WEST WARDSBORO","VT","Vermont","1a","NEWE"]
["05001","WHITE RIVER JUNCTION","VT","Vermont","1a","NEWE"]
["05009","WHITE RIVER JUNCTION","VT","Vermont","1a","NEWE"]
["05778","WHITING","VT","Vermont","1a","NEWE"]
["05361","WHITINGHAM","VT","Vermont","1a","NEWE"]
["05088","WILDER","VT","Vermont","1a","NEWE"]
["05679","WILLIAMSTOWN","VT","Vermont","1a","NEWE"]
["05351","SOUTH NEWFANE","VT","Vermont","1a","NEWE"]
["05362","WILLIAMSVILLE","VT","Vermont","1a","NEWE"]
["05495","WILLISTON","VT","Vermont","1a","NEWE"]
["05363","WILMINGTON","VT","Vermont","1a","NEWE"]
["05089","WINDSOR","VT","Vermont","1a","NEWE"]
["05680","WOLCOTT","VT","Vermont","1a","NEWE"]
["05681","WOODBURY","VT","Vermont","1a","NEWE"]
["05091","WOODSTOCK","VT","Vermont","1a","NEWE"]
["05682","WORCESTER","VT","Vermont","1a","NEWE"]
["06231","AMSTON","CT","Connecticut","1a","NEWE"]
["06232","ANDOVER","CT","Connecticut","1a","NEWE"]
["06401","ANSONIA","CT","Connecticut","1a","NEWE"]
["06278","ASHFORD","CT","Connecticut","1a","NEWE"]
["06001","AVON","CT","Connecticut","1a","NEWE"]
["06233","BALLOUVILLE","CT","Connecticut","1a","NEWE"]
["06330","BALTIC","CT","Connecticut","1a","NEWE"]
["06750","BANTAM","CT","Connecticut","1a","NEWE"]
["06403","BEACON FALLS","CT","Connecticut","1a","NEWE"]
["06801","BETHEL","CT","Connecticut","1a","NEWE"]
["06751","BETHLEHEM","CT","Connecticut","1a","NEWE"]
["06002","BLOOMFIELD","CT","Connecticut","1a","NEWE"]
["06404","BOTSFORD","CT","Connecticut","1a","NEWE"]
["06405","BRANFORD","CT","Connecticut","1a","NEWE"]
["06601","BRIDGEPORT","CT","Connecticut","1a","NEWE"]
["06602","BRIDGEPORT","CT","Connecticut","1a","NEWE"]
["06604","BRIDGEPORT","CT","Connecticut","1a","NEWE"]
["06605","BRIDGEPORT","CT","Connecticut","1a","NEWE"]
["06606","BRIDGEPORT","CT","Connecticut","1a","NEWE"]
["06607","BRIDGEPORT","CT","Connecticut","1a","NEWE"]
["06608","BRIDGEPORT","CT","Connecticut","1a","NEWE"]
["06610","BRIDGEPORT","CT","Connecticut","1a","NEWE"]
["06611","TRUMBULL","CT","Connecticut","1a","NEWE"]
["06612","EASTON","CT","Connecticut","1a","NEWE"]
["06614","STRATFORD","CT","Connecticut","1a","NEWE"]
["06615","STRATFORD","CT","Connecticut","1a","NEWE"]
["06650","BRIDGEPORT","CT","Connecticut","1a","NEWE"]
["06673","BRIDGEPORT","CT","Connecticut","1a","NEWE"]
["06699","BRIDGEPORT","CT","Connecticut","1a","NEWE"]
["06752","BRIDGEWATER","CT","Connecticut","1a","NEWE"]
["06010","BRISTOL","CT","Connecticut","1a","NEWE"]
["06011","BRISTOL","CT","Connecticut","1a","NEWE"]
["06016","BROAD BROOK","CT","Connecticut","1a","NEWE"]
["06804","BROOKFIELD","CT","Connecticut","1a","NEWE"]
["06234","BROOKLYN","CT","Connecticut","1a","NEWE"]
["06018","CANAAN","CT","Connecticut","1a","NEWE"]
["06331","CANTERBURY","CT","Connecticut","1a","NEWE"]
["06019","CANTON","CT","Connecticut","1a","NEWE"]
["06020","CANTON CENTER","CT","Connecticut","1a","NEWE"]
["06409","CENTERBROOK","CT","Connecticut","1a","NEWE"]
["06332","CENTRAL VILLAGE","CT","Connecticut","1a","NEWE"]
["06235","CHAPLIN","CT","Connecticut","1a","NEWE"]
["06408","CHESHIRE","CT","Connecticut","1a","NEWE"]
["06410","CHESHIRE","CT","Connecticut","1a","NEWE"]
["06411","CHESHIRE","CT","Connecticut","1a","NEWE"]
["06412","CHESTER","CT","Connecticut","1a","NEWE"]
["06413","CLINTON","CT","Connecticut","1a","NEWE"]
["06414","COBALT","CT","Connecticut","1a","NEWE"]
["06415","COLCHESTER","CT","Connecticut","1a","NEWE"]
["06420","SALEM","CT","Connecticut","1a","NEWE"]
["06021","COLEBROOK","CT","Connecticut","1a","NEWE"]
["06022","COLLINSVILLE","CT","Connecticut","1a","NEWE"]
["06237","COLUMBIA","CT","Connecticut","1a","NEWE"]
["06753","CORNWALL","CT","Connecticut","1a","NEWE"]
["06754","CORNWALL BRIDGE","CT","Connecticut","1a","NEWE"]
["06807","COS COB","CT","Connecticut","1a","NEWE"]
["06238","COVENTRY","CT","Connecticut","1a","NEWE"]
["06416","CROMWELL","CT","Connecticut","1a","NEWE"]
["06810","DANBURY","CT","Connecticut","1a","NEWE"]
["06811","DANBURY","CT","Connecticut","1a","NEWE"]
["06812","NEW FAIRFIELD","CT","Connecticut","1a","NEWE"]
["06813","DANBURY","CT","Connecticut","1a","NEWE"]
["06814","DANBURY","CT","Connecticut","1a","NEWE"]
["06816","DANBURY","CT","Connecticut","1a","NEWE"]
["06817","DANBURY","CT","Connecticut","1a","NEWE"]
["06239","DANIELSON","CT","Connecticut","1a","NEWE"]
["06820","DARIEN","CT","Connecticut","1a","NEWE"]
["06241","DAYVILLE","CT","Connecticut","1a","NEWE"]
["06417","DEEP RIVER","CT","Connecticut","1a","NEWE"]
["06419","KILLINGWORTH","CT","Connecticut","1a","NEWE"]
["06418","DERBY","CT","Connecticut","1a","NEWE"]
["06422","DURHAM","CT","Connecticut","1a","NEWE"]
["06023","EAST BERLIN","CT","Connecticut","1a","NEWE"]
["06024","EAST CANAAN","CT","Connecticut","1a","NEWE"]
["06242","EASTFORD","CT","Connecticut","1a","NEWE"]
["06025","EAST GLASTONBURY","CT","Connecticut","1a","NEWE"]
["06026","EAST GRANBY","CT","Connecticut","1a","NEWE"]
["06423","EAST HADDAM","CT","Connecticut","1a","NEWE"]
["06424","EAST HAMPTON","CT","Connecticut","1a","NEWE"]
["06447","MARLBOROUGH","CT","Connecticut","1a","NEWE"]
["06027","EAST HARTLAND","CT","Connecticut","1a","NEWE"]
["06243","EAST KILLINGLY","CT","Connecticut","1a","NEWE"]
["06333","EAST LYME","CT","Connecticut","1a","NEWE"]
["06088","EAST WINDSOR","CT","Connecticut","1a","NEWE"]
["06028","EAST WINDSOR HILL","CT","Connecticut","1a","NEWE"]
["06244","EAST WOODSTOCK","CT","Connecticut","1a","NEWE"]
["06029","ELLINGTON","CT","Connecticut","1a","NEWE"]
["06082","ENFIELD","CT","Connecticut","1a","NEWE"]
["06083","ENFIELD","CT","Connecticut","1a","NEWE"]
["06426","ESSEX","CT","Connecticut","1a","NEWE"]
["06245","FABYAN","CT","Connecticut","1a","NEWE"]
["06824","FAIRFIELD","CT","Connecticut","1a","NEWE"]
["06825","FAIRFIELD","CT","Connecticut","1a","NEWE"]
["06828","FAIRFIELD","CT","Connecticut","1a","NEWE"]
["06031","FALLS VILLAGE","CT","Connecticut","1a","NEWE"]
["06030","FARMINGTON","CT","Connecticut","1a","NEWE"]
["06032","FARMINGTON","CT","Connecticut","1a","NEWE"]
["06034","FARMINGTON","CT","Connecticut","1a","NEWE"]
["06334","BOZRAH","CT","Connecticut","1a","NEWE"]
["06335","GALES FERRY","CT","Connecticut","1a","NEWE"]
["06338","MASHANTUCKET","CT","Connecticut","1a","NEWE"]
["06339","LEDYARD","CT","Connecticut","1a","NEWE"]
["06755","GAYLORDSVILLE","CT","Connecticut","1a","NEWE"]
["06829","GEORGETOWN","CT","Connecticut","1a","NEWE"]
["06336","GILMAN","CT","Connecticut","1a","NEWE"]
["06033","GLASTONBURY","CT","Connecticut","1a","NEWE"]
["06756","GOSHEN","CT","Connecticut","1a","NEWE"]
["06035","GRANBY","CT","Connecticut","1a","NEWE"]
["06838","GREENS FARMS","CT","Connecticut","1a","NEWE"]
["06830","GREENWICH","CT","Connecticut","1a","NEWE"]
["06831","GREENWICH","CT","Connecticut","1a","NEWE"]
["06836","GREENWICH","CT","Connecticut","1a","NEWE"]
["06246","GROSVENOR DALE","CT","Connecticut","1a","NEWE"]
["06340","GROTON","CT","Connecticut","1a","NEWE"]
["06349","GROTON","CT","Connecticut","1a","NEWE"]
["06437","GUILFORD","CT","Connecticut","1a","NEWE"]
["06438","HADDAM","CT","Connecticut","1a","NEWE"]
["06439","HADLYME","CT","Connecticut","1a","NEWE"]
["06247","HAMPTON","CT","Connecticut","1a","NEWE"]
["06350","HANOVER","CT","Connecticut","1a","NEWE"]
["06101","HARTFORD","CT","Connecticut","1a","NEWE"]
["06102","HARTFORD","CT","Connecticut","1a","NEWE"]
["06103","HARTFORD","CT","Connecticut","1a","NEWE"]
["06104","HARTFORD","CT","Connecticut","1a","NEWE"]
["06105","HARTFORD","CT","Connecticut","1a","NEWE"]
["06106","HARTFORD","CT","Connecticut","1a","NEWE"]
["06107","WEST HARTFORD","CT","Connecticut","1a","NEWE"]
["06108","EAST HARTFORD","CT","Connecticut","1a","NEWE"]
["06109","WETHERSFIELD","CT","Connecticut","1a","NEWE"]
["06110","WEST HARTFORD","CT","Connecticut","1a","NEWE"]
["06111","NEWINGTON","CT","Connecticut","1a","NEWE"]
["06112","HARTFORD","CT","Connecticut","1a","NEWE"]
["06114","HARTFORD","CT","Connecticut","1a","NEWE"]
["06115","HARTFORD","CT","Connecticut","1a","NEWE"]
["06117","WEST HARTFORD","CT","Connecticut","1a","NEWE"]
["06118","EAST HARTFORD","CT","Connecticut","1a","NEWE"]
["06119","WEST HARTFORD","CT","Connecticut","1a","NEWE"]
["06120","HARTFORD","CT","Connecticut","1a","NEWE"]
["06123","HARTFORD","CT","Connecticut","1a","NEWE"]
["06126","HARTFORD","CT","Connecticut","1a","NEWE"]
["06127","WEST HARTFORD","CT","Connecticut","1a","NEWE"]
["06128","EAST HARTFORD","CT","Connecticut","1a","NEWE"]
["06129","WETHERSFIELD","CT","Connecticut","1a","NEWE"]
["06131","NEWINGTON","CT","Connecticut","1a","NEWE"]
["06132","HARTFORD","CT","Connecticut","1a","NEWE"]
["06133","WEST HARTFORD","CT","Connecticut","1a","NEWE"]
["06134","HARTFORD","CT","Connecticut","1a","NEWE"]
["06137","WEST HARTFORD","CT","Connecticut","1a","NEWE"]
["06138","EAST HARTFORD","CT","Connecticut","1a","NEWE"]
["06140","HARTFORD","CT","Connecticut","1a","NEWE"]
["06141","HARTFORD","CT","Connecticut","1a","NEWE"]
["06142","HARTFORD","CT","Connecticut","1a","NEWE"]
["06143","HARTFORD","CT","Connecticut","1a","NEWE"]
["06144","HARTFORD","CT","Connecticut","1a","NEWE"]
["06145","HARTFORD","CT","Connecticut","1a","NEWE"]
["06146","HARTFORD","CT","Connecticut","1a","NEWE"]
["06147","HARTFORD","CT","Connecticut","1a","NEWE"]
["06150","HARTFORD","CT","Connecticut","1a","NEWE"]
["06151","HARTFORD","CT","Connecticut","1a","NEWE"]
["06152","HARTFORD","CT","Connecticut","1a","NEWE"]
["06153","HARTFORD","CT","Connecticut","1a","NEWE"]
["06154","HARTFORD","CT","Connecticut","1a","NEWE"]
["06155","HARTFORD","CT","Connecticut","1a","NEWE"]
["06156","HARTFORD","CT","Connecticut","1a","NEWE"]
["06160","HARTFORD","CT","Connecticut","1a","NEWE"]
["06199","HARTFORD","CT","Connecticut","1a","NEWE"]
["06762","MIDDLEBURY","CT","Connecticut","1a","NEWE"]
["06503","NEW HAVEN","CT","Connecticut","1a","NEWE"]
["06530","NEW HAVEN","CT","Connecticut","1a","NEWE"]
["06256","NORTH WINDHAM","CT","Connecticut","1a","NEWE"]
["06854","NORWALK","CT","Connecticut","1a","NEWE"]
["06063","BARKHAMSTED","CT","Connecticut","1a","NEWE"]
["06069","SHARON","CT","Connecticut","1a","NEWE"]
["06902","STAMFORD","CT","Connecticut","1a","NEWE"]
["06078","SUFFIELD","CT","Connecticut","1a","NEWE"]
["06793","WASHINGTON","CT","Connecticut","1a","NEWE"]
["06794","WASHINGTON DEPOT","CT","Connecticut","1a","NEWE"]
["06796","WEST CORNWALL","CT","Connecticut","1a","NEWE"]
["01001","AGAWAM","MA","Massachusetts","1a","NEWE"]
["01346","HEATH","MA","Massachusetts","1a","NEWE"]
["01029","EAST OTIS","MA","Massachusetts","1a","NEWE"]
["01037","HARDWICK","MA","Massachusetts","1a","NEWE"]
["01040","HOLYOKE","MA","Massachusetts","1a","NEWE"]
["02743","ACUSHNET","MA","Massachusetts","1a","NEWE"]
["01378","WARWICK","MA","Massachusetts","1a","NEWE"]
["01252","NORTH EGREMONT","MA","Massachusetts","1a","NEWE"]
["01139","SPRINGFIELD","MA","Massachusetts","1a","NEWE"]
["01086","WESTFIELD","MA","Massachusetts","1a","NEWE"]
["01266","WEST STOCKBRIDGE","MA","Massachusetts","1a","NEWE"]
["02815","CLAYVILLE","RI","Rhode Island","1a","NEWE"]
["02857","NORTH SCITUATE","RI","Rhode Island","1a","NEWE"]
["02940","PROVIDENCE","RI","Rhode Island","1a","NEWE"]
["02895","WOONSOCKET","RI","Rhode Island","1a","NEWE"]
["02915","RIVERSIDE","RI","Rhode Island","1a","NEWE"]
["07403","BLOOMINGDALE","NJ","New Jersey","1b","RFCE"]
["07012","CLIFTON","NJ","New Jersey","1b","RFCE"]
["07020","EDGEWATER","NJ","New Jersey","1b","RFCE"]
["07023","FANWOOD","NJ","New Jersey","1b","RFCE"]
["07604","HASBROUCK HEIGHTS","NJ","New Jersey","1b","RFCE"]
["07699","TETERBORO","NJ","New Jersey","1b","RFCE"]
["08830","ISELIN","NJ","New Jersey","1b","RFCE"]
["07850","LANDING","NJ","New Jersey","1b","RFCE"]
["08840","METUCHEN","NJ","New Jersey","1b","RFCE"]
["07102","NEWARK","NJ","New Jersey","1b","RFCE"]
["07107","NEWARK","NJ","New Jersey","1b","RFCE"]
["08905","NEW BRUNSWICK","NJ","New Jersey","1b","RFCE"]
["07656","PARK RIDGE","NJ","New Jersey","1b","RFCE"]
["07533","PATERSON","NJ","New Jersey","1b","RFCE"]
["07979","POTTERSVILLE","NJ","New Jersey","1b","RFCE"]
["07075","WOOD RIDGE","NJ","New Jersey","1b","RFCE"]
["07081","SPRINGFIELD","NJ","New Jersey","1b","RFCE"]
["07980","STIRLING","NJ","New Jersey","1b","RFCE"]
["07090","WESTFIELD","NJ","New Jersey","1b","RFCE"]
["10081","NEW YORK","NY","New York","1b","NYCW"]
["10122","NEW YORK","NY","New York","1b","NYCW"]
["10159","NEW YORK","NY","New York","1b","NYCW"]
["10164","NEW YORK","NY","New York","1b","NYCW"]
["10257","NEW YORK","NY","New York","1b","NYCW"]
["10285","NEW YORK","NY","New York","1b","NYCW"]
["12510","BILLINGS","NY","New York","1b","NYUP"]
["12512","CHELSEA","NY","New York","1b","NYUP"]
["10521","CROTON ON HUDSON","NY","New York","1b","NYCW"]
["12423","EAST DURHAM","NY","New York","1b","NYUP"]
["12527","GLENHAM","NY","New York","1b","NYUP"]
["12441","HIGHMOUNT","NY","New York","1b","NYUP"]
["12401","KINGSTON","NY","New York","1b","NYUP"]
["12454","MAPLECREST","NY","New York","1b","NYUP"]
["10549","MOUNT KISCO","NY","New York","1b","NYCW"]
["12456","MOUNT MARION","NY","New York","1b","NYUP"]
["10560","NORTH SALEM","NY","New York","1b","NYUP"]
["12568","PLATTEKILL","NY","New York","1b","NYUP"]
["12507","BARRYTOWN","NY","New York","1b","NYUP"]
["12482","SOUTH CAIRO","NY","New York","1b","NYUP"]
["10976","SPARKILL","NY","New York","1b","NYUP"]
["12784","THOMPSONVILLE","NY","New York","1b","NYUP"]
["12492","WEST KILL","NY","New York","1b","NYUP"]
["12789","WOODRIDGE","NY","New York","1b","NYUP"]
["11210","BROOKLYN","NY","New York","1b","NYCW"]
["11236","BROOKLYN","NY","New York","1b","NYCW"]
["11001","FLORAL PARK","NY","New York","1b","NYLI"]
["11351","FLUSHING","NY","New York","1b","NYCW"]
["11373","ELMHURST","NY","New York","1b","NYCW"]
["11416","OZONE PARK","NY","New York","1b","NYCW"]
["11102","ASTORIA","NY","New York","1b","NYCW"]
["11042","NEW HYDE PARK","NY","New York","1b","NYLI"]
["10312","STATEN ISLAND","NY","New York","1b","NYCW"]
["11933","CALVERTON","NY","New York","1b","NYLI"]
["11732","EAST NORWICH","NY","New York","1b","NYLI"]
["11557","HEWLETT","NY","New York","1b","NYLI"]
["11853","JERICHO","NY","New York","1b","NYLI"]
["11766","MOUNT SINAI","NY","New York","1b","NYLI"]
["11770","OCEAN BEACH","NY","New York","1b","NYLI"]
["11963","SAG HARBOR","NY","New York","1b","NYLI"]
["11973","UPTON","NY","New York","1b","NYLI"]
["12202","ALBANY","NY","New York","1b","NYUP"]
["12230","ALBANY","NY","New York","1b","NYUP"]
["12235","ALBANY","NY","New York","1b","NYUP"]
["12261","ALBANY","NY","New York","1b","NYUP"]
["12018","AVERILL PARK","NY","New York","1b","NYUP"]
["13401","MC CONNELLSVILLE","NY","New York","1b","NYUP"]
["13342","GARRATTSVILLE","NY","New York","1b","NYUP"]
["13035","CAZENOVIA","NY","New York","1b","NYUP"]
["13040","CINCINNATUS","NY","New York","1b","NYUP"]
["13624","CLAYTON","NY","New York","1b","NYUP"]
["13749","CORBETTSVILLE","NY","New York","1b","NYUP"]
["13632","DEPAUVILLE","NY","New York","1b","NYUP"]
["12063","EAST SCHODACK","NY","New York","1b","NYUP"]
["13638","FELTS MILLS","NY","New York","1b","NYUP"]
["12067","FEURA BUSH","NY","New York","1b","NYUP"]
["12073","GALLUPVILLE","NY","New York","1b","NYUP"]
["13778","GREENE","NY","New York","1b","NYUP"]
["13348","HARTWICK","NY","New York","1b","NYUP"]
["12093","JEFFERSON","NY","New York","1b","NYUP"]
["13656","LA FARGEVILLE","NY","New York","1b","NYUP"]
["12946","LAKE PLACID","NY","New York","1b","NYUP"]
["12955","LYON MOUNTAIN","NY","New York","1b","NYUP"]
["12117","MAYFIELD","NY","New York","1b","NYUP"]
["12960","MORIAH","NY","New York","1b","NYUP"]
["13416","NEWPORT","NY","New York","1b","NYUP"]
["13668","NORWOOD","NY","New York","1b","NYUP"]
["12857","OLMSTEDVILLE","NY","New York","1b","NYUP"]
["13673","PHILADELPHIA","NY","New York","1b","NYUP"]
["13435","PROSPECT","NY","New York","1b","NYUP"]
["13784","HARFORD","NY","New York","1b","NYUP"]
["13455","SANGERFIELD","NY","New York","1b","NYUP"]
["13146","SAVANNAH","NY","New York","1b","NYUP"]
["13147","SCIPIO CENTER","NY","New York","1b","NYUP"]
["12164","SPECULATOR","NY","New York","1b","NYUP"]
["13207","SYRACUSE","NY","New York","1b","NYUP"]
["13290","SYRACUSE","NY","New York","1b","NYUP"]
["13503","UTICA","NY","New York","1b","NYUP"]
["12187","WARNERVILLE","NY","New York","1b","NYUP"]
["13601","WATERTOWN","NY","New York","1b","NYUP"]
["12196","WEST SAND LAKE","NY","New York","1b","NYUP"]
["19933","BRIDGEVILLE","DE","Delaware","1b","RFCE"]
["19955","KENTON","DE","Delaware","1b","RFCE"]
["19718","NEWARK","DE","Delaware","1b","RFCE"]
["19967","MILLVILLE","DE","Delaware","1b","RFCE"]
["19880","WILMINGTON","DE","Delaware","1b","RFCE"]
["08501","ALLENTOWN","NJ","New Jersey","1b","RFCE"]
["08010","BEVERLY","NJ","New Jersey","1b","RFCE"]
["08204","CAPE MAY","NJ","New Jersey","1b","RFCE"]
["08515","CHESTERFIELD","NJ","New Jersey","1b","RFCE"]
["08214","DENNISVILLE","NJ","New Jersey","1b","RFCE"]
["08028","GLASSBORO","NJ","New Jersey","1b","RFCE"]
["07735","KEYPORT","NJ","New Jersey","1b","RFCE"]
["08052","MAPLE SHADE","NJ","New Jersey","1b","RFCE"]
["08061","MOUNT ROYAL","NJ","New Jersey","1b","RFCE"]
["07754","NEPTUNE","NJ","New Jersey","1b","RFCE"]
["08534","PENNINGTON","NJ","New Jersey","1b","RFCE"]
["07703","FORT MONMOUTH","NJ","New Jersey","1b","RFCE"]
["08081","SICKLERVILLE","NJ","New Jersey","1b","RFCE"]
["08757","TOMS RIVER","NJ","New Jersey","1b","RFCE"]
["08650","TRENTON","NJ","New Jersey","1b","RFCE"]
["08250","TUCKAHOE","NJ","New Jersey","1b","RFCE"]
["08270","WOODBINE","NJ","New Jersey","1b","RFCE"]
["14807","ARKPORT","NY","New York","1b","NYUP"]
["14024","BLISS","NY","New York","1b","NYUP"]
["14216","BUFFALO","NY","New York","1b","NYUP"]
["14272","BUFFALO","NY","New York","1b","NYUP"]
["14273","BUFFALO","NY","New York","1b","NYUP"]
["14428","CHURCHVILLE","NY","New York","1b","NYUP"]
["14041","DAYTON","NY","New York","1b","NYUP"]
["14731","ELLICOTTVILLE","NY","New York","1b","NYUP"]
["14450","FAIRPORT","NY","New York","1b","NYUP"]
["14468","HILTON","NY","New York","1b","NYUP"]
["14080","HOLLAND","NY","New York","1b","NYUP"]
["14747","KENNEDY","NY","New York","1b","NYUP"]
["14487","LIVONIA","NY","New York","1b","NYUP"]
["14510","MOUNT MORRIS","NY","New York","1b","NYUP"]
["14120","NORTH TONAWANDA","NY","New York","1b","NYUP"]
["14871","PINE CITY","NY","New York","1b","NYUP"]
["14769","PORTLAND","NY","New York","1b","NYUP"]
["14611","ROCHESTER","NY","New York","1b","NYUP"]
["14650","ROCHESTER","NY","New York","1b","NYUP"]
["14550","SILVER SPRINGS","NY","New York","1b","NYUP"]
["14150","TONAWANDA","NY","New York","1b","NYUP"]
["14563","UNION HILL","NY","New York","1b","NYUP"]
["14788","WESTONS MILLS","NY","New York","1b","NYUP"]
["15413","ALLISON","PA","Pennsylvania","1b","RFCW"]
["15005","BADEN","PA","Pennsylvania","1b","RFCW"]
["16112","BESSEMER","PA","Pennsylvania","1b","RFCW"]
["15015","BRADFORDWOODS","PA","Pennsylvania","1b","RFCW"]
["16620","BRISBIN","PA","Pennsylvania","1b","RFCE"]
["16212","CADOGAN","PA","Pennsylvania","1b","RFCW"]
["16312","CHANDLERS VALLEY","PA","Pennsylvania","1b","RFCE"]
["16830","CLEARFIELD","PA","Pennsylvania","1b","RFCE"]
["15108","CORAOPOLIS","PA","Pennsylvania","1b","RFCW"]
["15624","CRABTREE","PA","Pennsylvania","1b","RFCW"]
["15625","DARRAGH","PA","Pennsylvania","1b","RFCW"]
["15432","DUNLEVY","PA","Pennsylvania","1b","RFCW"]
["16731","ELDRED","PA","Pennsylvania","1b","RFCE"]
["16512","ERIE","PA","Pennsylvania","1b","RFCE"]
["15840","FALLS CREEK","PA","Pennsylvania","1b","RFCE"]
["15042","FREEDOM","PA","Pennsylvania","1b","RFCW"]
["15549","LISTIE","PA","Pennsylvania","1b","RFCE"]
["15601","GREENSBURG","PA","Pennsylvania","1b","RFCW"]
["16733","HAZEL HURST","PA","Pennsylvania","1b","RFCE"]
["16651","HOUTZDALE","PA","Pennsylvania","1b","RFCE"]
["16656","IRVONA","PA","Pennsylvania","1b","RFCE"]
["16734","JAMES CITY","PA","Pennsylvania","1b","RFCW"]
["16871","POTTERSDALE","PA","Pennsylvania","1b","RFCW"]
["15655","LAUGHLINTOWN","PA","Pennsylvania","1b","RFCW"]
["15662","LUXOR","PA","Pennsylvania","1b","RFCW"]
["15665","MANOR","PA","Pennsylvania","1b","RFCW"]
["16853","MILESBURG","PA","Pennsylvania","1b","RFCW"]
["15942","MINERAL POINT","PA","Pennsylvania","1b","RFCE"]
["15553","NEW BALTIMORE","PA","Pennsylvania","1b","RFCE"]
["15672","NEW STANTON","PA","Pennsylvania","1b","RFCW"]
["16049","PARKER","PA","Pennsylvania","1b","RFCE"]
["15206","PITTSBURGH","PA","Pennsylvania","1b","RFCW"]
["15231","PITTSBURGH","PA","Pennsylvania","1b","RFCW"]
["15232","PITTSBURGH","PA","Pennsylvania","1b","RFCW"]
["15264","PITTSBURGH","PA","Pennsylvania","1b","RFCW"]
["16342","POLK","PA","Pennsylvania","1b","RFCE"]
["15475","REPUBLIC","PA","Pennsylvania","1b","RFCW"]
["16344","ROUSEVILLE","PA","Pennsylvania","1b","RFCE"]
["15076","RUSSELLTON","PA","Pennsylvania","1b","RFCW"]
["16346","SENECA","PA","Pennsylvania","1b","RFCE"]
["16256","SMICKSBURG","PA","Pennsylvania","1b","RFCE"]
["15144","SPRINGDALE","PA","Pennsylvania","1b","RFCW"]
["15865","SYKESVILLE","PA","Pennsylvania","1b","RFCE"]
["15484","ULEDI","PA","Pennsylvania","1b","RFCW"]
["15488","WALTERSBURG","PA","Pennsylvania","1b","RFCW"]
["16368","WARREN","PA","Pennsylvania","1b","RFCE"]
["15379","WEST MIDDLETOWN","PA","Pennsylvania","1b","RFCW"]
["16881","WOODLAND","PA","Pennsylvania","1b","RFCE"]
["26055","PROCTOR","WV","West Virginia","1c","RFCW"]
["18106","ALLENTOWN","PA","Pennsylvania","1b","RFCE"]
["18320","ANALOMINK","PA","Pennsylvania","1b","RFCE"]
["18014","BATH","PA","Pennsylvania","1b","RFCE"]
["18018","BETHLEHEM","PA","Pennsylvania","1b","RFCE"]
["17309","BROGUE","PA","Pennsylvania","1b","RFCE"]
["17015","CARLISLE","PA","Pennsylvania","1b","RFCE"]
["17016","CORNWALL","PA","Pennsylvania","1b","RFCE"]
["18326","CRESCO","PA","Pennsylvania","1b","RFCE"]
["18328","DINGMANS FERRY","PA","Pennsylvania","1b","RFCE"]
["18301","EAST STROUDSBURG","PA","Pennsylvania","1b","RFCE"]
["18615","FALLS","PA","Pennsylvania","1b","RFCE"]
["18818","FRIENDSVILLE","PA","Pennsylvania","1b","RFCE"]
["19523","GEIGERTOWN","PA","Pennsylvania","1b","RFCE"]
["17030","GRATZ","PA","Pennsylvania","1b","RFCE"]
["17108","HARRISBURG","PA","Pennsylvania","1b","RFCE"]
["17938","HEGINS","PA","Pennsylvania","1b","RFCE"]
["18824","HOP BOTTOM","PA","Pennsylvania","1b","RFCE"]
["18435","LACKAWAXEN","PA","Pennsylvania","1b","RFCE"]
["17040","LANDISBURG","PA","Pennsylvania","1b","RFCE"]
["18626","LAPORTE","PA","Pennsylvania","1b","RFCE"]
["19535","LIMEKILN","PA","Pennsylvania","1b","RFCE"]
["17049","MC ALISTERVILLE","PA","Pennsylvania","1b","RFCE"]
["17053","MARYSVILLE","PA","Pennsylvania","1b","RFCE"]
["17060","MILL CREEK","PA","Pennsylvania","1b","RFCE"]
["17061","MILLERSBURG","PA","Pennsylvania","1b","RFCE"]
["16938","MORRIS","PA","Pennsylvania","1b","RFCE"]
["18064","NAZARETH","PA","Pennsylvania","1b","RFCE"]
["17074","NEWPORT","PA","Pennsylvania","1b","RFCE"]
["17353","ORRTANNA","PA","Pennsylvania","1b","RFCE"]
["19548","PINE FORGE","PA","Pennsylvania","1b","RFCE"]
["18642","DURYEA","PA","Pennsylvania","1b","RFCE"]
["18456","PROMPTON","PA","Pennsylvania","1b","RFCE"]
["18352","REEDERS","PA","Pennsylvania","1b","RFCE"]
["17970","SAINT CLAIR","PA","Pennsylvania","1b","RFCE"]
["18512","SCRANTON","PA","Pennsylvania","1b","RFCE"]
["17361","SHREWSBURY","PA","Pennsylvania","1b","RFCE"]
["17769","SLATE RUN","PA","Pennsylvania","1b","RFCE"]
["18083","STOCKERTOWN","PA","Pennsylvania","1b","RFCE"]
["17364","THOMASVILLE","PA","Pennsylvania","1b","RFCE"]
["18469","TYLER HILL","PA","Pennsylvania","1b","RFCE"]
["16927","HARRISON VALLEY","PA","Pennsylvania","1b","RFCE"]
["17778","WESTPORT","PA","Pennsylvania","1b","RFCW"]
["18765","WILKES BARRE","PA","Pennsylvania","1b","RFCE"]
["17402","YORK","PA","Pennsylvania","1b","RFCE"]
["19421","BIRCHRUNVILLE","PA","Pennsylvania","1b","RFCE"]
["19425","CHESTER SPRINGS","PA","Pennsylvania","1b","RFCE"]
["18933","LUMBERVILLE","PA","Pennsylvania","1b","RFCE"]
["19435","FREDERICK","PA","Pennsylvania","1b","RFCE"]
["19343","GLENMOORE","PA","Pennsylvania","1b","RFCE"]
["19443","KULPSVILLE","PA","Pennsylvania","1b","RFCE"]
["19060","GARNET VALLEY","PA","Pennsylvania","1b","RFCE"]
["19406","KING OF PRUSSIA","PA","Pennsylvania","1b","RFCE"]
["19092","PHILADELPHIA","PA","Pennsylvania","1b","RFCE"]
["19103","PHILADELPHIA","PA","Pennsylvania","1b","RFCE"]
["19129","PHILADELPHIA","PA","Pennsylvania","1b","RFCE"]
["19150","PHILADELPHIA","PA","Pennsylvania","1b","RFCE"]
["19190","PHILADELPHIA","PA","Pennsylvania","1b","RFCE"]
["19078","RIDLEY PARK","PA","Pennsylvania","1b","RFCE"]
["19081","SWARTHMORE","PA","Pennsylvania","1b","RFCE"]
["18971","TYLERSPORT","PA","Pennsylvania","1b","RFCE"]
["19087","WAYNE","PA","Pennsylvania","1b","RFCE"]
["24210","ABINGDON","VA","Virginia","1c","RFCW"]
["24219","BIG STONE GAP","VA","Virginia","1c","SRTV"]
["24316","BROADFORD","VA","Virginia","1c","RFCW"]
["24067","CALLAWAY","VA","Virginia","1c","RFCW"]
["24230","COEBURN","VA","Virginia","1c","SRTV"]
["24085","EAGLE ROCK","VA","Virginia","1c","SRVC"]
["24093","GLEN LYN","VA","Virginia","1c","RFCW"]
["24622","JEWELL RIDGE","VA","Virginia","1c","RFCW"]
["24114","MARTINSVILLE","VA","Virginia","1c","RFCW"]
["24120","MEADOWS OF DAN","VA","Virginia","1c","RFCW"]
["24581","NORWOOD","VA","Virginia","1c","RFCW"]
["24147","RICH CREEK","VA","Virginia","1c","RFCW"]
["24016","ROANOKE","VA","Virginia","1c","RFCW"]
["24050","ROANOKE","VA","Virginia","1c","RFCW"]
["24375","SUGAR GROVE","VA","Virginia","1c","RFCW"]
["24594","SUTHERLIN","VA","Virginia","1c","RFCW"]
["26210","ADRIAN","WV","West Virginia","1c","RFCW"]
["26704","AUGUSTA","WV","West Virginia","1c","RFCW"]
["25411","BERKELEY SPRINGS","WV","West Virginia","1c","RFCW"]
["24715","BRAMWELL","WV","West Virginia","1c","RFCW"]
["26335","BURNSVILLE","WV","West Virginia","1c","RFCW"]
["26855","CABINS","WV","West Virginia","1c","RFCW"]
["25309","CHARLESTON","WV","West Virginia","1c","RFCW"]
["25334","CHARLESTON","WV","West Virginia","1c","RFCW"]
["25235","CHLOE","WV","West Virginia","1c","RFCW"]
["24719","COVEL","WV","West Virginia","1c","RFCW"]
["25671","DINGESS","WV","West Virginia","1c","RFCW"]
["25061","DRYBRANCH","WV","West Virginia","1c","RFCW"]
["25071","ELKVIEW","WV","West Virginia","1c","RFCW"]
["26572","FOUR STATES","WV","West Virginia","1c","RFCW"]
["25086","GLASGOW","WV","West Virginia","1c","RFCW"]
["26722","GREEN SPRING","WV","West Virginia","1c","RFCW"]
["25423","HALLTOWN","WV","West Virginia","1c","RFCW"]
["26271","HENDRICKS","WV","West Virginia","1c","RFCW"]
["25709","HUNTINGTON","WV","West Virginia","1c","RFCW"]
["26273","HUTTONSVILLE","WV","West Virginia","1c","RFCW"]
["24849","JESSE","WV","West Virginia","1c","RFCW"]
["26537","KINGWOOD","WV","West Virginia","1c","RFCW"]
["25860","LANARK","WV","West Virginia","1c","RFCW"]
["26629","LITTLE BIRCH","WV","West Virginia","1c","RFCW"]
["25130","MADISON","WV","West Virginia","1c","RFCW"]
["26833","MAYSVILLE","WV","West Virginia","1c","RFCW"]
["26838","MILAM","WV","West Virginia","1c","RFCW"]
["26506","MORGANTOWN","WV","West Virginia","1c","RFCW"]
["24738","NEMOURS","WV","West Virginia","1c","RFCW"]
["25638","OMAR","WV","West Virginia","1c","RFCW"]
["25431","LEVELS","WV","West Virginia","1c","RFCW"]
["25161","POWELLTON","WV","West Virginia","1c","RFCW"]
["24879","RAYSAL","WV","West Virginia","1c","RFCW"]
["26215","CLEVELAND","WV","West Virginia","1c","RFCW"]
["24880","ROCK VIEW","WV","West Virginia","1c","RFCW"]
["25183","SHARPLES","WV","West Virginia","1c","RFCW"]
["24977","SMOOT","WV","West Virginia","1c","RFCW"]
["25025","BLOUNT","WV","West Virginia","1c","RFCW"]
["26294","VALLEY HEAD","WV","West Virginia","1c","RFCW"]
["25938","VICTOR","WV","West Virginia","1c","RFCW"]
["25208","WHARTON","WV","West Virginia","1c","RFCW"]
["24898","WYOMING","WV","West Virginia","1c","RFCW"]
["30738","RISING FAWN","GA","Georgia","1c","SRTV"]
["38541","ALLONS","TN","Tennessee",2,"SRTV"]
["37020","BELL BUCKLE","TN","Tennessee",2,"SRTV"]
["38315","BETHEL SPRINGS","TN","Tennessee",2,"SRTV"]
["38547","BRUSH CREEK","TN","Tennessee",2,"SRTV"]
["37401","CHATTANOOGA","TN","Tennessee",2,"SRTV"]
["37645","MOUNT CARMEL","TN","Tennessee",2,"SRTV"]
["37315","COLLEGEDALE","TN","Tennessee",2,"SRTV"]
["37723","CRAB ORCHARD","TN","Tennessee",2,"SRTV"]
["38554","CRAWFORD","TN","Tennessee",2,"SRTV"]
["37055","DICKSON","TN","Tennessee",2,"SRTV"]
["38029","ELLENDALE","TN","Tennessee",2,"SRTV"]
["38459","FRANKEWING","TN","Tennessee",2,"SRTV"]
["38563","GORDONSVILLE","TN","Tennessee",2,"SRTV"]
["37073","GREENBRIER","TN","Tennessee",2,"SRTV"]
["38340","HENDERSON","TN","Tennessee",2,"SRTV"]
["38346","IDLEWILD","TN","Tennessee",2,"SRTV"]
["37614","JOHNSON CITY","TN","Tennessee",2,"SRTV"]
["37922","KNOXVILLE","TN","Tennessee",2,"SRTV"]
["37769","LAKE CITY","TN","Tennessee",2,"SRTV"]
["37350","LOOKOUT MOUNTAIN","TN","Tennessee",2,"SRTV"]
["37779","LUTTRELL","TN","Tennessee",2,"SRTV"]
["37803","MARYVILLE","TN","Tennessee",2,"SRTV"]
["38116","MEMPHIS","TN","Tennessee",2,"SRTV"]
["38152","MEMPHIS","TN","Tennessee",2,"SRTV"]
["38197","MEMPHIS","TN","Tennessee",2,"SRTV"]
["38359","MILLEDGEVILLE","TN","Tennessee",2,"SRTV"]
["37680","LAUREL BLOOMERY","TN","Tennessee",2,"SRTV"]
["37207","NASHVILLE","TN","Tennessee",2,"SRTV"]
["37238","NASHVILLE","TN","Tennessee",2,"SRTV"]
["37137","NUNNELLY","TN","Tennessee",2,"SRTV"]
["38363","PARSONS","TN","Tennessee",2,"SRTV"]
["37846","PHILADELPHIA","TN","Tennessee",2,"SRTV"]
["37370","RICEVILLE","TN","Tennessee",2,"SRTV"]
["38067","SAULSBURY","TN","Tennessee",2,"SRTV"]
["37377","SIGNAL MOUNTAIN","TN","Tennessee",2,"SRTV"]
["38380","SUGAR TREE","TN","Tennessee",2,"SRTV"]
["37874","SWEETWATER","TN","Tennessee",2,"SRTV"]
["38260","TROY","TN","Tennessee",2,"SRTV"]
["37188","WHITE HOUSE","TN","Tennessee",2,"SRTV"]
["47107","BRADFORD","IN","Indiana",2,"RFCW"]
["47705","EVANSVILLE","IN","Indiana",2,"RFCW"]
["47740","EVANSVILLE","IN","Indiana",2,"RFCW"]
["47131","JEFFERSONVILLE","IN","Indiana",2,"RFCW"]
["47190","JEFFERSONVILLE","IN","Indiana",2,"RFCW"]
["47162","NEW WASHINGTON","IN","Indiana",2,"RFCW"]
["40801","AGES BROOKSIDE","KY","Kentucky",2,"SRTV"]
["41603","BANNER","KY","Kentucky",2,"RFCW"]
["40403","BEREA","KY","Kentucky",2,"SRTV"]
["40404","BEREA","KY","Kentucky",2,"SRTV"]
["41364","RICETOWN","KY","Kentucky",2,"SRTV"]
["42716","BUFFALO","KY","Kentucky",2,"SRTV"]
["40923","CANNON","KY","Kentucky",2,"SRTV"]
["40111","CLOVERPORT","KY","Kentucky",2,"SRTV"]
["40823","CUMBERLAND","KY","Kentucky",2,"SRTV"]
["40423","DANVILLE","KY","Kentucky",2,"SRTV"]
["41621","DWALE","KY","Kentucky",2,"RFCW"]
["40317","ELLIOTTVILLE","KY","Kentucky",2,"SRTV"]
["40121","FORT KNOX","KY","Kentucky",2,"SRTV"]
["40140","GARFIELD","KY","Kentucky",2,"SRTV"]
["40434","GRAY HAWK","KY","Kentucky",2,"SRTV"]
["42345","GREENVILLE","KY","Kentucky",2,"SRTV"]
["41635","HAROLD","KY","Kentucky",2,"RFCW"]
["41146","HITCHINS","KY","Kentucky",2,"RFCW"]
["42350","ISLAND","KY","Kentucky",2,"SRTV"]
["42053","KEVIL","KY","Kentucky",2,"SRTV"]
["41859","DEMA","KY","Kentucky",2,"RFCW"]
["40502","LEXINGTON","KY","Kentucky",2,"SRTV"]
["40555","LEXINGTON","KY","Kentucky",2,"SRTV"]
["40744","LONDON","KY","Kentucky",2,"SRTV"]
["40215","LOUISVILLE","KY","Kentucky",2,"SRTV"]
["40256","LOUISVILLE","KY","Kentucky",2,"SRTV"]
["40294","LOUISVILLE","KY","Kentucky",2,"SRTV"]
["40299","LOUISVILLE","KY","Kentucky",2,"SRTV"]
["41836","MALLIE","KY","Kentucky",2,"RFCW"]
["42069","MELBER","KY","Kentucky",2,"SRTV"]
["41839","MOUSIE","KY","Kentucky",2,"RFCW"]
["41238","OIL SPRINGS","KY","Kentucky",2,"SRTV"]
["40981","SAUL","KY","Kentucky",2,"RFCW"]
["40157","PAYNEVILLE","KY","Kentucky",2,"SRTV"]
["40057","PLEASUREVILLE","KY","Kentucky",2,"SRTV"]
["40161","RHODELIA","KY","Kentucky",2,"SRTV"]
["40370","SADIEVILLE","KY","Kentucky",2,"SRTV"]
["41562","SHELBIANA","KY","Kentucky",2,"RFCW"]
["40763","SILER","KY","Kentucky",2,"SRTV"]
["40379","STAMPING GROUND","KY","Kentucky",2,"SRTV"]
["41189","TOLLESBORO","KY","Kentucky",2,"SRTV"]
["41386","VINCENT","KY","Kentucky",2,"SRTV"]
["42086","WEST PADUCAH","KY","Kentucky",2,"SRTV"]
["41669","WHEELWRIGHT","KY","Kentucky",2,"RFCW"]
["42170","WOODBURN","KY","Kentucky",2,"SRTV"]
["44315","AKRON","OH","Ohio",2,"RFCW"]
["43502","ARCHBOLD","OH","Ohio",2,"RFCW"]
["44813","BELLVILLE","OH","Ohio",2,"RFCW"]
["43912","BRIDGEPORT","OH","Ohio",2,"RFCW"]
["43506","BRYAN","OH","Ohio",2,"RFCW"]
["44709","CANTON","OH","Ohio",2,"RFCW"]
["43408","CLAY CENTER","OH","Ohio",2,"RFCW"]
["44121","CLEVELAND","OH","Ohio",2,"RFCW"]
["44146","BEDFORD","OH","Ohio",2,"RFCW"]
["45831","CONTINENTAL","OH","Ohio",2,"RFCW"]
["45837","DUPONT","OH","Ohio",2,"RFCW"]
["45835","DOLA","OH","Ohio",2,"RFCW"]
["43520","FARMER","OH","Ohio",2,"RFCW"]
["44420","GIRARD","OH","Ohio",2,"RFCW"]
["43525","HASKINS","OH","Ohio",2,"RFCW"]
["43436","ISLE SAINT GEORGE","OH","Ohio",2,"RFCW"]
["43530","JEWELL","OH","Ohio",2,"RFCW"]
["45855","LATTY","OH","Ohio",2,"RFCW"]
["44254","LODI","OH","Ohio",2,"RFCW"]
["44905","MANSFIELD","OH","Ohio",2,"RFCW"]
["44060","MENTOR","OH","Ohio",2,"RFCW"]
["44659","MOUNT EATON","OH","Ohio",2,"RFCW"]
["43545","NAPOLEON","OH","Ohio",2,"RFCW"]
["44444","NEWTON FALLS","OH","Ohio",2,"RFCW"]
["45874","OHIO CITY","OH","Ohio",2,"RFCW"]
["43554","PIONEER","OH","Ohio",2,"RFCW"]
["45882","ROCKFORD","OH","Ohio",2,"RFCW"]
["43462","RUDOLPH","OH","Ohio",2,"RFCW"]
["44676","SHREVE","OH","Ohio",2,"RFCW"]
["44278","TALLMADGE","OH","Ohio",2,"RFCW"]
["43623","TOLEDO","OH","Ohio",2,"RFCW"]
["44699","TIPPECANOE","OH","Ohio",2,"RFCW"]
["44485","WARREN","OH","Ohio",2,"RFCW"]
["43567","WAUSEON","OH","Ohio",2,"RFCW"]
["44096","WILLOUGHBY","OH","Ohio",2,"RFCW"]
["44514","YOUNGSTOWN","OH","Ohio",2,"RFCW"]
["47032","MOORES HILL","IN","Indiana",2,"RFCW"]
["41012","COVINGTON","KY","Kentucky",2,"RFCW"]
["41018","ERLANGER","KY","Kentucky",2,"RFCW"]
["41054","MASON","KY","Kentucky",2,"SRTV"]
["41095","WARSAW","KY","Kentucky",2,"SRTV"]
["43103","ASHVILLE","OH","Ohio",2,"RFCW"]
["45721","COAL RUN","OH","Ohio",2,"RFCW"]
["43335","MARTEL","OH","Ohio",2,"RFCW"]
["45601","CHILLICOTHE","OH","Ohio",2,"RFCW"]
["45203","CINCINNATI","OH","Ohio",2,"RFCW"]
["45240","CINCINNATI","OH","Ohio",2,"RFCW"]
["45252","CINCINNATI","OH","Ohio",2,"RFCW"]
["45315","CLAYTON","OH","Ohio",2,"RFCW"]
["43215","COLUMBUS","OH","Ohio",2,"RFCW"]
["43220","COLUMBUS","OH","Ohio",2,"RFCW"]
["43291","COLUMBUS","OH","Ohio",2,"RFCW"]
["45403","DAYTON","OH","Ohio",2,"RFCW"]
["45434","DAYTON","OH","Ohio",2,"RFCW"]
["43117","DERBY","OH","Ohio",2,"RFCW"]
["43822","FRAZEYSBURG","OH","Ohio",2,"RFCW"]
["43021","GALENA","OH","Ohio",2,"RFCW"]
["43199","GROVEPORT","OH","Ohio",2,"RFCW"]
["43746","HOPEWELL","OH","Ohio",2,"RFCW"]
["45644","KINGSTON","OH","Ohio",2,"RFCW"]
["45742","LITTLE HOCKING","OH","Ohio",2,"RFCW"]
["45340","MAPLEWOOD","OH","Ohio",2,"RFCW"]
["45145","MARATHON","OH","Ohio",2,"RFCW"]
["43142","MILLEDGEVILLE","OH","Ohio",2,"RFCW"]
["43058","NEWARK","OH","Ohio",2,"RFCW"]
["45159","NEW VIENNA","OH","Ohio",2,"RFCW"]
["45354","PHILLIPSBURG","OH","Ohio",2,"RFCW"]
["45356","PIQUA","OH","Ohio",2,"RFCW"]
["43343","QUINCY","OH","Ohio",2,"RFCW"]
["43347","RUSHSYLVANIA","OH","Ohio",2,"RFCW"]
["45367","SIDNEY","OH","Ohio",2,"RFCW"]
["43154","STOUTSVILLE","OH","Ohio",2,"RFCW"]
["45378","VERONA","OH","Ohio",2,"RFCW"]
["43086","WESTERVILLE","OH","Ohio",2,"RFCW"]
["43358","WEST MANSFIELD","OH","Ohio",2,"RFCW"]
["45388","YORKSHIRE","OH","Ohio",2,"RFCW"]
["61254","GENESEO","IL","Illinois",2,"RFCW"]
["61283","TAMPICO","IL","Illinois",2,"RFCW"]
["50052","CLIO","IA","Iowa",2,"MROW"]
["50009","ALTOONA","IA","Iowa",2,"MROW"]
["50606","ARLINGTON","IA","Iowa",2,"MROW"]
["51006","BATTLE CREEK","IA","Iowa",2,"MROW"]
["50519","BODE","IA","Iowa",2,"MROW"]
["52232","HARTWICK","IA","Iowa",2,"MROW"]
["50614","CEDAR FALLS","IA","Iowa",2,"MROW"]
["52404","CEDAR RAPIDS","IA","Iowa",2,"MROW"]
["52215","CHELSEA","IA","Iowa",2,"MROW"]
["50055","COLLINS","IA","Iowa",2,"SRMW"]
["50061","CUMMING","IA","Iowa",2,"MROW"]
["51440","DEDHAM","IA","Iowa",2,"MROW"]
["51442","DENISON","IA","Iowa",2,"MROW"]
["50318","DES MOINES","IA","Iowa",2,"MROW"]
["50364","DES MOINES","IA","Iowa",2,"MROW"]
["52742","DE WITT","IA","Iowa",2,"MROW"]
["52038","DUNDEE","IA","Iowa",2,"MROW"]
["52045","EPWORTH","IA","Iowa",2,"MROW"]
["50846","FONTANELLE","IA","Iowa",2,"MROW"]
["52627","FORT MADISON","IA","Iowa",2,"MROW"]
["50439","GOODELL","IA","Iowa",2,"MROW"]
["50657","MORRISON","IA","Iowa",2,"MROW"]
["52233","HIAWATHA","IA","Iowa",2,"MROW"]
["52240","IOWA CITY","IA","Iowa",2,"MROW"]
["52241","CORALVILLE","IA","Iowa",2,"MROW"]
["50448","KENSETT","IA","Iowa",2,"MROW"]
["50140","LAMONI","IA","Iowa",2,"MROW"]
["52567","LIBERTYVILLE","IA","Iowa",2,"SRMW"]
["50560","LU VERNE","IA","Iowa",2,"MROW"]
["51035","MARCUS","IA","Iowa",2,"MROW"]
["52305","MARTELLE","IA","Iowa",2,"MROW"]
["51038","MERRILL","IA","Iowa",2,"MROW"]
["52571","MORAVIA","IA","Iowa",2,"SRMW"]
["52645","NEW LONDON","IA","Iowa",2,"SRMW"]
["52320","OLIN","IA","Iowa",2,"MROW"]
["52325","PARNELL","IA","Iowa",2,"MROW"]
["52068","PEOSTA","IA","Iowa",2,"MROW"]
["51245","PRIMGHAR","IA","Iowa",2,"MROW"]
["51460","RICKETTS","IA","Iowa",2,"MROW"]
["51358","RUTHVEN","IA","Iowa",2,"MROW"]
["50862","SHARPSBURG","IA","Iowa",2,"MROW"]
["51201","SHELDON","IA","Iowa",2,"MROW"]
["51056","SMITHLAND","IA","Iowa",2,"MROW"]
["50251","SULLY","IA","Iowa",2,"MROW"]
["52344","TROY MILLS","IA","Iowa",2,"MROW"]
["52077","VOLGA","IA","Iowa",2,"MROW"]
["50680","WELLSBURG","IA","Iowa",2,"MROW"]
["52361","WILLIAMSBURG","IA","Iowa",2,"MROW"]
["56431","AITKIN","MN","Minnesota",2,"MROW"]
["56010","AMBOY","MN","Minnesota",2,"MROW"]
["56311","BARRETT","MN","Minnesota",2,"MROW"]
["55310","BIRD ISLAND","MN","Minnesota",2,"MROW"]
["56438","BROWERVILLE","MN","Minnesota",2,"MROW"]
["55712","BRUNO","MN","Minnesota",2,"MROW"]
["55318","CHASKA","MN","Minnesota",2,"MROW"]
["55321","COKATO","MN","Minnesota",2,"MROW"]
["55017","DALBO","MN","Minnesota",2,"MROW"]
["55801","DULUTH","MN","Minnesota",2,"MROW"]
["55329","EDEN VALLEY","MN","Minnesota",2,"MROW"]
["56026","ELLENDALE","MN","Minnesota",2,"MROW"]
["55603","FINLAND","MN","Minnesota",2,"MROW"]
["56333","GILMAN","MN","Minnesota",2,"MROW"]
["56452","HACKENSACK","MN","Minnesota",2,"MROW"]
["56453","HEWITT","MN","Minnesota",2,"MROW"]
["56138","HILLS","MN","Minnesota",2,"MROW"]
["55750","HOYT LAKES","MN","Minnesota",2,"MROW"]
["55756","KERRICK","MN","Minnesota",2,"MROW"]
["56153","LEOTA","MN","Minnesota",2,"MROW"]
["55598","LORETTO","MN","Minnesota",2,"MROW"]
["55393","MAPLE PLAIN","MN","Minnesota",2,"MROW"]
["55578","MAPLE PLAIN","MN","Minnesota",2,"MROW"]
["55957","MILLVILLE","MN","Minnesota",2,"MROW"]
["55423","MINNEAPOLIS","MN","Minnesota",2,"MROW"]
["55444","MINNEAPOLIS","MN","Minnesota",2,"MROW"]
["55488","MINNEAPOLIS","MN","Minnesota",2,"MROW"]
["56267","MORRIS","MN","Minnesota",2,"MROW"]
["55052","MORRISTOWN","MN","Minnesota",2,"MROW"]
["56459","LAKE HUBERT","MN","Minnesota",2,"MROW"]
["56361","PARKERS PRAIRIE","MN","Minnesota",2,"MROW"]
["56666","PONEMAH","MN","Minnesota",2,"MROW"]
["55903","ROCHESTER","MN","Minnesota",2,"MROW"]
["56169","RUSSELL","MN","Minnesota",2,"MROW"]
["55791","TWIG","MN","Minnesota",2,"MROW"]
["55102","SAINT PAUL","MN","Minnesota",2,"MROW"]
["55123","SAINT PAUL","MN","Minnesota",2,"MROW"]
["56082","SAINT PETER","MN","Minnesota",2,"MROW"]
["55380","SILVER CREEK","MN","Minnesota",2,"MROW"]
["55385","STEWART","MN","Minnesota",2,"MROW"]
["55783","STURGEON LAKE","MN","Minnesota",2,"MROW"]
["55085","VERMILLION","MN","Minnesota",2,"MROW"]
["55784","SWAN RIVER","MN","Minnesota",2,"MROW"]
["56101","WINDOM","MN","Minnesota",2,"MROW"]
["55397","YOUNG AMERICA","MN","Minnesota",2,"MROW"]
["55553","YOUNG AMERICA","MN","Minnesota",2,"MROW"]
["54805","ALMENA","WI","Wisconsin",2,"MROW"]
["54820","BRULE","WI","Wisconsin",2,"MROW"]
["54830","DANBURY","WI","Wisconsin",2,"MROW"]
["54627","ETTRICK","WI","Wisconsin",2,"MROW"]
["54634","HILLSBORO","WI","Wisconsin",2,"MROW"]
["54082","HOULTON","WI","Wisconsin",2,"MROW"]
["54751","MENOMONIE","WI","Wisconsin",2,"MROW"]
["54762","PRAIRIE FARM","WI","Wisconsin",2,"MROW"]
["54620","CATARACT","WI","Wisconsin",2,"MROW"]
["54667","WESTBY","WI","Wisconsin",2,"MROW"]
["54027","WILSON","WI","Wisconsin",2,"MROW"]
["56565","NASHUA","MN","Minnesota",2,"MROW"]
["56541","FLOM","MN","Minnesota",2,"MROW"]
["56732","KARLSTAD","MN","Minnesota",2,"MROW"]
["56573","PERHAM","MN","Minnesota",2,"MROW"]
["56763","WARROAD","MN","Minnesota",2,"MROW"]
["59212","BAINVILLE","MT","Montana",4,"MROW"]
["59007","BEARCREEK","MT","Montana",4,"NWPP"]
["59315","BLOOMFIELD","MT","Montana",4,"MROW"]
["59418","BUFFALO","MT","Montana",4,"NWPP"]
["59912","COLUMBIA FALLS","MT","Montana",4,"NWPP"]
["59929","PROCTOR","MT","Montana",4,"NWPP"]
["59430","DENTON","MT","Montana",4,"NWPP"]
["59341","MILDRED","MT","Montana",4,"MROW"]
["59447","GEYSER","MT","Montana",4,"NWPP"]
["59501","HAVRE","MT","Montana",4,"NWPP"]
["59848","LONEPINE","MT","Montana",4,"NWPP"]
["59244","LARSLAN","MT","Montana",4,"MROW"]
["59923","LIBBY","MT","Montana",4,"NWPP"]
["59301","MILES CITY","MT","Montana",4,"MROW"]
["59252","OUTLOOK","MT","Montana",4,"NWPP"]
["59258","RESERVE","MT","Montana",4,"NWPP"]
["59867","SALTESE","MT","Montana",4,"NWPP"]
["59349","TERRY","MT","Montana",4,"NWPP"]
["59756","WARM SPRINGS","MT","Montana",4,"NWPP"]
["59937","WHITEFISH","MT","Montana",4,"NWPP"]
["58520","ALMONT","ND","North Dakota",2,"MROW"]
["58416","BINFORD","ND","North Dakota",2,"MROW"]
["58725","CARPIO","ND","North Dakota",2,"MROW"]
["58012","CASSELTON","ND","North Dakota",2,"MROW"]
["58428","DAWSON","ND","North Dakota",2,"MROW"]
["58027","ENDERLIN","ND","North Dakota",2,"MROW"]
["58031","FINGAL","ND","North Dakota",2,"MROW"]
["58631","GLEN ULLIN","ND","North Dakota",2,"MROW"]
["58041","HANKINSON","ND","North Dakota",2,"MROW"]
["58451","HURDSFIELD","ND","North Dakota",2,"MROW"]
["58476","PINGREE","ND","North Dakota",2,"MROW"]
["58750","LANSFORD","ND","North Dakota",2,"MROW"]
["58466","MARION","ND","North Dakota",2,"MROW"]
["58472","MONTPELIER","ND","North Dakota",2,"MROW"]
["58765","NOONAN","ND","North Dakota",2,"MROW"]
["58269","OSNABROCK","ND","North Dakota",2,"MROW"]
["58365","ROCKLAKE","ND","North Dakota",2,"MROW"]
["58782","SHERWOOD","ND","North Dakota",2,"MROW"]
["58788","TOWNER","ND","North Dakota",2,"MROW"]
["58793","WESTHOPE","ND","North Dakota",2,"MROW"]
["57714","ALLEN","SD","South Dakota",2,"MROW"]
["57313","ARMOUR","SD","South Dakota",2,"MROW"]
["57317","BONESTEEL","SD","South Dakota",2,"MROW"]
["57322","CARPENTER","SD","South Dakota",2,"MROW"]
["57328","CORSICA","SD","South Dakota",2,"MROW"]
["57437","EUREKA","SD","South Dakota",2,"MROW"]
["57438","FAULKTON","SD","South Dakota",2,"MROW"]
["57238","GOODWIN","SD","South Dakota",2,"MROW"]
["57450","HOVEN","SD","South Dakota",2,"MROW"]
["57233","ERWIN","SD","South Dakota",2,"MROW"]
["57547","LONG VALLEY","SD","South Dakota",2,"MROW"]
["57559","MURDO","SD","South Dakota",2,"MROW"]
["57466","ONAKA","SD","South Dakota",2,"MROW"]
["57366","PARKSTON","SD","South Dakota",2,"MROW"]
["57371","REE HEIGHTS","SD","South Dakota",2,"MROW"]
["57103","SIOUX FALLS","SD","South Dakota",2,"MROW"]
["57063","TABOR","SD","South Dakota",2,"MROW"]
["57361","MARTY","SD","South Dakota",2,"MROW"]
["57380","WAGNER","SD","South Dakota",2,"MROW"]
["57278","WILLOW LAKE","SD","South Dakota",2,"MROW"]
["66713","BAXTER SPRINGS","KS","Kansas",2,"SPNO"]
["66734","FARLINGTON","KS","Kansas",2,"SPNO"]
["66112","KANSAS CITY","KS","Kansas",2,"SPNO"]
["66052","LINWOOD","KS","Kansas",2,"SPNO"]
["66732","ELSMORE","KS","Kansas",2,"SPNO"]
["66073","PERRY","KS","Kansas",2,"SPNO"]
["66211","LEAWOOD","KS","Kansas",2,"SPNO"]
["66772","SAVONBURG","KS","Kansas",2,"SPNO"]
["63730","ADVANCE","MO","Missouri",2,"SRMW"]
["65605","AURORA","MO","Missouri",2,"SRMW"]
["65609","BAKERSFIELD","MO","Missouri",2,"SRMW"]
["65611","BLUE EYE","MO","Missouri",2,"SPSO"]
["65618","BRIXEY","MO","Missouri",2,"SRMW"]
["63631","CALEDONIA","MO","Missouri",2,"SRMW"]
["65657","GARRISON","MO","Missouri",2,"SRMW"]
["64601","CHILLICOTHE","MO","Missouri",2,"SRMW"]
["64437","CRAIG","MO","Missouri",2,"SRMW"]
["63637","DOE RUN","MO","Missouri",2,"SRMW"]
["64445","ELMO","MO","Missouri",2,"SRMW"]
["63601","PARK HILLS","MO","Missouri",2,"SRMW"]
["63849","GOBLER","MO","Missouri",2,"SRMW"]
["64643","HALE","MO","Missouri",2,"SPNO"]
["64035","HARDIN","MO","Missouri",2,"SRMW"]
["64646","HUMPHREYS","MO","Missouri",2,"SRMW"]
["64801","JOPLIN","MO","Missouri",2,"SPNO"]
["64127","KANSAS CITY","MO","Missouri",2,"SPNO"]
["64152","KANSAS CITY","MO","Missouri",2,"SPNO"]
["64157","KANSAS CITY","MO","Missouri",2,"SRMW"]
["63758","KELSO","MO","Missouri",2,"SRMW"]
["64465","LATHROP","MO","Missouri",2,"SRMW"]
["65590","LONG LANE","MO","Missouri",2,"SRMW"]
["64660","MENDON","MO","Missouri",2,"SPNO"]
["64470","MOUND CITY","MO","Missouri",2,"SRMW"]
["65548","MOUNTAIN VIEW","MO","Missouri",2,"SRMW"]
["65717","NORWOOD","MO","Missouri",2,"SRMW"]
["63783","UNIONTOWN","MO","Missouri",2,"SRMW"]
["65730","POWELL","MO","Missouri",2,"SRMW"]
["65737","REEDS SPRING","MO","Missouri",2,"SRMW"]
["65409","ROLLA","MO","Missouri",2,"SRMW"]
["64676","ROTHVILLE","MO","Missouri",2,"SPNO"]
["65746","SEYMOUR","MO","Missouri",2,"SRMW"]
["65810","SPRINGFIELD","MO","Missouri",2,"SRMW"]
["64090","STRASBURG","MO","Missouri",2,"SPNO"]
["63784","VANDUSER","MO","Missouri",2,"SRMW"]
["64869","WACO","MO","Missouri",2,"SPNO"]
["65776","SOUTH FORK","MO","Missouri",2,"SPNO"]
["51501","COUNCIL BLUFFS","IA","Iowa",2,"MROW"]
["51593","HARLAN","IA","Iowa",2,"MROW"]
["51564","PISGAH","IA","Iowa",2,"MROW"]
["67568","PLEVNA","KS","Kansas",2,"SPNO"]
["67410","ABILENE","KS","Kansas",2,"SPNO"]
["67009","ATTICA","KS","Kansas",2,"SPNO"]
["67520","BISON","KS","Kansas",2,"SPNO"]
["67022","CALDWELL","KS","Kansas",2,"SPNO"]
["66930","AGENDA","KS","Kansas",2,"SPNO"]
["67838","DEERFIELD","KS","Kansas",2,"SPNO"]
["67037","DERBY","KS","Kansas",2,"SPNO"]
["66801","EMPORIA","KS","Kansas",2,"SPNO"]
["67050","GARDEN PLAIN","KS","Kansas",2,"SPNO"]
["67056","HALSTEAD","KS","Kansas",2,"SPNO"]
["67659","PENOKEE","KS","Kansas",2,"SPNO"]
["66948","JAMESTOWN","KS","Kansas",2,"SPNO"]
["67855","JOHNSON","KS","Kansas",2,"SPNO"]
["67073","LEHIGH","KS","Kansas",2,"SPNO"]
["67554","LYONS","KS","Kansas",2,"SPNO"]
["66510","MELVERN","KS","Kansas",2,"SPNO"]
["66959","MUNDEN","KS","Kansas",2,"SPNO"]
["66863","NEAL","KS","Kansas",2,"SPNO"]
["66522","ONEIDA","KS","Kansas",2,"SPNO"]
["66527","POWHATTAN","KS","Kansas",2,"SPNO"]
["67133","ROSE HILL","KS","Kansas",2,"SPNO"]
["67135","SEDGWICK","KS","Kansas",2,"SPNO"]
["67581","SYLVIA","KS","Kansas",2,"SPNO"]
["66618","TOPEKA","KS","Kansas",2,"SPNO"]
["66624","TOPEKA","KS","Kansas",2,"SPNO"]
["66546","WAKARUSA","KS","Kansas",2,"SPNO"]
["67203","WICHITA","KS","Kansas",2,"SPNO"]
["67235","WICHITA","KS","Kansas",2,"SPNO"]
["67278","WICHITA","KS","Kansas",2,"SPNO"]
["68304","ALVO","NE","Nebraska",2,"MROW"]
["69020","BARTLEY","NE","Nebraska",2,"MROW"]
["68068","WASHINGTON","NE","Nebraska",2,"MROW"]
["68036","LINWOOD","NE","Nebraska",2,"MROW"]
["69023","CHAMPION","NE","Nebraska",2,"RMPA"]
["68330","CORDOVA","NE","Nebraska",2,"MROW"]
["68019","CRAIG","NE","Nebraska",2,"MROW"]
["68440","STEELE CITY","NE","Nebraska",2,"MROW"]
["69340","ELLSWORTH","NE","Nebraska",2,"RMPA"]
["68939","FRANKLIN","NE","Nebraska",2,"MROW"]
["68842","GREELEY","NE","Nebraska",2,"MROW"]
["69141","GURLEY","NE","Nebraska",2,"RMPA"]
["68372","HICKMAN","NE","Nebraska",2,"MROW"]
["68377","JANSEN","NE","Nebraska",2,"MROW"]
["68505","LINCOLN","NE","Nebraska",2,"MROW"]
["68542","LINCOLN","NE","Nebraska",2,"MROW"]
["68855","MASON CITY","NE","Nebraska",2,"MROW"]
["68752","MEADOW GROVE","NE","Nebraska",2,"MROW"]
["68756","NELIGH","NE","Nebraska",2,"MROW"]
["68046","PAPILLION","NE","Nebraska",2,"MROW"]
["68130","OMAHA","NE","Nebraska",2,"MROW"]
["68178","OMAHA","NE","Nebraska",2,"MROW"]
["68419","PANAMA","NE","Nebraska",2,"MROW"]
["69041","PARKS","NE","Nebraska",2,"MROW"]
["68869","RAVENNA","NE","Nebraska",2,"MROW"]
["69363","SCOTTSBLUFF","NE","Nebraska",2,"MROW"]
["68977","STAMFORD","NE","Nebraska",2,"MROW"]
["68062","THURSTON","NE","Nebraska",2,"MROW"]
["69167","TRYON","NE","Nebraska",2,"MROW"]
["68785","WATERBURY","NE","Nebraska",2,"MROW"]
["68466","WYMORE","NE","Nebraska",2,"MROW"]
["80003","ARVADA","CO","Colorado",4,"RMPA"]
["80046","AURORA","CO","Colorado",4,"RMPA"]
["80307","BOULDER","CO","Colorado",4,"RMPA"]
["81211","BUENA VISTA","CO","Colorado",4,"RMPA"]
["80103","BYERS","CO","Colorado",4,"RMPA"]
["80428","CLARK","CO","Colorado",4,"RMPA"]
["80921","COLORADO SPRINGS","CO","Colorado",4,"RMPA"]
["80947","COLORADO SPRINGS","CO","Colorado",4,"RMPA"]
["81224","CRESTED BUTTE","CO","Colorado",4,"RMPA"]
["80726","CROOK","CO","Colorado",4,"RMPA"]
["80219","DENVER","CO","Colorado",4,"RMPA"]
["80241","THORNTON","CO","Colorado",4,"RMPA"]
["80281","DENVER","CO","Colorado",4,"RMPA"]
["81036","EADS","CO","Colorado",4,"RMPA"]
["80432","COMO","CO","Colorado",4,"RMPA"]
["80728","FLEMING","CO","Colorado",4,"RMPA"]
["80530","FREDERICK","CO","Colorado",4,"RMPA"]
["81507","GRAND JUNCTION","CO","Colorado",4,"RMPA"]
["80731","HAXTUN","CO","Colorado",4,"RMPA"]
["80534","JOHNSTOWN","CO","Colorado",4,"RMPA"]
["81049","KIM","CO","Colorado",4,"RMPA"]
["81327","LEWIS","CO","Colorado",4,"RMPA"]
["80503","LONGMONT","CO","Colorado",4,"RMPA"]
["81330","MESA VERDE NATIONAL PARK","CO","Colorado",4,"RMPA"]
["81424","NUCLA","CO","Colorado",4,"RMPA"]
["80468","PARSHALL","CO","Colorado",4,"RMPA"]
["81006","PUEBLO","CO","Colorado",4,"RMPA"]
["81011","PUEBLO","CO","Colorado",4,"RMPA"]
["81248","SARGENTS","CO","Colorado",4,"RMPA"]
["80751","STERLING","CO","Colorado",4,"RMPA"]
["81089","WALSENBURG","CO","Colorado",4,"RMPA"]
["80757","WOODROW","CO","Colorado",4,"RMPA"]
["81656","WOODY CREEK","CO","Colorado",4,"RMPA"]
["82411","BURLINGTON","WY","Wyoming",4,"RMPA"]
["82009","CHEYENNE","WY","Wyoming",4,"NWPP"]
["82636","EVANSVILLE","WY","Wyoming",4,"NWPP"]
["82060","HILLSDALE","WY","Wyoming",4,"RMPA"]
["82071","LARAMIE","WY","Wyoming",4,"NWPP"]
["82223","LINGLE","WY","Wyoming",4,"RMPA"]
["82715","FOUR CORNERS","WY","Wyoming",4,"RMPA"]
["82942","POINT OF ROCKS","WY","Wyoming",4,"NWPP"]
["82450","WAPITI","WY","Wyoming",4,"NWPP"]
["83314","BLISS","ID","Idaho",4,"NWPP"]
["83728","BOISE","ID","Idaho",4,"NWPP"]
["83756","BOISE","ID","Idaho",4,"NWPP"]
["83323","DECLO","ID","Idaho",4,"NWPP"]
["83241","GRACE","ID","Idaho",4,"NWPP"]
["83403","IDAHO FALLS","ID","Idaho",4,"NWPP"]
["83252","MALAD CITY","ID","Idaho",4,"NWPP"]
["83434","MENAN","ID","Idaho",4,"NWPP"]
["83654","NEW MEADOWS","ID","Idaho",4,"NWPP"]
["83441","REXBURG","ID","Idaho",4,"NWPP"]
["83449","SWAN VALLEY","ID","Idaho",4,"NWPP"]
["84620","AURORA","UT","Utah",4,"NWPP"]
["84742","KANARRAVILLE","UT","Utah",4,"NWPP"]
["84027","FRUITLAND","UT","Utah",4,"NWPP"]
["84520","EAST CARBON","UT","Utah",4,"NWPP"]
["84331","PORTAGE","UT","Utah",4,"NWPP"]
["84635","HINCKLEY","UT","Utah",4,"NWPP"]
["84005","EAGLE MOUNTAIN","UT","Utah",4,"NWPP"]
["84049","MIDWAY","UT","Utah",4,"NWPP"]
["84645","MONA","UT","Utah",4,"NWPP"]
["84401","OGDEN","UT","Utah",4,"NWPP"]
["84060","PARK CITY","UT","Utah",4,"NWPP"]
["84732","GREENWICH","UT","Utah",4,"NWPP"]
["84114","SALT LAKE CITY","UT","Utah",4,"NWPP"]
["84136","SALT LAKE CITY","UT","Utah",4,"NWPP"]
["84145","SALT LAKE CITY","UT","Utah",4,"NWPP"]
["84094","SANDY","UT","Utah",4,"NWPP"]
["84773","TEASDALE","UT","Utah",4,"NWPP"]
["85320","AGUILA","AZ","Arizona",5,"AZNM"]
["85325","BOUSE","AZ","Arizona",5,"AZNM"]
["86427","FORT MOHAVE","AZ","Arizona",5,"AZNM"]
["86502","CHAMBERS","AZ","Arizona",5,"AZNM"]
["85128","COOLIDGE","AZ","Arizona",5,"AZNM"]
["86038","MORMON LAKE","AZ","Arizona",5,"AZNM"]
["85304","GLENDALE","AZ","Arizona",5,"AZNM"]
["86030","HOTEVILLA","AZ","Arizona",5,"NWPP"]
["86331","JEROME","AZ","Arizona",5,"AZNM"]
["86406","LAKE HAVASU CITY","AZ","Arizona",5,"AZNM"]
["85210","MESA","AZ","Arizona",5,"RMPA"]
["85623","ORACLE","AZ","Arizona",5,"AZNM"]
["85006","PHOENIX","AZ","Arizona",5,"AZNM"]
["85031","PHOENIX","AZ","Arizona",5,"AZNM"]
["85032","PHOENIX","AZ","Arizona",5,"AZNM"]
["85064","PHOENIX","AZ","Arizona",5,"AZNM"]
["85543","PIMA","AZ","Arizona",5,"AZNM"]
["85140","SAN TAN VALLEY","AZ","Arizona",5,"AZNM"]
["85251","SCOTTSDALE","AZ","Arizona",5,"AZNM"]
["86341","SEDONA","AZ","Arizona",5,"AZNM"]
["85902","SHOW LOW","AZ","Arizona",5,"AZNM"]
["85379","SURPRISE","AZ","Arizona",5,"AZNM"]
["85638","TOMBSTONE","AZ","Arizona",5,"AZNM"]
["85717","TUCSON","AZ","Arizona",5,"AZNM"]
["85740","TUCSON","AZ","Arizona",5,"AZNM"]
["85356","WELLTON","AZ","Arizona",5,"AZNM"]
["85360","WIKIEUP","AZ","Arizona",5,"AZNM"]
["87101","ALBUQUERQUE","NM","New Mexico",3,"AZNM"]
["87144","RIO RANCHO","NM","New Mexico",3,"AZNM"]
["88020","ANIMAS","NM","New Mexico",3,"AZNM"]
["88025","BUCKHORN","NM","New Mexico",3,"AZNM"]
["88220","CARLSBAD","NM","New Mexico",3,"ERCT"]
["88415","CLAYTON","NM","New Mexico",3,"AZNM"]
["87933","DERRY","NM","New Mexico",3,"AZNM"]
["88033","FAIRACRES","NM","New Mexico",3,"AZNM"]
["87328","NAVAJO","NM","New Mexico",3,"NWPP"]
["88330","HOLLOMAN AIR FORCE BASE","NM","New Mexico",3,"AZNM"]
["88044","LA MESA","NM","New Mexico",3,"AZNM"]
["88004","LAS CRUCES","NM","New Mexico",3,"AZNM"]
["88427","MCALISTER","NM","New Mexico",3,"SPSO"]
["87035","MORIARTY","NM","New Mexico",3,"AZNM"]
["87068","BOSQUE FARMS","NM","New Mexico",3,"AZNM"]
["87043","PLACITAS","NM","New Mexico",3,"AZNM"]
["88201","ROSWELL","NM","New Mexico",3,"AZNM"]
["87501","SANTA FE","NM","New Mexico",3,"AZNM"]
["88022","ARENAS VALLEY","NM","New Mexico",3,"AZNM"]
["88351","TINNIE","NM","New Mexico",3,"AZNM"]
["87750","VALMORA","NM","New Mexico",3,"AZNM"]
["96112","FORT BIDWELL","CA","California",5,"NWPP"]
["96136","WENDEL","CA","California",5,"CAMX"]
["96127","SUSANVILLE","CA","California",5,"CAMX"]
["89006","BOULDER CITY","NV","Nevada",5,"AZNM"]
["89802","ELKO","NV","Nevada",5,"NWPP"]
["89415","HAWTHORNE","NV","Nevada",5,"NWPP"]
["89014","HENDERSON","NV","Nevada",5,"AZNM"]
["89108","LAS VEGAS","NV","Nevada",5,"AZNM"]
["89129","LAS VEGAS","NV","Nevada",5,"AZNM"]
["89154","LAS VEGAS","NV","Nevada",5,"AZNM"]
["89185","LAS VEGAS","NV","Nevada",5,"AZNM"]
["89424","NIXON","NV","Nevada",5,"NWPP"]
["89036","NORTH LAS VEGAS","NV","Nevada",5,"AZNM"]
["89506","RENO","NV","Nevada",5,"NWPP"]
["89047","SILVERPEAK","NV","Nevada",5,"AZNM"]
["97810","ADAMS","OR","Oregon",5,"NWPP"]
["97814","BAKER CITY","OR","Oregon",5,"NWPP"]
["97089","DAMASCUS","OR","Oregon",5,"NWPP"]
["97010","BRIDAL VEIL","OR","Oregon",5,"NWPP"]
["97419","CHESHIRE","OR","Oregon",5,"NWPP"]
["97733","CRESCENT","OR","Oregon",5,"NWPP"]
["97826","ECHO","OR","Oregon",5,"NWPP"]
["97441","GARDINER","OR","Oregon",5,"NWPP"]
["97027","GLADSTONE","OR","Oregon",5,"NWPP"]
["97835","HELIX","OR","Oregon",5,"NWPP"]
["97846","JOSEPH","OR","Oregon",5,"NWPP"]
["97355","LEBANON","OR","Oregon",5,"NWPP"]
["97346","GATES","OR","Oregon",5,"NWPP"]
["97133","NORTH PLAINS","OR","Oregon",5,"NWPP"]
["97868","PILOT ROCK","OR","Oregon",5,"NWPP"]
["97205","PORTLAND","OR","Oregon",5,"NWPP"]
["97227","PORTLAND","OR","Oregon",5,"NWPP"]
["97292","PORTLAND","OR","Oregon",5,"NWPP"]
["97050","RUFUS","OR","Oregon",5,"NWPP"]
["97056","SCAPPOOSE","OR","Oregon",5,"NWPP"]
["97538","SELMA","OR","Oregon",5,"NWPP"]
["97540","TALENT","OR","Oregon",5,"NWPP"]
["97884","UNITY","OR","Oregon",5,"NWPP"]
["97544","WILLIAMS","OR","Oregon",5,"NWPP"]
["98614","CHINOOK","WA","Washington",5,"NWPP"]
["98644","SEAVIEW","WA","Washington",5,"NWPP"]
["98650","TROUT LAKE","WA","Washington",5,"NWPP"]
["83520","AHSAHKA","ID","Idaho",4,"NWPP"]
["83827","ELK RIVER","ID","Idaho",4,"NWPP"]
["83501","LEWISTON","ID","Idaho",4,"NWPP"]
["83857","PRINCETON","ID","Idaho",4,"NWPP"]
["83861","SAINT MARIES","ID","Idaho",4,"NWPP"]
["99102","ALBION","WA","Washington",5,"NWPP"]
["98005","BELLEVUE","WA","Washington",5,"NWPP"]
["98311","BREMERTON","WA","Washington",5,"NWPP"]
["99109","CHEWELAH","WA","Washington",5,"NWPP"]
["99116","COULEE DAM","WA","Washington",5,"NWPP"]
["98019","DUVALL","WA","Washington",5,"NWPP"]
["98020","EDMONDS","WA","Washington",5,"NWPP"]
["98276","NOOKSACK","WA","Washington",5,"NWPP"]
["98338","GRAHAM","WA","Washington",5,"NWPP"]
["99139","IONE","WA","Washington",5,"NWPP"]
["98034","KIRKLAND","WA","Washington",5,"NWPP"]
["98083","KIRKLAND","WA","Washington",5,"NWPP"]
["98263","LYMAN","WA","Washington",5,"NWPP"]
["98832","MARLIN","WA","Washington",5,"NWPP"]
["98274","MOUNT VERNON","WA","Washington",5,"NWPP"]
["98501","OLYMPIA","WA","Washington",5,"NWPP"]
["99349","MATTAWA","WA","Washington",5,"NWPP"]
["98845","PALISADES","WA","Washington",5,"NWPP"]
["98370","POULSBO","WA","Washington",5,"NWPP"]
["98056","RENTON","WA","Washington",5,"NWPP"]
["98582","SALKUM","WA","Washington",5,"NWPP"]
["98118","SEATTLE","WA","Washington",5,"NWPP"]
["98161","SEATTLE","WA","Washington",5,"NWPP"]
["98170","SEATTLE","WA","Washington",5,"NWPP"]
["98287","SILVANA","WA","Washington",5,"NWPP"]
["99208","SPOKANE","WA","Washington",5,"NWPP"]
["99299","SPOKANE","WA","Washington",5,"NWPP"]
["98405","TACOMA","WA","Washington",5,"NWPP"]
["98411","TACOMA","WA","Washington",5,"NWPP"]
["98448","TACOMA","WA","Washington",5,"NWPP"]
["98856","TWISP","WA","Washington",5,"NWPP"]
["98395","WAUNA","WA","Washington",5,"NWPP"]
["99551","AKIACHAK","AK","Alaska",5,"AKMS"]
["99519","ANCHORAGE","AK","Alaska",5,"AKGD"]
["99724","BEAVER","AK","Alaska",5,"AKMS"]
["99690","NIGHTMUTE","AK","Alaska",5,"AKMS"]
["99736","DEERING","AK","Alaska",5,"AKMS"]
["99709","FAIRBANKS","AK","Alaska",5,"AKGD"]
["99602","HOLY CROSS","AK","Alaska",5,"AKMS"]
["99607","KALSKAG","AK","Alaska",5]
["99611","KENAI","AK","Alaska",5,"AKGD"]
["99757","LAKE MINCHUMINA","AK","Alaska",5,"AKGD"]
["99639","NINILCHIK","AK","Alaska",5,"AKGD"]
["99658","SAINT MARYS","AK","Alaska",5,"AKMS"]
["99676","TALKEETNA","AK","Alaska",5,"AKGD"]
["99654","WASILLA","AK","Alaska",5,"AKGD"]
["99688","WILLOW","AK","Alaska",5,"AKGD"]
["90240","DOWNEY","CA","California",5,"CAMX"]
["90002","LOS ANGELES","CA","California",5,"CAMX"]
["90027","LOS ANGELES","CA","California",5,"CAMX"]
["90048","LOS ANGELES","CA","California",5,"CAMX"]
["90053","LOS ANGELES","CA","California",5,"CAMX"]
["90074","LOS ANGELES","CA","California",5,"CAMX"]
["90262","LYNWOOD","CA","California",5,"CAMX"]
["90291","VENICE","CA","California",5,"CAMX"]
["93422","ATASCADERO","CA","California",5,"CAMX"]
["93390","BAKERSFIELD","CA","California",5,"CAMX"]
["93205","BODFISH","CA","California",5,"CAMX"]
["93207","CALIFORNIA HOT SPRINGS","CA","California",5,"CAMX"]
["93215","DELANO","CA","California",5,"CAMX"]
["91205","GLENDALE","CA","California",5,"CAMX"]
["93554","RANDSBURG","CA","California",5,"CAMX"]
["93247","LINDSAY","CA","California",5,"CAMX"]
["93543","LITTLEROCK","CA","California",5,"CAMX"]
["93443","MORRO BAY","CA","California",5,"CAMX"]
["91329","NORTHRIDGE","CA","California",5,"CAMX"]
["93552","PALMDALE","CA","California",5,"CAMX"]
["91182","PASADENA","CA","California",5,"CAMX"]
["91335","RESEDA","CA","California",5,"CAMX"]
["93560","ROSAMOND","CA","California",5,"CAMX"]
["93101","SANTA BARBARA","CA","California",5,"CAMX"]
["91310","CASTAIC","CA","California",5,"CAMX"]
["93262","SEQUOIA NATIONAL PARK","CA","California",5,"CAMX"]
["91040","SUNLAND","CA","California",5,"CAMX"]
["93274","TULARE","CA","California",5,"CAMX"]
["91402","PANORAMA CITY","CA","California",5,"CAMX"]
["93001","VENTURA","CA","California",5,"CAMX"]
["93287","WOODY","CA","California",5,"CAMX"]
["92226","BLYTHE","CA","California",5,"CAMX"]
["92018","CARLSBAD","CA","California",5,"CAMX"]
["91910","CHULA VISTA","CA","California",5,"CAMX"]
["91917","DULZURA","CA","California",5,"CAMX"]
["92336","FONTANA","CA","California",5,"CAMX"]
["92036","JULIAN","CA","California",5,"CAMX"]
["92354","LOMA LINDA","CA","California",5,"CAMX"]
["92257","NILAND","CA","California",5,"AZNM"]
["92264","PALM SPRINGS","CA","California",5,"CAMX"]
["92059","PALA","CA","California",5,"CAMX"]
["92501","RIVERSIDE","CA","California",5,"CAMX"]
["92402","SAN BERNARDINO","CA","California",5,"CAMX"]
["92109","SAN DIEGO","CA","California",5,"CAMX"]
["92114","SAN DIEGO","CA","California",5,"CAMX"]
["92137","SAN DIEGO","CA","California",5,"CAMX"]
["92169","SAN DIEGO","CA","California",5,"CAMX"]
["92197","SAN DIEGO","CA","California",5,"CAMX"]
["91980","TECATE","CA","California",5,"CAMX"]
["92281","WESTMORLAND","CA","California",5,"AZNM"]
["92803","ANAHEIM","CA","California",5,"CAMX"]
["92808","ANAHEIM","CA","California",5,"CAMX"]
["90623","LA PALMA","CA","California",5,"CAMX"]
["92624","CAPISTRANO BEACH","CA","California",5,"CAMX"]
["91741","GLENDORA","CA","California",5,"CAMX"]
["92650","EAST IRVINE","CA","California",5,"CAMX"]
["92652","LAGUNA BEACH","CA","California",5,"CAMX"]
["90717","LOMITA","CA","California",5,"CAMX"]
["90832","LONG BEACH","CA","California",5,"CAMX"]
["92660","NEWPORT BEACH","CA","California",5,"CAMX"]
["92867","ORANGE","CA","California",5,"CAMX"]
["91773","SAN DIMAS","CA","California",5,"CAMX"]
["92690","MISSION VIEJO","CA","California",5,"CAMX"]
["92735","SANTA ANA","CA","California",5,"CAMX"]
["92781","TUSTIN","CA","California",5,"CAMX"]
["90610","WHITTIER","CA","California",5,"CAMX"]
["95416","BOYES HOT SPRINGS","CA","California",5,"CAMX"]
["94014","DALY CITY","CA","California",5,"CAMX"]
["94015","DALY CITY","CA","California",5,"CAMX"]
["95542","GARBERVILLE","CA","California",5,"CAMX"]
["95453","LAKEPORT","CA","California",5,"CAMX"]
["94028","PORTOLA VALLEY","CA","California",5,"CAMX"]
["94950","OLEMA","CA","California",5,"CAMX"]
["94301","PALO ALTO","CA","California",5,"CAMX"]
["94956","POINT REYES STATION","CA","California",5,"CAMX"]
["94110","SAN FRANCISCO","CA","California",5,"CAMX"]
["94132","SAN FRANCISCO","CA","California",5,"CAMX"]
["94172","SAN FRANCISCO","CA","California",5,"CAMX"]
["95407","SANTA ROSA","CA","California",5,"CAMX"]
["95418","CALPELLA","CA","California",5,"CAMX"]
["95486","VILLA GRANDE","CA","California",5,"CAMX"]
["95004","AROMAS","CA","California",5,"CAMX"]
["95009","CAMPBELL","CA","California",5,"CAMX"]
["95017","DAVENPORT","CA","California",5,"CAMX"]
["94544","HAYWARD","CA","California",5,"CAMX"]
["95023","HOLLISTER","CA","California",5,"CAMX"]
["95038","MORGAN HILL","CA","California",5,"CAMX"]
["94614","OAKLAND","CA","California",5,"CAMX"]
["94568","DUBLIN","CA","California",5,"CAMX"]
["93901","SALINAS","CA","California",5,"CAMX"]
["95121","SAN JOSE","CA","California",5,"CAMX"]
["95126","SAN JOSE","CA","California",5,"CAMX"]
["95155","SAN JOSE","CA","California",5,"CAMX"]
["94583","SAN RAMON","CA","California",5,"CAMX"]
["94585","SUISUN CITY","CA","California",5,"CAMX"]
["95222","ANGELS CAMP","CA","California",5,"CAMX"]
["95301","ATWATER","CA","California",5,"CAMX"]
["95919","BROWNSVILLE","CA","California",5,"CAMX"]
["95927","CHICO","CA","California",5,"CAMX"]
["96021","CORNING","CA","California",5,"CAMX"]
["96024","DOUGLAS CITY","CA","California",5,"CAMX"]
["95230","FARMINGTON","CA","California",5,"CAMX"]
["93704","FRESNO","CA","California",5,"CAMX"]
["93709","FRESNO","CA","California",5,"CAMX"]
["93747","FRESNO","CA","California",5,"CAMX"]
["93794","FRESNO","CA","California",5,"CAMX"]
["95322","GUSTINE","CA","California",5,"CAMX"]
["93631","KINGSBURG","CA","California",5,"CAMX"]
["96050","KLAMATH RIVER","CA","California",5,"NWPP"]
["96058","MACDOEL","CA","California",5,"NWPP"]
["95348","MERCED","CA","California",5,"CAMX"]
["95246","MOUNTAIN RANCH","CA","California",5,"CAMX"]
["95963","ORLAND","CA","California",5,"CAMX"]
["95646","KIRKWOOD","CA","California",5,"CAMX"]
["95668","PLEASANT GROVE","CA","California",5,"CAMX"]
["96099","REDDING","CA","California",5,"CAMX"]
["94232","SACRAMENTO","CA","California",5,"CAMX"]
["94261","SACRAMENTO","CA","California",5,"CAMX"]
["94290","SACRAMENTO","CA","California",5,"CAMX"]
["95827","SACRAMENTO","CA","California",5,"CAMX"]
["95832","SACRAMENTO","CA","California",5,"CAMX"]
["95899","SACRAMENTO","CA","California",5,"CAMX"]
["95372","SOULSBYVILLE","CA","California",5,"CAMX"]
["95296","STOCKTON","CA","California",5,"CAMX"]
["95383","TWAIN HARTE","CA","California",5,"CAMX"]
["95696","VACAVILLE","CA","California",5,"CAMX"]
["96096","WHITMORE","CA","California",5,"CAMX"]
["96921","BARRIGADA","GU","Guam"]
["96718","HAWAII NATIONAL PARK","HI","Hawaii",5,"HIMS"]
["96819","HONOLULU","HI","Hawaii",5,"HIOA"]
["96859","TRIPLER ARMY MEDICAL CENTER","HI","Hawaii",5,"HIOA"]
["96747","KAUMAKANI","HI","Hawaii",5,"HIMS"]
["96753","KIHEI","HI","Hawaii",5,"HIMS"]
["96777","PAHALA","HI","Hawaii",5,"HIMS"]
["96799","PAGO PAGO","AS","American Samoa"]
["34420","BELLEVIEW","FL","Florida","1c","FRCC"]
["32428","CHIPLEY","FL","Florida","1c","SRSO"]
["32536","CRESTVIEW","FL","Florida","1c","SRSO"]
["32633","EVINSTON","FL","Florida","1c","FRCC"]
["32611","GAINESVILLE","FL","Florida","1c","FRCC"]
["32640","HAWTHORNE","FL","Florida","1c","FRCC"]
["32205","JACKSONVILLE","FL","Florida","1c","FRCC"]
["32227","JACKSONVILLE","FL","Florida","1c","FRCC"]
["32232","JACKSONVILLE","FL","Florida","1c","FRCC"]
["32260","JACKSONVILLE","FL","Florida","1c","FRCC"]
["32337","LLOYD","FL","Florida","1c","FRCC"]
["32583","MILTON","FL","Florida","1c","SRSO"]
["34481","OCALA","FL","Florida","1c","FRCC"]
["32003","FLEMING ISLAND","FL","Florida","1c","FRCC"]
["32417","PANAMA CITY","FL","Florida","1c","SRSO"]
["32590","PENSACOLA","FL","Florida","1c","SRSO"]
["32355","SAINT MARKS","FL","Florida","1c","FRCC"]
["32306","TALLAHASSEE","FL","Florida","1c","FRCC"]
["32465","WEWAHITCHKA","FL","Florida","1c","SRSO"]
["34498","YANKEETOWN","FL","Florida","1c","FRCC"]
["31510","ALMA","GA","Georgia","1c","SRSO"]
["30803","AVERA","GA","Georgia","1c","SRSO"]
["31801","BOX SPRINGS","GA","Georgia","1c","SRSO"]
["31804","CATAULA","GA","Georgia","1c","SRSO"]
["31907","COLUMBUS","GA","Georgia","1c","SRSO"]
["31908","COLUMBUS","GA","Georgia","1c","SRSO"]
["31019","DEXTER","GA","Georgia","1c","SRSO"]
["30809","EVANS","GA","Georgia","1c","SRSO"]
["30813","GROVETOWN","GA","Georgia","1c","SRSO"]
["31042","IRWINTON","GA","Georgia","1c","SRSO"]
["31637","LENOX","GA","Georgia","1c","SRSO"]
["30434","LOUISVILLE","GA","Georgia","1c","SRSO"]
["31294","MACON","GA","Georgia","1c","SRSO"]
["30442","MILLEN","GA","Georgia","1c","SRSO"]
["30448","NUNEZ","GA","Georgia","1c","SRSO"]
["31822","PINE MOUNTAIN","GA","Georgia","1c","SRSO"]
["31079","ROCHELLE","GA","Georgia","1c","SRSO"]
["31547","KINGS BAY","GA","Georgia","1c","SRSO"]
["31416","SAVANNAH","GA","Georgia","1c","SRSO"]
["31789","SUMNER","GA","Georgia","1c","SRSO"]
["31603","VALDOSTA","GA","Georgia","1c","SRSO"]
["31796","WARWICK","GA","Georgia","1c","SRSO"]
["31503","WAYCROSS","GA","Georgia","1c","SRSO"]
["29808","AIKEN","SC","South Carolina","1c","SRVC"]
["29921","FURMAN","SC","South Carolina","1c","SRVC"]
["29840","MOUNT CARMEL","SC","South Carolina","1c","SRVC"]
["29849","ULMER","SC","South Carolina","1c","SRVC"]
["33425","BOYNTON BEACH","FL","Florida","1c","FRCC"]
["33301","FORT LAUDERDALE","FL","Florida","1c","FRCC"]
["33306","FORT LAUDERDALE","FL","Florida","1c","FRCC"]
["33331","FORT LAUDERDALE","FL","Florida","1c","FRCC"]
["34948","FORT PIERCE","FL","Florida","1c","FRCC"]
["33016","HIALEAH","FL","Florida","1c","FRCC"]
["33019","HOLLYWOOD","FL","Florida","1c","FRCC"]
["33090","HOMESTEAD","FL","Florida","1c","FRCC"]
["33001","LONG KEY","FL","Florida","1c","FRCC"]
["33132","MIAMI","FL","Florida","1c","FRCC"]
["33162","MIAMI","FL","Florida","1c","FRCC"]
["33188","MIAMI","FL","Florida","1c","FRCC"]
["33261","MIAMI","FL","Florida","1c","FRCC"]
["33283","MIAMI","FL","Florida","1c","FRCC"]
["33067","POMPANO BEACH","FL","Florida","1c","FRCC"]
["33042","SUMMERLAND KEY","FL","Florida","1c","FRCC"]
["32701","ALTAMONTE SPRINGS","FL","Florida","1c","FRCC"]
["33503","BALM","FL","Florida","1c","FRCC"]
["33921","BOCA GRANDE","FL","Florida","1c","FRCC"]
["33508","BRANDON","FL","Florida","1c","FRCC"]
["33924","CAPTIVA","FL","Florida","1c","FRCC"]
["33769","CLEARWATER","FL","Florida","1c","FRCC"]
["33526","DADE CITY","FL","Florida","1c","FRCC"]
["32130","DE LEON SPRINGS","FL","Florida","1c","FRCC"]
["33527","DOVER","FL","Florida","1c","FRCC"]
["34139","EVERGLADES CITY","FL","Florida","1c","FRCC"]
["33914","CAPE CORAL","FL","Florida","1c","FRCC"]
["32735","GRAND ISLAND","FL","Florida","1c","FRCC"]
["34742","KISSIMMEE","FL","Florida","1c","FRCC"]
["33806","LAKELAND","FL","Florida","1c","FRCC"]
["33807","LAKELAND","FL","Florida","1c","FRCC"]
["33772","SEMINOLE","FL","Florida","1c","FRCC"]
["32791","LONGWOOD","FL","Florida","1c","FRCC"]
["32907","PALM BAY","FL","Florida","1c","FRCC"]
["32757","MOUNT DORA","FL","Florida","1c","FRCC"]
["34103","NAPLES","FL","Florida","1c","FRCC"]
["32169","NEW SMYRNA BEACH","FL","Florida","1c","FRCC"]
["32804","ORLANDO","FL","Florida","1c","FRCC"]
["32827","ORLANDO","FL","Florida","1c","FRCC"]
["32872","ORLANDO","FL","Florida","1c","FRCC"]
["34221","PALMETTO","FL","Florida","1c","FRCC"]
["32123","PORT ORANGE","FL","Florida","1c","FRCC"]
["34668","PORT RICHEY","FL","Florida","1c","FRCC"]
["33578","RIVERVIEW","FL","Florida","1c","FRCC"]
["33708","SAINT PETERSBURG","FL","Florida","1c","FRCC"]
["32771","SANFORD","FL","Florida","1c","FRCC"]
["34278","SARASOTA","FL","Florida","1c","FRCC"]
["32978","SEBASTIAN","FL","Florida","1c","FRCC"]
["33610","TAMPA","FL","Florida","1c","FRCC"]
["33634","TAMPA","FL","Florida","1c","FRCC"]
["33688","TAMPA","FL","Florida","1c","FRCC"]
["34284","VENICE","FL","Florida","1c","FRCC"]
["32195","WEIRSDALE","FL","Florida","1c","FRCC"]
["32971","WINTER BEACH","FL","Florida","1c","FRCC"]
["33543","WESLEY CHAPEL","FL","Florida","1c","FRCC"]
["35610","ANDERSON","AL","Alabama",3,"SRTV"]
["36503","ATMORE","AL","Alabama",3,"SRSO"]
["35023","BESSEMER","AL","Alabama",3,"SRSO"]
["35204","BIRMINGHAM","AL","Alabama",3,"SRTV"]
["35226","BIRMINGHAM","AL","Alabama",3,"SRTV"]
["35285","BIRMINGHAM","AL","Alabama",3,"SRTV"]
["36427","BREWTON","AL","Alabama",3,"SRSO"]
["35447","CARROLLTON","AL","Alabama",3,"SRSO"]
["36523","CODEN","AL","Alabama",3,"SRSO"]
["35962","CROSSVILLE","AL","Alabama",3,"SRTV"]
["36852","CUSSETA","AL","Alabama",3,"SRSO"]
["35061","DOLOMITE","AL","Alabama",3,"SRTV"]
["36025","ELMORE","AL","Alabama",3,"SRSO"]
["36441","FLOMATON","AL","Alabama",3,"SRSO"]
["36741","FURMAN","AL","Alabama",3,"SRSO"]
["35971","FYFFE","AL","Alabama",3,"SRTV"]
["36035","GOSHEN","AL","Alabama",3,"SRSO"]
["35078","HARPERSVILLE","AL","Alabama",3,"SRSO"]
["35802","HUNTSVILLE","AL","Alabama",3,"SRTV"]
["35981","IDER","AL","Alabama",3,"SRTV"]
["36453","KINSTON","AL","Alabama",3,"SRSO"]
["36046","LAPINE","AL","Alabama",3,"SRSO"]
["36752","LOWNDESBORO","AL","Alabama",3,"SRSO"]
["35984","MENTONE","AL","Alabama",3,"SRTV"]
["36617","MOBILE","AL","Alabama",3,"SRSO"]
["36695","MOBILE","AL","Alabama",3,"SRSO"]
["36121","MONTGOMERY","AL","Alabama",3,"SRSO"]
["36131","MONTGOMERY","AL","Alabama",3,"SRSO"]
["36268","MUNFORD","AL","Alabama",3,"SRSO"]
["36801","OPELIKA","AL","Alabama",3,"SRSO"]
["35478","PETERSON","AL","Alabama",3,"SRSO"]
["35469","KNOXVILLE","AL","Alabama",3,"SRSO"]
["35582","RED BAY","AL","Alabama",3,"SRTV"]
["36569","SAINT STEPHENS","AL","Alabama",3,"SRSO"]
["36349","MALVERN","AL","Alabama",3,"SRSO"]
["35151","SYLACAUGA","AL","Alabama",3,"SRSO"]
["35173","TRUSSVILLE","AL","Alabama",3,"SRSO"]
["35490","VANCE","AL","Alabama",3,"SRSO"]
["35183","WEOGUFKA","AL","Alabama",3,"SRSO"]
["35188","WOODSTOCK","AL","Alabama",3,"SRSO"]
["39735","ACKERMAN","MS","Mississippi",3,"SRTV"]
["39576","WAVELAND","MS","Mississippi",3,"SRSO"]
["38859","NEW SITE","MS","Mississippi",3,"SRTV"]
["39045","CAMDEN","MS","Mississippi",3,"SRMV"]
["39051","CARTHAGE","MS","Mississippi",3,"SRTV"]
["39701","COLUMBUS","MS","Mississippi",3,"SRTV"]
["39061","DELTA CITY","MS","Mississippi",3,"SRMV"]
["39081","HARRISTON","MS","Mississippi",3,"SRSO"]
["38703","GREENVILLE","MS","Mississippi",3,"SRSO"]
["39080","HARPERVILLE","MS","Mississippi",3,"SRTV"]
["39404","HATTIESBURG","MS","Mississippi",3,"SRSO"]
["38749","HOLLY RIDGE","MS","Mississippi",3,"SRSO"]
["39232","FLOWOOD","MS","Mississippi",3,"SRMV"]
["39440","LAUREL","MS","Mississippi",3,"SRSO"]
["39647","MC CALL CREEK","MS","Mississippi",3,"SRSO"]
["39561","MC HENRY","MS","Mississippi",3,"SRSO"]
["39301","MERIDIAN","MS","Mississippi",3,"SRTV"]
["39461","NEELY","MS","Mississippi",3,"SRSO"]
["39563","MOSS POINT","MS","Mississippi",3,"SRSO"]
["38862","PLANTERSVILLE","MS","Mississippi",3,"SRTV"]
["38664","ROBINSONVILLE","MS","Mississippi",3,"SRTV"]
["39661","ROXIE","MS","Mississippi",3,"SRSO"]
["39163","SHARON","MS","Mississippi",3,"SRMV"]
["38776","STONEVILLE","MS","Mississippi",3,"SRMV"]
["39364","TOOMSUBA","MS","Mississippi",3,"SRTV"]
["38679","VICTORIA","MS","Mississippi",3,"SRTV"]
["70510","ABBEVILLE","LA","Louisiana",3,"SRMV"]
["70511","ABBEVILLE","LA","Louisiana",3,"SRMV"]
["71003","ATHENS","LA","Louisiana",3,"SRMV"]
["70813","BATON ROUGE","LA","Louisiana",3,"SRMV"]
["70879","BATON ROUGE","LA","Louisiana",3,"SRMV"]
["70038","BOOTHVILLE","LA","Louisiana",3,"SRMV"]
["71225","CALHOUN","LA","Louisiana",3,"SRMV"]
["70721","CARVILLE","LA","Louisiana",3,"SRMV"]
["71419","CONVERSE","LA","Louisiana",3,"SPSO"]
["70634","DERIDDER","LA","Louisiana",3,"SRMV"]
["71051","ELM GROVE","LA","Louisiana",3,"SPSO"]
["71429","FLORIEN","LA","Louisiana",3,"SPSO"]
["71031","GOLDONNA","LA","Louisiana",3,"SRMV"]
["71245","GRAMBLING","LA","Louisiana",3,"SRMV"]
["70401","HAMMOND","LA","Louisiana",3,"SRMV"]
["70443","INDEPENDENCE","LA","Louisiana",3,"SRMV"]
["70444","KENTWOOD","LA","Louisiana",3,"SRMV"]
["70067","LAFITTE","LA","Louisiana",3,"SRMV"]
["70606","LAKE CHARLES","LA","Louisiana",3,"SRMV"]
["70551","LEONVILLE","LA","Louisiana",3,"SPSO"]
["71350","MANSURA","LA","Louisiana",3,"SPSO"]
["70010","METAIRIE","LA","Louisiana",3,"SRMV"]
["71454","MONTGOMERY","LA","Louisiana",3,"SRMV"]
["70115","NEW ORLEANS","LA","Louisiana",3,"SRMV"]
["70146","NEW ORLEANS","LA","Louisiana",3,"SRMV"]
["70153","NEW ORLEANS","LA","Louisiana",3,"SRMV"]
["70184","NEW ORLEANS","LA","Louisiana",3,"SRMV"]
["71466","OTIS","LA","Louisiana",3,"SPSO"]
["71467","POLLOCK","LA","Louisiana",3,"SPSO"]
["70083","PORT SULPHUR","LA","Louisiana",3,"SRMV"]
["70456","ROSELAND","LA","Louisiana",3,"SRMV"]
["71103","SHREVEPORT","LA","Louisiana",3,"SPSO"]
["71149","SHREVEPORT","LA","Louisiana",3,"SPSO"]
["70460","SLIDELL","LA","Louisiana",3,"SPSO"]
["70301","THIBODAUX","LA","Louisiana",3,"SRMV"]
["70589","WASHINGTON","LA","Louisiana",3,"SRMV"]
["71291","WEST MONROE","LA","Louisiana",3,"SRMV"]
["72005","AMAGON","AR","Arkansas",3,"SRMV"]
["72503","BATESVILLE","AR","Arkansas",3,"SRMV"]
["72413","BIGGERS","AR","Arkansas",3,"SRMV"]
["72021","BRINKLEY","AR","Arkansas",3,"SRMV"]
["72619","BULL SHOALS","AR","Arkansas",3,"SRMV"]
["72933","CHARLESTON","AR","Arkansas",3,"SPSO"]
["72035","CONWAY","AR","Arkansas",3,"SRMV"]
["71638","DERMOTT","AR","Arkansas",3,"SRMV"]
["72333","ELAINE","AR","Arkansas",3,"SRMV"]
["72429","FISHER","AR","Arkansas",3,"SRMV"]
["72335","FORREST CITY","AR","Arkansas",3,"SRMV"]
["72338","FRENCHMANS BAYOU","AR","Arkansas",3,"SRMV"]
["72736","GRAVETTE","AR","Arkansas",3,"SPSO"]
["72938","HARTFORD","AR","Arkansas",3,"SPSO"]
["72738","HINDSVILLE","AR","Arkansas",3,"SPSO"]
["72075","JACKSONPORT","AR","Arkansas",3,"SRMV"]
["72081","JUDSONIA","AR","Arkansas",3,"SRMV"]
["71653","LAKE VILLAGE","AR","Arkansas",3,"SRMV"]
["72211","LITTLE ROCK","AR","Arkansas",3,"SRMV"]
["72745","LOWELL","AR","Arkansas",3,"SPSO"]
["72436","LAFE","AR","Arkansas",3,"SRMV"]
["72368","MORO","AR","Arkansas",3,"SRMV"]
["72653","MOUNTAIN HOME","AR","Arkansas",3,"SRMV"]
["72115","NORTH LITTLE ROCK","AR","Arkansas",3,"SRMV"]
["72663","ONIA","AR","Arkansas",3,"SRMV"]
["72752","PETTIGREW","AR","Arkansas",3,"SPSO"]
["72128","POYEN","AR","Arkansas",3,"SRMV"]
["72135","ROLAND","AR","Arkansas",3,"SRMV"]
["72828","BRIGGSVILLE","AR","Arkansas",3,"SRMV"]
["72863","SCRANTON","AR","Arkansas",3,"SPSO"]
["71764","STEPHENS","AR","Arkansas",3,"SRMV"]
["72168","TUCKER","AR","Arkansas",3,"SRMV"]
["72474","WALCOTT","AR","Arkansas",3,"SRMV"]
["72176","WARD","AR","Arkansas",3,"SRMV"]
["71677","WINCHESTER","AR","Arkansas",3,"SRMV"]
["73001","ALBERT","OK","Oklahoma",2,"SPSO"]
["74827","ATWOOD","OK","Oklahoma",2,"SPSO"]
["73010","BLANCHARD","OK","Oklahoma",2,"SPSO"]
["73430","BURNEYVILLE","OK","Oklahoma",2,"SPSO"]
["74729","CADDO","OK","Oklahoma",2,"SPSO"]
["74834","CHANDLER","OK","Oklahoma",2,"SPSO"]
["73529","COMANCHE","OK","Oklahoma",2,"SPSO"]
["74026","DAVENPORT","OK","Oklahoma",2,"SPSO"]
["73638","CRAWFORD","OK","Oklahoma",2,"SPSO"]
["74840","EARLSBORO","OK","Oklahoma",2,"SPSO"]
["74342","EUCHA","OK","Oklahoma",2,"SPSO"]
["73551","HOLLISTER","OK","Oklahoma",2,"SPSO"]
["74344","GROVE","OK","Oklahoma",2,"SPSO"]
["73743","HILLSDALE","OK","Oklahoma",2,"SPSO"]
["73049","JONES","OK","Oklahoma",2,"SPSO"]
["73050","LANGSTON","OK","Oklahoma",2,"SPSO"]
["73505","LAWTON","OK","Oklahoma",2,"SPSO"]
["74944","MCCURTAIN","OK","Oklahoma",2,"SPSO"]
["73557","MEDICINE PARK","OK","Oklahoma",2,"SPSO"]
["74402","MUSKOGEE","OK","Oklahoma",2,"SPSO"]
["74052","OILTON","OK","Oklahoma",2,"SPSO"]
["73762","OKARCHE","OK","Oklahoma",2,"SPSO"]
["73122","OKLAHOMA CITY","OK","Oklahoma",2,"SPSO"]
["73145","OKLAHOMA CITY","OK","Oklahoma",2,"SPSO"]
["73179","OKLAHOMA CITY","OK","Oklahoma",2,"SPSO"]
["74059","PERKINS","OK","Oklahoma",2,"SPSO"]
["74362","PRYOR","OK","Oklahoma",2,"SPSO"]
["74363","QUAPAW","OK","Oklahoma",2,"SPSO"]
["74364","ROSE","OK","Oklahoma",2,"SPSO"]
["74804","SHAWNEE","OK","Oklahoma",2,"SPSO"]
["74871","STONEWALL","OK","Oklahoma",2,"SPSO"]
["73459","THACKERVILLE","OK","Oklahoma",2,"SPSO"]
["74128","TULSA","OK","Oklahoma",2,"SPSO"]
["74133","TULSA","OK","Oklahoma",2,"SPSO"]
["74171","TULSA","OK","Oklahoma",2,"SPSO"]
["74878","WANETTE","OK","Oklahoma",2,"SPSO"]
["73097","WHEATLAND","OK","Oklahoma",2,"SPSO"]
["75926","APPLE SPRINGS","TX","Texas",3,"SRMV"]
["75551","ATLANTA","TX","Texas",3,"SPSO"]
["75929","BROADDUS","TX","Texas",3,"ERCT"]
["75833","CENTERVILLE","TX","Texas",3,"SRMV"]
["75151","CORSICANA","TX","Texas",3,"ERCT"]
["75219","DALLAS","TX","Texas",3,"ERCT"]
["75246","DALLAS","TX","Texas",3,"ERCT"]
["75284","DALLAS","TX","Texas",3,"ERCT"]
["75312","DALLAS","TX","Texas",3,"ERCT"]
["75380","DALLAS","TX","Texas",3,"ERCT"]
["75941","DIBOLL","TX","Texas",3,"ERCT"]
["75125","FERRIS","TX","Texas",3,"ERCT"]
["75644","GILMER","TX","Texas",3,"SPSO"]
["75050","GRAND PRAIRIE","TX","Texas",3,"ERCT"]
["75949","HUNTINGTON","TX","Texas",3,"ERCT"]
["75660","JUDSON","TX","Texas",3,"SPSO"]
["75027","FLOWER MOUND","TX","Texas",3,"ERCT"]
["75902","LUFKIN","TX","Texas",3,"ERCT"]
["75150","MESQUITE","TX","Texas",3,"ERCT"]
["75187","MESQUITE","TX","Texas",3,"ERCT"]
["75682","NEW LONDON","TX","Texas",3,"SPSO"]
["75025","PLANO","TX","Texas",3,"ERCT"]
["75155","RICE","TX","Texas",3,"ERCT"]
["75158","SCURRY","TX","Texas",3,"ERCT"]
["75691","TATUM","TX","Texas",3,"SPSO"]
["75504","TEXARKANA","TX","Texas",3,"SPSO"]
["75790","VAN","TX","Texas",3,"ERCT"]
["75098","WYLIE","TX","Texas",3,"ERCT"]
["79603","ABILENE","TX","Texas",3,"ERCT"]
["79110","AMARILLO","TX","Texas",3,"SPSO"]
["79118","AMARILLO","TX","Texas",3,"SPSO"]
["76004","ARLINGTON","TX","Texas",3,"ERCT"]
["76021","BEDFORD","TX","Texas",3,"ERCT"]
["79011","BRISCOE","TX","Texas",3,"SPSO"]
["76831","CASTELL","TX","Texas",3,"ERCT"]
["79322","CROSBYTON","TX","Texas",3,"SPSO"]
["76443","CROSS PLAINS","TX","Texas",3,"ERCT"]
["79231","DOUGHERTY","TX","Texas",3,"SPSO"]
["76101","FORT WORTH","TX","Texas",3,"ERCT"]
["76122","FORT WORTH","TX","Texas",3,"ERCT"]
["76179","FORT WORTH","TX","Texas",3,"ERCT"]
["79519","GOLDSBORO","TX","Texas",3,"ERCT"]
["76454","GORMAN","TX","Texas",3,"ERCT"]
["79237","HEDLEY","TX","Texas",3,"SPSO"]
["76369","KAMAY","TX","Texas",3,"ERCT"]
["76852","LOHN","TX","Texas",3,"ERCT"]
["79415","LUBBOCK","TX","Texas",3,"SPSO"]
["76370","MEGARGEL","TX","Texas",3,"ERCT"]
["79536","MERKEL","TX","Texas",3,"ERCT"]
["79063","NAZARETH","TX","Texas",3,"SPSO"]
["76073","PARADISE","TX","Texas",3,"ERCT"]
["76470","RANGER","TX","Texas",3,"ERCT"]
["79548","RULE","TX","Texas",3,"ERCT"]
["76903","SAN ANGELO","TX","Texas",3,"ERCT"]
["79080","SKELLYTOWN","TX","Texas",3,"SPSO"]
["76475","STRAWN","TX","Texas",3,"ERCT"]
["76885","VALLEY SPRING","TX","Texas",3,"ERCT"]
["79096","WHEELER","TX","Texas",3,"SPSO"]
["77411","ALIEF","TX","Texas",3,"ERCT"]
["77702","BEAUMONT","TX","Texas",3,"SRMV"]
["77707","BEAUMONT","TX","Texas",3,"SRMV"]
["77808","BRYAN","TX","Texas",3,"SRMV"]
["77850","CONCORD","TX","Texas",3,"ERCT"]
["77853","DIME BOX","TX","Texas",3,"ERCT"]
["77436","EGYPT","TX","Texas",3,"ERCT"]
["77857","GAUSE","TX","Texas",3,"ERCT"]
["77010","HOUSTON","TX","Texas",3,"ERCT"]
["77031","HOUSTON","TX","Texas",3,"ERCT"]
["77056","HOUSTON","TX","Texas",3,"ERCT"]
["77081","HOUSTON","TX","Texas",3,"ERCT"]
["77204","HOUSTON","TX","Texas",3,"ERCT"]
["77209","HOUSTON","TX","Texas",3,"ERCT"]
["77237","HOUSTON","TX","Texas",3,"ERCT"]
["77263","HOUSTON","TX","Texas",3,"ERCT"]
["77299","HOUSTON","TX","Texas",3,"ERCT"]
["77450","KATY","TX","Texas",3,"ERCT"]
["77565","KEMAH","TX","Texas",3,"ERCT"]
["77456","MARKHAM","TX","Texas",3,"ERCT"]
["77872","NORTH ZULCH","TX","Texas",3,"ERCT"]
["77468","PLEDGER","TX","Texas",3,"ERCT"]
["77369","RYE","TX","Texas",3,"SRMV"]
["77387","SPRING","TX","Texas",3,"ERCT"]
["77660","SPURGER","TX","Texas",3,"SRMV"]
["77663","VILLAGE MILLS","TX","Texas",3,"SRMV"]
["79831","ALPINE","TX","Texas",3,"ERCT"]
["78717","AUSTIN","TX","Texas",3,"ERCT"]
["78738","AUSTIN","TX","Texas",3,"ERCT"]
["78765","AUSTIN","TX","Texas",3,"ERCT"]
["78766","AUSTIN","TX","Texas",3,"ERCT"]
["78829","BATESVILLE","TX","Texas",3,"ERCT"]
["76628","BRANDON","TX","Texas",3,"ERCT"]
["78932","CARMINE","TX","Texas",3,"ERCT"]
["78851","DRYDEN","TX","Texas",3,"ERCT"]
["78416","CORPUS CHRISTI","TX","Texas",3,"ERCT"]
["78427","CORPUS CHRISTI","TX","Texas",3,"ERCT"]
["79847","SALT FLAT","TX","Texas",3,"ERCT"]
["78540","EDINBURG","TX","Texas",3,"ERCT"]
["79917","EL PASO","TX","Texas",3,"AZNM"]
["79946","EL PASO","TX","Texas",3,"AZNM"]
["79998","EL PASO","TX","Texas",3,"AZNM"]
["88513","EL PASO","TX","Texas",3,"AZNM"]
["88535","EL PASO","TX","Texas",3,"AZNM"]
["88563","EL PASO","TX","Texas",3,"AZNM"]
["88589","EL PASO","TX","Texas",3,"AZNM"]
["78941","FLATONIA","TX","Texas",3,"ERCT"]
["76641","FROST","TX","Texas",3,"ERCT"]
["79742","GRANDFALLS","TX","Texas",3,"ERCT"]
["78117","HOBSON","TX","Texas",3,"ERCT"]
["78125","MINERAL","TX","Texas",3,"ERCT"]
["78558","LA BLANCA","TX","Texas",3,"ERCT"]
["78946","LEDBETTER","TX","Texas",3,"ERCT"]
["78947","LEXINGTON","TX","Texas",3,"ERCT"]
["78504","MCALLEN","TX","Texas",3,"ERCT"]
["79754","MENTONE","TX","Texas",3,"ERCT"]
["78572","MISSION","TX","Texas",3,"ERCT"]
["78951","OAKLAND","TX","Texas",3,"ERCT"]
["79763","ODESSA","TX","Texas",3,"ERCT"]
["79776","PENWELL","TX","Texas",3,"ERCT"]
["76679","PURDON","TX","Texas",3,"ERCT"]
["78953","ROSANKY","TX","Texas",3,"ERCT"]
["78205","SAN ANTONIO","TX","Texas",3,"ERCT"]
["78230","SAN ANTONIO","TX","Texas",3,"ERCT"]
["78251","SAN ANTONIO","TX","Texas",3,"ERCT"]
["78256","SAN ANTONIO","TX","Texas",3,"ERCT"]
["78294","SAN ANTONIO","TX","Texas",3,"ERCT"]
["78385","SARITA","TX","Texas",3,"ERCT"]
["78595","SULLIVAN CITY","TX","Texas",3,"ERCT"]
["78672","TOW","TX","Texas",3,"ERCT"]
["79785","TOYAH","TX","Texas",3,"ERCT"]
["76705","WACO","TX","Texas",3,"ERCT"]
["78596","WESLACO","TX","Texas",3,"ERCT"]
["46911","AMBOY","IN","Indiana",2,"RFCW"]
["46106","BARGERSVILLE","IN","Indiana",2,"RFCW"]
["47406","BLOOMINGTON","IN","Indiana",2,"RFCW"]
["46110","BOGGSTOWN","IN","Indiana",2,"RFCW"]
["47925","BUFFALO","IN","Indiana",2,"RFCW"]
["47521","CELESTINE","IN","Indiana",2,"RFCW"]
["47227","COMMISKEY","IN","Indiana",2,"RFCW"]
["46920","CUTLER","IN","Indiana",2,"RFCW"]
["47942","EARL PARK","IN","Indiana",2,"RFCW"]
["47528","EDWARDSPORT","IN","Indiana",2,"RFCW"]
["46037","FISHERS","IN","Indiana",2,"RFCW"]
["46850","FORT WAYNE","IN","Indiana",2,"RFCW"]
["46895","FORT WAYNE","IN","Indiana",2,"RFCW"]
["46738","GARRETT","IN","Indiana",2,"RFCW"]
["46405","LAKE STATION","IN","Indiana",2,"RFCW"]
["46140","GREENFIELD","IN","Indiana",2,"RFCW"]
["47434","HARRODSBURG","IN","Indiana",2,"RFCW"]
["47437","HURON","IN","Indiana",2,"RFCW"]
["46227","INDIANAPOLIS","IN","Indiana",2,"RFCW"]
["46266","INDIANAPOLIS","IN","Indiana",2,"RFCW"]
["47549","JASPER","IN","Indiana",2,"RFCW"]
["47351","KENNARD","IN","Indiana",2,"RFCW"]
["47905","LAFAYETTE","IN","Indiana",2,"RFCW"]
["46538","LEESBURG","IN","Indiana",2,"RFCW"]
["46146","HOMER","IN","Indiana",2,"RFCW"]
["46540","MIDDLEBURY","IN","Indiana",2,"RFCW"]
["46543","MILLERSBURG","IN","Indiana",2,"RFCW"]
["46161","MORRISTOWN","IN","Indiana",2,"RFCW"]
["46553","NEW PARIS","IN","Indiana",2,"RFCW"]
["46063","ORESTES","IN","Indiana",2,"RFCW"]
["46562","PIERCETON","IN","Indiana",2,"RFCW"]
["47977","REMINGTON","IN","Indiana",2,"RFCW"]
["47380","RIDGEVILLE","IN","Indiana",2,"RFCW"]
["47875","SAINT BERNICE","IN","Indiana",2,"RFCW"]
["46565","SHIPSHEWANA","IN","Indiana",2,"RFCW"]
["47460","SPENCER","IN","Indiana",2,"RFCW"]
["47465","SWITZ CITY","IN","Indiana",2,"RFCW"]
["47802","TERRE HAUTE","IN","Indiana",2,"RFCW"]
["46791","UNIONDALE","IN","Indiana",2,"RFCW"]
["47501","WASHINGTON","IN","Indiana",2,"RFCW"]
["47393","WILLIAMSBURG","IN","Indiana",2,"RFCW"]
["49221","ADRIAN","MI","Michigan",2,"RFCM"]
["48112","BELLEVILLE","MI","Michigan",2,"RFCM"]
["48301","BLOOMFIELD HILLS","MI","Michigan",2,"RFCM"]
["48347","CLARKSTON","MI","Michigan",2,"RFCM"]
["48203","HIGHLAND PARK","MI","Michigan",2,"RFCM"]
["48224","DETROIT","MI","Michigan",2,"RFCM"]
["48267","DETROIT","MI","Michigan",2,"RFCM"]
["48502","FLINT","MI","Michigan",2,"RFCM"]
["48503","FLINT","MI","Michigan",2,"RFCM"]
["48136","GARDEN CITY","MI","Michigan",2,"RFCM"]
["48141","INKSTER","MI","Michigan",2,"RFCM"]
["48367","LEONARD","MI","Michigan",2,"RFCM"]
["48041","MEMPHIS","MI","Michigan",2,"RFCM"]
["49259","MUNITH","MI","Michigan",2,"RFCM"]
["48048","NEW HAVEN","MI","Michigan",2,"RFCM"]
["49269","PARMA","MI","Michigan",2,"RFCM"]
["48061","PORT HURON","MI","Michigan",2,"RFCM"]
["48470","RUTH","MI","Michigan",2,"RFCM"]
["48079","SAINT CLAIR","MI","Michigan",2,"RFCM"]
["48316","UTICA","MI","Michigan",2,"RFCM"]
["48382","COMMERCE TOWNSHIP","MI","Michigan",2,"RFCM"]
["48187","CANTON","MI","Michigan",2,"RFCM"]
["49010","ALLEGAN","MI","Michigan",2,"RFCM"]
["48705","BARTON CITY","MI","Michigan",2,"RFCM"]
["49022","BENTON HARBOR","MI","Michigan",2,"RFCW"]
["49103","BERRIEN SPRINGS","MI","Michigan",2,"RFCW"]
["49312","BROHMAN","MI","Michigan",2,"RFCM"]
["49915","CASPIAN","MI","Michigan",2,"MROE"]
["49035","CLOVERDALE","MI","Michigan",2,"RFCM"]
["49043","COVERT","MI","Michigan",2,"RFCM"]
["49727","EAST JORDAN","MI","Michigan",2,"RFCM"]
["49729","ELLSWORTH","MI","Michigan",2,"RFCM"]
["49630","EMPIRE","MI","Michigan",2,"RFCM"]
["49635","FRANKFORT","MI","Michigan",2,"RFCM"]
["48737","GLENNIE","MI","Michigan",2,"RFCM"]
["49523","GRAND RAPIDS","MI","Michigan",2,"RFCM"]
["49544","GRAND RAPIDS","MI","Michigan",2,"RFCM"]
["49115","HARBERT","MI","Michigan",2,"RFCW"]
["48842","HOLT","MI","Michigan",2,"RFCM"]
["49643","INTERLOCHEN","MI","Michigan",2,"RFCM"]
["49024","PORTAGE","MI","Michigan",2,"RFCM"]
["48901","LANSING","MI","Michigan",2,"RFCM"]
["48951","LANSING","MI","Michigan",2,"RFCM"]
["49654","LELAND","MI","Michigan",2,"RFCM"]
["49664","MAPLE CITY","MI","Michigan",2,"RFCM"]
["49861","MICHIGAMME","MI","Michigan",2,"MROE"]
["48861","MULLIKEN","MI","Michigan",2,"RFCM"]
["49120","NILES","MI","Michigan",2,"RFCW"]
["49075","NOTTAWA","MI","Michigan",2,"RFCM"]
["49079","PAW PAW","MI","Michigan",2,"RFCM"]
["49874","POWERS","MI","Michigan",2,"RFCW"]
["49342","RODNEY","MI","Michigan",2,"RFCM"]
["49781","SAINT IGNACE","MI","Michigan",2,"RFCW"]
["48884","SHERIDAN","MI","Michigan",2,"RFCM"]
["48760","SILVERWOOD","MI","Michigan",2,"RFCM"]
["49091","STURGIS","MI","Michigan",2,"RFCM"]
["49094","UNION CITY","MI","Michigan",2,"RFCM"]
["48661","WEST BRANCH","MI","Michigan",2,"RFCM"]
["60005","ARLINGTON HEIGHTS","IL","Illinois",2,"RFCW"]
["61020","DAVIS JUNCTION","IL","Illinois",2,"RFCW"]
["60015","DEERFIELD","IL","Illinois",2,"RFCW"]
["60022","GLENCOE","IL","Illinois",2,"RFCW"]
["61048","LENA","IL","Illinois",2,"RFCW"]
["60088","GREAT LAKES","IL","Illinois",2,"RFCW"]
["61104","ROCKFORD","IL","Illinois",2,"RFCW"]
["61075","SCALES MOUND","IL","Illinois",2,"MROW"]
["60077","SKOKIE","IL","Illinois",2,"RFCW"]
["53910","ADAMS","WI","Wisconsin",2,"MROE"]
["54511","ARGONNE","WI","Wisconsin",2,"MROE"]
["53512","BELOIT","WI","Wisconsin",2,"MROE"]
["54417","BROKAW","WI","Wisconsin",2,"MROE"]
["53806","CASSVILLE","WI","Wisconsin",2,"MROW"]
["53013","CEDAR GROVE","WI","Wisconsin",2,"RFCW"]
["53807","CUBA CITY","WI","Wisconsin",2,"MROE"]
["54521","EAGLE RIVER","WI","Wisconsin",2,"MROE"]
["54212","FISH CREEK","WI","Wisconsin",2,"MROE"]
["54124","GILLETT","WI","Wisconsin",2,"RFCW"]
["53023","GLENBEULAH","WI","Wisconsin",2,"RFCW"]
["54126","GREENLEAF","WI","Wisconsin",2,"MROE"]
["53032","HORICON","WI","Wisconsin",2,"MROE"]
["54537","KENNAN","WI","Wisconsin",2,"MROW"]
["53551","LAKE MILLS","WI","Wisconsin",2,"RFCW"]
["54446","LOYAL","WI","Wisconsin",2,"MROW"]
["53558","MC FARLAND","WI","Wisconsin",2,"MROE"]
["53744","MADISON","WI","Wisconsin",2,"MROE"]
["54143","MARINETTE","WI","Wisconsin",2,"MROE"]
["53561","MERRIMAC","WI","Wisconsin",2,"MROE"]
["53222","MILWAUKEE","WI","Wisconsin",2,"RFCW"]
["53227","MILWAUKEE","WI","Wisconsin",2,"RFCW"]
["53569","MONTFORT","WI","Wisconsin",2,"MROE"]
["53061","NEW HOLSTEIN","WI","Wisconsin",2,"MROE"]
["54901","OSHKOSH","WI","Wisconsin",2,"MROE"]
["54554","PHELPS","WI","Wisconsin",2,"RFCW"]
["53402","RACINE","WI","Wisconsin",2,"RFCW"]
["53582","RIDGEWAY","WI","Wisconsin",2,"MROE"]
["53961","ROCK SPRINGS","WI","Wisconsin",2,"MROE"]
["53085","SHEBOYGAN FALLS","WI","Wisconsin",2,"RFCW"]
["54484","STRATFORD","WI","Wisconsin",2,"MROE"]
["54241","TWO RIVERS","WI","Wisconsin",2,"MROE"]
["53963","WAUPUN","WI","Wisconsin",2,"MROE"]
["54401","WAUSAU","WI","Wisconsin",2,"MROE"]
["54432","GALLOWAY","WI","Wisconsin",2,"MROE"]
["61312","ARLINGTON","IL","Illinois",2,"SRMW"]
["61724","BELLFLOWER","IL","Illinois",2,"SRMW"]
["60914","BOURBONNAIS","IL","Illinois",2,"RFCW"]
["60116","CAROL STREAM","IL","Illinois",2,"RFCW"]
["60197","CAROL STREAM","IL","Illinois",2,"RFCW"]
["60927","CLIFTON","IL","Illinois",2,"SRMW"]
["60419","DOLTON","IL","Illinois",2,"RFCW"]
["61737","ELLSWORTH","IL","Illinois",2,"SRMW"]
["60131","FRANKLIN PARK","IL","Illinois",2,"RFCW"]
["61534","GREEN VALLEY","IL","Illinois",2,"SRMW"]
["60426","HARVEY","IL","Illinois",2,"RFCW"]
["61440","INDUSTRY","IL","Illinois",2,"SRMW"]
["61540","LACON","IL","Illinois",2,"SRMW"]
["61752","LE ROY","IL","Illinois",2,"SRMW"]
["60150","MALTA","IL","Illinois",2,"RFCW"]
["60151","MAPLE PARK","IL","Illinois",2,"RFCW"]
["60165","STONE PARK","IL","Illinois",2,"RFCW"]
["60565","NAPERVILLE","IL","Illinois",2,"RFCW"]
["60301","OAK PARK","IL","Illinois",2,"RFCW"]
["61558","PEKIN","IL","Illinois",2,"SRMW"]
["61641","PEORIA","IL","Illinois",2,"SRMW"]
["61560","PUTNAM","IL","Illinois",2,"SRMW"]
["60471","RICHTON PARK","IL","Illinois",2,"RFCW"]
["60179","HOFFMAN ESTATES","IL","Illinois",2,"RFCW"]
["60473","SOUTH HOLLAND","IL","Illinois",2,"RFCW"]
["61368","TISKILWA","IL","Illinois",2,"SRMW"]
["61777","WAPELLA","IL","Illinois",2,"SRMW"]
["61488","WATAGA","IL","Illinois",2,"SRMW"]
["61379","WYANET","IL","Illinois",2,"SRMW"]
["60618","CHICAGO","IL","Illinois",2,"RFCW"]
["60645","CHICAGO","IL","Illinois",2,"RFCW"]
["60681","CHICAGO","IL","Illinois",2,"RFCW"]
["60803","ALSIP","IL","Illinois",2,"RFCW"]
["62215","ALBERS","IL","Illinois",2,"SRMW"]
["62612","ASHLAND","IL","Illinois",2,"SRMW"]
["62220","BELLEVILLE","IL","Illinois",2,"SRMW"]
["62417","BRIDGEPORT","IL","Illinois",2,"SRMW"]
["62319","CAMDEN","IL","Illinois",2,"SRMW"]
["62902","CARBONDALE","IL","Illinois",2,"SRMW"]
["61826","CHAMPAIGN","IL","Illinois",2,"SRMW"]
["62631","CONCORD","IL","Illinois",2,"SRMW"]
["61840","DEWEY","IL","Illinois",2,"SRMW"]
["62205","EAST SAINT LOUIS","IL","Illinois",2,"SRMW"]
["62836","EWING","IL","Illinois",2,"SRMW"]
["61842","FARMER CITY","IL","Illinois",2,"SRMW"]
["62842","GEFF","IL","Illinois",2,"SRMW"]
["62247","HAGARSTOWN","IL","Illinois",2,"SRMW"]
["62050","HILLVIEW","IL","Illinois",2,"SRMW"]
["62850","JOHNSONVILLE","IL","Illinois",2,"SRMW"]
["62255","LENZBURG","IL","Illinois",2,"SRMW"]
["62440","LERNA","IL","Illinois",2,"SRMW"]
["62959","MARION","IL","Illinois",2,"SRMW"]
["62962","MILLER CITY","IL","Illinois",2,"SRMW"]
["61857","MUNCIE","IL","Illinois",2,"SRMW"]
["62868","NOBLE","IL","Illinois",2,"SRMW"]
["62874","ORIENT","IL","Illinois",2,"SRMW"]
["62674","PALMYRA","IL","Illinois",2,"SRMW"]
["62366","PLEASANT HILL","IL","Illinois",2,"SRMW"]
["61870","RIDGE FARM","IL","Illinois",2,"SRMW"]
["62881","SALEM","IL","Illinois",2,"SRMW"]
["62285","SMITHTON","IL","Illinois",2,"SRMW"]
["62757","SPRINGFIELD","IL","Illinois",2,"SRMW"]
["62765","SPRINGFIELD","IL","Illinois",2,"SRMW"]
["62688","TALLULA","IL","Illinois",2,"SRMW"]
["61801","URBANA","IL","Illinois",2,"SRMW"]
["62298","WATERLOO","IL","Illinois",2,"SRMW"]
["62093","WILSONVILLE","IL","Illinois",2,"SRMW"]
["62998","WOLF LAKE","IL","Illinois",2,"SRMW"]
["63022","BALLWIN","MO","Missouri",2,"SRMW"]
["65323","CALHOUN","MO","Missouri",2,"SRMW"]
["63336","CLARKSVILLE","MO","Missouri",2,"SRMW"]
["63538","ELMER","MO","Missouri",2,"SRMW"]
["63441","FRANKFORD","MO","Missouri",2,"SRMW"]
["63401","HANNIBAL","MO","Missouri",2,"SRMW"]
["63043","MARYLAND HEIGHTS","MO","Missouri",2,"SRMW"]
["65102","JEFFERSON CITY","MO","Missouri",2,"SRMW"]
["63447","LA BELLE","MO","Missouri",2,"SRMW"]
["63552","MACON","MO","Missouri",2,"SRMW"]
["63357","MARTHASVILLE","MO","Missouri",2,"SRMW"]
["65063","NEW BLOOMFIELD","MO","Missouri",2,"SRMW"]
["63463","PHILADELPHIA","MO","Missouri",2,"SRMW"]
["63302","SAINT CHARLES","MO","Missouri",2,"SRMW"]
["63121","SAINT LOUIS","MO","Missouri",2,"SRMW"]
["63147","SAINT LOUIS","MO","Missouri",2,"SRMW"]
["63197","SAINT LOUIS","MO","Missouri",2,"SRMW"]
["65281","SALISBURY","MO","Missouri",2,"SPNO"]
["63378","TRELOAR","MO","Missouri",2,"SRMW"]
["63388","WILLIAMSBURG","MO","Missouri",2,"SRMW"]
["20016","WASHINGTON","DC","District of Columbia","1b","RFCE"]
["20042","WASHINGTON","DC","District of Columbia","1b","RFCE"]
["20047","WASHINGTON","DC","District of Columbia","1b","RFCE"]
["20075","WASHINGTON","DC","District of Columbia","1b","RFCE"]
["20212","WASHINGTON","DC","District of Columbia","1b","RFCE"]
["20241","WASHINGTON","DC","District of Columbia","1b","RFCE"]
["20310","WASHINGTON","DC","District of Columbia","1b","SRVC"]
["20401","WASHINGTON","DC","District of Columbia","1b","RFCE"]
["20406","WASHINGTON","DC","District of Columbia","1b","SRVC"]
["20427","WASHINGTON","DC","District of Columbia","1b","RFCE"]
["20501","WASHINGTON","DC","District of Columbia","1b","RFCE"]
["20533","WASHINGTON","DC","District of Columbia","1b","RFCE"]
["20557","WASHINGTON","DC","District of Columbia","1b","RFCE"]
["20606","ABELL","MD","Maryland","1b","RFCE"]
["20607","ACCOKEEK","MD","Maryland","1b","RFCE"]
["20894","BETHESDA","MD","Maryland","1b","RFCE"]
["20791","CAPITOL HEIGHTS","MD","Maryland","1b","RFCE"]
["20630","DRAYDEN","MD","Maryland","1b","RFCE"]
["20812","GLEN ECHO","MD","Maryland","1b","RFCE"]
["20645","ISSUE","MD","Maryland","1b","RFCE"]
["20706","LANHAM","MD","Maryland","1b","RFCE"]
["20736","OWINGS","MD","Maryland","1b","RFCE"]
["20853","ROCKVILLE","MD","Maryland","1b","RFCE"]
["20915","SILVER SPRING","MD","Maryland","1b","RFCE"]
["20604","WALDORF","MD","Maryland","1b","RFCE"]
["21402","ANNAPOLIS","MD","Maryland","1b","RFCE"]
["21202","BALTIMORE","MD","Maryland","1b","RFCE"]
["21223","BALTIMORE","MD","Maryland","1b","RFCE"]
["21275","BALTIMORE","MD","Maryland","1b","RFCE"]
["21813","BISHOPVILLE","MD","Maryland","1b","RFCE"]
["21027","CHASE","MD","Maryland","1b","RFCE"]
["21721","CHEWSVILLE","MD","Maryland","1b","RFCW"]
["21501","CUMBERLAND","MD","Maryland","1b","RFCW"]
["21041","ELLICOTT CITY","MD","Maryland","1b","RFCE"]
["21635","GALENA","MD","Maryland","1b","RFCE"]
["21748","HAGERSTOWN","MD","Maryland","1b","RFCW"]
["21090","LINTHICUM HEIGHTS","MD","Maryland","1b","RFCE"]
["21093","LUTHERVILLE TIMONIUM","MD","Maryland","1b","RFCE"]
["21545","MOUNT SAVAGE","MD","Maryland","1b","RFCW"]
["21903","PERRYVILLE","MD","Maryland","1b","RFCE"]
["21911","RISING SUN","MD","Maryland","1b","RFCE"]
["21152","SPARKS GLENCOE","MD","Maryland","1b","RFCE"]
["21864","STOCKTON","MD","Maryland","1b","RFCE"]
["21793","WALKERSVILLE","MD","Maryland","1b","RFCW"]
["20105","ALDIE","VA","Virginia","1c","SRVC"]
["22202","ARLINGTON","VA","Virginia","1c","SRVC"]
["22240","ARLINGTON","VA","Virginia","1c","SRVC"]
["20119","CATLETT","VA","Virginia","1c","SRVC"]
["20153","CHANTILLY","VA","Virginia","1c","SRVC"]
["22034","FAIRFAX","VA","Virginia","1c","SRVC"]
["20159","HAMILTON","VA","Virginia","1c","SRVC"]
["22725","LEON","VA","Virginia","1c","SRVC"]
["22643","MARKHAM","VA","Virginia","1c","SRVC"]
["20132","PURCELLVILLE","VA","Virginia","1c","SRVC"]
["20134","PURCELLVILLE","VA","Virginia","1c","SRVC"]
["22156","SPRINGFIELD","VA","Virginia","1c","SRVC"]
["20130","PARIS","VA","Virginia","1c","SRVC"]
["22195","WOODBRIDGE","VA","Virginia","1c","SRVC"]
["23018","BENA","VA","Virginia","1c","SRVC"]
["23024","BUMPASS","VA","Virginia","1c","SRVC"]
["22435","CALLAO","VA","Virginia","1c","SRVC"]
["22906","CHARLOTTESVILLE","VA","Virginia","1c","SRVC"]
["23833","CHURCH ROAD","VA","Virginia","1c","SRVC"]
["24432","DEERFIELD","VA","Virginia","1c","RFCW"]
["22824","EDINBURG","VA","Virginia","1c","RFCW"]
["22406","FREDERICKSBURG","VA","Virginia","1c","SRVC"]
["22940","FREE UNION","VA","Virginia","1c","RFCW"]
["23065","GUM SPRING","VA","Virginia","1c","SRVC"]
["22807","HARRISONBURG","VA","Virginia","1c","SRVC"]
["22945","IVY","VA","Virginia","1c","SRVC"]
["23868","LAWRENCEVILLE","VA","Virginia","1c","SRVC"]
["22948","LOCUST DALE","VA","Virginia","1c","SRVC"]
["23407","MAPPSVILLE","VA","Virginia","1c","RFCE"]
["22520","MONTROSS","VA","Virginia","1c","SRVC"]
["22844","NEW MARKET","VA","Virginia","1c","SRVC"]
["23510","NORFOLK","VA","Virginia","1c","SRVC"]
["23417","ONANCOCK","VA","Virginia","1c","RFCE"]
["23959","PHENIX","VA","Virginia","1c","SRVC"]
["23701","PORTSMOUTH","VA","Virginia","1c","SRVC"]
["22542","RHOADESVILLE","VA","Virginia","1c","SRVC"]
["23235","RICHMOND","VA","Virginia","1c","SRVC"]
["23292","RICHMOND","VA","Virginia","1c","SRVC"]
["23426","SANFORD","VA","Virginia","1c","RFCE"]
["23696","SEAFORD","VA","Virginia","1c","SRVC"]
["22851","STANLEY","VA","Virginia","1c","RFCW"]
["22560","TAPPAHANNOCK","VA","Virginia","1c","SRVC"]
["23457","VIRGINIA BEACH","VA","Virginia","1c","SRVC"]
["28467","CALABASH","NC","North Carolina","1c","SRVC"]
["23893","WHITE PLAINS","VA","Virginia","1c","SRVC"]
["23185","WILLIAMSBURG","VA","Virginia","1c","SRVC"]
["27202","ALTAMAHAW","NC","North Carolina","1c","SRVC"]
["27208","BENNETT","NC","North Carolina","1c","SRVC"]
["27510","CARRBORO","NC","North Carolina","1c","SRVC"]
["27013","CLEVELAND","NC","North Carolina","1c","SRVC"]
["27924","COLERAIN","NC","North Carolina","1c","SRVC"]
["27017","DOBSON","NC","North Carolina","1c","SRVC"]
["27906","ELIZABETH CITY","NC","North Carolina","1c","SRVC"]
["27529","GARNER","NC","North Carolina","1c","SRVC"]
["27402","GREENSBORO","NC","North Carolina","1c","SRVC"]
["27498","GREENSBORO","NC","North Carolina","1c","SRVC"]
["27836","GREENVILLE","NC","North Carolina","1c","SRVC"]
["28603","HICKORY","NC","North Carolina","1c","SRVC"]
["28642","JONESVILLE","NC","North Carolina","1c","SRVC"]
["27023","LEWISVILLE","NC","North Carolina","1c","SRVC"]
["27956","MAPLE","NC","North Carolina","1c","SRVC"]
["27562","NEW HILL","NC","North Carolina","1c","SRVC"]
["28657","NEWLAND","NC","North Carolina","1c","SRTV"]
["27312","PITTSBORO","NC","North Carolina","1c","SRVC"]
["27608","RALEIGH","NC","North Carolina","1c","SRVC"]
["27650","RALEIGH","NC","North Carolina","1c","SRVC"]
["27871","ROBERSONVILLE","NC","North Carolina","1c","SRVC"]
["27099","RURAL HALL","NC","North Carolina","1c","SRVC"]
["27331","SANFORD","NC","North Carolina","1c","SRVC"]
["27351","SOUTHMONT","NC","North Carolina","1c","SRVC"]
["27359","SWEPSONVILLE","NC","North Carolina","1c","SRVC"]
["27373","WALLBURG","NC","North Carolina","1c","SRVC"]
["27895","WILSON","NC","North Carolina","1c","SRVC"]
["27152","WINSTON SALEM","NC","North Carolina","1c","SRVC"]
["27986","WINTON","NC","North Carolina","1c","SRVC"]
["28704","ARDEN","NC","North Carolina","1c","SRTV"]
["28515","BAYBORO","NC","North Carolina","1c","SRVC"]
["28327","CARTHAGE","NC","North Carolina","1c","SRVC"]
["28214","CHARLOTTE","NC","North Carolina","1c","SRVC"]
["28219","CHARLOTTE","NC","North Carolina","1c","SRVC"]
["28244","CHARLOTTE","NC","North Carolina","1c","SRVC"]
["28282","CHARLOTTE","NC","North Carolina","1c","SRVC"]
["28027","CONCORD","NC","North Carolina","1c","SRVC"]
["28332","DUBLIN","NC","North Carolina","1c","SRVC"]
["28302","FAYETTEVILLE","NC","North Carolina","1c","SRVC"]
["28054","GASTONIA","NC","North Carolina","1c","SRVC"]
["28736","GLENVILLE","NC","North Carolina","1c","SRVC"]
["28077","HIGH SHOALS","NC","North Carolina","1c","SRVC"]
["28544","MIDWAY PARK","NC","North Carolina","1c","SRVC"]
["28353","LAURINBURG","NC","North Carolina","1c","SRVC"]
["28091","LILESVILLE","NC","North Carolina","1c","SRVC"]
["28752","MARION","NC","North Carolina","1c","SRVC"]
["28119","MORVEN","NC","North Carolina","1c","SRVC"]
["28128","NORWOOD","NC","North Carolina","1c","SRVC"]
["28377","RED SPRINGS","NC","North Carolina","1c","SRVC"]
["28579","SMYRNA","NC","North Carolina","1c","SRVC"]
["28463","TABOR CITY","NC","North Carolina","1c","SRVC"]
["28166","TROUTMAN","NC","North Carolina","1c","SRVC"]
["28788","WEBSTER","NC","North Carolina","1c","SRTV"]
["29706","CHESTER","SC","South Carolina","1c","SRVC"]
["29742","SHARON","SC","South Carolina","1c","SRVC"]
["29512","BENNETTSVILLE","SC","South Carolina","1c","SRVC"]
["29516","BLENHEIM","SC","South Carolina","1c","SRVC"]
["29403","CHARLESTON","SC","South Carolina","1c","SRVC"]
["29520","CHERAW","SC","South Carolina","1c","SRVC"]
["29217","COLUMBIA","SC","South Carolina","1c","SRVC"]
["29526","CONWAY","SC","South Carolina","1c","SRVC"]
["29642","EASLEY","SC","South Carolina","1c","SRVC"]
["29045","ELGIN","SC","South Carolina","1c","SRVC"]
["29341","GAFFNEY","SC","South Carolina","1c","SRVC"]
["29612","GREENVILLE","SC","South Carolina","1c","SRVC"]
["29654","HONEA PATH","SC","South Carolina","1c","SRVC"]
["29656","LA FRANCE","SC","South Carolina","1c","SRVC"]
["29079","LYDIA","SC","South Carolina","1c","SRVC"]
["29365","LYMAN","SC","South Carolina","1c","SRVC"]
["29577","MYRTLE BEACH","SC","South Carolina","1c","SRVC"]
["29583","PAMPLICO","SC","South Carolina","1c","SRVC"]
["29129","RIDGE SPRING","SC","South Carolina","1c","SRVC"]
["29681","SIMPSONVILLE","SC","South Carolina","1c","SRVC"]
["29483","SUMMERVILLE","SC","South Carolina","1c","SRVC"]
["29152","SHAW A F B","SC","South Carolina","1c","SRVC"]
["29168","WEDGEFIELD","SC","South Carolina","1c","SRVC"]
["30104","ARAGON","GA","Georgia","1c","SRSO"]
["30313","ATLANTA","GA","Georgia","1c","SRSO"]
["30340","ATLANTA","GA","Georgia","1c","SRSO"]
["30364","ATLANTA","GA","Georgia","1c","SRSO"]
["30371","ATLANTA","GA","Georgia","1c","SRSO"]
["31145","ATLANTA","GA","Georgia","1c","SRSO"]
["30516","BOWERSVILLE","GA","Georgia","1c","SRSO"]
["30125","CEDARTOWN","GA","Georgia","1c","SRSO"]
["30015","COVINGTON","GA","Georgia","1c","SRSO"]
["30040","CUMMING","GA","Georgia","1c","SRSO"]
["30026","NORTH METRO","GA","Georgia","1c","SRSO"]
["30215","FAYETTEVILLE","GA","Georgia","1c","SRSO"]
["30224","GRIFFIN","GA","Georgia","1c","SRSO"]
["30238","JONESBORO","GA","Georgia","1c","SRSO"]
["30058","LITHONIA","GA","Georgia","1c","SRSO"]
["30251","LUTHERSVILLE","GA","Georgia","1c","SRSO"]
["30090","MARIETTA","GA","Georgia","1c","SRSO"]
["30010","NORCROSS","GA","Georgia","1c","SRSO"]
["30153","ROCKMART","GA","Georgia","1c","SRSO"]
["30082","SMYRNA","GA","Georgia","1c","SRSO"]
["30667","STEPHENS","GA","Georgia","1c","SRSO"]
["30577","TOCCOA","GA","Georgia","1c","SRSO"]
["30582","YOUNG HARRIS","GA","Georgia","1c","SRTV"]
["09053","APO","AE","U.S. Armed Forces – Europe"]
["09100","APO","AE","U.S. Armed Forces – Europe"]
["09211","APO","AE","U.S. Armed Forces – Europe"]
["09309","APO","AE","U.S. Armed Forces – Europe"]
["09314","APO","AE","U.S. Armed Forces – Europe"]
["09354","APO","AE","U.S. Armed Forces – Europe"]
["09384","APO","AE","U.S. Armed Forces – Europe"]
["09504","FPO","AE","U.S. Armed Forces – Europe"]
["09565","FPO","AE","U.S. Armed Forces – Europe"]
["09570","FPO","AE","U.S. Armed Forces – Europe"]
["09607","FPO","AE","U.S. Armed Forces – Europe"]
["09643","APO","AE","U.S. Armed Forces – Europe"]
["09722","APO","AE","U.S. Armed Forces – Europe"]
["09750","DPO","AE","U.S. Armed Forces – Europe"]
["09812","DPO","AE","U.S. Armed Forces – Europe"]
["09817","DPO","AE","U.S. Armed Forces – Europe"]
["09839","APO","AE","U.S. Armed Forces – Europe"]
["09898","APO","AE","U.S. Armed Forces – Europe"]
["34050","FPO","AA","U.S. Armed Forces – Americas"]
["96214","APO","AP","U.S. Armed Forces – Pacific"]
["96322","FPO","AP","U.S. Armed Forces – Pacific"]
["96336","APO","AP","U.S. Armed Forces – Pacific"]
["96377","FPO","AP","U.S. Armed Forces – Pacific"]
["96530","DPO","AP","U.S. Armed Forces – Pacific"]
["96557","APO","AP","U.S. Armed Forces – Pacific"]
["96621","FPO","AP","U.S. Armed Forces – Pacific"]
["96643","FPO","AP","U.S. Armed Forces – Pacific"]
["96679","FPO","AP","U.S. Armed Forces – Pacific"]
["02239","CAMBRIDGE","MA","Massachusetts","1a"]
["09056","APO","AE","U.S. Armed Forces – Europe"]
["09351","APO","AE","U.S. Armed Forces – Europe"]
["09754","APO","AE","U.S. Armed Forces – Europe"]
["10149","NEW YORK","NY","New York","1b","NYCW"]
["10571","PLEASANTVILLE","NY","New York","1b"]
["11595","WESTBURY","NY","New York","1b"]
["11597","WESTBURY","NY","New York","1b"]
["11708","AMITYVILLE","NY","New York","1b"]
["11750","HUNTINGTON STATION","NY","New York","1b"]
["11774","FARMINGDALE","NY","New York","1b","NYLI"]
["11855","HICKSVILLE","NY","New York","1b"]
["12593","WEST COPAKE","NY","New York","1b"]
["13837","SHINHOPPLE","NY","New York","1b"]
["14645","ROCHESTER","NY","New York","1b"]
["14664","ROCHESTER","NY","New York","1b"]
["14673","ROCHESTER","NY","New York","1b"]
["14683","ROCHESTER","NY","New York","1b"]
["15263","PITTSBURGH","PA","Pennsylvania","1b"]
["15266","PITTSBURGH","PA","Pennsylvania","1b"]
["15273","PITTSBURGH","PA","Pennsylvania","1b"]
["15285","PITTSBURGH","PA","Pennsylvania","1b"]
["15288","PITTSBURGH","PA","Pennsylvania","1b"]
["15740","FROSTBURG","PA","Pennsylvania","1b"]
["16215","KITTANNING","PA","Pennsylvania","1b"]
["16532","ERIE","PA","Pennsylvania","1b"]
["16533","ERIE","PA","Pennsylvania","1b"]
["19488","NORRISTOWN","PA","Pennsylvania","1b"]
["19489","NORRISTOWN","PA","Pennsylvania","1b"]
["19640","READING","PA","Pennsylvania","1b"]
["19887","WILMINGTON","DE","Delaware","1b"]
["19889","WILMINGTON","DE","Delaware","1b"]
["20107","ARCOLA","VA","Virginia","1c"]
["20193","RESTON","VA","Virginia","1c"]
["20199","DULLES","VA","Virginia","1c"]
["21098","HANOVER","MD","Maryland","1b"]
["21260","BALTIMORE","MD","Maryland","1b","RFCE"]
["21261","BALTIMORE","MD","Maryland","1b","RFCE"]
["26461","WILSONBURG","WV","West Virginia","1c"]
["27151","WINSTON-SALEM","NC","North Carolina","1c"]
["27156","WINSTON-SALEM","NC","North Carolina","1c"]
["27220","BURLINGTON","NC","North Carolina","1c"]
["27321","REIDSVILLE","NC","North Carolina","1c"]
["27322","REIDSVILLE","NC","North Carolina","1c"]
["27395","GREENSBORO","NC","North Carolina","1c"]
["27480","GREENSBORO","NC","North Carolina","1c"]
["27564","CREEDMOOR","NC","North Carolina","1c","SRVC"]
["27854","MILWAUKEE","NC","North Carolina","1c"]
["28674","NORTH WILKESBORO","NC","North Carolina","1c"]
["29390","DUNCAN","SC","South Carolina","1c","SRVC"]
["29391","DUNCAN","SC","South Carolina","1c","SRVC"]
["29698","GREENVILLE","SC","South Carolina","1c","SRVC"]
["30073","DECATUR","GA","Georgia","1c","SRSO"]
["30347","ATLANTA","GA","Georgia","1c","SRSO"]
["30376","ATLANTA","GA","Georgia","1c","SRSO"]
["30379","ATLANTA","GA","Georgia","1c","SRSO"]
["30386","ATLANTA","GA","Georgia","1c","SRSO"]
["30387","ATLANTA","GA","Georgia","1c","SRSO"]
["30389","ATLANTA","GA","Georgia","1c","SRSO"]
["30390","ATLANTA","GA","Georgia","1c","SRSO"]
["30399","ATLANTA","GA","Georgia","1c","SRSO"]
["30596","ALTO","GA","Georgia","1c","SRSO"]
["30911","AUGUSTA","GA","Georgia","1c","SRSO"]
["30913","AUGUSTA","GA","Georgia","1c","SRSO"]
["31120","ATLANTA","GA","Georgia","1c","SRSO"]
["31191","ATLANTA","GA","Georgia","1c","SRSO"]
["31197","ATLANTA","GA","Georgia","1c","SRSO"]
["31198","ATLANTA","GA","Georgia","1c","SRSO"]
["31199","ATLANTA","GA","Georgia","1c","SRSO"]
["32267","JACKSONVILLE","FL","Florida","1c","FRCC"]
["32290","JACKSONVILLE","FL","Florida","1c","FRCC"]
["32454","POINT WASHINGTON","FL","Florida","1c","FRCC"]
["32782","TITUSVILLE","FL","Florida","1c","FRCC"]
["32890","ORLANDO","FL","Florida","1c","FRCC"]
["32893","ORLANDO","FL","Florida","1c","FRCC"]
["32898","ORLANDO","FL","Florida","1c","FRCC"]
["33107","MIAMI","FL","Florida","1c","FRCC"]
["33110","MIAMI","FL","Florida","1c","FRCC"]
["33121","MIAMI","FL","Florida","1c","FRCC"]
["33148","MIAMI","FL","Florida","1c","FRCC"]
["33195","MIAMI","FL","Florida","1c","FRCC"]
["33439","CANAL POINT","FL","Florida","1c","FRCC"]
["33447","DELRAY BEACH","FL","Florida","1c","FRCC"]
["33651","TAMPA","FL","Florida","1c","FRCC"]
["33690","TAMPA","FL","Florida","1c","FRCC"]
["33900","FORT MYERS","FL","Florida","1c","FRCC"]
["34043","APO","AA","U.S. Armed Forces – Americas"]
["34076","APO","AA","U.S. Armed Forces – Americas"]
["34079","FPO","AA","U.S. Armed Forces – Americas"]
["35225","BIRMINGHAM","AL","Alabama",3]
["35230","BIRMINGHAM","AL","Alabama",3]
["35240","BIRMINGHAM","AL","Alabama",3]
["35245","BIRMINGHAM","AL","Alabama",3]
["35263","BIRMINGHAM","AL","Alabama",3]
["35277","BIRMINGHAM","AL","Alabama",3]
["35278","BIRMINGHAM","AL","Alabama",3]
["35279","BIRMINGHAM","AL","Alabama",3]
["35280","BIRMINGHAM","AL","Alabama",3]
["35281","BIRMINGHAM","AL","Alabama",3]
["35286","BIRMINGHAM","AL","Alabama",3]
["35289","BIRMINGHAM","AL","Alabama",3]
["35299","BIRMINGHAM","AL","Alabama",3]
["36210","ANNISTON","AL","Alabama",3,"SRTV"]
["37990","KNOXVILLE","TN","Tennessee",2]
["38110","MEMPHIS","TN","Tennessee",2]
["38142","MEMPHIS","TN","Tennessee",2]
["38165","MEMPHIS","TN","Tennessee",2]
["38227","ELBRIDGE","TN","Tennessee",2]
["39235","JACKSON","MS","Mississippi",3]
["40386","VERSAILLES","KY","Kentucky",2]
["40495","WINSTON","KY","Kentucky",2]
["40754","NEVISDALE","KY","Kentucky",2]
["40931","ERILINE","KY","Kentucky",2]
["40999","WOOLLUM","KY","Kentucky",2]
["41313","BETHANY","KY","Kentucky",2,"SRTV"]
["41433","GAPVILLE","KY","Kentucky",2]
["42283","SOUTH UNION","KY","Kentucky",2,"SRTV"]
["42287","WELCHS CREEK","KY","Kentucky",2]
["42375","STANLEY","KY","Kentucky",2,"SRTV"]
["42403","BLACKFORD","KY","Kentucky",2]
["43098","HEBRON","OH","Ohio",2,"RFCW"]
["43163","WEST RUSHVILLE","OH","Ohio",2,"RFCW"]
["43196","GROVEPORT","OH","Ohio",2,"RFCW"]
["43198","GROVEPORT","OH","Ohio",2,"RFCW"]
["43265","COLUMBUS","OH","Ohio",2,"RFCW"]
["43299","COLUMBUS","OH","Ohio",2,"RFCW"]
["43307","MARION","OH","Ohio",2,"RFCW"]
["43618","OREGON","OH","Ohio",2,"RFCW"]
["43789","SYCAMORE VALLEY","OH","Ohio",2,"RFCW"]
["44178","CLEVELAND","OH","Ohio",2,"RFCW"]
["44185","CLEVELAND","OH","Ohio",2,"RFCW"]
["44189","CLEVELAND","OH","Ohio",2,"RFCW"]
["44322","AKRON","OH","Ohio",2,"RFCW"]
["44393","AKRON","OH","Ohio",2,"RFCW"]
["44399","AKRON","OH","Ohio",2,"RFCW"]
["44631","HARLEM SPRINGS","OH","Ohio",2,"RFCW"]
["44999","MANSFIELD","OH","Ohio",2,"RFCW"]
["45228","CINCINNATI","OH","Ohio",2,"RFCW"]
["45400","DAYTON","OH","Ohio",2,"RFCW"]
["45408","DAYTON","OH","Ohio",2,"RFCW"]
["45427","DAYTON","OH","Ohio",2,"RFCW"]
["45463","DAYTON","OH","Ohio",2,"RFCW"]
["46604","SOUTH BEND","IN","Indiana",2,"RFCW"]
["46620","SOUTH BEND","IN","Indiana",2,"RFCW"]
["47430","FORT RITNER","IN","Indiana",2,"RFCW"]
["47490","BLOOMINGTON","IN","Indiana",2,"RFCW"]
["47727","EVANSVILLE","IN","Indiana",2,"RFCW"]
["47739","EVANSVILLE","IN","Indiana",2,"RFCW"]
["47741","EVANSVILLE","IN","Indiana",2,"RFCW"]
["47744","EVANSVILLE","IN","Indiana",2,"RFCW"]
["47856","JUDSON","IN","Indiana",2,"RFCW"]
["47864","SULLIVAN","IN","Indiana",2,"RFCW"]
["48559","FLINT","MI","Michigan",2]
["48736","GILFORD","MI","Michigan",2,"RFCM"]
["48769","VASSAR","MI","Michigan",2,"RFCM"]
["48802","ALMA","MI","Michigan",2,"RFCM"]
["48863","HOWELL","MI","Michigan",2,"RFCM"]
["49069","MARSHALL","MI","Michigan",2,"RFCM"]
["49121","NILES","MI","Michigan",2,"RFCW"]
["49550","GRAND RAPIDS","MI","Michigan",2,"RFCM"]
["49790","ECKERMAN","MI","Michigan",2]
["50347","DES MOINES","IA","Iowa",2]
["50397","DES MOINES","IA","Iowa",2]
["50706","WATERLOO","IA","Iowa",2]
["51344","GRUVER","IA","Iowa",2]
["52319","OAKDALE","IA","Iowa",2,"MROW"]
["52350","VIOLA","IA","Iowa",2,"MROW"]
["52538","WEST GROVE","IA","Iowa",2]
["53199","SILVER LAKE","WI","Wisconsin",2,"RFCW"]
["53244","MILWAUKEE","WI","Wisconsin",2,"RFCW"]
["55161","SAINT PAUL","MN","Minnesota",2]
["55169","SAINT PAUL","MN","Minnesota",2]
["55177","SAINT PAUL","MN","Minnesota",2]
["55191","SAINT PAUL","MN","Minnesota",2]
["55468","MINNEAPOLIS","MN","Minnesota",2]
["55561","MONTICELLO","MN","Minnesota",2,"MROW"]
["55563","MONTICELLO","MN","Minnesota",2,"MROW"]
["57056","ROWENA","SD","South Dakota",2]
["57079","YANKTON","SD","South Dakota",2]
["57188","SIOUX FALLS","SD","South Dakota",2]
["57189","SIOUX FALLS","SD","South Dakota",2]
["60679","CHICAGO","IL","Illinois",2]
["62224","MASCOUTAH","IL","Illinois",2]
["62713","SPRINGFIELD","IL","Illinois",2]
["62746","SPRINGFIELD","IL","Illinois",2]
["62805","AKIN","IL","Illinois",2,"SRMW"]
["62857","LOOGOOTEE","IL","Illinois",2,"SRMW"]
["63001","ALLENTON","MO","Missouri",2,"SRMW"]
["63190","SAINT LOUIS","MO","Missouri",2,"SRMW"]
["63196","SAINT LOUIS","MO","Missouri",2]
["63198","SAINT LOUIS","MO","Missouri",2,"SRMW"]
["64172","KANSAS CITY","MO","Missouri",2]
["64183","KANSAS CITY","MO","Missouri",2]
["64185","KANSAS CITY","MO","Missouri",2]
["64192","KANSAS CITY","MO","Missouri",2,"SPNO"]
["64193","KANSAS CITY","MO","Missouri",2,"SPNO"]
["64194","KANSAS CITY","MO","Missouri",2]
["64447","MAYSVILLE","MO","Missouri",2]
["64789","OSCEOLA","MO","Missouri",2]
["64944","KANSAS CITY","MO","Missouri",2]
["66077","POTTER","KS","Kansas",2]
["66279","SHAWNEE MISSION","KS","Kansas",2]
["66637","TOPEKA","KS","Kansas",2]
["66642","TOPEKA","KS","Kansas",2]
["66652","TOPEKA","KS","Kansas",2]
["66653","TOPEKA","KS","Kansas",2]
["66692","TOPEKA","KS","Kansas",2]
["68181","OMAHA","NE","Nebraska",2]
["70140","NEW ORLEANS","LA","Louisiana",3,"SRMV"]
["70149","NEW ORLEANS","LA","Louisiana",3]
["70500","LAFAYETTE","LA","Louisiana",3,"SRMV"]
["70595","LAFAYETTE","LA","Louisiana",3,"SRMV"]
["70883","BATON ROUGE","LA","Louisiana",3]
["71208","MONROE","LA","Louisiana",3]
["71768","EL DORADO","AR","Arkansas",3,"SRMV"]
["71844","LANEBURG","AR","Arkansas",3]
["71951","HOT SPRINGS NATIONAL PARK","AR","Arkansas",3]
["72189","MC CRORY","AR","Arkansas",3]
["72198","NORTH LITTLE ROCK","AR","Arkansas",3]
["72439","LIGHT","AR","Arkansas",3,"SRMV"]
["73094","WASHITA","OK","Oklahoma",2]
["73193","OKLAHOMA CITY","OK","Oklahoma",2]
["73197","OKLAHOMA CITY","OK","Oklahoma",2]
["73198","OKLAHOMA CITY","OK","Oklahoma",2,"SPSO"]
["73199","OKLAHOMA CITY","OK","Oklahoma",2]
["73451","ARDMORE","OK","Oklahoma",2]
["73454","ARDMORE","OK","Oklahoma",2]
["74183","TULSA","OK","Oklahoma",2]
["74184","TULSA","OK","Oklahoma",2]
["74189","TULSA","OK","Oklahoma",2]
["74194","TULSA","OK","Oklahoma",2]
["74542","ATOKA","OK","Oklahoma",2]
["75037","IRVING","TX","Texas",3,"ERCT"]
["75245","DALLAS","TX","Texas",3,"ERCT"]
["75258","DALLAS","TX","Texas",3]
["75286","DALLAS","TX","Texas",3]
["75310","DALLAS","TX","Texas",3,"ERCT"]
["75323","DALLAS","TX","Texas",3]
["75334","DALLAS","TX","Texas",3,"ERCT"]
["75340","DALLAS","TX","Texas",3,"ERCT"]
["75343","DALLAS","TX","Texas",3,"ERCT"]
["75344","DALLAS","TX","Texas",3,"ERCT"]
["75353","DALLAS","TX","Texas",3]
["75363","DALLAS","TX","Texas",3]
["75364","DALLAS","TX","Texas",3]
["75386","DALLAS","TX","Texas",3]
["75387","DALLAS","TX","Texas",3]
["77869","NAVASOTA","TX","Texas",3]
["78262","SAN ANTONIO","TX","Texas",3]
["78275","SAN ANTONIO","TX","Texas",3]
["78286","SAN ANTONIO","TX","Texas",3]
["78461","CORPUS CHRISTI","TX","Texas",3]
["78470","CORPUS CHRISTI","TX","Texas",3]
["78471","CORPUS CHRISTI","TX","Texas",3,"ERCT"]
["78473","CORPUS CHRISTI","TX","Texas",3]
["78474","CORPUS CHRISTI","TX","Texas",3,"ERCT"]
["78475","CORPUS CHRISTI","TX","Texas",3]
["78476","CORPUS CHRISTI","TX","Texas",3]
["78477","CORPUS CHRISTI","TX","Texas",3]
["78478","CORPUS CHRISTI","TX","Texas",3]
["78786","AUSTIN","TX","Texas",3]
["78788","AUSTIN","TX","Texas",3]
["78798","AUSTIN","TX","Texas",3]
["79187","AMARILLO","TX","Texas",3]
["79320","BULA","TX","Texas",3]
["79405","LUBBOCK","TX","Texas",3]
["80028","LOUISVILLE","CO","Colorado",4]
["80940","COLORADO SPRINGS","CO","Colorado",4]
["81075","STONINGTON","CO","Colorado",4]
["81127","CHIMNEY ROCK","CO","Colorado",4]
["81134","SAN LUIS","CO","Colorado",4]
["81153","SAN PABLO","CO","Colorado",4]
["83721","BOISE","ID","Idaho",4]
["83727","BOISE","ID","Idaho",4]
["83730","BOISE","ID","Idaho",4]
["83733","BOISE","ID","Idaho",4]
["83757","BOISE","ID","Idaho",4]
["84144","SALT LAKE CITY","UT","Utah",4,"NWPP"]
["84717","BRYCE CANYON","UT","Utah",4]
["85077","PHOENIX","AZ","Arizona",5]
["85096","PHOENIX","AZ","Arizona",5,"AZNM"]
["85099","PHOENIX","AZ","Arizona",5]
["85217","APACHE JUNCTION","AZ","Arizona",5,"AZNM"]
["85218","APACHE JUNCTION","AZ","Arizona",5,"AZNM"]
["85219","APACHE JUNCTION","AZ","Arizona",5,"AZNM"]
["85220","APACHE JUNCTION","AZ","Arizona",5,"AZNM"]
["85221","BAPCHULE","AZ","Arizona",5,"AZNM"]
["85222","CASA GRANDE","AZ","Arizona",5,"AZNM"]
["85223","ARIZONA CITY","AZ","Arizona",5,"AZNM"]
["85227","CHANDLER HEIGHTS","AZ","Arizona",5,"AZNM"]
["85228","COOLIDGE","AZ","Arizona",5,"AZNM"]
["85230","CASA GRANDE","AZ","Arizona",5,"AZNM"]
["85231","ELOY","AZ","Arizona",5,"AZNM"]
["85232","FLORENCE","AZ","Arizona",5,"AZNM"]
["85235","HAYDEN","AZ","Arizona",5,"AZNM"]
["85237","KEARNY","AZ","Arizona",5,"AZNM"]
["85238","MARICOPA","AZ","Arizona",5,"AZNM"]
["85239","MARICOPA","AZ","Arizona",5,"AZNM"]
["85240","QUEEN CREEK","AZ","Arizona",5,"AZNM"]
["85241","PICACHO","AZ","Arizona",5,"AZNM"]
["85242","QUEEN CREEK","AZ","Arizona",5,"AZNM"]
["85243","QUEEN CREEK","AZ","Arizona",5,"AZNM"]
["85245","RED ROCK","AZ","Arizona",5,"AZNM"]
["85247","SACATON","AZ","Arizona",5,"AZNM"]
["85272","STANFIELD","AZ","Arizona",5,"AZNM"]
["85273","SUPERIOR","AZ","Arizona",5,"AZNM"]
["85278","APACHE JUNCTION","AZ","Arizona",5,"AZNM"]
["85279","FLORENCE","AZ","Arizona",5]
["16554","ERIE","PA","Pennsylvania","1b"]
["16918","COWANESQUE","PA","Pennsylvania","1b"]
["17008","BOWMANSDALE","PA","Pennsylvania","1b"]
["17091","LEBANON","PA","Pennsylvania","1b"]
["17270","WILLIAMSON","PA","Pennsylvania","1b","RFCW"]
["17326","GETTYSBURG","PA","Pennsylvania","1b"]
["17738","NORTH BEND","PA","Pennsylvania","1b","RFCE"]
["17773","TYLERSVILLE","PA","Pennsylvania","1b","RFCE"]
["18175","ALLENTOWN","PA","Pennsylvania","1b"]
["18514","SCRANTON","PA","Pennsylvania","1b"]
["18522","SCRANTON","PA","Pennsylvania","1b"]
["19483","VALLEY FORGE","PA","Pennsylvania","1b"]
["19487","KING OF PRUSSIA","PA","Pennsylvania","1b"]
["21265","BALTIMORE","MD","Maryland","1b","RFCE"]
["21268","BALTIMORE","MD","Maryland","1b"]
["21274","BALTIMORE","MD","Maryland","1b","RFCE"]
["21283","BALTIMORE","MD","Maryland","1b","RFCE"]
["21606","EASTON","MD","Maryland","1b"]
["21681","RIDGELY","MD","Maryland","1b"]
["21682","RIDGELY","MD","Maryland","1b"]
["21683","RIDGELY","MD","Maryland","1b"]
["21684","RIDGELY","MD","Maryland","1b"]
["21685","RIDGELY","MD","Maryland","1b"]
["21686","RIDGELY","MD","Maryland","1b"]
["21687","RIDGELY","MD","Maryland","1b"]
["21688","RIDGELY","MD","Maryland","1b"]
["22047","FALLS CHURCH","VA","Virginia","1c"]
["22092","HERNDON","VA","Virginia","1c"]
["22093","ASHBURN","VA","Virginia","1c"]
["22120","MERRIFIELD","VA","Virginia","1c"]
["22184","VIENNA","VA","Virginia","1c"]
["22218","ARLINGTON","VA","Virginia","1c"]
["22223","ARLINGTON","VA","Virginia","1c"]
["22229","ARLINGTON","VA","Virginia","1c"]
["22234","ARLINGTON","VA","Virginia","1c"]
["22321","ALEXANDRIA","VA","Virginia","1c"]
["22336","ALEXANDRIA","VA","Virginia","1c"]
["22721","GRAVES MILL","VA","Virginia","1c","SRVC"]
["23101","MACON","VA","Virginia","1c","SRVC"]
["23240","RICHMOND","VA","Virginia","1c"]
["23825","BLACKSTONE","VA","Virginia","1c"]
["24044","ROANOKE","VA","Virginia","1c"]
["24045","ROANOKE","VA","Virginia","1c"]
["24048","ROANOKE","VA","Virginia","1c"]
["24512","LYNCHBURG","VA","Virginia","1c"]
["24544","DANVILLE","VA","Virginia","1c"]
["24842","HEMPHILL","WV","West Virginia","1c"]
["24961","WHITE SULPHUR SPRINGS","WV","West Virginia","1c"]
["25429","MARTINSBURG","WV","West Virginia","1c"]
["25926","BECKLEY","WV","West Virginia","1c"]
["25965","ELTON","WV","West Virginia","1c"]
["36501","JACKSON","AL","Alabama",3]
["36621","MOBILE","AL","Alabama",3]
["36622","MOBILE","AL","Alabama",3]
["36690","MOBILE","AL","Alabama",3]
["37237","NASHVILLE","TN","Tennessee",2]
["37245","NASHVILLE","TN","Tennessee",2]
["37247","NASHVILLE","TN","Tennessee",2]
["37248","NASHVILLE","TN","Tennessee",2]
["37249","NASHVILLE","TN","Tennessee",2,"SRTV"]
["57192","SIOUX FALLS","SD","South Dakota",2]
["57194","SIOUX FALLS","SD","South Dakota",2]
["57195","SIOUX FALLS","SD","South Dakota",2]
["57196","SIOUX FALLS","SD","South Dakota",2]
["58319","BREMEN","ND","North Dakota",2]
["59773","BOZEMAN","MT","Montana",4]
["60049","LAKE ZURICH","IL","Illinois",2,"RFCW"]
["60092","LIBERTYVILLE","IL","Illinois",2,"RFCW"]
["60125","CAROL STREAM","IL","Illinois",2,"RFCW"]
["60570","HINSDALE","IL","Illinois",2,"RFCW"]
["60597","FOX VALLEY","IL","Illinois",2,"RFCW"]
["60663","CHICAGO","IL","Illinois",2,"RFCW"]
["75388","DALLAS","TX","Texas",3,"ERCT"]
["75396","DALLAS","TX","Texas",3,"ERCT"]
["76299","ROANOKE","TX","Texas",3,"ERCT"]
["76545","KILLEEN","TX","Texas",3,"ERCT"]
["76546","KILLEEN","TX","Texas",3,"ERCT"]
["76795","WACO","TX","Texas",3,"ERCT"]
["77097","HOUSTON","TX","Texas",3,"ERCT"]
["77246","HOUSTON","TX","Texas",3,"ERCT"]
["77247","HOUSTON","TX","Texas",3,"ERCT"]
["77250","HOUSTON","TX","Texas",3,"ERCT"]
["77260","HOUSTON","TX","Texas",3,"ERCT"]
["77276","HOUSTON","TX","Texas",3,"ERCT"]
["77278","HOUSTON","TX","Texas",3,"ERCT"]
["77285","HOUSTON","TX","Texas",3,"ERCT"]
["77286","HOUSTON","TX","Texas",3,"ERCT"]
["77294","HOUSTON","TX","Texas",3,"ERCT"]
["77296","HOUSTON","TX","Texas",3,"ERCT"]
["77298","HOUSTON","TX","Texas",3,"ERCT"]
["85289","TEMPE","AZ","Arizona",5]
["85290","APACHE JUNCTION","AZ","Arizona",5,"AZNM"]
["85291","VALLEY FARMS","AZ","Arizona",5,"AZNM"]
["85292","WINKELMAN","AZ","Arizona",5,"AZNM"]
["85293","CASA GRANDE","AZ","Arizona",5,"AZNM"]
["85294","CASA GRANDE","AZ","Arizona",5,"AZNM"]
["85313","GLENDALE","AZ","Arizona",5]
["85777","TUCSON","AZ","Arizona",5]
["86330","PRESCOTT","AZ","Arizona",5]
["86555","DOUGLAS","AZ","Arizona",5,"AZNM"]
["87165","ALBUQUERQUE","NM","New Mexico",3]
["89824","HALLECK","NV","Nevada",5]
["90102","LOS ANGELES","CA","California",5,"CAMX"]
["90313","INGLEWOOD","CA","California",5,"CAMX"]
["90397","INGLEWOOD","CA","California",5,"CAMX"]
["90398","INGLEWOOD","CA","California",5,"CAMX"]
["90612","WHITTIER","CA","California",5,"CAMX"]
["90659","NORWALK","CA","California",5,"CAMX"]
["90845","LONG BEACH","CA","California",5,"CAMX"]
["90888","LONG BEACH","CA","California",5,"CAMX"]
["91131","PASADENA","CA","California",5,"CAMX"]
["91191","PASADENA","CA","California",5,"CAMX"]
["91363","THOUSAND OAKS","CA","California",5,"CAMX"]
["91388","VAN NUYS","CA","California",5,"CAMX"]
["91399","WOODLAND HILLS","CA","California",5,"CAMX"]
["91497","VAN NUYS","CA","California",5,"CAMX"]
["91797","POMONA","CA","California",5,"CAMX"]
["91798","ONTARIO","CA","California",5,"CAMX"]
["91799","POMONA","CA","California",5,"CAMX"]
["91841","ALHAMBRA","CA","California",5,"CAMX"]
["91990","POTRERO","CA","California",5,"CAMX"]
["92090","EL CAJON","CA","California",5,"CAMX"]
["92133","SAN DIEGO","CA","California",5,"CAMX"]
["92194","SAN DIEGO","CA","California",5,"CAMX"]
["92292","PALM SPRINGS","CA","California",5,"CAMX"]
["92709","IRVINE","CA","California",5,"CAMX"]
["92710","IRVINE","CA","California",5,"CAMX"]
["93093","SIMI VALLEY","CA","California",5,"CAMX"]
["93381","BAKERSFIELD","CA","California",5,"CAMX"]
["93382","BAKERSFIELD","CA","California",5,"CAMX"]
["93780","FRESNO","CA","California",5,"CAMX"]
["93784","FRESNO","CA","California",5,"CAMX"]
["94013","DALY CITY","CA","California",5,"CAMX"]
["94101","SAN FRANCISCO","CA","California",5,"CAMX"]
["94106","SAN FRANCISCO","CA","California",5,"CAMX"]
["94135","SAN FRANCISCO","CA","California",5,"CAMX"]
["94136","SAN FRANCISCO","CA","California",5,"CAMX"]
["94138","SAN FRANCISCO","CA","California",5,"CAMX"]
["94150","SAN FRANCISCO","CA","California",5,"CAMX"]
["94152","SAN FRANCISCO","CA","California",5,"CAMX"]
["94155","SAN FRANCISCO","CA","California",5,"CAMX"]
["94175","SAN FRANCISCO","CA","California",5,"CAMX"]
["94199","SAN FRANCISCO","CA","California",5,"CAMX"]
["94625","OAKLAND","CA","California",5,"CAMX"]
["95250","SAN ANDREAS","CA","California",5,"CAMX"]
["95314","PINECREST","CA","California",5,"CAMX"]
["96212","APO","AP","U.S. Armed Forces – Pacific"]
["96215","APO","AP","U.S. Armed Forces – Pacific"]
["96217","APO","AP","U.S. Armed Forces – Pacific"]
["96219","APO","AP","U.S. Armed Forces – Pacific"]
["96221","APO","AP","U.S. Armed Forces – Pacific"]
["96297","APO","AP","U.S. Armed Forces – Pacific"]
["96311","APO","AP","U.S. Armed Forces – Pacific"]
["96313","FPO","AP","U.S. Armed Forces – Pacific"]
["96536","FPO","AP","U.S. Armed Forces – Pacific"]
["96634","FPO","AP","U.S. Armed Forces – Pacific"]
["96827","HONOLULU","HI","Hawaii",5,"HIOA"]
["96835","HONOLULU","HI","Hawaii",5]
["97078","BEAVERTON","OR","Oregon",5,"NWPP"]
["97251","PORTLAND","OR","Oregon",5,"NWPP"]
["97253","PORTLAND","OR","Oregon",5,"NWPP"]
["97254","PORTLAND","OR","Oregon",5,"NWPP"]
["97255","PORTLAND","OR","Oregon",5,"NWPP"]
["97259","PORTLAND","OR","Oregon",5,"NWPP"]
["97271","PORTLAND","OR","Oregon",5,"NWPP"]
["97272","PORTLAND","OR","Oregon",5,"NWPP"]
["97299","PORTLAND","OR","Oregon",5,"NWPP"]
["97313","SALEM","OR","Oregon",5,"NWPP"]
["97372","ROSE LODGE","OR","Oregon",5,"NWPP"]
["97425","CRESCENT LAKE","OR","Oregon",5,"NWPP"]
["97427","CULP CREEK","OR","Oregon",5,"NWPP"]
["97428","CURTIN","OR","Oregon",5,"NWPP"]
["97472","COTTAGE GROVE","OR","Oregon",5,"NWPP"]
["97482","THURSTON","OR","Oregon",5,"NWPP"]
["98054","REDONDO","WA","Washington",5,"NWPP"]
["98151","SEATTLE","WA","Washington",5,"NWPP"]
["98171","SEATTLE","WA","Washington",5,"NWPP"]
["98184","SEATTLE","WA","Washington",5,"NWPP"]
["98442","TACOMA","WA","Washington",5,"NWPP"]
["98450","TACOMA","WA","Washington",5,"NWPP"]
["98455","TACOMA","WA","Washington",5,"NWPP"]
["98460","TACOMA","WA","Washington",5,"NWPP"]
["98477","TACOMA","WA","Washington",5,"NWPP"]
["98492","TACOMA","WA","Washington",5,"NWPP"]
["98667","VANCOUVER","WA","Washington",5,"NWPP"]
["98929","NACHES","WA","Washington",5,"NWPP"]
["99165","PULLMAN","WA","Washington",5,"NWPP"]
["99779","TOK","AK","Alaska",5]
["09300","APO","AE","U.S. Armed Forces – Europe"]
["09303","APO","AE","U.S. Armed Forces – Europe"]
["09379","FPO","AE","U.S. Armed Forces – Europe"]
["96400","APO","AP","U.S. Armed Forces – Pacific"]
["96547","APO","AP","U.S. Armed Forces – Pacific"]
["34009","APO","AA","U.S. Armed Forces – Americas"]
["34010","APO","AA","U.S. Armed Forces – Americas"]
["34001","APO","AA","U.S. Armed Forces – Americas"]
["34071","APO","AA","U.S. Armed Forces – Americas"]
["97475","SPRINGFIELD","OR","Oregon",5,"NWPP"]

{"sheet":"FMV Regression","index":10,"n_rows":31,"n_cols":8,"rows_kept":31,"cut":false,"hidden":true,"merged":[]}
["FMV Regression Data - EV Fleet Procurement Analysis Tool"]
[]
["BEV",null,null,null,null,null,null,"R-sq = .96"]
[null,"Coefficient","Standard Error","t","P>|t|","95% confidence interval"]
["age",-1191.05,881.99490000000003,-1.35,0.17899999999999999,-2935.72,553.62360000000001]
["agesq",-131.28299999999999,163.1746,-0.8,0.42299999999999999,-454.05799999999999,191.49279999999999]
["msrp",0.81077200000000005,2.0652E-2,39.26,0,0.76992000000000005,0.85162400000000005]
["all_elec_range",0]
["mileage",-0.18229000000000001,5.0379E-2,-3.62,0,-0.28194999999999998,-8.2640000000000005E-2]
["constant",0]
[null,"INTERPRETATION: 1 unit change in these variables (age, age-squared, etc) results in a change in FMV price of coefficient"]
[]
["PHEV",null,null,null,null,null,null,"R-sq = 0.98"]
[null,"Coefficient","Standard Error","t","P>|t|","95% confidence interval"]
["age",-3764,294.83510000000001,-12.06,0,-4138.9639999999999,-2972.855]
["agesq",433,73.932159999999996,6.01,0,298.2235,590.63419999999996]
["msrp",0.75,0.80156839999999996,-4.33,0,-5.0528550000000001,-1.882555]
["all_elec_range",0,86.588620000000006,3.8,0,157.66120000000001,500.12970000000001]
["mileage",-7.5999999999999998E-2,1.15792E-2,-6.25,0,-9.5235700000000006E-2,-4.9438299999999998E-2]
["_cons",0]
[null,"INTERPRETATION: 1 unit change in these variables (age, age-squared, etc) results in a change in FMV price of coefficient"]
[]
["Gasoline (with MPG)",null,null,null,null,null,null,"R-sq = 0.98"]
[null,"Coefficient","Standard Error","t","P>|t|","95% confidence interval"]
["age",-1013.43,354.87909999999999,-2.86,5.0000000000000001E-3,-1713.94,-312.91899999999998]
["agesq",-158.85,95.223330000000004,-1.67,9.7000000000000003E-2,-346.81400000000002,29.114699999999999]
["msrp",0.90576299999999998,1.7010999999999998E-2,53.25,0,0.87218399999999996,0.93934200000000001]
["mpg",0]
["mileage",-9.2999999999999992E-3,9.2580000000000006E-3,-1,0.317,-2.7570000000000001E-2,8.9739999999999993E-3]
["_cons",0," "," "," "," "," "]
[null,"INTERPRETATION: 1 unit change in these variables (age, age-squared, etc) results in a change in FMV price of coefficient"]

{"sheet":"Sensitivity Tables","index":11,"n_rows":67,"n_cols":7,"rows_kept":67,"cut":false,"hidden":true,"merged":[[6,4,6,6],[5,0,5,6],[22,1,22,3],[22,4,22,6],[38,1,38,3],[38,4,38,6],[6,1,6,3],[54,1,54,3],[54,4,54,6],[21,0,21,6],[37,0,37,6],[53,0,53,6]]}
["Sensitivity Data Tables - EV Fleet Procurement Analysis Tool"]
[]
[]
[]
["Sensitivity Analysis #01"]
[{"$f":"VLOOKUP(_xlfn.NUMBERVALUE(RIGHT(A5, 2)), Sensitivity_Summary, 2,FALSE)","v":"Electricity Cost ($/kWh)"}]
[null,{"$f":"Base_V1_Type_Ex&\" (Baseline)\"","v":"2017 Chevrolet Cruze ICE (Baseline)"},null,null,{"$f":"Comp_V1_Type_Ex&\" (Comparison)\"","v":"2017 Chevrolet Bolt EV BEV (Comparison)"}]
["Scenario","Nominal Cost per Mile","NPV Cost / Mile","Lifecycle CO2 (lbs/mile)","Nominal Cost per Mile","NPV Cost / Mile","Lifecycle CO2 (lbs/mile)"]
[{"$f":"INDIRECT(VLOOKUP(_xlfn.NUMBERVALUE(RIGHT(A5,2)),Sensitivity_Summary,7,FALSE))","v":0.1048},{"$f":"_xlfn.NUMBERVALUE('Results Tables'!$C$29)","v":0.47470572880358702},{"$f":"Results!$M$16","v":0.47470572880358669},{"$f":"'Environmental Model'!$B$18","v":0.71220421008283741},{"$f":"_xlfn.NUMBERVALUE('Results Tables'!$D$29)","v":0.43721351431677502},{"$f":"Results!$N$16","v":0.43721351431677513},{"$f":"'Environmental Model'!$C$18","v":0.37393778618713014}]
[{"$f":"sensitivity_01_value_min","v":0},0.47470572880358702,0.47470572880358669,0.71220421008283741,0.40556484790765601,0.40556484790765612,0.37393778618713014]
[{"$f":"A12-($A$19-$A$10)/9","v":0.22222222222222188},0.47470572880358702,0.47470572880358669,0.71220421008283741,0.47267397939433697,0.47267397939433742,0.37393778618713014]
[{"$f":"A13-($A$19-$A$10)/9","v":0.44444444444444409},0.47470572880358702,0.47470572880358669,0.71220421008283741,0.53978311088101905,0.53978311088101916,0.37393778618713014]
[0.6666666666666663,0.47470572880358702,0.47470572880358669,0.71220421008283741,0.60689224236770001,0.60689224236770034,0.37393778618713014]
[0.88888888888888851,0.47470572880358702,0.47470572880358669,0.71220421008283741,0.67400137385438197,0.67400137385438197,0.37393778618713014]
[1.1111111111111107,0.47470572880358702,0.47470572880358669,0.71220421008283741,0.74111050534106304,0.74111050534106337,0.37393778618713014]
[1.333333333333333,0.47470572880358702,0.47470572880358669,0.71220421008283741,0.808219636827745,0.80821963682774478,0.37393778618713014]
[1.5555555555555554,0.47470572880358702,0.47470572880358669,0.71220421008283741,0.87532876831442596,0.8753287683144263,0.37393778618713014]
[1.7777777777777777,0.47470572880358702,0.47470572880358669,0.71220421008283741,0.94243789980110804,0.9424378998011077,0.37393778618713014]
[{"$f":"sensitivity_01_value_max","v":2},0.47470572880358702,0.47470572880358669,0.71220421008283741,1.0095470312877901,1.0095470312877892,0.37393778618713014]
[]
["Sensitivity Analysis #02"]
[{"$f":"VLOOKUP(_xlfn.NUMBERVALUE(RIGHT(A21, 2)), Sensitivity_Summary, 2,FALSE)","v":"Cost of Carbon ($/Ton)"}]
[null,{"$f":"Base_V1_Type_Ex&\" (Baseline)\"","v":"2017 Chevrolet Cruze ICE (Baseline)"},null,null,{"$f":"Comp_V1_Type_Ex&\" (Comparison)\"","v":"2017 Chevrolet Bolt EV BEV (Comparison)"}]
["Scenario","Nominal Cost per Mile","NPV Cost / Mile","Lifecycle CO2 (lbs/mile)","Nominal Cost per Mile","NPV Cost / Mile","Lifecycle CO2 (lbs/mile)"]
[{"$f":"INDIRECT(VLOOKUP(_xlfn.NUMBERVALUE(RIGHT(A21,2)),Sensitivity_Summary,7,FALSE))","v":0},{"$f":"_xlfn.NUMBERVALUE('Results Tables'!$C$29)","v":0.47470572880358702},{"$f":"Results!$M$16","v":0.47470572880358669},{"$f":"'Environmental Model'!$B$18","v":0.71220421008283741},{"$f":"_xlfn.NUMBERVALUE('Results Tables'!$D$29)","v":0.43721351431677502},{"$f":"Results!$N$16","v":0.43721351431677513},{"$f":"'Environmental Model'!$C$18","v":0.37393778618713014}]
[{"$f":"sensitivity_02_value_min","v":0},0.47470572880358702,0.47470572880358669,0.71220421008283741,0.43721351431677502,0.43721351431677513,0.37393778618713014]
[{"$f":"A28-($A$35-$A$26)/9","v":16.666666666666647},0.480089908466316,0.4800899084663165,0.71220421008283741,0.44004043978985102,0.44004043978985075,0.37393778618713014]
[{"$f":"A29-($A$35-$A$26)/9","v":33.333333333333314},0.48547408812904602,0.48547408812904624,0.71220421008283741,0.44286736526292603,0.44286736526292647,0.37393778618713014]
[49.999999999999986,0.49085826779177599,0.49085826779177599,0.71220421008283741,0.44569429073600197,0.44569429073600225,0.37393778618713014]
[66.666666666666657,0.49624244745450602,0.49624244745450569,0.71220421008283741,0.44852121620907798,0.44852121620907798,0.37393778618713014]
[83.333333333333329,0.50162662711723505,0.50162662711723538,0.71220421008283741,0.45134814168215398,0.45134814168215365,0.37393778618713014]
[100,0.50701080677996502,0.50701080677996524,0.71220421008283741,0.45417506715522898,0.45417506715522937,0.37393778618713014]
[116.66666666666667,0.51239498644269499,0.51239498644269488,0.71220421008283741,0.45700199262830499,0.45700199262830488,0.37393778618713014]
[133.33333333333334,0.51777916610542496,0.51777916610542474,0.71220421008283741,0.45982891810138099,0.45982891810138077,0.37393778618713014]
[{"$f":"sensitivity_02_value_max","v":150},0.52316334576815404,0.52316334576815449,0.71220421008283741,0.46265584357445599,0.46265584357445649,0.37393778618713014]
[]
["Sensitivity Analysis #03"]
[{"$f":"VLOOKUP(_xlfn.NUMBERVALUE(RIGHT(A37, 2)), Sensitivity_Summary, 2,FALSE)","v":"Gasoline Cost ($/Gallon)"}]
[null,{"$f":"Base_V1_Type_Ex&\" (Baseline)\"","v":"2017 Chevrolet Cruze ICE (Baseline)"},null,null,{"$f":"Comp_V1_Type_Ex&\" (Comparison)\"","v":"2017 Chevrolet Bolt EV BEV (Comparison)"}]
["Scenario","Nominal Cost per Mile","NPV Cost / Mile","Lifecycle CO2 (lbs/mile)","Nominal Cost per Mile","NPV Cost / Mile","Lifecycle CO2 (lbs/mile)"]
[{"$f":"INDIRECT(VLOOKUP(_xlfn.NUMBERVALUE(RIGHT(A37,2)),Sensitivity_Summary,7,FALSE))","v":2.4169999999999998},{"$f":"_xlfn.NUMBERVALUE('Results Tables'!$C$29)","v":0.47470572880358702},{"$f":"Results!$M$16","v":0.47470572880358669},{"$f":"'Environmental Model'!$B$18","v":0.71220421008283741},{"$f":"_xlfn.NUMBERVALUE('Results Tables'!$D$29)","v":0.43721351431677502},{"$f":"Results!$N$16","v":0.43721351431677513},{"$f":"'Environmental Model'!$C$18","v":0.37393778618713014}]
[{"$f":"sensitivity_03_value_min","v":0},0.38579996076698397,0.38579996076698353,0.71220421008283741,0.43721351431677502,0.43721351431677513,0.37393778618713014]
[{"$f":"A44-($A$51-$A$42)/9","v":1.1111111111111129},0.42667053863514098,0.42667053863514104,0.71220421008283741,0.43721351431677502,0.43721351431677513,0.37393778618713014]
[{"$f":"A45-($A$51-$A$42)/9","v":2.2222222222222241},0.46754111650329899,0.46754111650329883,0.71220421008283741,0.43721351431677502,0.43721351431677513,0.37393778618713014]
[3.3333333333333353,0.50841169437145595,0.50841169437145628,0.71220421008283741,0.43721351431677502,0.43721351431677513,0.37393778618713014]
[4.4444444444444464,0.54928227223961401,0.54928227223961379,0.71220421008283741,0.43721351431677502,0.43721351431677513,0.37393778618713014]
[5.5555555555555571,0.59015285010777097,0.59015285010777119,0.71220421008283741,0.43721351431677502,0.43721351431677513,0.37393778618713014]
[6.6666666666666679,0.63102342797592903,0.63102342797592859,0.71220421008283741,0.43721351431677502,0.43721351431677513,0.37393778618713014]
[7.7777777777777786,0.67189400584408598,0.67189400584408632,0.71220421008283741,0.43721351431677502,0.43721351431677513,0.37393778618713014]
[8.8888888888888893,0.71276458371224405,0.71276458371224372,0.71220421008283741,0.43721351431677502,0.43721351431677513,0.37393778618713014]
[{"$f":"sensitivity_03_value_max","v":10},0.753635161580401,0.75363516158040134,0.71220421008283741,0.43721351431677502,0.43721351431677513,0.37393778618713014]
[]
["Sensitivity Analysis #04"]
[{"$f":"VLOOKUP(_xlfn.NUMBERVALUE(RIGHT(A53, 2)), Sensitivity_Summary, 2,FALSE)","v":"Inflation Rate (Excluding Fuel) (%/Year)"}]
[null,{"$f":"Base_V1_Type_Ex&\" (Baseline)\"","v":"2017 Chevrolet Cruze ICE (Baseline)"},null,null,{"$f":"Comp_V1_Type_Ex&\" (Comparison)\"","v":"2017 Chevrolet Bolt EV BEV (Comparison)"}]
["Scenario","Nominal Cost per Mile","NPV Cost / Mile","Lifecycle CO2 (lbs/mile)","Nominal Cost per Mile","NPV Cost / Mile","Lifecycle CO2 (lbs/mile)"]
[{"$f":"INDIRECT(VLOOKUP(_xlfn.NUMBERVALUE(RIGHT(A53,2)),Sensitivity_Summary,7,FALSE))","v":0.02},{"$f":"_xlfn.NUMBERVALUE('Results Tables'!$C$29)","v":0.47470572880358702},{"$f":"Results!$M$16","v":0.47470572880358669},{"$f":"'Environmental Model'!$B$18","v":0.71220421008283741},{"$f":"_xlfn.NUMBERVALUE('Results Tables'!$D$29)","v":0.43721351431677502},{"$f":"Results!$N$16","v":0.43721351431677513},{"$f":"'Environmental Model'!$C$18","v":0.37393778618713014}]
[{"$f":"sensitivity_04_value_min","v":0},0.465478817752981,0.46547881775298094,0.71220421008283741,0.43086292526161601,0.43086292526161613,0.37393778618713014]
[{"$f":"A60-($A$67-$A$58)/9","v":1.1111111111111101E-2},0.47052681250217898,0.47052681250217898,0.71220421008283741,0.43433773324910402,0.43433773324910352,0.37393778618713014]
[{"$f":"A61-($A$67-$A$58)/9","v":2.2222222222222213E-2},0.47577041828313998,0.47577041828314048,0.71220421008283741,0.43794608498389997,0.43794608498390009,0.37393778618713014]
[3.3333333333333326E-2,0.48121634394541701,0.48121634394541668,0.71220421008283741,0.441692533960029,0.44169253396002883,0.37393778618713014]
[4.4444444444444439E-2,0.48687147923755397,0.48687147923755375,0.71220421008283741,0.44558175599781302,0.44558175599781341,0.37393778618713014]
[5.5555555555555552E-2,0.49274289813604699,0.49274289813604716,0.71220421008283741,0.449618551490922,0.44961855149092211,0.37393778618713014]
[6.6666666666666666E-2,0.49883786220526399,0.49883786220526377,0.71220421008283741,0.45380784767431498,0.45380784767431459,0.37393778618713014]
[7.7777777777777779E-2,0.50516382398833004,0.5051638239883296,0.71220421008283741,0.45815470091309202,0.45815470091309207,0.37393778618713014]
[8.8888888888888892E-2,0.51172843042898497,0.51172843042898553,0.71220421008283741,0.46266429901224898,0.46266429901224931,0.37393778618713014]
[{"$f":"sensitivity_04_value_max","v":0.1},0.51853952632440903,0.51853952632440947,0.71220421008283741,0.46734196354733099,0.4673419635473306,0.37393778618713014]

{"sheet":"Lists_Hidden","index":12,"n_rows":82,"n_cols":4,"rows_kept":82,"cut":false,"hidden":true,"merged":[]}
["Lists (Hidden Tab) - EV Fleet Procurement Analysis Tool"]
[]
["Ownership Structures","Pricing Approaches","Input Fields"]
["Purchase (Cash)","MSRP Less Discounts","Input Field Name","Field Range Name"]
["Purchase (Loan)","Dealer Cost Plus Markup",{"$f":"IF(IFERROR(FIND(\"Comp\",D5,1)>0,FALSE),\"Comparison \"&OFFSET(INDIRECT(D5),0,-3),IF(IFERROR(FIND(\"Base\",D5,1)>0,FALSE),\"Baseline \"&OFFSET(INDIRECT(D5),0,-3),OFFSET(INDIRECT(D5),0,-1)))","v":"Electricity Cost ($/kWh)"},"Electricity_Price"]
["FMV (Closed-End) Lease",null,{"$f":"IF(IFERROR(FIND(\"Comp\",D6,1)>0,FALSE),\"Comparison \"&OFFSET(INDIRECT(D6),0,-3),IF(IFERROR(FIND(\"Base\",D6,1)>0,FALSE),\"Baseline \"&OFFSET(INDIRECT(D6),0,-3),OFFSET(INDIRECT(D6),0,-1)))","v":"Gasoline Cost ($/Gallon)"},"Gasoline_Price"]
["FMV (Closed-End) Lease w/ Cash Purchase",null,"Cost of Carbon ($/Ton)","Carbon_Price"]
["FMV (Closed-End) Lease w/ Loan Purchase",null,"Inflation Rate (Excluding Fuel) (%/Year)","Inflation_Rate_General"]
["TRAC (Open-End) Lease",null,"Baseline Number of Level 2 EV Stations Needed (#)","Base_Num_Stations"]
["TRAC (Open-End) Lease w/ Cash Purchase",null,"Baseline Equipment and Installation Cost ($/Station)","Base_Station_Cost"]
["TRAC (Open-End) Lease w/ Loan Purchase",null,"Baseline Maintenance Cost ($/Station/Year)","Base_Station_Maint_Cost"]
["Tax-Exempt Lease Purchase (Cash)",null,"Baseline Value of Negotiated Discounts off MSRP ($/Vehicle)","Base_V1_Discounts"]
[null,null,"Baseline Down Payment ($/Vehicle)","Base_V1_Down_Payment"]
[null,null,"Baseline Value of Federal Tax Incentives ($/Vehicle)","Base_V1_Federal_Tax_Incentives"]
[null,null,"Baseline Fuel Economy Electric City (MPGe)","Base_V1_Fuel_Economy_Electric_City"]
[null,null,"Baseline Fuel Economy Electric Highway (MPGe)","Base_V1_Fuel_Economy_Electric_Hwy"]
[null,null,"Baseline Fuel Economy Gas City (MPG)","Base_V1_Fuel_Economy_Gas_City"]
[null,null,"Baseline Fuel Economy Gas Highway (MPG)","Base_V1_Fuel_Economy_Gas_Hwy"]
[null,null,"Baseline Initial Tax, Title, and Registration Cost ($/Vehicle)","Base_V1_Initial_Taxes_Fees"]
[null,null,"Baseline Cost to Insure ($/Year)","Base_V1_Insurance_Cost"]
[null,null,"Baseline Acquisition Fee ($/Vehicle)","Base_V1_Lease_Acquisition_Fee"]
[null,null,"Baseline Lease Interest Rate (APR - %)","Base_V1_Lease_APR"]
[null,null,"Baseline Disposition Charge ($/Vehicle)","Base_V1_Lease_Disposition_Fee"]
[null,null,"Baseline Excess Mileage Cost ($/Mile) ","Base_V1_Lease_Mileage_Cost"]
[null,null,"Baseline Mileage Included (Closed-End Only)","Base_V1_Lease_Mileage_Inc"]
[null,null,"Baseline Money Factor (#)","Base_V1_Lease_Money_Factor"]
[null,null,"Baseline Residual Value ($/Vehicle)","Base_V1_Lease_Residual_Price"]
[null,null,"Baseline Lease Term (Years)","Base_V1_Lease_Term"]
[null,null,"Baseline Dealer Triple Net Price ($/Vehicle)","Base_V1_List_Price"]
[null,null,"Baseline Dealer Markup ($/Vehicle)","Base_V1_List_Price_Markup"]
[null,null,"Baseline Loan Interest Rate (APR - %)","Base_V1_Loan_APR"]
[null,null,"Baseline Loan Term (Years)","Base_V1_Loan_Term"]
[null,null,"Baseline Maintenance and Repair Cost - Years 1 - 5 ($/Mile) ","Base_V1_Maint_Repair_Cost_Year_1"]
[null,null,"Baseline % of Annual Miles City Driving","Base_V1_Miles_City"]
[null,null,"Baseline % of Annual Miles on Gasoline","Base_V1_Miles_Gas"]
[null,null,"Baseline MSRP ($/Vehicle)","Base_V1_MSRP"]
[null,null,"Baseline Number of Vehicles to Procure (#)","Base_V1_Num_Vehicles"]
[null,null,"Baseline Value of Non-tax Incentives ($/Vehicle)","Base_V1_Other_Incentives"]
[null,null,"Baseline Maintenance and Repair Cost - Years 5+ ($/Mile) ","Base_V1_Maint_Repair_Cost_Year_5"]
[null,null,"Baseline State Tax Incentive Cap ($)","Base_V1_State_Tax_Incentive_Cap"]
[null,null,"Baseline Value of State Tax Incentives ($/Vehicle)","Base_V1_State_Tax_Incentives"]
[null,null,"Baseline Tax Credits Can Be Monetized? (Y/N)","Base_V1_Tax_Incentives_Monetized"]
[null,null,"Baseline Recurring Taxes and Fees ($/Year)","Base_V1_Taxes_Fees"]
[null,null,"Baseline Annual Vehicle Mileage (VMT/Year)","Base_V1_VMT"]
[null,null,"Baseline Expected Years of Use/Ownership (Years)","Base_V1_Years_Usage"]
[null,null,"Comparison Number of Level 2 EV Stations Needed (#)","Comp_Num_Stations"]
[null,null,"Comparison Equipment and Installation Cost ($/Station)","Comp_Station_Cost"]
[null,null,"Comparison Maintenance Cost ($/Station/Year)","Comp_Station_Maint_Cost"]
[null,null,"Comparison Value of Negotiated Discounts off MSRP ($/Vehicle)","Comp_V1_Discounts"]
[null,null,"Comparison Down Payment ($/Vehicle)","Comp_V1_Down_Payment"]
[null,null,"Comparison Value of Federal Tax Credits ($/Vehicle)","Comp_V1_Federal_Tax_Incentives"]
[null,null,"Comparison Fuel Economy Electric City (MPGe)","Comp_V1_Fuel_Economy_Electric_City"]
[null,null,"Comparison Fuel Economy Electric Highway (MPGe)","Comp_V1_Fuel_Economy_Electric_Hwy"]
[null,null,"Comparison Fuel Economy Gas City (MPG)","Comp_V1_Fuel_Economy_Gas_City"]
[null,null,"Comparison Fuel Economy Gas Highway (MPG)","Comp_V1_Fuel_Economy_Gas_Hwy"]
[null,null,"Comparison Initial Tax, Title, and Registration Cost ($/Vehicle)","Comp_V1_Initial_Taxes_Fees"]
[null,null,"Comparison Cost to Insure ($/Year)","Comp_V1_Insurance_Cost"]
[null,null,"Comparison Acquisition Fee ($/Vehicle)","Comp_V1_Lease_Acquisition_Fee"]
[null,null,"Comparison Lease Interest Rate (APR - %)","Comp_V1_Lease_APR"]
[null,null,"Comparison Disposition Charge ($/Vehicle)","Comp_V1_Lease_Disposition_Fee"]
[null,null,"Comparison Excess Mileage Cost ($/Mile) ","Comp_V1_Lease_Mileage_Cost"]
[null,null,{"$f":"IF(IFERROR(FIND(\"Comp\",D62,1)>0,FALSE),\"Comparison \"&OFFSET(INDIRECT(D62),0,-3),IF(IFERROR(FIND(\"Base\",D62,1)>0,FALSE),\"Baseline \"&OFFSET(INDIRECT(D62),0,-3),OFFSET(INDIRECT(D62),0,-1)))","v":"Comparison Mileage Included (Closed-End Only)"},"Comp_V1_Lease_Mileage_Inc"]
[null,null,"Comparison Money Factor (#)","Comp_V1_Lease_Money_Factor"]
[null,null,"Comparison Negotiated Residual Value ($/Vehicle)","Comp_V1_Lease_Residual_Price"]
[null,null,"Comparison Lease Term (Years)","Comp_V1_Lease_Term"]
[null,null,"Comparison Dealer List Price ($)","Comp_V1_List_Price"]
[null,null,"Comparison Markup ($)","Comp_V1_List_Price_Markup"]
[null,null,"Comparison Loan Interest Rate (APR - %)","Comp_V1_Loan_APR"]
[null,null,"Comparison Loan Term (Years)","Comp_V1_Loan_Term"]
[null,null,"Comparison Maintenance and Repair Cost - Years 1 - 5 ($/Mile) ","Comp_V1_Maint_Repair_Cost_Year_1"]
[null,null,"Comparison % of Annual Miles City Driving","Comp_V1_Miles_City"]
[null,null,"Comparison % of Annual Miles on Gasoline","Comp_V1_Miles_Gas"]
[null,null,"Comparison MSRP ($)","Comp_V1_MSRP"]
[null,null,"Comparison Number of  Vehicles to Procure (#)","Comp_V1_Num_Vehicles"]
[null,null,"Comparison Value of Non-tax Incentives ($/Vehicle)","Comp_V1_Other_Incentives"]
[null,null,"Comparison Maintenance and Repair Cost - Years 5+ ($/Mile) ","Comp_V1_Maint_Repair_Cost_Year_5"]
[null,null,"Comparison State Tax Incentive Cap ($)","Comp_V1_State_Tax_Incentive_Cap"]
[null,null,"Comparison Value of State Tax Incentives ($/Vehicle)","Comp_V1_State_Tax_Incentives"]
[null,null,"Comparison Tax Credits Can Be Monetized? (Y/N)","Comp_V1_Tax_Incentives_Monetized"]
[null,null,"Comparison Recurring Taxes and Fees ($/Year)","Comp_V1_Taxes_Fees"]
[null,null,"Comparison Annual Vehicle Mileage (VMT/Year)","Comp_V1_VMT"]
[null,null,"Comparison Expected Years of Use/Ownership (Years)","Comp_V1_Years_Usage"]

{"sheet":"Dynamic_Lists_Hidden","index":13,"n_rows":40,"n_cols":8,"rows_kept":40,"cut":false,"hidden":true,"merged":[[0,1,0,3],[0,5,0,7]]}
[null,"Vehicle 1 Baseline Dynamic Lists",null,null,null,"Vehicle 2 Comparison Dynamic Lists"]
["Drivetrain","Year","Make","Model","Drivetrain","Year","Make","Model"]
[{"$f":"INDEX(List_Vehicle_DB_Drivetrain,MATCH(0,COUNTIF($A$2:A2,List_Vehicle_DB_Drivetrain),0))","v":"BEV"},{"$f":"INDEX(List_Vehicle_DB_Year,MATCH(0,COUNTIF($B$2:B2,List_Vehicle_DB_Year)+(List_Vehicle_DB_Drivetrain<>_Base_V1_Vehicle_Drivetrain),0))","v":"*Custom"},{"$f":"INDEX(List_Vehicle_DB_Make,MATCH(0,COUNTIF(C$2:$C2,List_Vehicle_DB_Make)+(List_Vehicle_DB_Drivetrain<>_Base_V1_Vehicle_Drivetrain)+(List_Vehicle_DB_Year<>_Base_V1_Vehicle_Year),0))","v":"Chevrolet"},{"$f":"INDEX(List_Vehicle_DB_Model,MATCH(0,COUNTIF(D$2:$D2,List_Vehicle_DB_Model)+(List_Vehicle_DB_Drivetrain<>_Base_V1_Vehicle_Drivetrain)+(List_Vehicle_DB_Year<>_Base_V1_Vehicle_Year)++(List_Vehicle_DB_Make<>_Base_V1_Vehicle_Make),0))","v":"Cruze"},{"$f":"INDEX(List_Vehicle_DB_Drivetrain,MATCH(0,COUNTIF(E$2:$E2,List_Vehicle_DB_Drivetrain),0))","v":"BEV"},{"$f":"INDEX(List_Vehicle_DB_Year,MATCH(0,COUNTIF($F$2:F2,List_Vehicle_DB_Year)+(List_Vehicle_DB_Drivetrain<>_Comp_V1_Vehicle_Drivetrain),0))","v":"*Custom"},{"$f":"INDEX(List_Vehicle_DB_Make,MATCH(0,COUNTIF($G$2:G2,List_Vehicle_DB_Make)+(List_Vehicle_DB_Drivetrain<>_Comp_V1_Vehicle_Drivetrain)+(List_Vehicle_DB_Year<>_Comp_V1_Vehicle_Year),0))","v":"Chevrolet"},{"$f":"INDEX(List_Vehicle_DB_Model,MATCH(0,COUNTIF($H$2:H2,List_Vehicle_DB_Model)+(List_Vehicle_DB_Drivetrain<>_Comp_V1_Vehicle_Drivetrain)+(List_Vehicle_DB_Year<>_Comp_V1_Vehicle_Year)+(List_Vehicle_DB_Make<>_Comp_V1_Vehicle_Make),0))","v":"Bolt EV"}]
[{"$f":"INDEX(List_Vehicle_DB_Drivetrain,MATCH(0,COUNTIF($A$2:A3,List_Vehicle_DB_Drivetrain),0))","v":"ICE"},{"$f":"INDEX(List_Vehicle_DB_Year,MATCH(0,COUNTIF($B$2:B3,List_Vehicle_DB_Year)+(List_Vehicle_DB_Drivetrain<>_Base_V1_Vehicle_Drivetrain),0))","v":2016},{"$f":"INDEX(List_Vehicle_DB_Make,MATCH(0,COUNTIF(C$2:$C3,List_Vehicle_DB_Make)+(List_Vehicle_DB_Drivetrain<>_Base_V1_Vehicle_Drivetrain)+(List_Vehicle_DB_Year<>_Base_V1_Vehicle_Year),0))","v":{"$error":"#N/A"}},{"$f":"INDEX(List_Vehicle_DB_Model,MATCH(0,COUNTIF(D$2:$D3,List_Vehicle_DB_Model)+(List_Vehicle_DB_Drivetrain<>_Base_V1_Vehicle_Drivetrain)+(List_Vehicle_DB_Year<>_Base_V1_Vehicle_Year)++(List_Vehicle_DB_Make<>_Base_V1_Vehicle_Make),0))","v":{"$error":"#N/A"}},{"$f":"INDEX(List_Vehicle_DB_Drivetrain,MATCH(0,COUNTIF(E$2:$E3,List_Vehicle_DB_Drivetrain),0))","v":"ICE"},{"$f":"INDEX(List_Vehicle_DB_Year,MATCH(0,COUNTIF($F$2:F3,List_Vehicle_DB_Year)+(List_Vehicle_DB_Drivetrain<>_Comp_V1_Vehicle_Drivetrain),0))","v":2016},{"$f":"INDEX(List_Vehicle_DB_Make,MATCH(0,COUNTIF($G$2:G3,List_Vehicle_DB_Make)+(List_Vehicle_DB_Drivetrain<>_Comp_V1_Vehicle_Drivetrain)+(List_Vehicle_DB_Year<>_Comp_V1_Vehicle_Year),0))","v":"Fiat"},{"$f":"INDEX(List_Vehicle_DB_Model,MATCH(0,COUNTIF($H$2:H3,List_Vehicle_DB_Model)+(List_Vehicle_DB_Drivetrain<>_Comp_V1_Vehicle_Drivetrain)+(List_Vehicle_DB_Year<>_Comp_V1_Vehicle_Year)+(List_Vehicle_DB_Make<>_Comp_V1_Vehicle_Make),0))","v":{"$error":"#N/A"}}]
[{"$f":"INDEX(List_Vehicle_DB_Drivetrain,MATCH(0,COUNTIF($A$2:A4,List_Vehicle_DB_Drivetrain),0))","v":"PHEV"},{"$f":"INDEX(List_Vehicle_DB_Year,MATCH(0,COUNTIF($B$2:B4,List_Vehicle_DB_Year)+(List_Vehicle_DB_Drivetrain<>_Base_V1_Vehicle_Drivetrain),0))","v":2017},{"$f":"INDEX(List_Vehicle_DB_Make,MATCH(0,COUNTIF(C$2:$C4,List_Vehicle_DB_Make)+(List_Vehicle_DB_Drivetrain<>_Base_V1_Vehicle_Drivetrain)+(List_Vehicle_DB_Year<>_Base_V1_Vehicle_Year),0))","v":{"$error":"#N/A"}},{"$f":"INDEX(List_Vehicle_DB_Model,MATCH(0,COUNTIF(D$2:$D4,List_Vehicle_DB_Model)+(List_Vehicle_DB_Drivetrain<>_Base_V1_Vehicle_Drivetrain)+(List_Vehicle_DB_Year<>_Base_V1_Vehicle_Year)++(List_Vehicle_DB_Make<>_Base_V1_Vehicle_Make),0))","v":{"$error":"#N/A"}},{"$f":"INDEX(List_Vehicle_DB_Drivetrain,MATCH(0,COUNTIF(E$2:$E4,List_Vehicle_DB_Drivetrain),0))","v":"PHEV"},{"$f":"INDEX(List_Vehicle_DB_Year,MATCH(0,COUNTIF($F$2:F4,List_Vehicle_DB_Year)+(List_Vehicle_DB_Drivetrain<>_Comp_V1_Vehicle_Drivetrain),0))","v":2017},{"$f":"INDEX(List_Vehicle_DB_Make,MATCH(0,COUNTIF($G$2:G4,List_Vehicle_DB_Make)+(List_Vehicle_DB_Drivetrain<>_Comp_V1_Vehicle_Drivetrain)+(List_Vehicle_DB_Year<>_Comp_V1_Vehicle_Year),0))","v":"Ford"},{"$f":"INDEX(List_Vehicle_DB_Model,MATCH(0,COUNTIF($H$2:H4,List_Vehicle_DB_Model)+(List_Vehicle_DB_Drivetrain<>_Comp_V1_Vehicle_Drivetrain)+(List_Vehicle_DB_Year<>_Comp_V1_Vehicle_Year)+(List_Vehicle_DB_Make<>_Comp_V1_Vehicle_Make),0))","v":{"$error":"#N/A"}}]
[{"$f":"INDEX(List_Vehicle_DB_Drivetrain,MATCH(0,COUNTIF($A$2:A5,List_Vehicle_DB_Drivetrain),0))","v":{"$error":"#N/A"}},{"$f":"INDEX(List_Vehicle_DB_Year,MATCH(0,COUNTIF($B$2:B5,List_Vehicle_DB_Year)+(List_Vehicle_DB_Drivetrain<>_Base_V1_Vehicle_Drivetrain),0))","v":{"$error":"#N/A"}},{"$f":"INDEX(List_Vehicle_DB_Make,MATCH(0,COUNTIF(C$2:$C5,List_Vehicle_DB_Make)+(List_Vehicle_DB_Drivetrain<>_Base_V1_Vehicle_Drivetrain)+(List_Vehicle_DB_Year<>_Base_V1_Vehicle_Year),0))","v":{"$error":"#N/A"}},{"$f":"INDEX(List_Vehicle_DB_Model,MATCH(0,COUNTIF(D$2:$D5,List_Vehicle_DB_Model)+(List_Vehicle_DB_Drivetrain<>_Base_V1_Vehicle_Drivetrain)+(List_Vehicle_DB_Year<>_Base_V1_Vehicle_Year)++(List_Vehicle_DB_Make<>_Base_V1_Vehicle_Make),0))","v":{"$error":"#N/A"}},{"$f":"INDEX(List_Vehicle_DB_Drivetrain,MATCH(0,COUNTIF(E$2:$E5,List_Vehicle_DB_Drivetrain),0))","v":{"$error":"#N/A"}},{"$f":"INDEX(List_Vehicle_DB_Year,MATCH(0,COUNTIF($F$2:F5,List_Vehicle_DB_Year)+(List_Vehicle_DB_Drivetrain<>_Comp_V1_Vehicle_Drivetrain),0))","v":{"$error":"#N/A"}},{"$f":"INDEX(List_Vehicle_DB_Make,MATCH(0,COUNTIF($G$2:G5,List_Vehicle_DB_Make)+(List_Vehicle_DB_Drivetrain<>_Comp_V1_Vehicle_Drivetrain)+(List_Vehicle_DB_Year<>_Comp_V1_Vehicle_Year),0))","v":"Hyundai"},{"$f":"INDEX(List_Vehicle_DB_Model,MATCH(0,COUNTIF($H$2:H5,List_Vehicle_DB_Model)+(List_Vehicle_DB_Drivetrain<>_Comp_V1_Vehicle_Drivetrain)+(List_Vehicle_DB_Year<>_Comp_V1_Vehicle_Year)+(List_Vehicle_DB_Make<>_Comp_V1_Vehicle_Make),0))","v":{"$error":"#N/A"}}]
[{"$f":"INDEX(List_Vehicle_DB_Drivetrain,MATCH(0,COUNTIF($A$2:A6,List_Vehicle_DB_Drivetrain),0))","v":{"$error":"#N/A"}},{"$f":"INDEX(List_Vehicle_DB_Year,MATCH(0,COUNTIF($B$2:B6,List_Vehicle_DB_Year)+(List_Vehicle_DB_Drivetrain<>_Base_V1_Vehicle_Drivetrain),0))","v":{"$error":"#N/A"}},{"$f":"INDEX(List_Vehicle_DB_Make,MATCH(0,COUNTIF(C$2:$C6,List_Vehicle_DB_Make)+(List_Vehicle_DB_Drivetrain<>_Base_V1_Vehicle_Drivetrain)+(List_Vehicle_DB_Year<>_Base_V1_Vehicle_Year),0))","v":{"$error":"#N/A"}},{"$f":"INDEX(List_Vehicle_DB_Model,MATCH(0,COUNTIF(D$2:$D6,List_Vehicle_DB_Model)+(List_Vehicle_DB_Drivetrain<>_Base_V1_Vehicle_Drivetrain)+(List_Vehicle_DB_Year<>_Base_V1_Vehicle_Year)++(List_Vehicle_DB_Make<>_Base_V1_Vehicle_Make),0))","v":{"$error":"#N/A"}},{"$f":"INDEX(List_Vehicle_DB_Drivetrain,MATCH(0,COUNTIF(E$2:$E6,List_Vehicle_DB_Drivetrain),0))","v":{"$error":"#N/A"}},{"$f":"INDEX(List_Vehicle_DB_Year,MATCH(0,COUNTIF($F$2:F6,List_Vehicle_DB_Year)+(List_Vehicle_DB_Drivetrain<>_Comp_V1_Vehicle_Drivetrain),0))","v":{"$error":"#N/A"}},{"$f":"INDEX(List_Vehicle_DB_Make,MATCH(0,COUNTIF($G$2:G6,List_Vehicle_DB_Make)+(List_Vehicle_DB_Drivetrain<>_Comp_V1_Vehicle_Drivetrain)+(List_Vehicle_DB_Year<>_Comp_V1_Vehicle_Year),0))","v":"Kia"},{"$f":"INDEX(List_Vehicle_DB_Model,MATCH(0,COUNTIF($H$2:H6,List_Vehicle_DB_Model)+(List_Vehicle_DB_Drivetrain<>_Comp_V1_Vehicle_Drivetrain)+(List_Vehicle_DB_Year<>_Comp_V1_Vehicle_Year)+(List_Vehicle_DB_Make<>_Comp_V1_Vehicle_Make),0))","v":{"$error":"#N/A"}}]
[{"$f":"INDEX(List_Vehicle_DB_Drivetrain,MATCH(0,COUNTIF($A$2:A7,List_Vehicle_DB_Drivetrain),0))","v":{"$error":"#N/A"}},{"$f":"INDEX(List_Vehicle_DB_Year,MATCH(0,COUNTIF($B$2:B7,List_Vehicle_DB_Year)+(List_Vehicle_DB_Drivetrain<>_Base_V1_Vehicle_Drivetrain),0))","v":{"$error":"#N/A"}},{"$f":"INDEX(List_Vehicle_DB_Make,MATCH(0,COUNTIF(C$2:$C7,List_Vehicle_DB_Make)+(List_Vehicle_DB_Drivetrain<>_Base_V1_Vehicle_Drivetrain)+(List_Vehicle_DB_Year<>_Base_V1_Vehicle_Year),0))","v":{"$error":"#N/A"}},{"$f":"INDEX(List_Vehicle_DB_Model,MATCH(0,COUNTIF(D$2:$D7,List_Vehicle_DB_Model)+(List_Vehicle_DB_Drivetrain<>_Base_V1_Vehicle_Drivetrain)+(List_Vehicle_DB_Year<>_Base_V1_Vehicle_Year)++(List_Vehicle_DB_Make<>_Base_V1_Vehicle_Make),0))","v":{"$error":"#N/A"}},{"$f":"INDEX(List_Vehicle_DB_Drivetrain,MATCH(0,COUNTIF(E$2:$E7,List_Vehicle_DB_Drivetrain),0))","v":{"$error":"#N/A"}},{"$f":"INDEX(List_Vehicle_DB_Year,MATCH(0,COUNTIF($F$2:F7,List_Vehicle_DB_Year)+(List_Vehicle_DB_Drivetrain<>_Comp_V1_Vehicle_Drivetrain),0))","v":{"$error":"#N/A"}},{"$f":"INDEX(List_Vehicle_DB_Make,MATCH(0,COUNTIF($G$2:G7,List_Vehicle_DB_Make)+(List_Vehicle_DB_Drivetrain<>_Comp_V1_Vehicle_Drivetrain)+(List_Vehicle_DB_Year<>_Comp_V1_Vehicle_Year),0))","v":"Mitsubishi"},{"$f":"INDEX(List_Vehicle_DB_Model,MATCH(0,COUNTIF($H$2:H7,List_Vehicle_DB_Model)+(List_Vehicle_DB_Drivetrain<>_Comp_V1_Vehicle_Drivetrain)+(List_Vehicle_DB_Year<>_Comp_V1_Vehicle_Year)+(List_Vehicle_DB_Make<>_Comp_V1_Vehicle_Make),0))","v":{"$error":"#N/A"}}]
[{"$f":"INDEX(List_Vehicle_DB_Drivetrain,MATCH(0,COUNTIF($A$2:A8,List_Vehicle_DB_Drivetrain),0))","v":{"$error":"#N/A"}},{"$f":"INDEX(List_Vehicle_DB_Year,MATCH(0,COUNTIF($B$2:B8,List_Vehicle_DB_Year)+(List_Vehicle_DB_Drivetrain<>_Base_V1_Vehicle_Drivetrain),0))","v":{"$error":"#N/A"}},{"$f":"INDEX(List_Vehicle_DB_Make,MATCH(0,COUNTIF(C$2:$C8,List_Vehicle_DB_Make)+(List_Vehicle_DB_Drivetrain<>_Base_V1_Vehicle_Drivetrain)+(List_Vehicle_DB_Year<>_Base_V1_Vehicle_Year),0))","v":{"$error":"#N/A"}},{"$f":"INDEX(List_Vehicle_DB_Model,MATCH(0,COUNTIF(D$2:$D8,List_Vehicle_DB_Model)+(List_Vehicle_DB_Drivetrain<>_Base_V1_Vehicle_Drivetrain)+(List_Vehicle_DB_Year<>_Base_V1_Vehicle_Year)++(List_Vehicle_DB_Make<>_Base_V1_Vehicle_Make),0))","v":{"$error":"#N/A"}},{"$f":"INDEX(List_Vehicle_DB_Drivetrain,MATCH(0,COUNTIF(E$2:$E8,List_Vehicle_DB_Drivetrain),0))","v":{"$error":"#N/A"}},{"$f":"INDEX(List_Vehicle_DB_Year,MATCH(0,COUNTIF($F$2:F8,List_Vehicle_DB_Year)+(List_Vehicle_DB_Drivetrain<>_Comp_V1_Vehicle_Drivetrain),0))","v":{"$error":"#N/A"}},{"$f":"INDEX(List_Vehicle_DB_Make,MATCH(0,COUNTIF($G$2:G8,List_Vehicle_DB_Make)+(List_Vehicle_DB_Drivetrain<>_Comp_V1_Vehicle_Drivetrain)+(List_Vehicle_DB_Year<>_Comp_V1_Vehicle_Year),0))","v":"Nissan"},{"$f":"INDEX(List_Vehicle_DB_Model,MATCH(0,COUNTIF($H$2:H8,List_Vehicle_DB_Model)+(List_Vehicle_DB_Drivetrain<>_Comp_V1_Vehicle_Drivetrain)+(List_Vehicle_DB_Year<>_Comp_V1_Vehicle_Year)+(List_Vehicle_DB_Make<>_Comp_V1_Vehicle_Make),0))","v":{"$error":"#N/A"}}]
[{"$f":"INDEX(List_Vehicle_DB_Drivetrain,MATCH(0,COUNTIF($A$2:A9,List_Vehicle_DB_Drivetrain),0))","v":{"$error":"#N/A"}},{"$f":"INDEX(List_Vehicle_DB_Year,MATCH(0,COUNTIF($B$2:B9,List_Vehicle_DB_Year)+(List_Vehicle_DB_Drivetrain<>_Base_V1_Vehicle_Drivetrain),0))","v":{"$error":"#N/A"}},{"$f":"INDEX(List_Vehicle_DB_Make,MATCH(0,COUNTIF(C$2:$C9,List_Vehicle_DB_Make)+(List_Vehicle_DB_Drivetrain<>_Base_V1_Vehicle_Drivetrain)+(List_Vehicle_DB_Year<>_Base_V1_Vehicle_Year),0))","v":{"$error":"#N/A"}},{"$f":"INDEX(List_Vehicle_DB_Model,MATCH(0,COUNTIF(D$2:$D9,List_Vehicle_DB_Model)+(List_Vehicle_DB_Drivetrain<>_Base_V1_Vehicle_Drivetrain)+(List_Vehicle_DB_Year<>_Base_V1_Vehicle_Year)++(List_Vehicle_DB_Make<>_Base_V1_Vehicle_Make),0))","v":{"$error":"#N/A"}},{"$f":"INDEX(List_Vehicle_DB_Drivetrain,MATCH(0,COUNTIF(E$2:$E9,List_Vehicle_DB_Drivetrain),0))","v":{"$error":"#N/A"}},{"$f":"INDEX(List_Vehicle_DB_Year,MATCH(0,COUNTIF($F$2:F9,List_Vehicle_DB_Year)+(List_Vehicle_DB_Drivetrain<>_Comp_V1_Vehicle_Drivetrain),0))","v":{"$error":"#N/A"}},{"$f":"INDEX(List_Vehicle_DB_Make,MATCH(0,COUNTIF($G$2:G9,List_Vehicle_DB_Make)+(List_Vehicle_DB_Drivetrain<>_Comp_V1_Vehicle_Drivetrain)+(List_Vehicle_DB_Year<>_Comp_V1_Vehicle_Year),0))","v":"Volkswagen"},{"$f":"INDEX(List_Vehicle_DB_Model,MATCH(0,COUNTIF($H$2:H9,List_Vehicle_DB_Model)+(List_Vehicle_DB_Drivetrain<>_Comp_V1_Vehicle_Drivetrain)+(List_Vehicle_DB_Year<>_Comp_V1_Vehicle_Year)+(List_Vehicle_DB_Make<>_Comp_V1_Vehicle_Make),0))","v":{"$error":"#N/A"}}]
[{"$f":"INDEX(List_Vehicle_DB_Drivetrain,MATCH(0,COUNTIF($A$2:A10,List_Vehicle_DB_Drivetrain),0))","v":{"$error":"#N/A"}},{"$f":"INDEX(List_Vehicle_DB_Year,MATCH(0,COUNTIF($B$2:B10,List_Vehicle_DB_Year)+(List_Vehicle_DB_Drivetrain<>_Base_V1_Vehicle_Drivetrain),0))","v":{"$error":"#N/A"}},{"$f":"INDEX(List_Vehicle_DB_Make,MATCH(0,COUNTIF(C$2:$C10,List_Vehicle_DB_Make)+(List_Vehicle_DB_Drivetrain<>_Base_V1_Vehicle_Drivetrain)+(List_Vehicle_DB_Year<>_Base_V1_Vehicle_Year),0))","v":{"$error":"#N/A"}},{"$f":"INDEX(List_Vehicle_DB_Model,MATCH(0,COUNTIF(D$2:$D10,List_Vehicle_DB_Model)+(List_Vehicle_DB_Drivetrain<>_Base_V1_Vehicle_Drivetrain)+(List_Vehicle_DB_Year<>_Base_V1_Vehicle_Year)++(List_Vehicle_DB_Make<>_Base_V1_Vehicle_Make),0))","v":{"$error":"#N/A"}},{"$f":"INDEX(List_Vehicle_DB_Drivetrain,MATCH(0,COUNTIF(E$2:$E10,List_Vehicle_DB_Drivetrain),0))","v":{"$error":"#N/A"}},{"$f":"INDEX(List_Vehicle_DB_Year,MATCH(0,COUNTIF($F$2:F10,List_Vehicle_DB_Year)+(List_Vehicle_DB_Drivetrain<>_Comp_V1_Vehicle_Drivetrain),0))","v":{"$error":"#N/A"}},{"$f":"INDEX(List_Vehicle_DB_Make,MATCH(0,COUNTIF($G$2:G10,List_Vehicle_DB_Make)+(List_Vehicle_DB_Drivetrain<>_Comp_V1_Vehicle_Drivetrain)+(List_Vehicle_DB_Year<>_Comp_V1_Vehicle_Year),0))","v":{"$error":"#N/A"}},{"$f":"INDEX(List_Vehicle_DB_Model,MATCH(0,COUNTIF($H$2:H10,List_Vehicle_DB_Model)+(List_Vehicle_DB_Drivetrain<>_Comp_V1_Vehicle_Drivetrain)+(List_Vehicle_DB_Year<>_Comp_V1_Vehicle_Year)+(List_Vehicle_DB_Make<>_Comp_V1_Vehicle_Make),0))","v":{"$error":"#N/A"}}]
[{"$f":"INDEX(List_Vehicle_DB_Drivetrain,MATCH(0,COUNTIF($A$2:A11,List_Vehicle_DB_Drivetrain),0))","v":{"$error":"#N/A"}},{"$f":"INDEX(List_Vehicle_DB_Year,MATCH(0,COUNTIF($B$2:B11,List_Vehicle_DB_Year)+(List_Vehicle_DB_Drivetrain<>_Base_V1_Vehicle_Drivetrain),0))","v":{"$error":"#N/A"}},{"$f":"INDEX(List_Vehicle_DB_Make,MATCH(0,COUNTIF(C$2:$C11,List_Vehicle_DB_Make)+(List_Vehicle_DB_Drivetrain<>_Base_V1_Vehicle_Drivetrain)+(List_Vehicle_DB_Year<>_Base_V1_Vehicle_Year),0))","v":{"$error":"#N/A"}},{"$f":"INDEX(List_Vehicle_DB_Model,MATCH(0,COUNTIF(D$2:$D11,List_Vehicle_DB_Model)+(List_Vehicle_DB_Drivetrain<>_Base_V1_Vehicle_Drivetrain)+(List_Vehicle_DB_Year<>_Base_V1_Vehicle_Year)++(List_Vehicle_DB_Make<>_Base_V1_Vehicle_Make),0))","v":{"$error":"#N/A"}},{"$f":"INDEX(List_Vehicle_DB_Drivetrain,MATCH(0,COUNTIF(E$2:$E11,List_Vehicle_DB_Drivetrain),0))","v":{"$error":"#N/A"}},{"$f":"INDEX(List_Vehicle_DB_Year,MATCH(0,COUNTIF($F$2:F11,List_Vehicle_DB_Year)+(List_Vehicle_DB_Drivetrain<>_Comp_V1_Vehicle_Drivetrain),0))","v":{"$error":"#N/A"}},{"$f":"INDEX(List_Vehicle_DB_Make,MATCH(0,COUNTIF($G$2:G11,List_Vehicle_DB_Make)+(List_Vehicle_DB_Drivetrain<>_Comp_V1_Vehicle_Drivetrain)+(List_Vehicle_DB_Year<>_Comp_V1_Vehicle_Year),0))","v":{"$error":"#N/A"}},{"$f":"INDEX(List_Vehicle_DB_Model,MATCH(0,COUNTIF($H$2:H11,List_Vehicle_DB_Model)+(List_Vehicle_DB_Drivetrain<>_Comp_V1_Vehicle_Drivetrain)+(List_Vehicle_DB_Year<>_Comp_V1_Vehicle_Year)+(List_Vehicle_DB_Make<>_Comp_V1_Vehicle_Make),0))","v":{"$error":"#N/A"}}]
[{"$f":"INDEX(List_Vehicle_DB_Drivetrain,MATCH(0,COUNTIF($A$2:A12,List_Vehicle_DB_Drivetrain),0))","v":{"$error":"#N/A"}},{"$f":"INDEX(List_Vehicle_DB_Year,MATCH(0,COUNTIF($B$2:B12,List_Vehicle_DB_Year)+(List_Vehicle_DB_Drivetrain<>_Base_V1_Vehicle_Drivetrain),0))","v":{"$error":"#N/A"}},{"$f":"INDEX(List_Vehicle_DB_Make,MATCH(0,COUNTIF(C$2:$C12,List_Vehicle_DB_Make)+(List_Vehicle_DB_Drivetrain<>_Base_V1_Vehicle_Drivetrain)+(List_Vehicle_DB_Year<>_Base_V1_Vehicle_Year),0))","v":{"$error":"#N/A"}},{"$f":"INDEX(List_Vehicle_DB_Model,MATCH(0,COUNTIF(D$2:$D12,List_Vehicle_DB_Model)+(List_Vehicle_DB_Drivetrain<>_Base_V1_Vehicle_Drivetrain)+(List_Vehicle_DB_Year<>_Base_V1_Vehicle_Year)++(List_Vehicle_DB_Make<>_Base_V1_Vehicle_Make),0))","v":{"$error":"#N/A"}},{"$f":"INDEX(List_Vehicle_DB_Drivetrain,MATCH(0,COUNTIF(E$2:$E12,List_Vehicle_DB_Drivetrain),0))","v":{"$error":"#N/A"}},{"$f":"INDEX(List_Vehicle_DB_Year,MATCH(0,COUNTIF($F$2:F12,List_Vehicle_DB_Year)+(List_Vehicle_DB_Drivetrain<>_Comp_V1_Vehicle_Drivetrain),0))","v":{"$error":"#N/A"}},{"$f":"INDEX(List_Vehicle_DB_Make,MATCH(0,COUNTIF($G$2:G12,List_Vehicle_DB_Make)+(List_Vehicle_DB_Drivetrain<>_Comp_V1_Vehicle_Drivetrain)+(List_Vehicle_DB_Year<>_Comp_V1_Vehicle_Year),0))","v":{"$error":"#N/A"}},{"$f":"INDEX(List_Vehicle_DB_Model,MATCH(0,COUNTIF($H$2:H12,List_Vehicle_DB_Model)+(List_Vehicle_DB_Drivetrain<>_Comp_V1_Vehicle_Drivetrain)+(List_Vehicle_DB_Year<>_Comp_V1_Vehicle_Year)+(List_Vehicle_DB_Make<>_Comp_V1_Vehicle_Make),0))","v":{"$error":"#N/A"}}]
[{"$f":"INDEX(List_Vehicle_DB_Drivetrain,MATCH(0,COUNTIF($A$2:A13,List_Vehicle_DB_Drivetrain),0))","v":{"$error":"#N/A"}},{"$f":"INDEX(List_Vehicle_DB_Year,MATCH(0,COUNTIF($B$2:B13,List_Vehicle_DB_Year)+(List_Vehicle_DB_Drivetrain<>_Base_V1_Vehicle_Drivetrain),0))","v":{"$error":"#N/A"}},{"$f":"INDEX(List_Vehicle_DB_Make,MATCH(0,COUNTIF(C$2:$C13,List_Vehicle_DB_Make)+(List_Vehicle_DB_Drivetrain<>_Base_V1_Vehicle_Drivetrain)+(List_Vehicle_DB_Year<>_Base_V1_Vehicle_Year),0))","v":{"$error":"#N/A"}},{"$f":"INDEX(List_Vehicle_DB_Model,MATCH(0,COUNTIF(D$2:$D13,List_Vehicle_DB_Model)+(List_Vehicle_DB_Drivetrain<>_Base_V1_Vehicle_Drivetrain)+(List_Vehicle_DB_Year<>_Base_V1_Vehicle_Year)++(List_Vehicle_DB_Make<>_Base_V1_Vehicle_Make),0))","v":{"$error":"#N/A"}},{"$f":"INDEX(List_Vehicle_DB_Drivetrain,MATCH(0,COUNTIF(E$2:$E13,List_Vehicle_DB_Drivetrain),0))","v":{"$error":"#N/A"}},{"$f":"INDEX(List_Vehicle_DB_Year,MATCH(0,COUNTIF($F$2:F13,List_Vehicle_DB_Year)+(List_Vehicle_DB_Drivetrain<>_Comp_V1_Vehicle_Drivetrain),0))","v":{"$error":"#N/A"}},{"$f":"INDEX(List_Vehicle_DB_Make,MATCH(0,COUNTIF($G$2:G13,List_Vehicle_DB_Make)+(List_Vehicle_DB_Drivetrain<>_Comp_V1_Vehicle_Drivetrain)+(List_Vehicle_DB_Year<>_Comp_V1_Vehicle_Year),0))","v":{"$error":"#N/A"}},{"$f":"INDEX(List_Vehicle_DB_Model,MATCH(0,COUNTIF($H$2:H13,List_Vehicle_DB_Model)+(List_Vehicle_DB_Drivetrain<>_Comp_V1_Vehicle_Drivetrain)+(List_Vehicle_DB_Year<>_Comp_V1_Vehicle_Year)+(List_Vehicle_DB_Make<>_Comp_V1_Vehicle_Make),0))","v":{"$error":"#N/A"}}]
[{"$f":"INDEX(List_Vehicle_DB_Drivetrain,MATCH(0,COUNTIF($A$2:A14,List_Vehicle_DB_Drivetrain),0))","v":{"$error":"#N/A"}},{"$f":"INDEX(List_Vehicle_DB_Year,MATCH(0,COUNTIF($B$2:B14,List_Vehicle_DB_Year)+(List_Vehicle_DB_Drivetrain<>_Base_V1_Vehicle_Drivetrain),0))","v":{"$error":"#N/A"}},{"$f":"INDEX(List_Vehicle_DB_Make,MATCH(0,COUNTIF(C$2:$C14,List_Vehicle_DB_Make)+(List_Vehicle_DB_Drivetrain<>_Base_V1_Vehicle_Drivetrain)+(List_Vehicle_DB_Year<>_Base_V1_Vehicle_Year),0))","v":{"$error":"#N/A"}},{"$f":"INDEX(List_Vehicle_DB_Model,MATCH(0,COUNTIF(D$2:$D14,List_Vehicle_DB_Model)+(List_Vehicle_DB_Drivetrain<>_Base_V1_Vehicle_Drivetrain)+(List_Vehicle_DB_Year<>_Base_V1_Vehicle_Year)++(List_Vehicle_DB_Make<>_Base_V1_Vehicle_Make),0))","v":{"$error":"#N/A"}},{"$f":"INDEX(List_Vehicle_DB_Drivetrain,MATCH(0,COUNTIF(E$2:$E14,List_Vehicle_DB_Drivetrain),0))","v":{"$error":"#N/A"}},{"$f":"INDEX(List_Vehicle_DB_Year,MATCH(0,COUNTIF($F$2:F14,List_Vehicle_DB_Year)+(List_Vehicle_DB_Drivetrain<>_Comp_V1_Vehicle_Drivetrain),0))","v":{"$error":"#N/A"}},{"$f":"INDEX(List_Vehicle_DB_Make,MATCH(0,COUNTIF($G$2:G14,List_Vehicle_DB_Make)+(List_Vehicle_DB_Drivetrain<>_Comp_V1_Vehicle_Drivetrain)+(List_Vehicle_DB_Year<>_Comp_V1_Vehicle_Year),0))","v":{"$error":"#N/A"}},{"$f":"INDEX(List_Vehicle_DB_Model,MATCH(0,COUNTIF($H$2:H14,List_Vehicle_DB_Model)+(List_Vehicle_DB_Drivetrain<>_Comp_V1_Vehicle_Drivetrain)+(List_Vehicle_DB_Year<>_Comp_V1_Vehicle_Year)+(List_Vehicle_DB_Make<>_Comp_V1_Vehicle_Make),0))","v":{"$error":"#N/A"}}]
[{"$f":"INDEX(List_Vehicle_DB_Drivetrain,MATCH(0,COUNTIF($A$2:A15,List_Vehicle_DB_Drivetrain),0))","v":{"$error":"#N/A"}},{"$f":"INDEX(List_Vehicle_DB_Year,MATCH(0,COUNTIF($B$2:B15,List_Vehicle_DB_Year)+(List_Vehicle_DB_Drivetrain<>_Base_V1_Vehicle_Drivetrain),0))","v":{"$error":"#N/A"}},{"$f":"INDEX(List_Vehicle_DB_Make,MATCH(0,COUNTIF(C$2:$C15,List_Vehicle_DB_Make)+(List_Vehicle_DB_Drivetrain<>_Base_V1_Vehicle_Drivetrain)+(List_Vehicle_DB_Year<>_Base_V1_Vehicle_Year),0))","v":{"$error":"#N/A"}},{"$f":"INDEX(List_Vehicle_DB_Model,MATCH(0,COUNTIF(D$2:$D15,List_Vehicle_DB_Model)+(List_Vehicle_DB_Drivetrain<>_Base_V1_Vehicle_Drivetrain)+(List_Vehicle_DB_Year<>_Base_V1_Vehicle_Year)++(List_Vehicle_DB_Make<>_Base_V1_Vehicle_Make),0))","v":{"$error":"#N/A"}},{"$f":"INDEX(List_Vehicle_DB_Drivetrain,MATCH(0,COUNTIF(E$2:$E15,List_Vehicle_DB_Drivetrain),0))","v":{"$error":"#N/A"}},{"$f":"INDEX(List_Vehicle_DB_Year,MATCH(0,COUNTIF($F$2:F15,List_Vehicle_DB_Year)+(List_Vehicle_DB_Drivetrain<>_Comp_V1_Vehicle_Drivetrain),0))","v":{"$error":"#N/A"}},{"$f":"INDEX(List_Vehicle_DB_Make,MATCH(0,COUNTIF($G$2:G15,List_Vehicle_DB_Make)+(List_Vehicle_DB_Drivetrain<>_Comp_V1_Vehicle_Drivetrain)+(List_Vehicle_DB_Year<>_Comp_V1_Vehicle_Year),0))","v":{"$error":"#N/A"}},{"$f":"INDEX(List_Vehicle_DB_Model,MATCH(0,COUNTIF($H$2:H15,List_Vehicle_DB_Model)+(List_Vehicle_DB_Drivetrain<>_Comp_V1_Vehicle_Drivetrain)+(List_Vehicle_DB_Year<>_Comp_V1_Vehicle_Year)+(List_Vehicle_DB_Make<>_Comp_V1_Vehicle_Make),0))","v":{"$error":"#N/A"}}]
[{"$f":"INDEX(List_Vehicle_DB_Drivetrain,MATCH(0,COUNTIF($A$2:A16,List_Vehicle_DB_Drivetrain),0))","v":{"$error":"#N/A"}},{"$f":"INDEX(List_Vehicle_DB_Year,MATCH(0,COUNTIF($B$2:B16,List_Vehicle_DB_Year)+(List_Vehicle_DB_Drivetrain<>_Base_V1_Vehicle_Drivetrain),0))","v":{"$error":"#N/A"}},{"$f":"INDEX(List_Vehicle_DB_Make,MATCH(0,COUNTIF(C$2:$C16,List_Vehicle_DB_Make)+(List_Vehicle_DB_Drivetrain<>_Base_V1_Vehicle_Drivetrain)+(List_Vehicle_DB_Year<>_Base_V1_Vehicle_Year),0))","v":{"$error":"#N/A"}},{"$f":"INDEX(List_Vehicle_DB_Model,MATCH(0,COUNTIF(D$2:$D16,List_Vehicle_DB_Model)+(List_Vehicle_DB_Drivetrain<>_Base_V1_Vehicle_Drivetrain)+(List_Vehicle_DB_Year<>_Base_V1_Vehicle_Year)++(List_Vehicle_DB_Make<>_Base_V1_Vehicle_Make),0))","v":{"$error":"#N/A"}},{"$f":"INDEX(List_Vehicle_DB_Drivetrain,MATCH(0,COUNTIF(E$2:$E16,List_Vehicle_DB_Drivetrain),0))","v":{"$error":"#N/A"}},{"$f":"INDEX(List_Vehicle_DB_Year,MATCH(0,COUNTIF($F$2:F16,List_Vehicle_DB_Year)+(List_Vehicle_DB_Drivetrain<>_Comp_V1_Vehicle_Drivetrain),0))","v":{"$error":"#N/A"}},{"$f":"INDEX(List_Vehicle_DB_Make,MATCH(0,COUNTIF($G$2:G16,List_Vehicle_DB_Make)+(List_Vehicle_DB_Drivetrain<>_Comp_V1_Vehicle_Drivetrain)+(List_Vehicle_DB_Year<>_Comp_V1_Vehicle_Year),0))","v":{"$error":"#N/A"}},{"$f":"INDEX(List_Vehicle_DB_Model,MATCH(0,COUNTIF($H$2:H16,List_Vehicle_DB_Model)+(List_Vehicle_DB_Drivetrain<>_Comp_V1_Vehicle_Drivetrain)+(List_Vehicle_DB_Year<>_Comp_V1_Vehicle_Year)+(List_Vehicle_DB_Make<>_Comp_V1_Vehicle_Make),0))","v":{"$error":"#N/A"}}]
[{"$f":"INDEX(List_Vehicle_DB_Drivetrain,MATCH(0,COUNTIF($A$2:A17,List_Vehicle_DB_Drivetrain),0))","v":{"$error":"#N/A"}},{"$f":"INDEX(List_Vehicle_DB_Year,MATCH(0,COUNTIF($B$2:B17,List_Vehicle_DB_Year)+(List_Vehicle_DB_Drivetrain<>_Base_V1_Vehicle_Drivetrain),0))","v":{"$error":"#N/A"}},{"$f":"INDEX(List_Vehicle_DB_Make,MATCH(0,COUNTIF(C$2:$C17,List_Vehicle_DB_Make)+(List_Vehicle_DB_Drivetrain<>_Base_V1_Vehicle_Drivetrain)+(List_Vehicle_DB_Year<>_Base_V1_Vehicle_Year),0))","v":{"$error":"#N/A"}},{"$f":"INDEX(List_Vehicle_DB_Model,MATCH(0,COUNTIF(D$2:$D17,List_Vehicle_DB_Model)+(List_Vehicle_DB_Drivetrain<>_Base_V1_Vehicle_Drivetrain)+(List_Vehicle_DB_Year<>_Base_V1_Vehicle_Year)++(List_Vehicle_DB_Make<>_Base_V1_Vehicle_Make),0))","v":{"$error":"#N/A"}},{"$f":"INDEX(List_Vehicle_DB_Drivetrain,MATCH(0,COUNTIF(E$2:$E17,List_Vehicle_DB_Drivetrain),0))","v":{"$error":"#N/A"}},{"$f":"INDEX(List_Vehicle_DB_Year,MATCH(0,COUNTIF($F$2:F17,List_Vehicle_DB_Year)+(List_Vehicle_DB_Drivetrain<>_Comp_V1_Vehicle_Drivetrain),0))","v":{"$error":"#N/A"}},{"$f":"INDEX(List_Vehicle_DB_Make,MATCH(0,COUNTIF($G$2:G17,List_Vehicle_DB_Make)+(List_Vehicle_DB_Drivetrain<>_Comp_V1_Vehicle_Drivetrain)+(List_Vehicle_DB_Year<>_Comp_V1_Vehicle_Year),0))","v":{"$error":"#N/A"}},{"$f":"INDEX(List_Vehicle_DB_Model,MATCH(0,COUNTIF($H$2:H17,List_Vehicle_DB_Model)+(List_Vehicle_DB_Drivetrain<>_Comp_V1_Vehicle_Drivetrain)+(List_Vehicle_DB_Year<>_Comp_V1_Vehicle_Year)+(List_Vehicle_DB_Make<>_Comp_V1_Vehicle_Make),0))","v":{"$error":"#N/A"}}]
[{"$f":"INDEX(List_Vehicle_DB_Drivetrain,MATCH(0,COUNTIF($A$2:A18,List_Vehicle_DB_Drivetrain),0))","v":{"$error":"#N/A"}},{"$f":"INDEX(List_Vehicle_DB_Year,MATCH(0,COUNTIF($B$2:B18,List_Vehicle_DB_Year)+(List_Vehicle_DB_Drivetrain<>_Base_V1_Vehicle_Drivetrain),0))","v":{"$error":"#N/A"}},{"$f":"INDEX(List_Vehicle_DB_Make,MATCH(0,COUNTIF(C$2:$C18,List_Vehicle_DB_Make)+(List_Vehicle_DB_Drivetrain<>_Base_V1_Vehicle_Drivetrain)+(List_Vehicle_DB_Year<>_Base_V1_Vehicle_Year),0))","v":{"$error":"#N/A"}},{"$f":"INDEX(List_Vehicle_DB_Model,MATCH(0,COUNTIF(D$2:$D18,List_Vehicle_DB_Model)+(List_Vehicle_DB_Drivetrain<>_Base_V1_Vehicle_Drivetrain)+(List_Vehicle_DB_Year<>_Base_V1_Vehicle_Year)++(List_Vehicle_DB_Make<>_Base_V1_Vehicle_Make),0))","v":{"$error":"#N/A"}},{"$f":"INDEX(List_Vehicle_DB_Drivetrain,MATCH(0,COUNTIF(E$2:$E18,List_Vehicle_DB_Drivetrain),0))","v":{"$error":"#N/A"}},{"$f":"INDEX(List_Vehicle_DB_Year,MATCH(0,COUNTIF($F$2:F18,List_Vehicle_DB_Year)+(List_Vehicle_DB_Drivetrain<>_Comp_V1_Vehicle_Drivetrain),0))","v":{"$error":"#N/A"}},{"$f":"INDEX(List_Vehicle_DB_Make,MATCH(0,COUNTIF($G$2:G18,List_Vehicle_DB_Make)+(List_Vehicle_DB_Drivetrain<>_Comp_V1_Vehicle_Drivetrain)+(List_Vehicle_DB_Year<>_Comp_V1_Vehicle_Year),0))","v":{"$error":"#N/A"}},{"$f":"INDEX(List_Vehicle_DB_Model,MATCH(0,COUNTIF($H$2:H18,List_Vehicle_DB_Model)+(List_Vehicle_DB_Drivetrain<>_Comp_V1_Vehicle_Drivetrain)+(List_Vehicle_DB_Year<>_Comp_V1_Vehicle_Year)+(List_Vehicle_DB_Make<>_Comp_V1_Vehicle_Make),0))","v":{"$error":"#N/A"}}]
[{"$f":"INDEX(List_Vehicle_DB_Drivetrain,MATCH(0,COUNTIF($A$2:A19,List_Vehicle_DB_Drivetrain),0))","v":{"$error":"#N/A"}},{"$f":"INDEX(List_Vehicle_DB_Year,MATCH(0,COUNTIF($B$2:B19,List_Vehicle_DB_Year)+(List_Vehicle_DB_Drivetrain<>_Base_V1_Vehicle_Drivetrain),0))","v":{"$error":"#N/A"}},{"$f":"INDEX(List_Vehicle_DB_Make,MATCH(0,COUNTIF(C$2:$C19,List_Vehicle_DB_Make)+(List_Vehicle_DB_Drivetrain<>_Base_V1_Vehicle_Drivetrain)+(List_Vehicle_DB_Year<>_Base_V1_Vehicle_Year),0))","v":{"$error":"#N/A"}},{"$f":"INDEX(List_Vehicle_DB_Model,MATCH(0,COUNTIF(D$2:$D19,List_Vehicle_DB_Model)+(List_Vehicle_DB_Drivetrain<>_Base_V1_Vehicle_Drivetrain)+(List_Vehicle_DB_Year<>_Base_V1_Vehicle_Year)++(List_Vehicle_DB_Make<>_Base_V1_Vehicle_Make),0))","v":{"$error":"#N/A"}},{"$f":"INDEX(List_Vehicle_DB_Drivetrain,MATCH(0,COUNTIF(E$2:$E19,List_Vehicle_DB_Drivetrain),0))","v":{"$error":"#N/A"}},{"$f":"INDEX(List_Vehicle_DB_Year,MATCH(0,COUNTIF($F$2:F19,List_Vehicle_DB_Year)+(List_Vehicle_DB_Drivetrain<>_Comp_V1_Vehicle_Drivetrain),0))","v":{"$error":"#N/A"}},{"$f":"INDEX(List_Vehicle_DB_Make,MATCH(0,COUNTIF($G$2:G19,List_Vehicle_DB_Make)+(List_Vehicle_DB_Drivetrain<>_Comp_V1_Vehicle_Drivetrain)+(List_Vehicle_DB_Year<>_Comp_V1_Vehicle_Year),0))","v":{"$error":"#N/A"}},{"$f":"INDEX(List_Vehicle_DB_Model,MATCH(0,COUNTIF($H$2:H19,List_Vehicle_DB_Model)+(List_Vehicle_DB_Drivetrain<>_Comp_V1_Vehicle_Drivetrain)+(List_Vehicle_DB_Year<>_Comp_V1_Vehicle_Year)+(List_Vehicle_DB_Make<>_Comp_V1_Vehicle_Make),0))","v":{"$error":"#N/A"}}]
[{"$f":"INDEX(List_Vehicle_DB_Drivetrain,MATCH(0,COUNTIF($A$2:A20,List_Vehicle_DB_Drivetrain),0))","v":{"$error":"#N/A"}},{"$f":"INDEX(List_Vehicle_DB_Year,MATCH(0,COUNTIF($B$2:B20,List_Vehicle_DB_Year)+(List_Vehicle_DB_Drivetrain<>_Base_V1_Vehicle_Drivetrain),0))","v":{"$error":"#N/A"}},{"$f":"INDEX(List_Vehicle_DB_Make,MATCH(0,COUNTIF(C$2:$C20,List_Vehicle_DB_Make)+(List_Vehicle_DB_Drivetrain<>_Base_V1_Vehicle_Drivetrain)+(List_Vehicle_DB_Year<>_Base_V1_Vehicle_Year),0))","v":{"$error":"#N/A"}},{"$f":"INDEX(List_Vehicle_DB_Model,MATCH(0,COUNTIF(D$2:$D20,List_Vehicle_DB_Model)+(List_Vehicle_DB_Drivetrain<>_Base_V1_Vehicle_Drivetrain)+(List_Vehicle_DB_Year<>_Base_V1_Vehicle_Year)++(List_Vehicle_DB_Make<>_Base_V1_Vehicle_Make),0))","v":{"$error":"#N/A"}},{"$f":"INDEX(List_Vehicle_DB_Drivetrain,MATCH(0,COUNTIF(E$2:$E20,List_Vehicle_DB_Drivetrain),0))","v":{"$error":"#N/A"}},{"$f":"INDEX(List_Vehicle_DB_Year,MATCH(0,COUNTIF($F$2:F20,List_Vehicle_DB_Year)+(List_Vehicle_DB_Drivetrain<>_Comp_V1_Vehicle_Drivetrain),0))","v":{"$error":"#N/A"}},{"$f":"INDEX(List_Vehicle_DB_Make,MATCH(0,COUNTIF($G$2:G20,List_Vehicle_DB_Make)+(List_Vehicle_DB_Drivetrain<>_Comp_V1_Vehicle_Drivetrain)+(List_Vehicle_DB_Year<>_Comp_V1_Vehicle_Year),0))","v":{"$error":"#N/A"}},{"$f":"INDEX(List_Vehicle_DB_Model,MATCH(0,COUNTIF($H$2:H20,List_Vehicle_DB_Model)+(List_Vehicle_DB_Drivetrain<>_Comp_V1_Vehicle_Drivetrain)+(List_Vehicle_DB_Year<>_Comp_V1_Vehicle_Year)+(List_Vehicle_DB_Make<>_Comp_V1_Vehicle_Make),0))","v":{"$error":"#N/A"}}]
[{"$f":"INDEX(List_Vehicle_DB_Drivetrain,MATCH(0,COUNTIF($A$2:A21,List_Vehicle_DB_Drivetrain),0))","v":{"$error":"#N/A"}},{"$f":"INDEX(List_Vehicle_DB_Year,MATCH(0,COUNTIF($B$2:B21,List_Vehicle_DB_Year)+(List_Vehicle_DB_Drivetrain<>_Base_V1_Vehicle_Drivetrain),0))","v":{"$error":"#N/A"}},{"$f":"INDEX(List_Vehicle_DB_Make,MATCH(0,COUNTIF(C$2:$C21,List_Vehicle_DB_Make)+(List_Vehicle_DB_Drivetrain<>_Base_V1_Vehicle_Drivetrain)+(List_Vehicle_DB_Year<>_Base_V1_Vehicle_Year),0))","v":{"$error":"#N/A"}},{"$f":"INDEX(List_Vehicle_DB_Model,MATCH(0,COUNTIF(D$2:$D21,List_Vehicle_DB_Model)+(List_Vehicle_DB_Drivetrain<>_Base_V1_Vehicle_Drivetrain)+(List_Vehicle_DB_Year<>_Base_V1_Vehicle_Year)++(List_Vehicle_DB_Make<>_Base_V1_Vehicle_Make),0))","v":{"$error":"#N/A"}},{"$f":"INDEX(List_Vehicle_DB_Drivetrain,MATCH(0,COUNTIF(E$2:$E21,List_Vehicle_DB_Drivetrain),0))","v":{"$error":"#N/A"}},{"$f":"INDEX(List_Vehicle_DB_Year,MATCH(0,COUNTIF($F$2:F21,List_Vehicle_DB_Year)+(List_Vehicle_DB_Drivetrain<>_Comp_V1_Vehicle_Drivetrain),0))","v":{"$error":"#N/A"}},{"$f":"INDEX(List_Vehicle_DB_Make,MATCH(0,COUNTIF($G$2:G21,List_Vehicle_DB_Make)+(List_Vehicle_DB_Drivetrain<>_Comp_V1_Vehicle_Drivetrain)+(List_Vehicle_DB_Year<>_Comp_V1_Vehicle_Year),0))","v":{"$error":"#N/A"}},{"$f":"INDEX(List_Vehicle_DB_Model,MATCH(0,COUNTIF($H$2:H21,List_Vehicle_DB_Model)+(List_Vehicle_DB_Drivetrain<>_Comp_V1_Vehicle_Drivetrain)+(List_Vehicle_DB_Year<>_Comp_V1_Vehicle_Year)+(List_Vehicle_DB_Make<>_Comp_V1_Vehicle_Make),0))","v":{"$error":"#N/A"}}]
[{"$f":"INDEX(List_Vehicle_DB_Drivetrain,MATCH(0,COUNTIF($A$2:A22,List_Vehicle_DB_Drivetrain),0))","v":{"$error":"#N/A"}},{"$f":"INDEX(List_Vehicle_DB_Year,MATCH(0,COUNTIF($B$2:B22,List_Vehicle_DB_Year)+(List_Vehicle_DB_Drivetrain<>_Base_V1_Vehicle_Drivetrain),0))","v":{"$error":"#N/A"}},{"$f":"INDEX(List_Vehicle_DB_Make,MATCH(0,COUNTIF(C$2:$C22,List_Vehicle_DB_Make)+(List_Vehicle_DB_Drivetrain<>_Base_V1_Vehicle_Drivetrain)+(List_Vehicle_DB_Year<>_Base_V1_Vehicle_Year),0))","v":{"$error":"#N/A"}},{"$f":"INDEX(List_Vehicle_DB_Model,MATCH(0,COUNTIF(D$2:$D22,List_Vehicle_DB_Model)+(List_Vehicle_DB_Drivetrain<>_Base_V1_Vehicle_Drivetrain)+(List_Vehicle_DB_Year<>_Base_V1_Vehicle_Year)++(List_Vehicle_DB_Make<>_Base_V1_Vehicle_Make),0))","v":{"$error":"#N/A"}},{"$f":"INDEX(List_Vehicle_DB_Drivetrain,MATCH(0,COUNTIF(E$2:$E22,List_Vehicle_DB_Drivetrain),0))","v":{"$error":"#N/A"}},{"$f":"INDEX(List_Vehicle_DB_Year,MATCH(0,COUNTIF($F$2:F22,List_Vehicle_DB_Year)+(List_Vehicle_DB_Drivetrain<>_Comp_V1_Vehicle_Drivetrain),0))","v":{"$error":"#N/A"}},{"$f":"INDEX(List_Vehicle_DB_Make,MATCH(0,COUNTIF($G$2:G22,List_Vehicle_DB_Make)+(List_Vehicle_DB_Drivetrain<>_Comp_V1_Vehicle_Drivetrain)+(List_Vehicle_DB_Year<>_Comp_V1_Vehicle_Year),0))","v":{"$error":"#N/A"}},{"$f":"INDEX(List_Vehicle_DB_Model,MATCH(0,COUNTIF($H$2:H22,List_Vehicle_DB_Model)+(List_Vehicle_DB_Drivetrain<>_Comp_V1_Vehicle_Drivetrain)+(List_Vehicle_DB_Year<>_Comp_V1_Vehicle_Year)+(List_Vehicle_DB_Make<>_Comp_V1_Vehicle_Make),0))","v":{"$error":"#N/A"}}]
[{"$f":"INDEX(List_Vehicle_DB_Drivetrain,MATCH(0,COUNTIF($A$2:A23,List_Vehicle_DB_Drivetrain),0))","v":{"$error":"#N/A"}},{"$f":"INDEX(List_Vehicle_DB_Year,MATCH(0,COUNTIF($B$2:B23,List_Vehicle_DB_Year)+(List_Vehicle_DB_Drivetrain<>_Base_V1_Vehicle_Drivetrain),0))","v":{"$error":"#N/A"}},{"$f":"INDEX(List_Vehicle_DB_Make,MATCH(0,COUNTIF(C$2:$C23,List_Vehicle_DB_Make)+(List_Vehicle_DB_Drivetrain<>_Base_V1_Vehicle_Drivetrain)+(List_Vehicle_DB_Year<>_Base_V1_Vehicle_Year),0))","v":{"$error":"#N/A"}},{"$f":"INDEX(List_Vehicle_DB_Model,MATCH(0,COUNTIF(D$2:$D23,List_Vehicle_DB_Model)+(List_Vehicle_DB_Drivetrain<>_Base_V1_Vehicle_Drivetrain)+(List_Vehicle_DB_Year<>_Base_V1_Vehicle_Year)++(List_Vehicle_DB_Make<>_Base_V1_Vehicle_Make),0))","v":{"$error":"#N/A"}},{"$f":"INDEX(List_Vehicle_DB_Drivetrain,MATCH(0,COUNTIF(E$2:$E23,List_Vehicle_DB_Drivetrain),0))","v":{"$error":"#N/A"}},{"$f":"INDEX(List_Vehicle_DB_Year,MATCH(0,COUNTIF($F$2:F23,List_Vehicle_DB_Year)+(List_Vehicle_DB_Drivetrain<>_Comp_V1_Vehicle_Drivetrain),0))","v":{"$error":"#N/A"}},{"$f":"INDEX(List_Vehicle_DB_Make,MATCH(0,COUNTIF($G$2:G23,List_Vehicle_DB_Make)+(List_Vehicle_DB_Drivetrain<>_Comp_V1_Vehicle_Drivetrain)+(List_Vehicle_DB_Year<>_Comp_V1_Vehicle_Year),0))","v":{"$error":"#N/A"}},{"$f":"INDEX(List_Vehicle_DB_Model,MATCH(0,COUNTIF($H$2:H23,List_Vehicle_DB_Model)+(List_Vehicle_DB_Drivetrain<>_Comp_V1_Vehicle_Drivetrain)+(List_Vehicle_DB_Year<>_Comp_V1_Vehicle_Year)+(List_Vehicle_DB_Make<>_Comp_V1_Vehicle_Make),0))","v":{"$error":"#N/A"}}]
[{"$f":"INDEX(List_Vehicle_DB_Drivetrain,MATCH(0,COUNTIF($A$2:A24,List_Vehicle_DB_Drivetrain),0))","v":{"$error":"#N/A"}},{"$f":"INDEX(List_Vehicle_DB_Year,MATCH(0,COUNTIF($B$2:B24,List_Vehicle_DB_Year)+(List_Vehicle_DB_Drivetrain<>_Base_V1_Vehicle_Drivetrain),0))","v":{"$error":"#N/A"}},{"$f":"INDEX(List_Vehicle_DB_Make,MATCH(0,COUNTIF(C$2:$C24,List_Vehicle_DB_Make)+(List_Vehicle_DB_Drivetrain<>_Base_V1_Vehicle_Drivetrain)+(List_Vehicle_DB_Year<>_Base_V1_Vehicle_Year),0))","v":{"$error":"#N/A"}},{"$f":"INDEX(List_Vehicle_DB_Model,MATCH(0,COUNTIF(D$2:$D24,List_Vehicle_DB_Model)+(List_Vehicle_DB_Drivetrain<>_Base_V1_Vehicle_Drivetrain)+(List_Vehicle_DB_Year<>_Base_V1_Vehicle_Year)++(List_Vehicle_DB_Make<>_Base_V1_Vehicle_Make),0))","v":{"$error":"#N/A"}},{"$f":"INDEX(List_Vehicle_DB_Drivetrain,MATCH(0,COUNTIF(E$2:$E24,List_Vehicle_DB_Drivetrain),0))","v":{"$error":"#N/A"}},{"$f":"INDEX(List_Vehicle_DB_Year,MATCH(0,COUNTIF($F$2:F24,List_Vehicle_DB_Year)+(List_Vehicle_DB_Drivetrain<>_Comp_V1_Vehicle_Drivetrain),0))","v":{"$error":"#N/A"}},{"$f":"INDEX(List_Vehicle_DB_Make,MATCH(0,COUNTIF($G$2:G24,List_Vehicle_DB_Make)+(List_Vehicle_DB_Drivetrain<>_Comp_V1_Vehicle_Drivetrain)+(List_Vehicle_DB_Year<>_Comp_V1_Vehicle_Year),0))","v":{"$error":"#N/A"}},{"$f":"INDEX(List_Vehicle_DB_Model,MATCH(0,COUNTIF($H$2:H24,List_Vehicle_DB_Model)+(List_Vehicle_DB_Drivetrain<>_Comp_V1_Vehicle_Drivetrain)+(List_Vehicle_DB_Year<>_Comp_V1_Vehicle_Year)+(List_Vehicle_DB_Make<>_Comp_V1_Vehicle_Make),0))","v":{"$error":"#N/A"}}]
[{"$f":"INDEX(List_Vehicle_DB_Drivetrain,MATCH(0,COUNTIF($A$2:A25,List_Vehicle_DB_Drivetrain),0))","v":{"$error":"#N/A"}},{"$f":"INDEX(List_Vehicle_DB_Year,MATCH(0,COUNTIF($B$2:B25,List_Vehicle_DB_Year)+(List_Vehicle_DB_Drivetrain<>_Base_V1_Vehicle_Drivetrain),0))","v":{"$error":"#N/A"}},{"$f":"INDEX(List_Vehicle_DB_Make,MATCH(0,COUNTIF(C$2:$C25,List_Vehicle_DB_Make)+(List_Vehicle_DB_Drivetrain<>_Base_V1_Vehicle_Drivetrain)+(List_Vehicle_DB_Year<>_Base_V1_Vehicle_Year),0))","v":{"$error":"#N/A"}},{"$f":"INDEX(List_Vehicle_DB_Model,MATCH(0,COUNTIF(D$2:$D25,List_Vehicle_DB_Model)+(List_Vehicle_DB_Drivetrain<>_Base_V1_Vehicle_Drivetrain)+(List_Vehicle_DB_Year<>_Base_V1_Vehicle_Year)++(List_Vehicle_DB_Make<>_Base_V1_Vehicle_Make),0))","v":{"$error":"#N/A"}},{"$f":"INDEX(List_Vehicle_DB_Drivetrain,MATCH(0,COUNTIF(E$2:$E25,List_Vehicle_DB_Drivetrain),0))","v":{"$error":"#N/A"}},{"$f":"INDEX(List_Vehicle_DB_Year,MATCH(0,COUNTIF($F$2:F25,List_Vehicle_DB_Year)+(List_Vehicle_DB_Drivetrain<>_Comp_V1_Vehicle_Drivetrain),0))","v":{"$error":"#N/A"}},{"$f":"INDEX(List_Vehicle_DB_Make,MATCH(0,COUNTIF($G$2:G25,List_Vehicle_DB_Make)+(List_Vehicle_DB_Drivetrain<>_Comp_V1_Vehicle_Drivetrain)+(List_Vehicle_DB_Year<>_Comp_V1_Vehicle_Year),0))","v":{"$error":"#N/A"}},{"$f":"INDEX(List_Vehicle_DB_Model,MATCH(0,COUNTIF($H$2:H25,List_Vehicle_DB_Model)+(List_Vehicle_DB_Drivetrain<>_Comp_V1_Vehicle_Drivetrain)+(List_Vehicle_DB_Year<>_Comp_V1_Vehicle_Year)+(List_Vehicle_DB_Make<>_Comp_V1_Vehicle_Make),0))","v":{"$error":"#N/A"}}]
[{"$f":"INDEX(List_Vehicle_DB_Drivetrain,MATCH(0,COUNTIF($A$2:A26,List_Vehicle_DB_Drivetrain),0))","v":{"$error":"#N/A"}},{"$f":"INDEX(List_Vehicle_DB_Year,MATCH(0,COUNTIF($B$2:B26,List_Vehicle_DB_Year)+(List_Vehicle_DB_Drivetrain<>_Base_V1_Vehicle_Drivetrain),0))","v":{"$error":"#N/A"}},{"$f":"INDEX(List_Vehicle_DB_Make,MATCH(0,COUNTIF(C$2:$C26,List_Vehicle_DB_Make)+(List_Vehicle_DB_Drivetrain<>_Base_V1_Vehicle_Drivetrain)+(List_Vehicle_DB_Year<>_Base_V1_Vehicle_Year),0))","v":{"$error":"#N/A"}},{"$f":"INDEX(List_Vehicle_DB_Model,MATCH(0,COUNTIF(D$2:$D26,List_Vehicle_DB_Model)+(List_Vehicle_DB_Drivetrain<>_Base_V1_Vehicle_Drivetrain)+(List_Vehicle_DB_Year<>_Base_V1_Vehicle_Year)++(List_Vehicle_DB_Make<>_Base_V1_Vehicle_Make),0))","v":{"$error":"#N/A"}},{"$f":"INDEX(List_Vehicle_DB_Drivetrain,MATCH(0,COUNTIF(E$2:$E26,List_Vehicle_DB_Drivetrain),0))","v":{"$error":"#N/A"}},{"$f":"INDEX(List_Vehicle_DB_Year,MATCH(0,COUNTIF($F$2:F26,List_Vehicle_DB_Year)+(List_Vehicle_DB_Drivetrain<>_Comp_V1_Vehicle_Drivetrain),0))","v":{"$error":"#N/A"}},{"$f":"INDEX(List_Vehicle_DB_Make,MATCH(0,COUNTIF($G$2:G26,List_Vehicle_DB_Make)+(List_Vehicle_DB_Drivetrain<>_Comp_V1_Vehicle_Drivetrain)+(List_Vehicle_DB_Year<>_Comp_V1_Vehicle_Year),0))","v":{"$error":"#N/A"}},{"$f":"INDEX(List_Vehicle_DB_Model,MATCH(0,COUNTIF($H$2:H26,List_Vehicle_DB_Model)+(List_Vehicle_DB_Drivetrain<>_Comp_V1_Vehicle_Drivetrain)+(List_Vehicle_DB_Year<>_Comp_V1_Vehicle_Year)+(List_Vehicle_DB_Make<>_Comp_V1_Vehicle_Make),0))","v":{"$error":"#N/A"}}]
[{"$f":"INDEX(List_Vehicle_DB_Drivetrain,MATCH(0,COUNTIF($A$2:A27,List_Vehicle_DB_Drivetrain),0))","v":{"$error":"#N/A"}},{"$f":"INDEX(List_Vehicle_DB_Year,MATCH(0,COUNTIF($B$2:B27,List_Vehicle_DB_Year)+(List_Vehicle_DB_Drivetrain<>_Base_V1_Vehicle_Drivetrain),0))","v":{"$error":"#N/A"}},{"$f":"INDEX(List_Vehicle_DB_Make,MATCH(0,COUNTIF(C$2:$C27,List_Vehicle_DB_Make)+(List_Vehicle_DB_Drivetrain<>_Base_V1_Vehicle_Drivetrain)+(List_Vehicle_DB_Year<>_Base_V1_Vehicle_Year),0))","v":{"$error":"#N/A"}},{"$f":"INDEX(List_Vehicle_DB_Model,MATCH(0,COUNTIF(D$2:$D27,List_Vehicle_DB_Model)+(List_Vehicle_DB_Drivetrain<>_Base_V1_Vehicle_Drivetrain)+(List_Vehicle_DB_Year<>_Base_V1_Vehicle_Year)++(List_Vehicle_DB_Make<>_Base_V1_Vehicle_Make),0))","v":{"$error":"#N/A"}},{"$f":"INDEX(List_Vehicle_DB_Drivetrain,MATCH(0,COUNTIF(E$2:$E27,List_Vehicle_DB_Drivetrain),0))","v":{"$error":"#N/A"}},{"$f":"INDEX(List_Vehicle_DB_Year,MATCH(0,COUNTIF($F$2:F27,List_Vehicle_DB_Year)+(List_Vehicle_DB_Drivetrain<>_Comp_V1_Vehicle_Drivetrain),0))","v":{"$error":"#N/A"}},{"$f":"INDEX(List_Vehicle_DB_Make,MATCH(0,COUNTIF($G$2:G27,List_Vehicle_DB_Make)+(List_Vehicle_DB_Drivetrain<>_Comp_V1_Vehicle_Drivetrain)+(List_Vehicle_DB_Year<>_Comp_V1_Vehicle_Year),0))","v":{"$error":"#N/A"}},{"$f":"INDEX(List_Vehicle_DB_Model,MATCH(0,COUNTIF($H$2:H27,List_Vehicle_DB_Model)+(List_Vehicle_DB_Drivetrain<>_Comp_V1_Vehicle_Drivetrain)+(List_Vehicle_DB_Year<>_Comp_V1_Vehicle_Year)+(List_Vehicle_DB_Make<>_Comp_V1_Vehicle_Make),0))","v":{"$error":"#N/A"}}]
[{"$f":"INDEX(List_Vehicle_DB_Drivetrain,MATCH(0,COUNTIF($A$2:A28,List_Vehicle_DB_Drivetrain),0))","v":{"$error":"#N/A"}},{"$f":"INDEX(List_Vehicle_DB_Year,MATCH(0,COUNTIF($B$2:B28,List_Vehicle_DB_Year)+(List_Vehicle_DB_Drivetrain<>_Base_V1_Vehicle_Drivetrain),0))","v":{"$error":"#N/A"}},{"$f":"INDEX(List_Vehicle_DB_Make,MATCH(0,COUNTIF(C$2:$C28,List_Vehicle_DB_Make)+(List_Vehicle_DB_Drivetrain<>_Base_V1_Vehicle_Drivetrain)+(List_Vehicle_DB_Year<>_Base_V1_Vehicle_Year),0))","v":{"$error":"#N/A"}},{"$f":"INDEX(List_Vehicle_DB_Model,MATCH(0,COUNTIF(D$2:$D28,List_Vehicle_DB_Model)+(List_Vehicle_DB_Drivetrain<>_Base_V1_Vehicle_Drivetrain)+(List_Vehicle_DB_Year<>_Base_V1_Vehicle_Year)++(List_Vehicle_DB_Make<>_Base_V1_Vehicle_Make),0))","v":{"$error":"#N/A"}},{"$f":"INDEX(List_Vehicle_DB_Drivetrain,MATCH(0,COUNTIF(E$2:$E28,List_Vehicle_DB_Drivetrain),0))","v":{"$error":"#N/A"}},{"$f":"INDEX(List_Vehicle_DB_Year,MATCH(0,COUNTIF($F$2:F28,List_Vehicle_DB_Year)+(List_Vehicle_DB_Drivetrain<>_Comp_V1_Vehicle_Drivetrain),0))","v":{"$error":"#N/A"}},{"$f":"INDEX(List_Vehicle_DB_Make,MATCH(0,COUNTIF($G$2:G28,List_Vehicle_DB_Make)+(List_Vehicle_DB_Drivetrain<>_Comp_V1_Vehicle_Drivetrain)+(List_Vehicle_DB_Year<>_Comp_V1_Vehicle_Year),0))","v":{"$error":"#N/A"}},{"$f":"INDEX(List_Vehicle_DB_Model,MATCH(0,COUNTIF($H$2:H28,List_Vehicle_DB_Model)+(List_Vehicle_DB_Drivetrain<>_Comp_V1_Vehicle_Drivetrain)+(List_Vehicle_DB_Year<>_Comp_V1_Vehicle_Year)+(List_Vehicle_DB_Make<>_Comp_V1_Vehicle_Make),0))","v":{"$error":"#N/A"}}]
[{"$f":"INDEX(List_Vehicle_DB_Drivetrain,MATCH(0,COUNTIF($A$2:A29,List_Vehicle_DB_Drivetrain),0))","v":{"$error":"#N/A"}},{"$f":"INDEX(List_Vehicle_DB_Year,MATCH(0,COUNTIF($B$2:B29,List_Vehicle_DB_Year)+(List_Vehicle_DB_Drivetrain<>_Base_V1_Vehicle_Drivetrain),0))","v":{"$error":"#N/A"}},{"$f":"INDEX(List_Vehicle_DB_Make,MATCH(0,COUNTIF(C$2:$C29,List_Vehicle_DB_Make)+(List_Vehicle_DB_Drivetrain<>_Base_V1_Vehicle_Drivetrain)+(List_Vehicle_DB_Year<>_Base_V1_Vehicle_Year),0))","v":{"$error":"#N/A"}},{"$f":"INDEX(List_Vehicle_DB_Model,MATCH(0,COUNTIF(D$2:$D29,List_Vehicle_DB_Model)+(List_Vehicle_DB_Drivetrain<>_Base_V1_Vehicle_Drivetrain)+(List_Vehicle_DB_Year<>_Base_V1_Vehicle_Year)++(List_Vehicle_DB_Make<>_Base_V1_Vehicle_Make),0))","v":{"$error":"#N/A"}},{"$f":"INDEX(List_Vehicle_DB_Drivetrain,MATCH(0,COUNTIF(E$2:$E29,List_Vehicle_DB_Drivetrain),0))","v":{"$error":"#N/A"}},{"$f":"INDEX(List_Vehicle_DB_Year,MATCH(0,COUNTIF($F$2:F29,List_Vehicle_DB_Year)+(List_Vehicle_DB_Drivetrain<>_Comp_V1_Vehicle_Drivetrain),0))","v":{"$error":"#N/A"}},{"$f":"INDEX(List_Vehicle_DB_Make,MATCH(0,COUNTIF($G$2:G29,List_Vehicle_DB_Make)+(List_Vehicle_DB_Drivetrain<>_Comp_V1_Vehicle_Drivetrain)+(List_Vehicle_DB_Year<>_Comp_V1_Vehicle_Year),0))","v":{"$error":"#N/A"}},{"$f":"INDEX(List_Vehicle_DB_Model,MATCH(0,COUNTIF($H$2:H29,List_Vehicle_DB_Model)+(List_Vehicle_DB_Drivetrain<>_Comp_V1_Vehicle_Drivetrain)+(List_Vehicle_DB_Year<>_Comp_V1_Vehicle_Year)+(List_Vehicle_DB_Make<>_Comp_V1_Vehicle_Make),0))","v":{"$error":"#N/A"}}]
[{"$f":"INDEX(List_Vehicle_DB_Drivetrain,MATCH(0,COUNTIF($A$2:A30,List_Vehicle_DB_Drivetrain),0))","v":{"$error":"#N/A"}},{"$f":"INDEX(List_Vehicle_DB_Year,MATCH(0,COUNTIF($B$2:B30,List_Vehicle_DB_Year)+(List_Vehicle_DB_Drivetrain<>_Base_V1_Vehicle_Drivetrain),0))","v":{"$error":"#N/A"}},{"$f":"INDEX(List_Vehicle_DB_Make,MATCH(0,COUNTIF(C$2:$C30,List_Vehicle_DB_Make)+(List_Vehicle_DB_Drivetrain<>_Base_V1_Vehicle_Drivetrain)+(List_Vehicle_DB_Year<>_Base_V1_Vehicle_Year),0))","v":{"$error":"#N/A"}},{"$f":"INDEX(List_Vehicle_DB_Model,MATCH(0,COUNTIF(D$2:$D30,List_Vehicle_DB_Model)+(List_Vehicle_DB_Drivetrain<>_Base_V1_Vehicle_Drivetrain)+(List_Vehicle_DB_Year<>_Base_V1_Vehicle_Year)++(List_Vehicle_DB_Make<>_Base_V1_Vehicle_Make),0))","v":{"$error":"#N/A"}},{"$f":"INDEX(List_Vehicle_DB_Drivetrain,MATCH(0,COUNTIF(E$2:$E30,List_Vehicle_DB_Drivetrain),0))","v":{"$error":"#N/A"}},{"$f":"INDEX(List_Vehicle_DB_Year,MATCH(0,COUNTIF($F$2:F30,List_Vehicle_DB_Year)+(List_Vehicle_DB_Drivetrain<>_Comp_V1_Vehicle_Drivetrain),0))","v":{"$error":"#N/A"}},{"$f":"INDEX(List_Vehicle_DB_Make,MATCH(0,COUNTIF($G$2:G30,List_Vehicle_DB_Make)+(List_Vehicle_DB_Drivetrain<>_Comp_V1_Vehicle_Drivetrain)+(List_Vehicle_DB_Year<>_Comp_V1_Vehicle_Year),0))","v":{"$error":"#N/A"}},{"$f":"INDEX(List_Vehicle_DB_Model,MATCH(0,COUNTIF($H$2:H30,List_Vehicle_DB_Model)+(List_Vehicle_DB_Drivetrain<>_Comp_V1_Vehicle_Drivetrain)+(List_Vehicle_DB_Year<>_Comp_V1_Vehicle_Year)+(List_Vehicle_DB_Make<>_Comp_V1_Vehicle_Make),0))","v":{"$error":"#N/A"}}]
[{"$f":"INDEX(List_Vehicle_DB_Drivetrain,MATCH(0,COUNTIF($A$2:A31,List_Vehicle_DB_Drivetrain),0))","v":{"$error":"#N/A"}},{"$f":"INDEX(List_Vehicle_DB_Year,MATCH(0,COUNTIF($B$2:B31,List_Vehicle_DB_Year)+(List_Vehicle_DB_Drivetrain<>_Base_V1_Vehicle_Drivetrain),0))","v":{"$error":"#N/A"}},{"$f":"INDEX(List_Vehicle_DB_Make,MATCH(0,COUNTIF(C$2:$C31,List_Vehicle_DB_Make)+(List_Vehicle_DB_Drivetrain<>_Base_V1_Vehicle_Drivetrain)+(List_Vehicle_DB_Year<>_Base_V1_Vehicle_Year),0))","v":{"$error":"#N/A"}},{"$f":"INDEX(List_Vehicle_DB_Model,MATCH(0,COUNTIF(D$2:$D31,List_Vehicle_DB_Model)+(List_Vehicle_DB_Drivetrain<>_Base_V1_Vehicle_Drivetrain)+(List_Vehicle_DB_Year<>_Base_V1_Vehicle_Year)++(List_Vehicle_DB_Make<>_Base_V1_Vehicle_Make),0))","v":{"$error":"#N/A"}},{"$f":"INDEX(List_Vehicle_DB_Drivetrain,MATCH(0,COUNTIF(E$2:$E31,List_Vehicle_DB_Drivetrain),0))","v":{"$error":"#N/A"}},{"$f":"INDEX(List_Vehicle_DB_Year,MATCH(0,COUNTIF($F$2:F31,List_Vehicle_DB_Year)+(List_Vehicle_DB_Drivetrain<>_Comp_V1_Vehicle_Drivetrain),0))","v":{"$error":"#N/A"}},{"$f":"INDEX(List_Vehicle_DB_Make,MATCH(0,COUNTIF($G$2:G31,List_Vehicle_DB_Make)+(List_Vehicle_DB_Drivetrain<>_Comp_V1_Vehicle_Drivetrain)+(List_Vehicle_DB_Year<>_Comp_V1_Vehicle_Year),0))","v":{"$error":"#N/A"}},{"$f":"INDEX(List_Vehicle_DB_Model,MATCH(0,COUNTIF($H$2:H31,List_Vehicle_DB_Model)+(List_Vehicle_DB_Drivetrain<>_Comp_V1_Vehicle_Drivetrain)+(List_Vehicle_DB_Year<>_Comp_V1_Vehicle_Year)+(List_Vehicle_DB_Make<>_Comp_V1_Vehicle_Make),0))","v":{"$error":"#N/A"}}]
[{"$f":"INDEX(List_Vehicle_DB_Drivetrain,MATCH(0,COUNTIF($A$2:A32,List_Vehicle_DB_Drivetrain),0))","v":{"$error":"#N/A"}},{"$f":"INDEX(List_Vehicle_DB_Year,MATCH(0,COUNTIF($B$2:B32,List_Vehicle_DB_Year)+(List_Vehicle_DB_Drivetrain<>_Base_V1_Vehicle_Drivetrain),0))","v":{"$error":"#N/A"}},{"$f":"INDEX(List_Vehicle_DB_Make,MATCH(0,COUNTIF(C$2:$C32,List_Vehicle_DB_Make)+(List_Vehicle_DB_Drivetrain<>_Base_V1_Vehicle_Drivetrain)+(List_Vehicle_DB_Year<>_Base_V1_Vehicle_Year),0))","v":{"$error":"#N/A"}},{"$f":"INDEX(List_Vehicle_DB_Model,MATCH(0,COUNTIF(D$2:$D32,List_Vehicle_DB_Model)+(List_Vehicle_DB_Drivetrain<>_Base_V1_Vehicle_Drivetrain)+(List_Vehicle_DB_Year<>_Base_V1_Vehicle_Year)++(List_Vehicle_DB_Make<>_Base_V1_Vehicle_Make),0))","v":{"$error":"#N/A"}},{"$f":"INDEX(List_Vehicle_DB_Drivetrain,MATCH(0,COUNTIF(E$2:$E32,List_Vehicle_DB_Drivetrain),0))","v":{"$error":"#N/A"}},{"$f":"INDEX(List_Vehicle_DB_Year,MATCH(0,COUNTIF($F$2:F32,List_Vehicle_DB_Year)+(List_Vehicle_DB_Drivetrain<>_Comp_V1_Vehicle_Drivetrain),0))","v":{"$error":"#N/A"}},{"$f":"INDEX(List_Vehicle_DB_Make,MATCH(0,COUNTIF($G$2:G32,List_Vehicle_DB_Make)+(List_Vehicle_DB_Drivetrain<>_Comp_V1_Vehicle_Drivetrain)+(List_Vehicle_DB_Year<>_Comp_V1_Vehicle_Year),0))","v":{"$error":"#N/A"}},{"$f":"INDEX(List_Vehicle_DB_Model,MATCH(0,COUNTIF($H$2:H32,List_Vehicle_DB_Model)+(List_Vehicle_DB_Drivetrain<>_Comp_V1_Vehicle_Drivetrain)+(List_Vehicle_DB_Year<>_Comp_V1_Vehicle_Year)+(List_Vehicle_DB_Make<>_Comp_V1_Vehicle_Make),0))","v":{"$error":"#N/A"}}]
[{"$f":"INDEX(List_Vehicle_DB_Drivetrain,MATCH(0,COUNTIF($A$2:A33,List_Vehicle_DB_Drivetrain),0))","v":{"$error":"#N/A"}},{"$f":"INDEX(List_Vehicle_DB_Year,MATCH(0,COUNTIF($B$2:B33,List_Vehicle_DB_Year)+(List_Vehicle_DB_Drivetrain<>_Base_V1_Vehicle_Drivetrain),0))","v":{"$error":"#N/A"}},{"$f":"INDEX(List_Vehicle_DB_Make,MATCH(0,COUNTIF(C$2:$C33,List_Vehicle_DB_Make)+(List_Vehicle_DB_Drivetrain<>_Base_V1_Vehicle_Drivetrain)+(List_Vehicle_DB_Year<>_Base_V1_Vehicle_Year),0))","v":{"$error":"#N/A"}},{"$f":"INDEX(List_Vehicle_DB_Model,MATCH(0,COUNTIF(D$2:$D33,List_Vehicle_DB_Model)+(List_Vehicle_DB_Drivetrain<>_Base_V1_Vehicle_Drivetrain)+(List_Vehicle_DB_Year<>_Base_V1_Vehicle_Year)++(List_Vehicle_DB_Make<>_Base_V1_Vehicle_Make),0))","v":{"$error":"#N/A"}},{"$f":"INDEX(List_Vehicle_DB_Drivetrain,MATCH(0,COUNTIF(E$2:$E33,List_Vehicle_DB_Drivetrain),0))","v":{"$error":"#N/A"}},{"$f":"INDEX(List_Vehicle_DB_Year,MATCH(0,COUNTIF($F$2:F33,List_Vehicle_DB_Year)+(List_Vehicle_DB_Drivetrain<>_Comp_V1_Vehicle_Drivetrain),0))","v":{"$error":"#N/A"}},{"$f":"INDEX(List_Vehicle_DB_Make,MATCH(0,COUNTIF($G$2:G33,List_Vehicle_DB_Make)+(List_Vehicle_DB_Drivetrain<>_Comp_V1_Vehicle_Drivetrain)+(List_Vehicle_DB_Year<>_Comp_V1_Vehicle_Year),0))","v":{"$error":"#N/A"}},{"$f":"INDEX(List_Vehicle_DB_Model,MATCH(0,COUNTIF($H$2:H33,List_Vehicle_DB_Model)+(List_Vehicle_DB_Drivetrain<>_Comp_V1_Vehicle_Drivetrain)+(List_Vehicle_DB_Year<>_Comp_V1_Vehicle_Year)+(List_Vehicle_DB_Make<>_Comp_V1_Vehicle_Make),0))","v":{"$error":"#N/A"}}]
[{"$f":"INDEX(List_Vehicle_DB_Drivetrain,MATCH(0,COUNTIF($A$2:A34,List_Vehicle_DB_Drivetrain),0))","v":{"$error":"#N/A"}},{"$f":"INDEX(List_Vehicle_DB_Year,MATCH(0,COUNTIF($B$2:B34,List_Vehicle_DB_Year)+(List_Vehicle_DB_Drivetrain<>_Base_V1_Vehicle_Drivetrain),0))","v":{"$error":"#N/A"}},{"$f":"INDEX(List_Vehicle_DB_Make,MATCH(0,COUNTIF(C$2:$C34,List_Vehicle_DB_Make)+(List_Vehicle_DB_Drivetrain<>_Base_V1_Vehicle_Drivetrain)+(List_Vehicle_DB_Year<>_Base_V1_Vehicle_Year),0))","v":{"$error":"#N/A"}},{"$f":"INDEX(List_Vehicle_DB_Model,MATCH(0,COUNTIF(D$2:$D34,List_Vehicle_DB_Model)+(List_Vehicle_DB_Drivetrain<>_Base_V1_Vehicle_Drivetrain)+(List_Vehicle_DB_Year<>_Base_V1_Vehicle_Year)++(List_Vehicle_DB_Make<>_Base_V1_Vehicle_Make),0))","v":{"$error":"#N/A"}},{"$f":"INDEX(List_Vehicle_DB_Drivetrain,MATCH(0,COUNTIF(E$2:$E34,List_Vehicle_DB_Drivetrain),0))","v":{"$error":"#N/A"}},{"$f":"INDEX(List_Vehicle_DB_Year,MATCH(0,COUNTIF($F$2:F34,List_Vehicle_DB_Year)+(List_Vehicle_DB_Drivetrain<>_Comp_V1_Vehicle_Drivetrain),0))","v":{"$error":"#N/A"}},{"$f":"INDEX(List_Vehicle_DB_Make,MATCH(0,COUNTIF($G$2:G34,List_Vehicle_DB_Make)+(List_Vehicle_DB_Drivetrain<>_Comp_V1_Vehicle_Drivetrain)+(List_Vehicle_DB_Year<>_Comp_V1_Vehicle_Year),0))","v":{"$error":"#N/A"}},{"$f":"INDEX(List_Vehicle_DB_Model,MATCH(0,COUNTIF($H$2:H34,List_Vehicle_DB_Model)+(List_Vehicle_DB_Drivetrain<>_Comp_V1_Vehicle_Drivetrain)+(List_Vehicle_DB_Year<>_Comp_V1_Vehicle_Year)+(List_Vehicle_DB_Make<>_Comp_V1_Vehicle_Make),0))","v":{"$error":"#N/A"}}]
[{"$f":"INDEX(List_Vehicle_DB_Drivetrain,MATCH(0,COUNTIF($A$2:A35,List_Vehicle_DB_Drivetrain),0))","v":{"$error":"#N/A"}},{"$f":"INDEX(List_Vehicle_DB_Year,MATCH(0,COUNTIF($B$2:B35,List_Vehicle_DB_Year)+(List_Vehicle_DB_Drivetrain<>_Base_V1_Vehicle_Drivetrain),0))","v":{"$error":"#N/A"}},{"$f":"INDEX(List_Vehicle_DB_Make,MATCH(0,COUNTIF(C$2:$C35,List_Vehicle_DB_Make)+(List_Vehicle_DB_Drivetrain<>_Base_V1_Vehicle_Drivetrain)+(List_Vehicle_DB_Year<>_Base_V1_Vehicle_Year),0))","v":{"$error":"#N/A"}},{"$f":"INDEX(List_Vehicle_DB_Model,MATCH(0,COUNTIF(D$2:$D35,List_Vehicle_DB_Model)+(List_Vehicle_DB_Drivetrain<>_Base_V1_Vehicle_Drivetrain)+(List_Vehicle_DB_Year<>_Base_V1_Vehicle_Year)++(List_Vehicle_DB_Make<>_Base_V1_Vehicle_Make),0))","v":{"$error":"#N/A"}},{"$f":"INDEX(List_Vehicle_DB_Drivetrain,MATCH(0,COUNTIF(E$2:$E35,List_Vehicle_DB_Drivetrain),0))","v":{"$error":"#N/A"}},{"$f":"INDEX(List_Vehicle_DB_Year,MATCH(0,COUNTIF($F$2:F35,List_Vehicle_DB_Year)+(List_Vehicle_DB_Drivetrain<>_Comp_V1_Vehicle_Drivetrain),0))","v":{"$error":"#N/A"}},{"$f":"INDEX(List_Vehicle_DB_Make,MATCH(0,COUNTIF($G$2:G35,List_Vehicle_DB_Make)+(List_Vehicle_DB_Drivetrain<>_Comp_V1_Vehicle_Drivetrain)+(List_Vehicle_DB_Year<>_Comp_V1_Vehicle_Year),0))","v":{"$error":"#N/A"}},{"$f":"INDEX(List_Vehicle_DB_Model,MATCH(0,COUNTIF($H$2:H35,List_Vehicle_DB_Model)+(List_Vehicle_DB_Drivetrain<>_Comp_V1_Vehicle_Drivetrain)+(List_Vehicle_DB_Year<>_Comp_V1_Vehicle_Year)+(List_Vehicle_DB_Make<>_Comp_V1_Vehicle_Make),0))","v":{"$error":"#N/A"}}]
[{"$f":"INDEX(List_Vehicle_DB_Drivetrain,MATCH(0,COUNTIF($A$2:A36,List_Vehicle_DB_Drivetrain),0))","v":{"$error":"#N/A"}},{"$f":"INDEX(List_Vehicle_DB_Year,MATCH(0,COUNTIF($B$2:B36,List_Vehicle_DB_Year)+(List_Vehicle_DB_Drivetrain<>_Base_V1_Vehicle_Drivetrain),0))","v":{"$error":"#N/A"}},{"$f":"INDEX(List_Vehicle_DB_Make,MATCH(0,COUNTIF(C$2:$C36,List_Vehicle_DB_Make)+(List_Vehicle_DB_Drivetrain<>_Base_V1_Vehicle_Drivetrain)+(List_Vehicle_DB_Year<>_Base_V1_Vehicle_Year),0))","v":{"$error":"#N/A"}},{"$f":"INDEX(List_Vehicle_DB_Model,MATCH(0,COUNTIF(D$2:$D36,List_Vehicle_DB_Model)+(List_Vehicle_DB_Drivetrain<>_Base_V1_Vehicle_Drivetrain)+(List_Vehicle_DB_Year<>_Base_V1_Vehicle_Year)++(List_Vehicle_DB_Make<>_Base_V1_Vehicle_Make),0))","v":{"$error":"#N/A"}},{"$f":"INDEX(List_Vehicle_DB_Drivetrain,MATCH(0,COUNTIF(E$2:$E36,List_Vehicle_DB_Drivetrain),0))","v":{"$error":"#N/A"}},{"$f":"INDEX(List_Vehicle_DB_Year,MATCH(0,COUNTIF($F$2:F36,List_Vehicle_DB_Year)+(List_Vehicle_DB_Drivetrain<>_Comp_V1_Vehicle_Drivetrain),0))","v":{"$error":"#N/A"}},{"$f":"INDEX(List_Vehicle_DB_Make,MATCH(0,COUNTIF($G$2:G36,List_Vehicle_DB_Make)+(List_Vehicle_DB_Drivetrain<>_Comp_V1_Vehicle_Drivetrain)+(List_Vehicle_DB_Year<>_Comp_V1_Vehicle_Year),0))","v":{"$error":"#N/A"}},{"$f":"INDEX(List_Vehicle_DB_Model,MATCH(0,COUNTIF($H$2:H36,List_Vehicle_DB_Model)+(List_Vehicle_DB_Drivetrain<>_Comp_V1_Vehicle_Drivetrain)+(List_Vehicle_DB_Year<>_Comp_V1_Vehicle_Year)+(List_Vehicle_DB_Make<>_Comp_V1_Vehicle_Make),0))","v":{"$error":"#N/A"}}]
[{"$f":"INDEX(List_Vehicle_DB_Drivetrain,MATCH(0,COUNTIF($A$2:A37,List_Vehicle_DB_Drivetrain),0))","v":{"$error":"#N/A"}},{"$f":"INDEX(List_Vehicle_DB_Year,MATCH(0,COUNTIF($B$2:B37,List_Vehicle_DB_Year)+(List_Vehicle_DB_Drivetrain<>_Base_V1_Vehicle_Drivetrain),0))","v":{"$error":"#N/A"}},{"$f":"INDEX(List_Vehicle_DB_Make,MATCH(0,COUNTIF(C$2:$C37,List_Vehicle_DB_Make)+(List_Vehicle_DB_Drivetrain<>_Base_V1_Vehicle_Drivetrain)+(List_Vehicle_DB_Year<>_Base_V1_Vehicle_Year),0))","v":{"$error":"#N/A"}},{"$f":"INDEX(List_Vehicle_DB_Model,MATCH(0,COUNTIF(D$2:$D37,List_Vehicle_DB_Model)+(List_Vehicle_DB_Drivetrain<>_Base_V1_Vehicle_Drivetrain)+(List_Vehicle_DB_Year<>_Base_V1_Vehicle_Year)++(List_Vehicle_DB_Make<>_Base_V1_Vehicle_Make),0))","v":{"$error":"#N/A"}},{"$f":"INDEX(List_Vehicle_DB_Drivetrain,MATCH(0,COUNTIF(E$2:$E37,List_Vehicle_DB_Drivetrain),0))","v":{"$error":"#N/A"}},{"$f":"INDEX(List_Vehicle_DB_Year,MATCH(0,COUNTIF($F$2:F37,List_Vehicle_DB_Year)+(List_Vehicle_DB_Drivetrain<>_Comp_V1_Vehicle_Drivetrain),0))","v":{"$error":"#N/A"}},{"$f":"INDEX(List_Vehicle_DB_Make,MATCH(0,COUNTIF($G$2:G37,List_Vehicle_DB_Make)+(List_Vehicle_DB_Drivetrain<>_Comp_V1_Vehicle_Drivetrain)+(List_Vehicle_DB_Year<>_Comp_V1_Vehicle_Year),0))","v":{"$error":"#N/A"}},{"$f":"INDEX(List_Vehicle_DB_Model,MATCH(0,COUNTIF($H$2:H37,List_Vehicle_DB_Model)+(List_Vehicle_DB_Drivetrain<>_Comp_V1_Vehicle_Drivetrain)+(List_Vehicle_DB_Year<>_Comp_V1_Vehicle_Year)+(List_Vehicle_DB_Make<>_Comp_V1_Vehicle_Make),0))","v":{"$error":"#N/A"}}]
[{"$f":"INDEX(List_Vehicle_DB_Drivetrain,MATCH(0,COUNTIF($A$2:A38,List_Vehicle_DB_Drivetrain),0))","v":{"$error":"#N/A"}},{"$f":"INDEX(List_Vehicle_DB_Year,MATCH(0,COUNTIF($B$2:B38,List_Vehicle_DB_Year)+(List_Vehicle_DB_Drivetrain<>_Base_V1_Vehicle_Drivetrain),0))","v":{"$error":"#N/A"}},{"$f":"INDEX(List_Vehicle_DB_Make,MATCH(0,COUNTIF(C$2:$C38,List_Vehicle_DB_Make)+(List_Vehicle_DB_Drivetrain<>_Base_V1_Vehicle_Drivetrain)+(List_Vehicle_DB_Year<>_Base_V1_Vehicle_Year),0))","v":{"$error":"#N/A"}},{"$f":"INDEX(List_Vehicle_DB_Model,MATCH(0,COUNTIF(D$2:$D38,List_Vehicle_DB_Model)+(List_Vehicle_DB_Drivetrain<>_Base_V1_Vehicle_Drivetrain)+(List_Vehicle_DB_Year<>_Base_V1_Vehicle_Year)++(List_Vehicle_DB_Make<>_Base_V1_Vehicle_Make),0))","v":{"$error":"#N/A"}},{"$f":"INDEX(List_Vehicle_DB_Drivetrain,MATCH(0,COUNTIF(E$2:$E38,List_Vehicle_DB_Drivetrain),0))","v":{"$error":"#N/A"}},{"$f":"INDEX(List_Vehicle_DB_Year,MATCH(0,COUNTIF($F$2:F38,List_Vehicle_DB_Year)+(List_Vehicle_DB_Drivetrain<>_Comp_V1_Vehicle_Drivetrain),0))","v":{"$error":"#N/A"}},{"$f":"INDEX(List_Vehicle_DB_Make,MATCH(0,COUNTIF($G$2:G38,List_Vehicle_DB_Make)+(List_Vehicle_DB_Drivetrain<>_Comp_V1_Vehicle_Drivetrain)+(List_Vehicle_DB_Year<>_Comp_V1_Vehicle_Year),0))","v":{"$error":"#N/A"}},{"$f":"INDEX(List_Vehicle_DB_Model,MATCH(0,COUNTIF($H$2:H38,List_Vehicle_DB_Model)+(List_Vehicle_DB_Drivetrain<>_Comp_V1_Vehicle_Drivetrain)+(List_Vehicle_DB_Year<>_Comp_V1_Vehicle_Year)+(List_Vehicle_DB_Make<>_Comp_V1_Vehicle_Make),0))","v":{"$error":"#N/A"}}]
[{"$f":"INDEX(List_Vehicle_DB_Drivetrain,MATCH(0,COUNTIF($A$2:A39,List_Vehicle_DB_Drivetrain),0))","v":{"$error":"#N/A"}},{"$f":"INDEX(List_Vehicle_DB_Year,MATCH(0,COUNTIF($B$2:B39,List_Vehicle_DB_Year)+(List_Vehicle_DB_Drivetrain<>_Base_V1_Vehicle_Drivetrain),0))","v":{"$error":"#N/A"}},{"$f":"INDEX(List_Vehicle_DB_Make,MATCH(0,COUNTIF(C$2:$C39,List_Vehicle_DB_Make)+(List_Vehicle_DB_Drivetrain<>_Base_V1_Vehicle_Drivetrain)+(List_Vehicle_DB_Year<>_Base_V1_Vehicle_Year),0))","v":{"$error":"#N/A"}},{"$f":"INDEX(List_Vehicle_DB_Model,MATCH(0,COUNTIF(D$2:$D39,List_Vehicle_DB_Model)+(List_Vehicle_DB_Drivetrain<>_Base_V1_Vehicle_Drivetrain)+(List_Vehicle_DB_Year<>_Base_V1_Vehicle_Year)++(List_Vehicle_DB_Make<>_Base_V1_Vehicle_Make),0))","v":{"$error":"#N/A"}},{"$f":"INDEX(List_Vehicle_DB_Drivetrain,MATCH(0,COUNTIF(E$2:$E39,List_Vehicle_DB_Drivetrain),0))","v":{"$error":"#N/A"}},{"$f":"INDEX(List_Vehicle_DB_Year,MATCH(0,COUNTIF($F$2:F39,List_Vehicle_DB_Year)+(List_Vehicle_DB_Drivetrain<>_Comp_V1_Vehicle_Drivetrain),0))","v":{"$error":"#N/A"}},{"$f":"INDEX(List_Vehicle_DB_Make,MATCH(0,COUNTIF($G$2:G39,List_Vehicle_DB_Make)+(List_Vehicle_DB_Drivetrain<>_Comp_V1_Vehicle_Drivetrain)+(List_Vehicle_DB_Year<>_Comp_V1_Vehicle_Year),0))","v":{"$error":"#N/A"}},{"$f":"INDEX(List_Vehicle_DB_Model,MATCH(0,COUNTIF($H$2:H39,List_Vehicle_DB_Model)+(List_Vehicle_DB_Drivetrain<>_Comp_V1_Vehicle_Drivetrain)+(List_Vehicle_DB_Year<>_Comp_V1_Vehicle_Year)+(List_Vehicle_DB_Make<>_Comp_V1_Vehicle_Make),0))","v":{"$error":"#N/A"}}]

{"sheet":"Version","index":14,"n_rows":20,"n_cols":8,"rows_kept":20,"cut":false,"hidden":false,"merged":[]}
["Version History - Fleet Procurement Analysis Tool"]
["Developed By",null,null,"Version","Date","Author","Organization","Revisions"]
[null,null,null,1,"2017-05-30","Philip Quebe","The Cadmus Group, Inc.","First launch"]
[null,null,null,1.05,"2017-06-01","Philip Quebe","The Cadmus Group, Inc.","Minor bug fixes: sensitivity analysis and EV infrastructure inputs"]
[]
[null,null,null,"To be implemented in future versions:"]
[null,null,null,null,"Solicitation-specific interface for EV Smart Fleets"]
[null,null,null,null,"Integrate more robust/comprehensive vehicle selection database"]
[]
["Philip Quebe "]
["philip.quebe@cadmusgroup.com"]
[]
[]
[]
[]
[]
[]
[]
["Nick Nigro"]
["nick.nigro@atlaspolicy.com"]