{"text_format":"1","workbook":"xlsx","n_sheets":15,"sheets":["Instructions","Solicitation Inputs","Initital Settings","Inputs","Results","Financial Model","Results Tables","Environmental Model","Data","Zipcode Data","FMV Regression","Sensitivity Tables","Lists_Hidden","Dynamic_Lists_Hidden","Version"],"not_rendered":{"charts":8,"images":2,"macros":1,"external_links":0,"defined_names":341,"comments":1,"pivot_tables":0},"unopened":[],"bounds":{"document_bytes":16777216,"sheet_cells":100000,"rows_first":2000,"rows_last":500,"rows_between":2000,"halvings":0,"cell_chars":16384,"cell_head_chars":4096},"cells_cut":0,"cells_raw":0,"read":"whole","date_system":"1900"}

{"sheet":"Instructions","index":0,"n_rows":23,"n_cols":5,"rows_kept":23,"cut":false,"hidden":false,"merged":[[20,1,20,2],[21,1,21,2],[22,1,22,2],[14,1,14,2],[15,1,15,2],[16,1,16,2],[17,1,17,2],[18,1,18,2],[19,1,19,2]]}
["Instructions - Fleet Procurement Analysis Tool"]
[null,{"$f":" \"Version \" & TEXT(MAX(Version[Version]), \"#,##0.00\")","v":"Version 1.06"}]
[null,{"$f":" \"Last Updated: \" & TEXT(MAX(Version[Date]), \"m/d/yyyy\")","v":"Last Updated: 7/3/2017"}]
[]
["Input Definitions",null,null,null,"Model Overview"]
[]
[null,null,"User-entered inputs"]
[]
[null,null,"Default assumptions that can be overridden by user"]
[]
[null,null,"Calculations or assumptions that cannot be altered"]
[]
["Ownership Structure Definitions"]
[]
[null,"Purchase (Cash) - Vehicles purchased with cash"]
[null,"Purchase (Loan) - Vehicles purchased with debt financing"]
[null,"FMV (Closed-End) Lease - Vehicles leased with Fair Market Value lease structure. Vehicles not purchased at end of lease term."]
[null,"FMV (Closed-End) Lease w/ Cash Purchase - Vehicles leased with Fair Market Value lease structure. Vehicles purchased at end of lease term with cash."]
[null,"FMV (Closed-End) Lease w/ Loan Purchase - Vehicles leased with Fair Market Value lease structure. Vehicles purchased at end of lease term with debt financing."]
[null,"TRAC (Open-End) Lease - Vehicles leased with Terminal Rental Adjustment Clause lease structure. Vehicles not purchased at end of lease term."]
[null,"TRAC (Open-End) Lease w/ Cash Purchase -  Vehicles leased with Terminal Rental Adjustment Clause lease structure. Vehicles purchased at end of lease term with cash."]
[null,"TRAC (Open-End) Lease w/ Loan Purchase - Vehicles leased with Terminal Rental Adjustment Clause lease structure. Vehicles purchased at end of lease term with debt financing."]
[null,"Tax-Exempt Lease Purchase (Cash) - Vehicles leased with tax-exempt lease-purchase structure. Vehicles purchased at end of lease term with cash, typically a nominal amount ($1)."]

{"sheet":"Solicitation Inputs","index":1,"n_rows":23,"n_cols":14,"rows_kept":23,"cut":false,"hidden":true,"merged":[[10,1,10,8],[10,10,10,17],[19,1,19,8],[19,10,19,17]]}
["Quick Inputs - Fleet Procurement Analysis Tool"]
[null,"*Coming soon*"]
[]
[null,"Market Inputs"]
[]
[null,"ZIP Code","20001"]
[null,"Include Cost of Carbon?","No"]
[]
[]
[null,"Vehicle Inputs"]
[null,"Procurement 1 (Baseline)",null,null,null,null,null,null,null,null,"Procurement 2 (Comparison)"]
[null,"Vehicle Type #1",null,null,null,null,null,null,null,null,"Vehicle Type #1"]
[null,"Vehicle Drivetrain Type",null,null,"BEV",null,null,null,null,null,"Vehicle Drivetrain Type",null,null,"BEV"]
[null,"Vehicle Year",null,null,2017,null,null,null,null,null,"Vehicle Year",null,null,2017]
[null,"Vehicle Make",null,null,"Chevy",null,null,null,null,null,"Vehicle Make",null,null,"Ford"]
[null,"Vehicle Model",null,null,"Bolt",null,null,null,null,null,"Vehicle Model",null,null,"Focus Electric"]
[]
[]
[null,"Vehicle Procurement Inputs"]
[null,"Procurement 1 (Baseline)",null,null,null,null,null,null,null,null,"Procurement 2 (Comparison)"]
[null,"Vehicle Type #1",null,null,null,null,null,null,null,null,"Vehicle Type #1"]
[null,"Ownership Structure",null,null,"TRAC (Open-End) Lease w/ Cash Purchase",null,null,null,null,null,"Ownership Structure",null,null,"TRAC (Open-End) Lease w/ Cash Purchase"]
[null,"Tax Credits Can Be Monetized? (Y/N)",null,null,"Yes",null,null,null,null,null,"Tax Credits Can Be Monetized? (Y/N)",null,null,"Yes"]

{"sheet":"Initital Settings","index":2,"n_rows":20,"n_cols":10,"rows_kept":20,"cut":false,"hidden":false,"merged":[]}
["Initial Settings - Fleet Procurement Analysis Tool",null,null,null,null,null,null,"*HIDDEN*","*HIDDEN*","*HIDDEN*"]
[]
[null,"Save/Load"]
[]
[null,"Procurment Name","Demo Fleet Procurement"]
[]
[null,"Load values from external file"]
[]
[null,"Save all current user inputs to an external file"]
[]
[]
[null,"Sensitivity Settings"]
[]
[null," Update sensitivity analysis results if Calculation Options is set to Manual or Automatic Excerpt for Tables"]
[]
[null,"Variable","Input Field","Min Value","Max Value","Current Value","Valid","Field Code","Field Reference","Sensitivity Reference"]
[null,1,"Electricity Cost ($/kWh)",0.09,0.22,{"$f":"INDIRECT(H17,FALSE)","v":0.122},{"$f":"IF(IFERROR(VLOOKUP(sensitivity_01_input_field, DB_Sensitivity_Codes,2,FALSE), \"Error\")<> \"Error\", \"OK\", \"Error\")","v":"OK"},{"$f":"VLOOKUP(sensitivity_01_input_field,DB_Sensitivity_Codes,2,FALSE)","v":"Electricity_Price"},{"$f":"MID(CELL(\"filename\",INDIRECT(H17)),FIND(\"]\", CELL(\"filename\",INDIRECT(H17)))+1,32) & \"!\" & ADDRESS(ROW(INDIRECT(H17)),COLUMN(INDIRECT(H17)),4,1)","v":"Inputs!E6"},{"$f":"CELL(\"address\", OFFSET('Sensitivity Tables'!A$9, 16*(B17-1), 0))","v":"'[Fleet-Procurement-Analysis-Tool_v1.06.xlsm]Sensitivity Tables'!$A$9"}]
[null,2,"Gasoline Cost ($/Gallon)",2,4,{"$f":"INDIRECT(H18,FALSE)","v":2.3119999999999998},{"$f":"IF(IFERROR(VLOOKUP(sensitivity_02_input_field, DB_Sensitivity_Codes,2,FALSE), \"Error\")<> \"Error\", \"OK\", \"Error\")","v":"OK"},{"$f":"VLOOKUP(sensitivity_02_input_field,DB_Sensitivity_Codes,2,FALSE)","v":"Gasoline_Price"},{"$f":"MID(CELL(\"filename\",INDIRECT(H18)),FIND(\"]\", CELL(\"filename\",INDIRECT(H18)))+1,32) & \"!\" & ADDRESS(ROW(INDIRECT(H18)),COLUMN(INDIRECT(H18)),4,1)","v":"Inputs!E5"},{"$f":"CELL(\"address\", OFFSET('Sensitivity Tables'!A$9, 16*(B18-1), 0))","v":"'[Fleet-Procurement-Analysis-Tool_v1.06.xlsm]Sensitivity Tables'!$A$25"}]
[null,3,"Baseline Annual Vehicle Mileage (VMT/Year)",5000,25000,{"$f":"INDIRECT(H19,FALSE)","v":15000},{"$f":"IF(IFERROR(VLOOKUP(sensitivity_03_input_field, DB_Sensitivity_Codes,2,FALSE), \"Error\")<> \"Error\", \"OK\", \"Error\")","v":"OK"},{"$f":"VLOOKUP(sensitivity_03_input_field,DB_Sensitivity_Codes,2,FALSE)","v":"Base_V1_VMT"},{"$f":"MID(CELL(\"filename\",INDIRECT(H19)),FIND(\"]\", CELL(\"filename\",INDIRECT(H19)))+1,32) & \"!\" & ADDRESS(ROW(INDIRECT(H19)),COLUMN(INDIRECT(H19)),4,1)","v":"Inputs!E22"},{"$f":"CELL(\"address\", OFFSET('Sensitivity Tables'!A$9, 16*(B19-1), 0))","v":"'[Fleet-Procurement-Analysis-Tool_v1.06.xlsm]Sensitivity Tables'!$A$41"}]
[null,4,"Comparison Annual Vehicle Mileage (VMT/Year)",5000,25000,{"$f":"INDIRECT(H20,FALSE)","v":15000},{"$f":"IF(IFERROR(VLOOKUP(sensitivity_04_input_field, DB_Sensitivity_Codes,2,FALSE), \"Error\")<> \"Error\", \"OK\", \"Error\")","v":"OK"},{"$f":"VLOOKUP(sensitivity_04_input_field,DB_Sensitivity_Codes,2,FALSE)","v":"Comp_V1_VMT"},{"$f":"MID(CELL(\"filename\",INDIRECT(H20)),FIND(\"]\", CELL(\"filename\",INDIRECT(H20)))+1,32) & \"!\" & ADDRESS(ROW(INDIRECT(H20)),COLUMN(INDIRECT(H20)),4,1)","v":"Inputs!N22"},{"$f":"CELL(\"address\", OFFSET('Sensitivity Tables'!A$9, 16*(B20-1), 0))","v":"'[Fleet-Procurement-Analysis-Tool_v1.06.xlsm]Sensitivity Tables'!$A$57"}]

{"sheet":"Inputs","index":3,"n_rows":88,"n_cols":17,"rows_kept":88,"cut":false,"hidden":false,"merged":[[10,1,10,8],[10,10,10,17],[36,1,36,8],[36,10,36,17],[78,1,78,8],[78,10,78,17]]}
["Inputs - Fleet Procurement Analysis Tool",null,null,null,null,"*HIDDEN*","*HIDDEN*","*HIDDEN*",null,null,null,null,null,null,"*HIDDEN*","*HIDDEN*","*HIDDEN*"]
[null,null,null,null,null,"Autofill Values","Sensitivity Values (to model)","Validation Calcs",null,null,null,null,null,null,"Autofill Values","Sensitivity Values (to model)","Validation Calcs"]
[null,"Market Inputs"]
[]
[null,"ZIP Code","20001","Gasoline Cost ($/Gallon)",2.3119999999999998,{"$f":"VLOOKUP(State_Ex,DB_Fuel_Prices_2[],3,FALSE)","v":2.3119999999999998},{"$f":"IFERROR(INDIRECT(VLOOKUP(MID(CELL(\"filename\",E5),FIND(\"]\", CELL(\"filename\",E5))+1,32) & \"!\" & ADDRESS(ROW(E5),COLUMN(E5),4,1), DB_Sensitivity_Indirect_Reference,2, FALSE)), E5)","v":2.3119999999999998},null,null,null,"PADD Region",{"$f":"VLOOKUP(_Zip_Code,DB_Zip_Code,5,FALSE)","v":"1b"},"Include Cost of Carbon?","No"]
[null,"State",{"$f":"VLOOKUP(_Zip_Code,DB_Zip_Code,3,FALSE)","v":"DC"},"Electricity Cost ($/kWh)",0.122,{"$f":"VLOOKUP(State_Ex,DB_Fuel_Prices_2[],2,FALSE)","v":0.122},{"$f":"IFERROR(INDIRECT(VLOOKUP(MID(CELL(\"filename\",E6),FIND(\"]\", CELL(\"filename\",E6))+1,32) & \"!\" & ADDRESS(ROW(E6),COLUMN(E6),4,1), DB_Sensitivity_Indirect_Reference,2, FALSE)), E6)","v":0.122},null,null,null,"eGRID Region",{"$f":"VLOOKUP(_Zip_Code,DB_Zip_Code,6,FALSE)","v":"RFCE"},"Cost of Carbon ($/Ton)",0,{"$f":"Data!B144","v":36},{"$f":"IFERROR(INDIRECT(VLOOKUP(MID(CELL(\"filename\",N6),FIND(\"]\", CELL(\"filename\",N6))+1,32) & \"!\" & ADDRESS(ROW(N6),COLUMN(N6),4,1), DB_Sensitivity_Indirect_Reference,2, FALSE)), N6)","v":0}]
[null,null,null,"Inflation Rate (Excluding Fuel) (%/Year)",0.02,{"$f":"Data!A81","v":0.02},{"$f":"IFERROR(INDIRECT(VLOOKUP(MID(CELL(\"filename\",E7),FIND(\"]\", CELL(\"filename\",E7))+1,32) & \"!\" & ADDRESS(ROW(E7),COLUMN(E7),4,1), DB_Sensitivity_Indirect_Reference,2, FALSE)), E7)","v":0.02}]
[]
[]
[null,"Vehicle Inputs"]
[null,"Procurement 1 (Baseline)",null,null,null,null,null,null,null,null,"Procurement 2 (Comparison)"]
[null,"Vehicle Type #1",null,null,null,null,null,null,null,null,"Vehicle Type #1"]
[null,"Vehicle Drivetrain Type",null,null,"ICE",null,null,null,null,null,"Vehicle Drivetrain Type",null,null,"BEV"]
[null,"Vehicle Year",null,null,2017,null,null,null,null,null,"Vehicle Year",null,null,2017]
[null,"Vehicle Make",null,null,"Chevrolet",null,null,null,null,null,"Vehicle Make",null,null,"Chevrolet"]
[null,"Vehicle Model",null,null,"Cruze",null,null,{"$f":"_Base_V1_Vehicle_Year&\" \"&_Base_V1_Vehicle_Make&\" \"&_Base_V1_Vehicle_Model&\" \"&_Base_V1_Vehicle_Drivetrain","v":"2017 Chevrolet Cruze ICE"},null,null,"Vehicle Model",null,null,"Bolt EV",null,null,{"$f":"_Comp_V1_Vehicle_Year&\" \"&_Comp_V1_Vehicle_Make&\" \"&_Comp_V1_Vehicle_Model&\" \"&_Comp_V1_Vehicle_Drivetrain","v":"2017 Chevrolet Bolt EV BEV"}]
[null,"Fuel Economy Gas City (MPG)",null,null,30,{"$f":"VLOOKUP(Base_V1_Type_Ex,DB_Vehicles[],COLUMN(DB_Vehicles[[#Headers],[Fuel Economy Gas City (MPG)]]),FALSE)","v":30},{"$f":"IFERROR(INDIRECT(VLOOKUP(MID(CELL(\"filename\",E17),FIND(\"]\", CELL(\"filename\",E17))+1,32) & \"!\" & ADDRESS(ROW(E17),COLUMN(E17),4,1), DB_Sensitivity_Indirect_Reference,2, FALSE)), E17)","v":30},null,null,null,"Fuel Economy Gas City (MPG)",null,null,0,{"$f":"VLOOKUP(Comp_V1_Type_Ex,DB_Vehicles[],COLUMN(DB_Vehicles[[#Headers],[Fuel Economy Gas City (MPG)]]),FALSE)","v":0},{"$f":"IFERROR(INDIRECT(VLOOKUP(MID(CELL(\"filename\",N17),FIND(\"]\", CELL(\"filename\",N17))+1,32) & \"!\" & ADDRESS(ROW(N17),COLUMN(N17),4,1), DB_Sensitivity_Indirect_Reference,2, FALSE)), N17)","v":0}]
[null,"Fuel Economy Gas Highway (MPG)",null,null,40,{"$f":"VLOOKUP(Base_V1_Type_Ex,DB_Vehicles[], COLUMN(DB_Vehicles[[#Headers],[Fuel Economy Gas Hwy (MPG)]]),FALSE)","v":40},{"$f":"IFERROR(INDIRECT(VLOOKUP(MID(CELL(\"filename\",E18),FIND(\"]\", CELL(\"filename\",E18))+1,32) & \"!\" & ADDRESS(ROW(E18),COLUMN(E18),4,1), DB_Sensitivity_Indirect_Reference,2, FALSE)), E18)","v":40},null,null,null,"Fuel Economy Gas Highway (MPG)",null,null,0,{"$f":"VLOOKUP(Comp_V1_Type_Ex,DB_Vehicles[], COLUMN(DB_Vehicles[[#Headers],[Fuel Economy Gas Hwy (MPG)]]),FALSE)","v":0},{"$f":"IFERROR(INDIRECT(VLOOKUP(MID(CELL(\"filename\",N18),FIND(\"]\", CELL(\"filename\",N18))+1,32) & \"!\" & ADDRESS(ROW(N18),COLUMN(N18),4,1), DB_Sensitivity_Indirect_Reference,2, FALSE)), N18)","v":0}]
[null,"Fuel Economy Electric City (MPGe)",null,null,0,{"$f":"VLOOKUP(Base_V1_Type_Ex,DB_Vehicles[],COLUMN(DB_Vehicles[[#Headers],[Fuel Economy Electric City (MPGe)]]),FALSE)","v":0},0,null,null,null,"Fuel Economy Electric City (MPGe)",null,null,128,{"$f":"VLOOKUP(Comp_V1_Type_Ex,DB_Vehicles[],COLUMN(DB_Vehicles[[#Headers],[Fuel Economy Electric City (MPGe)]]),FALSE)","v":128},128]
[null,"Fuel Economy Electric Highway (MPGe)",null,null,0,{"$f":"VLOOKUP(Base_V1_Type_Ex,DB_Vehicles[],COLUMN(DB_Vehicles[[#Headers],[Fuel Economy Electric Hwy (MPGe)]]),FALSE)","v":0},{"$f":"IFERROR(INDIRECT(VLOOKUP(MID(CELL(\"filename\",E20),FIND(\"]\", CELL(\"filename\",E20))+1,32) & \"!\" & ADDRESS(ROW(E20),COLUMN(E20),4,1), DB_Sensitivity_Indirect_Reference,2, FALSE)), E20)","v":0},null,null,null,"Fuel Economy Electric Highway (MPGe)",null,null,110,{"$f":"VLOOKUP(Comp_V1_Type_Ex,DB_Vehicles[],COLUMN(DB_Vehicles[[#Headers],[Fuel Economy Electric Hwy (MPGe)]]),FALSE)","v":110},{"$f":"IFERROR(INDIRECT(VLOOKUP(MID(CELL(\"filename\",N20),FIND(\"]\", CELL(\"filename\",N20))+1,32) & \"!\" & ADDRESS(ROW(N20),COLUMN(N20),4,1), DB_Sensitivity_Indirect_Reference,2, FALSE)), N20)","v":110}]
[null,"Expected Years of Use/Ownership (Years)",null,null,7,7,7,null,null,null,"Expected Years of Use/Ownership (Years)",null,null,7,7,7]
[null,"Annual Vehicle Mileage (VMT/Year)",null,null,15000,15000,15000,null,null,null,"Annual Vehicle Mileage (VMT/Year)",null,null,15000,15000,15000]
[null,"% of Annual Miles on Gasoline",null,null,1,{"$f":"MAX((Base_V1_VMT/365)-VLOOKUP(Base_V1_Type_Ex,DB_Vehicles[], COLUMN(DB_Vehicles[[#Headers],[Electric Range]]),FALSE),0)/(Base_V1_VMT/365)","v":1},1,null,null,null,"% of Annual Miles on Gasoline",null,null,0,{"$f":"MAX((Comp_V1_VMT/365)-VLOOKUP(Comp_V1_Type_Ex,DB_Vehicles[], COLUMN(DB_Vehicles[[#Headers],[Electric Range]]),FALSE),0)/(Comp_V1_VMT/365)","v":0},0]
[null,"% of Annual Miles City Driving",null,null,0.55000000000000004,{"$f":"DB_Percent_Annual_Miles_City_Driving","v":0.55000000000000004},0.55000000000000004,null,null,null,"% of Annual Miles City Driving",null,null,0.55000000000000004,{"$f":"Data!B143","v":0.55000000000000004},0.55000000000000004]
[null,"Cost to Insure ($/Year)",null,null,1222,{"$f":"DB_Annual_Insurance_Cost","v":1222},1222,null,null,null,"Cost to Insure ($/Year)",null,null,1222,{"$f":"DB_Annual_Insurance_Cost","v":1222},1222]
[null,"Use Drivetrain Default Maintenance and Repair Costs?",null,null,"Yes",null,null,null,null,null,"Use Drivetrain Default Maintenance and Repair Costs?",null,null,"Yes"]
[null,"Maintenance and Repair Cost - Years 1 - 5 ($/Mile) ",null,null,0.08,{"$f":"VLOOKUP(_Base_V1_Vehicle_Drivetrain,DB_Maint_Repair_Costs[],2,FALSE)","v":0.08},0.08,null,null,null,"Maintenance and Repair Cost - Years 1 - 5 ($/Mile) ",null,null,0.04,{"$f":"VLOOKUP(_Comp_V1_Vehicle_Drivetrain,DB_Maint_Repair_Costs[],2,FALSE)","v":0.04},0.04]
[null,"Maintenance and Repair Cost - Years 5+ ($/Mile) ",null,null,0.104,{"$f":"VLOOKUP(_Base_V1_Vehicle_Drivetrain,DB_Maint_Repair_Costs[],7,FALSE)","v":0.10400000000000001},{"$f":"IFERROR(INDIRECT(VLOOKUP(MID(CELL(\"filename\",E28),FIND(\"]\", CELL(\"filename\",E28))+1,32) & \"!\" & ADDRESS(ROW(E28),COLUMN(E28),4,1), DB_Sensitivity_Indirect_Reference,2, FALSE)), E28)","v":0.104},null,null,null,"Maintenance and Repair Cost - Years 5+ ($/Mile) ",null,null,5.1999999999999998E-2,{"$f":"VLOOKUP(_Comp_V1_Vehicle_Drivetrain,DB_Maint_Repair_Costs[],7,FALSE)","v":5.2000000000000005E-2},{"$f":"IFERROR(INDIRECT(VLOOKUP(MID(CELL(\"filename\",N28),FIND(\"]\", CELL(\"filename\",N28))+1,32) & \"!\" & ADDRESS(ROW(N28),COLUMN(N28),4,1), DB_Sensitivity_Indirect_Reference,2, FALSE)), N28)","v":5.1999999999999998E-2}]
[null,"Recurring Taxes and Fees ($/Year)",null,null,10,null,10,null,null,null,"Recurring Taxes and Fees ($/Year)",null,null,10,null,10]
[null,null,null,"Vehicle details from fueleconomy.gov",null,{"$f":"VLOOKUP(Base_V1_Type_Ex,DB_Vehicles[],COLUMN(DB_Vehicles[[#Headers],[Fueleconomy.gov Link]]),FALSE)","v":"https://www.fueleconomy.gov/feg/Find.do?action=sbs&id=37907"},null,null,null,null,null,null,"Vehicle details from fueleconomy.gov",null,{"$f":"VLOOKUP(Comp_V1_Type_Ex,DB_Vehicles[],COLUMN(DB_Vehicles[[#Headers],[Fueleconomy.gov Link]]),FALSE)","v":"https://www.fueleconomy.gov/feg/Find.do?action=sbs&id=38187"}]
[null,"Vehicle Type #2",null,null,null,null,null,null,null,null,"Vehicle Type #2"]
[null,"Etc…etc.",null,null,null,null,null,null,null,null,"Etc…etc."]
[]
[]
[]
[null,"Vehicle Procurement Inputs"]
[null,"Procurement 1 (Baseline)",null,null,null,null,null,null,null,null,"Procurement 2 (Comparison)"]
[]
[null,"Discount Rate for NPV Calculations (%)",null,null,0,null,{"$f":"IFERROR(INDIRECT(VLOOKUP(MID(CELL(\"filename\",E39),FIND(\"]\", CELL(\"filename\",E39))+1,32) & \"!\" & ADDRESS(ROW(E39),COLUMN(E39),4,1), DB_Sensitivity_Indirect_Reference,2, FALSE)), E39)","v":0},null,null,null,"Discount Rate for NPV Calculations (%)",null,null,0,null,{"$f":"IFERROR(INDIRECT(VLOOKUP(MID(CELL(\"filename\",N39),FIND(\"]\", CELL(\"filename\",N39))+1,32) & \"!\" & ADDRESS(ROW(N39),COLUMN(N39),4,1), DB_Sensitivity_Indirect_Reference,2, FALSE)), N39)","v":0}]
[]
[null,"Vehicle Type #1",null,null,null,null,null,null,null,null,"Vehicle Type #1"]
[null,"Number of Vehicles to Procure (#)",null,null,19,null,{"$f":"IFERROR(INDIRECT(VLOOKUP(MID(CELL(\"filename\",E42),FIND(\"]\", CELL(\"filename\",E42))+1,32) & \"!\" & ADDRESS(ROW(E42),COLUMN(E42),4,1), DB_Sensitivity_Indirect_Reference,2, FALSE)), E42)","v":19},null,null,null,"Number of  Vehicles to Procure (#)",null,null,19,null,{"$f":"IFERROR(INDIRECT(VLOOKUP(MID(CELL(\"filename\",N42),FIND(\"]\", CELL(\"filename\",N42))+1,32) & \"!\" & ADDRESS(ROW(N42),COLUMN(N42),4,1), DB_Sensitivity_Indirect_Reference,2, FALSE)), N42)","v":19}]
[null,"Pricing Approach (select one)",null,null,"Dealer Cost Plus Markup",null,null,{"$f":"IF(IFERROR(FIND(\"MSRP\",_Base_V1_Pricing_Approach,1),0)>0,TRUE,FALSE)","v":false},null,null,"Pricing Approach (select one)",null,null,"Dealer Cost Plus Markup",null,null,{"$f":"IF(IFERROR(FIND(\"MSRP\",_Comp_V1_Pricing_Approach,1),0)>0,TRUE,FALSE)","v":false}]
[null,"MSRP ($/Vehicle)",null,null,16975,{"$f":"VLOOKUP(Base_V1_Type_Ex,DB_Vehicles[],COLUMN(DB_Vehicles[[#Headers],[MSRP]]),FALSE)","v":16975},{"$f":"IFERROR(INDIRECT(VLOOKUP(MID(CELL(\"filename\",E44),FIND(\"]\", CELL(\"filename\",E44))+1,32) & \"!\" & ADDRESS(ROW(E44),COLUMN(E44),4,1), DB_Sensitivity_Indirect_Reference,2, FALSE)), E44)","v":16975},null,null,null,"MSRP ($)",null,null,36620,{"$f":"VLOOKUP(Comp_V1_Type_Ex,DB_Vehicles[],COLUMN(DB_Vehicles[[#Headers],[MSRP]]),FALSE)","v":36620},{"$f":"IFERROR(INDIRECT(VLOOKUP(MID(CELL(\"filename\",N44),FIND(\"]\", CELL(\"filename\",N44))+1,32) & \"!\" & ADDRESS(ROW(N44),COLUMN(N44),4,1), DB_Sensitivity_Indirect_Reference,2, FALSE)), N44)","v":36620}]
[null,"Value of Negotiated Discounts off MSRP ($/Vehicle)",null,null,0,null,{"$f":"IFERROR(INDIRECT(VLOOKUP(MID(CELL(\"filename\",E45),FIND(\"]\", CELL(\"filename\",E45))+1,32) & \"!\" & ADDRESS(ROW(E45),COLUMN(E45),4,1), DB_Sensitivity_Indirect_Reference,2, FALSE)), E45)","v":0},null,null,null,"Value of Negotiated Discounts off MSRP ($/Vehicle)",null,null,0,null,{"$f":"IFERROR(INDIRECT(VLOOKUP(MID(CELL(\"filename\",N45),FIND(\"]\", CELL(\"filename\",N45))+1,32) & \"!\" & ADDRESS(ROW(N45),COLUMN(N45),4,1), DB_Sensitivity_Indirect_Reference,2, FALSE)), N45)","v":0}]
[null,"Dealer Triple Net Price ($/Vehicle)",null,null,18024,null,{"$f":"IFERROR(INDIRECT(VLOOKUP(MID(CELL(\"filename\",E46),FIND(\"]\", CELL(\"filename\",E46))+1,32) & \"!\" & ADDRESS(ROW(E46),COLUMN(E46),4,1), DB_Sensitivity_Indirect_Reference,2, FALSE)), E46)","v":18024},null,null,null,"Dealer List Price ($)",null,null,33226,null,{"$f":"IFERROR(INDIRECT(VLOOKUP(MID(CELL(\"filename\",N46),FIND(\"]\", CELL(\"filename\",N46))+1,32) & \"!\" & ADDRESS(ROW(N46),COLUMN(N46),4,1), DB_Sensitivity_Indirect_Reference,2, FALSE)), N46)","v":33226}]
[null,"Dealer Markup ($/Vehicle)",null,null,200,null,{"$f":"IFERROR(INDIRECT(VLOOKUP(MID(CELL(\"filename\",E47),FIND(\"]\", CELL(\"filename\",E47))+1,32) & \"!\" & ADDRESS(ROW(E47),COLUMN(E47),4,1), DB_Sensitivity_Indirect_Reference,2, FALSE)), E47)","v":200},null,null,null,"Markup ($)",null,null,300,null,{"$f":"IFERROR(INDIRECT(VLOOKUP(MID(CELL(\"filename\",N47),FIND(\"]\", CELL(\"filename\",N47))+1,32) & \"!\" & ADDRESS(ROW(N47),COLUMN(N47),4,1), DB_Sensitivity_Indirect_Reference,2, FALSE)), N47)","v":300}]
[null,"Total Base Price",null,null,{"$f":"IF(IFERROR(FIND(\"MSRP\",_Base_V1_Pricing_Approach,1),0)>0,Base_V1_MSRP_Modeled-Base_V1_Discounts_Modeled,Base_V1_List_Price_Modeled+Base_V1_List_Price_Markup_Modeled)","v":18224},null,null,null,null,null,"Total Base Price",null,null,{"$f":"IF(IFERROR(FIND(\"MSRP\",_Comp_V1_Pricing_Approach,1),0)>0,Comp_V1_MSRP_Modeled-Comp_V1_Discounts_Modeled,Comp_V1_List_Price_Modeled+Comp_V1_List_Price_Markup_Modeled)","v":33526}]
[null,"Value of Federal Tax Incentives ($/Vehicle)",null,null,0,{"$f":"IFERROR(VLOOKUP(\"Federal Tax Credit\", DB_Vehicle_Incentives[], MATCH(Base_V1_Type_Ex, DB_Vehicle_Incentives[#Headers],0),FALSE), 0)","v":0},{"$f":"IFERROR(INDIRECT(VLOOKUP(MID(CELL(\"filename\",E49),FIND(\"]\", CELL(\"filename\",E49))+1,32) & \"!\" & ADDRESS(ROW(E49),COLUMN(E49),4,1), DB_Sensitivity_Indirect_Reference,2, FALSE)), E49)","v":0},null,null,null,"Value of Federal Tax Credits ($/Vehicle)",null,null,7500,{"$f":"IFERROR(VLOOKUP(\"Federal Tax Credit\", DB_Vehicle_Incentives[], MATCH(Comp_V1_Type_Ex, DB_Vehicle_Incentives[#Headers],0),FALSE), 0)","v":7500},{"$f":"IFERROR(INDIRECT(VLOOKUP(MID(CELL(\"filename\",N49),FIND(\"]\", CELL(\"filename\",N49))+1,32) & \"!\" & ADDRESS(ROW(N49),COLUMN(N49),4,1), DB_Sensitivity_Indirect_Reference,2, FALSE)), N49)","v":7500}]
[null,"Value of State Tax Incentives ($/Vehicle)",null,null,0,{"$f":"IFERROR(IF(VLOOKUP(State_Ex, DB_Vehicle_Incentives[], COLUMN(DB_Vehicle_Incentives[[#Headers],[Incentive Type]]),FALSE)=\"Tax\", VLOOKUP(State_Ex, DB_Vehicle_Incentives[], MATCH(Base_V1_Type_Ex, DB_Vehicle_Incentives[[#Headers],[2016 Chevrolet Spark EV BEV]:[2017 Volkswagen e-Golf BEV]],0),FALSE),0),0)","v":0},0,null,null,null,"Value of State Tax Incentives ($/Vehicle)",null,null,0,{"$f":"IFERROR(IF(VLOOKUP(State_Ex, DB_Vehicle_Incentives[], COLUMN(DB_Vehicle_Incentives[[#Headers],[Incentive Type]]),FALSE)=\"Tax\", VLOOKUP(State_Ex, DB_Vehicle_Incentives[], MATCH(Comp_V1_Type_Ex, DB_Vehicle_Incentives[[#Headers],[2016 Chevrolet Spark EV BEV]:[2017 Volkswagen e-Golf BEV]],0),FALSE),0),0)","v":0},0]
[null,"State Tax Incentive Cap ($)",null,null,0,null,0,null,null,null,"State Tax Incentive Cap ($)",null,null,0,null,0]
[null,"Value of Non-tax Incentives ($/Vehicle)",null,null,0,{"$f":"IFERROR(IF(VLOOKUP(State_Ex, DB_Vehicle_Incentives[], COLUMN(DB_Vehicle_Incentives[[#Headers],[Incentive Type]]),FALSE)=\"Other\", VLOOKUP(State_Ex, DB_Vehicle_Incentives[], MATCH(Base_V1_Type_Ex, DB_Vehicle_Incentives[[#Headers],[2016 Chevrolet Spark EV BEV]:[2017 Volkswagen e-Golf BEV]],0),FALSE),0),0)","v":0},0,null,null,null,"Value of Non-tax Incentives ($/Vehicle)",null,null,0,{"$f":"IFERROR(IF(VLOOKUP(State_Ex, DB_Vehicle_Incentives[], COLUMN(DB_Vehicle_Incentives[[#Headers],[Incentive Type]]),FALSE)=\"Other\", VLOOKUP(State_Ex, DB_Vehicle_Incentives[], MATCH(Comp_V1_Type_Ex, DB_Vehicle_Incentives[[#Headers],[2016 Chevrolet Spark EV BEV]:[2017 Volkswagen e-Golf BEV]],0),FALSE),0),0)","v":0},0]
[null,"Initial Tax, Title, and Registration Cost ($/Vehicle)",null,null,1000,null,1000,null,null,null,"Initial Tax, Title, and Registration Cost ($/Vehicle)",null,null,1000,null,1000]
[null,"Initial Fee as Percent of Vehicle Base Price (%)",null,null,0,null,0,null,null,null,"Initial Fee as Percent of Vehicle Base Price (%)",null,null,0,null,0]
[null,"Ownership Structure",null,null,"Purchase (Cash)",null,null,{"$f":"IF(IFERROR(FIND(\"Cash\",_Base_V1_Ownership_Structure,1),0)>0,TRUE,FALSE)","v":true},null,null,"Ownership Structure",null,null,"Purchase (Cash)",null,null,{"$f":"IF(IFERROR(FIND(\"Cash\",_Comp_V1_Ownership_Structure,1),0)>0,TRUE,FALSE)","v":true}]
[null,"Tax Credits Can Be Monetized? (Y/N)",null,null,"Yes",null,null,{"$f":"IF(IFERROR(FIND(\"Loan\",_Base_V1_Ownership_Structure,1),0)>0,TRUE,FALSE)","v":false},null,null,"Tax Credits Can Be Monetized? (Y/N)",null,null,"Yes",null,null,{"$f":"IF(IFERROR(FIND(\"Loan\",_Comp_V1_Ownership_Structure,1),0)>0,TRUE,FALSE)","v":false}]
[null,null,null,null,null,null,null,{"$f":"IF(IFERROR(FIND(\"Lease\",_Base_V1_Ownership_Structure,1),0)>0,TRUE,FALSE)","v":false},null,null,null,null,null,null,null,null,{"$f":"IF(IFERROR(FIND(\"Lease\",_Comp_V1_Ownership_Structure,1),0)>0,TRUE,FALSE)","v":false}]
[null,"Down Payment ($/Vehicle)",null,null,0,null,{"$f":"IFERROR(INDIRECT(VLOOKUP(MID(CELL(\"filename\",E58),FIND(\"]\", CELL(\"filename\",E58))+1,32) & \"!\" & ADDRESS(ROW(E58),COLUMN(E58),4,1), DB_Sensitivity_Indirect_Reference,2, FALSE)), E58)","v":0},null,null,null,"Down Payment ($/Vehicle)",null,null,0,null,{"$f":"IFERROR(INDIRECT(VLOOKUP(MID(CELL(\"filename\",N58),FIND(\"]\", CELL(\"filename\",N58))+1,32) & \"!\" & ADDRESS(ROW(N58),COLUMN(N58),4,1), DB_Sensitivity_Indirect_Reference,2, FALSE)), N58)","v":0}]
[null,"Lease",null,null,null,null,null,null,null,null,"Lease"]
[null,"Lease Term (Years)",null,null,3,null,{"$f":"IFERROR(INDIRECT(VLOOKUP(MID(CELL(\"filename\",E60),FIND(\"]\", CELL(\"filename\",E60))+1,32) & \"!\" & ADDRESS(ROW(E60),COLUMN(E60),4,1), DB_Sensitivity_Indirect_Reference,2, FALSE)), E60)","v":3},"Data validation handled in VBA",null,null,"Lease Term (Years)",null,null,0,null,{"$f":"IFERROR(INDIRECT(VLOOKUP(MID(CELL(\"filename\",N60),FIND(\"]\", CELL(\"filename\",N60))+1,32) & \"!\" & ADDRESS(ROW(N60),COLUMN(N60),4,1), DB_Sensitivity_Indirect_Reference,2, FALSE)), N60)","v":0},"Data validation handled in VBA"]
[null,"Lease Interest Rate (APR - %)",null,null,0.1,null,{"$f":"IFERROR(INDIRECT(VLOOKUP(MID(CELL(\"filename\",E61),FIND(\"]\", CELL(\"filename\",E61))+1,32) & \"!\" & ADDRESS(ROW(E61),COLUMN(E61),4,1), DB_Sensitivity_Indirect_Reference,2, FALSE)), E61)","v":0.1},null,null,null,"Lease Interest Rate (APR - %)",null,null,0,null,{"$f":"IFERROR(INDIRECT(VLOOKUP(MID(CELL(\"filename\",N61),FIND(\"]\", CELL(\"filename\",N61))+1,32) & \"!\" & ADDRESS(ROW(N61),COLUMN(N61),4,1), DB_Sensitivity_Indirect_Reference,2, FALSE)), N61)","v":0}]
[null,"OR",null,null,null,null,null,null,null,null,"OR"]
[null,"Money Factor (#)",null,null,4.1666666666666701E-3,null,{"$f":"IFERROR(INDIRECT(VLOOKUP(MID(CELL(\"filename\",E63),FIND(\"]\", CELL(\"filename\",E63))+1,32) & \"!\" & ADDRESS(ROW(E63),COLUMN(E63),4,1), DB_Sensitivity_Indirect_Reference,2, FALSE)), E63)","v":4.1666666666666701E-3},null,null,null,"Money Factor (#)",null,null,0,null,{"$f":"IFERROR(INDIRECT(VLOOKUP(MID(CELL(\"filename\",N63),FIND(\"]\", CELL(\"filename\",N63))+1,32) & \"!\" & ADDRESS(ROW(N63),COLUMN(N63),4,1), DB_Sensitivity_Indirect_Reference,2, FALSE)), N63)","v":0}]
[null,"Acquisition Fee ($/Vehicle)",null,null,0,null,0,null,null,null,"Acquisition Fee ($/Vehicle)",null,null,0,null,0]
[null,"Disposition Charge ($/Vehicle)",null,null,0,null,0,null,null,null,"Disposition Charge ($/Vehicle)",null,null,0,null,0]
[null,"Residual Value ($/Vehicle)",null,null,17000,null,17000,{"$f":"IF(IFERROR(FIND(\"Tax-Exempt\",_Base_V1_Ownership_Structure,1),0)>0,IF(Base_V1_Lease_Residual_Price=1,TRUE,FALSE),TRUE)","v":true},null,null,"Negotiated Residual Value ($/Vehicle)",null,null,0,null,0,{"$f":"IF(IFERROR(FIND(\"Tax-Exempt\",_Comp_V1_Ownership_Structure,1),0)>0,IF(Comp_V1_Lease_Residual_Price=1,TRUE,FALSE),TRUE)","v":true}]
[null,"Mileage Included (Closed-End Only)",null,null,0,null,0,null,null,null,"Mileage Included (Closed-End Only)",null,null,0,null,0]
[null,"Excess Mileage Cost ($/Mile) ",null,null,0,null,0,null,null,null,"Excess Mileage Cost ($/Mile) ",null,null,0,null,0]
[null,"Loan",null,null,null,null,null,null,null,null,"Loan"]
[null,"Loan Term (Years)",null,null,4,null,{"$f":"IFERROR(INDIRECT(VLOOKUP(MID(CELL(\"filename\",E70),FIND(\"]\", CELL(\"filename\",E70))+1,32) & \"!\" & ADDRESS(ROW(E70),COLUMN(E70),4,1), DB_Sensitivity_Indirect_Reference,2, FALSE)), E70)","v":4},"Data validation handled in VBA",null,null,"Loan Term (Years)",null,null,4,null,{"$f":"IFERROR(INDIRECT(VLOOKUP(MID(CELL(\"filename\",N70),FIND(\"]\", CELL(\"filename\",N70))+1,32) & \"!\" & ADDRESS(ROW(N70),COLUMN(N70),4,1), DB_Sensitivity_Indirect_Reference,2, FALSE)), N70)","v":4},"Data validation handled in VBA"]
[null,"Loan Interest Rate (APR - %)",null,null,0.05,null,{"$f":"IFERROR(INDIRECT(VLOOKUP(MID(CELL(\"filename\",E71),FIND(\"]\", CELL(\"filename\",E71))+1,32) & \"!\" & ADDRESS(ROW(E71),COLUMN(E71),4,1), DB_Sensitivity_Indirect_Reference,2, FALSE)), E71)","v":0.05},null,null,null,"Loan Interest Rate (APR - %)",null,null,0.05,null,{"$f":"IFERROR(INDIRECT(VLOOKUP(MID(CELL(\"filename\",N71),FIND(\"]\", CELL(\"filename\",N71))+1,32) & \"!\" & ADDRESS(ROW(N71),COLUMN(N71),4,1), DB_Sensitivity_Indirect_Reference,2, FALSE)), N71)","v":0.05}]
[]
[null,"Vehicle Type #2",null,null,null,null,null,null,null,null,"Vehicle Type #2"]
[null,"Etc…etc.",null,null,null,null,null,null,null,null,"Etc…etc."]
[]
[]
[]
[null,"EV Infrastructure Inputs"]
[null,"Procurement 1 (Baseline)",null,null,null,null,null,null,null,null,"Procurement 2 (Comparison)"]
[null,"Procurement Includes EV Charging?",null,null,"No",null,null,null,null,null,"Procurement Includes EV Charging?",null,null,"No"]
[null,"Number of Level 2 EV Stations Needed (#)",null,null,0,null,{"$f":"IFERROR(INDIRECT(VLOOKUP(MID(CELL(\"filename\",E81),FIND(\"]\", CELL(\"filename\",E81))+1,32) & \"!\" & ADDRESS(ROW(E81),COLUMN(E81),4,1), DB_Sensitivity_Indirect_Reference,2, FALSE)), E81)","v":0},null,null,null,"Number of Level 2 EV Stations Needed (#)",null,null,0,null,{"$f":"IFERROR(INDIRECT(VLOOKUP(MID(CELL(\"filename\",N81),FIND(\"]\", CELL(\"filename\",N81))+1,32) & \"!\" & ADDRESS(ROW(N81),COLUMN(N81),4,1), DB_Sensitivity_Indirect_Reference,2, FALSE)), N81)","v":0}]
[null,"Equipment and Installation Cost ($/Station)",null,null,0,{"$f":"DB_Base_Station_Cost","v":5000},{"$f":"IFERROR(INDIRECT(VLOOKUP(MID(CELL(\"filename\",E82),FIND(\"]\", CELL(\"filename\",E82))+1,32) & \"!\" & ADDRESS(ROW(E82),COLUMN(E82),4,1), DB_Sensitivity_Indirect_Reference,2, FALSE)), E82)","v":0},null,null,null,"Equipment and Installation Cost ($/Station)",null,null,0,{"$f":"DB_Base_Station_Cost","v":5000},{"$f":"IFERROR(INDIRECT(VLOOKUP(MID(CELL(\"filename\",N82),FIND(\"]\", CELL(\"filename\",N82))+1,32) & \"!\" & ADDRESS(ROW(N82),COLUMN(N82),4,1), DB_Sensitivity_Indirect_Reference,2, FALSE)), N82)","v":0}]
[null,"Maintenance Cost ($/Station/Year)",null,null,0,{"$f":"DB_Base_Station_Maint_Cost","v":75},{"$f":"IFERROR(INDIRECT(VLOOKUP(MID(CELL(\"filename\",E83),FIND(\"]\", CELL(\"filename\",E83))+1,32) & \"!\" & ADDRESS(ROW(E83),COLUMN(E83),4,1), DB_Sensitivity_Indirect_Reference,2, FALSE)), E83)","v":0},null,null,null,"Maintenance Cost ($/Station/Year)",null,null,0,{"$f":"DB_Base_Station_Maint_Cost","v":75},{"$f":"IFERROR(INDIRECT(VLOOKUP(MID(CELL(\"filename\",N83),FIND(\"]\", CELL(\"filename\",N83))+1,32) & \"!\" & ADDRESS(ROW(N83),COLUMN(N83),4,1), DB_Sensitivity_Indirect_Reference,2, FALSE)), N83)","v":0}]
[null,"Ownership Structure",null,null,"Purchase (Cash)",null,null,{"$f":"IF(IFERROR(FIND(\"Cash\",_Base_Inf_Ownership_Structure,1),0)>0,TRUE,FALSE)","v":true},null,null,"Ownership Structure",null,null,"Purchase (Cash)",null,null,{"$f":"IF(IFERROR(FIND(\"Cash\",_Comp_Inf_Ownership_Structure,1),0)>0,TRUE,FALSE)","v":true}]
[null,"Loan",null,null,null,null,null,null,null,null,"Loan"]
[null,"Cash Upfront / Down Payment ($)",null,null,0,null,{"$f":"IFERROR(INDIRECT(VLOOKUP(MID(CELL(\"filename\",E86),FIND(\"]\", CELL(\"filename\",E86))+1,32) & \"!\" & ADDRESS(ROW(E86),COLUMN(E86),4,1), DB_Sensitivity_Indirect_Reference,2, FALSE)), E86)","v":0},null,null,null,"Cash Upfront / Down Payment ($)",null,null,0,null,{"$f":"IFERROR(INDIRECT(VLOOKUP(MID(CELL(\"filename\",N86),FIND(\"]\", CELL(\"filename\",N86))+1,32) & \"!\" & ADDRESS(ROW(N86),COLUMN(N86),4,1), DB_Sensitivity_Indirect_Reference,2, FALSE)), N86)","v":0}]
[null,"Loan Term (Years)",null,null,0,null,{"$f":"IFERROR(INDIRECT(VLOOKUP(MID(CELL(\"filename\",E87),FIND(\"]\", CELL(\"filename\",E87))+1,32) & \"!\" & ADDRESS(ROW(E87),COLUMN(E87),4,1), DB_Sensitivity_Indirect_Reference,2, FALSE)), E87)","v":0},null,null,null,"Loan Term (Years)",null,null,0,null,{"$f":"IFERROR(INDIRECT(VLOOKUP(MID(CELL(\"filename\",N87),FIND(\"]\", CELL(\"filename\",N87))+1,32) & \"!\" & ADDRESS(ROW(N87),COLUMN(N87),4,1), DB_Sensitivity_Indirect_Reference,2, FALSE)), N87)","v":0}]
[null,"Interest Rate (APR - %)",null,null,0,null,{"$f":"IFERROR(INDIRECT(VLOOKUP(MID(CELL(\"filename\",E88),FIND(\"]\", CELL(\"filename\",E88))+1,32) & \"!\" & ADDRESS(ROW(E88),COLUMN(E88),4,1), DB_Sensitivity_Indirect_Reference,2, FALSE)), E88)","v":0},null,null,null,"Interest Rate (APR - %)",null,null,0,null,{"$f":"IFERROR(INDIRECT(VLOOKUP(MID(CELL(\"filename\",N88),FIND(\"]\", CELL(\"filename\",N88))+1,32) & \"!\" & ADDRESS(ROW(N88),COLUMN(N88),4,1), DB_Sensitivity_Indirect_Reference,2, FALSE)), N88)","v":0}]

{"sheet":"Results","index":4,"n_rows":56,"n_cols":14,"rows_kept":56,"cut":false,"hidden":false,"merged":[[3,11,3,13],[29,1,29,13],[31,1,31,4],[32,1,32,2],[31,6,31,9],[32,6,32,7],[31,11,32,13]]}
["Results - Fleet Procurement Analysis Tool"]
[{"$f":"\"Procurement Name: \" & Procurement_Name","v":"Procurement Name: Demo Fleet Procurement"}]
[null,"Procurement Summary"]
[null,null,null,null,null,null,null,null,null,null,null,"Procurement Details"]
[null,null,null,null,null,null,null,null,null,null,null,null,{"$f":"Base_V1_Type_Ex&\" (Baseline)\"","v":"2017 Chevrolet Cruze ICE (Baseline)"},{"$f":"Comp_V1_Type_Ex&\" (Comparison)\"","v":"2017 Chevrolet Bolt EV BEV (Comparison)"}]
[null,null,null,null,null,null,null,null,null,null,null,"Procurement Type",{"$f":"_Base_V1_Ownership_Structure","v":"Purchase (Cash)"},{"$f":"_Comp_V1_Ownership_Structure","v":"Purchase (Cash)"}]
[null,null,null,null,null,null,null,null,null,null,null,"Number of Vehicles Procured",{"$f":"Base_V1_Num_Vehicles_Modeled","v":19},{"$f":"Comp_V1_Num_Vehicles_Modeled","v":19}]
[null,null,null,null,null,null,null,null,null,null,null,"Years of Use/Ownership",{"$f":"Base_V1_Years_Usage_Modeled","v":7},{"$f":"Comp_V1_Years_Usage_Modeled","v":7}]
[null,null,null,null,null,null,null,null,null,null,null,"Miles Procured",{"$f":"Base_V1_Years_Usage_Modeled*Base_V1_VMT_Modeled*Base_V1_Num_Vehicles_Modeled","v":1995000},{"$f":"Comp_V1_Years_Usage_Modeled*Comp_V1_VMT_Modeled*Comp_V1_Num_Vehicles_Modeled","v":1995000}]
[null,null,null,null,null,null,null,null,null,null,null,"Total NPV Vehicle and Operating Cost",{"$f":"SUM(M11:M14)","v":843287.61741790141},{"$f":"SUM(N11:N14)","v":953971.04774512304}]
[null,null,null,null,null,null,null,null,null,null,null,"Total Tax Incentives Captured",{"$f":"IF(Base_V1_Tax_Incentives_Monetized=\"Yes\",(Base_V1_Federal_Tax_Incentives_Modeled*Base_V1_Num_Vehicles_Modeled)+IF(Base_V1_State_Tax_Incentive_Cap_Modeled=0,Base_V1_State_Tax_Incentives_Modeled*Base_V1_Num_Vehicles_Modeled,MIN(Base_V1_State_Tax_Incentive_Cap_Modeled,Base_V1_State_Tax_Incentives_Modeled*Base_V1_Num_Vehicles_Modeled)),0)","v":0},{"$f":"IF(Comp_V1_Tax_Incentives_Monetized=\"Yes\",(Comp_V1_Federal_Tax_Incentives_Modeled*Comp_V1_Num_Vehicles_Modeled)+IF(Comp_V1_State_Tax_Incentive_Cap_Modeled=0,Comp_V1_State_Tax_Incentives_Modeled*Comp_V1_Num_Vehicles_Modeled,MIN(Comp_V1_State_Tax_Incentive_Cap_Modeled,Comp_V1_State_Tax_Incentives_Modeled*Comp_V1_Num_Vehicles_Modeled)),0)","v":142500}]
[null,null,null,null,null,null,null,null,null,null,null,"Total Non-Tax Incentive Captured",{"$f":"Base_V1_Other_Incentives_Modeled*Base_V1_Num_Vehicles_Modeled","v":0},{"$f":"Comp_V1_Other_Incentives_Modeled*Comp_V1_Num_Vehicles_Modeled","v":0}]
[null,null,null,null,null,null,null,null,null,null,null,"Total Discounts Captured",{"$f":"IF(_Base_V1_Pricing_Approach=\"MSRP Less Discounts\",Base_V1_Discounts_Modeled*Base_V1_Num_Vehicles_Modeled,0)","v":0},{"$f":"IF(_Comp_V1_Pricing_Approach=\"MSRP Less Discounts\",Comp_V1_Discounts_Modeled*Comp_V1_Num_Vehicles_Modeled,0)","v":0}]
[null,null,null,null,null,null,null,null,null,null,null,"NPV Vehicle Total Cost less Incentives and Discounts",{"$f":"-Base_V1_Annualized_Cost_Ownership_Ex*Base_V1_Years_Usage_Modeled*Base_V1_Num_Vehicles_Modeled","v":843287.61741790141},{"$f":"-Comp_V1_Annualized_Cost_Ownership_Ex*Comp_V1_Years_Usage_Modeled*Comp_V1_Num_Vehicles_Modeled","v":811471.04774512304}]
[null,null,null,null,null,null,null,null,null,null,null,"NPV Total Cost of Infrastructure",{"$f":"-Base_Inf_Annualized_Cost_Ownership_Ex*Base_V1_Years_Usage_Modeled","v":0},{"$f":"-Comp_Inf_Annualized_Cost_Ownership_Ex*Comp_V1_Years_Usage_Modeled","v":0}]
[null,null,null,null,null,null,null,null,null,null,null,"Total NPV Cost",{"$f":"SUM(M14:M15)","v":843287.61741790141},{"$f":"SUM(N14:N15)","v":811471.04774512304}]
[null,{"$f":"\"The baseline is \"& ABS(ROUND(('Results Tables'!C29-'Results Tables'!D29)/'Results Tables'!C29*100,2))&\"% \"&IF(ROUND(('Results Tables'!C29-'Results Tables'!D29)/'Results Tables'!C29*100,2)>0,\"more\",\"less\")&\" expensive than the comparison vehicle\"","v":"The baseline is 3.77% more expensive than the comparison vehicle"},null,null,null,null,null,null,null,null,null,"Total NPV Cost / Mile",{"$f":"M16/M9","v":0.42270056010922374},{"$f":"N16/N9","v":0.40675240488477343}]
[]
[null,"Societal Benefit Summary"]
[]
[]
[]
[]
[]
[]
[]
[]
[]
[]
[null,"Fleet Gasoline Use (Total All Vehicles)"]
[]
[null,{"$f":"Base_V1_Type_Ex&\" Based Fleet\"","v":"2017 Chevrolet Cruze ICE Based Fleet"},null,null,null,"VS",{"$f":"Comp_V1_Type_Ex&\" Based Fleet\"","v":"2017 Chevrolet Bolt EV BEV Based Fleet"},null,null,null,"=",{"$f":"\"The baseline fleet uses \"& TEXT(ABS(ROUND(B33-G33,0)),\"#,##0\")&\" \"&IF(ROUND(B33-G33,0)>0,\"more\",\"fewer\")&\" gallons of gasoline than the comparison fleet\"","v":"The baseline fleet uses 59,019 more gallons of gasoline than the comparison fleet"}]
[null,{"$f":"'Results Tables'!C36","v":59018.75},null,"gallons",null,null,{"$f":"'Results Tables'!D36","v":0},null,"gallons"]
[]
[null,"Cash Flow Summary"]
[]
[]
[]
[]
[]
[]
[]
[]
[]
[]
[]
[]
[]
[]
[]
[]
[]
[]
[]
[]
[null,"Sensitivity Analysis"]

{"sheet":"Financial Model","index":5,"n_rows":141,"n_cols":29,"rows_kept":141,"cut":false,"hidden":false,"merged":[]}
["Financial Models - Fleet Procurement Analysis Tool"]
[null,null,null,"Year 0","Year 1 ","Year 2","Year 3","Year 4","Year 5","Year 6","Year 7","Year 8","Year 9","Year 10","Year 11","Year 12","Year 13","Year 14","Year 15","Year 16","Year 17","Year 18","Year 19","Year 20","Year 21","Year 22","Year 23","Year 24","Year 25"]
[null,"Baseline Vehicle 1"]
[null,null,null,"Year 0","Year 1 ","Year 2","Year 3","Year 4","Year 5","Year 6","Year 7","Year 8","Year 9","Year 10","Year 11","Year 12","Year 13","Year 14","Year 15","Year 16","Year 17","Year 18","Year 19","Year 20","Year 21","Year 22","Year 23","Year 24","Year 25"]
[null,"Depreciation Calculations"]
[null,"Fair Market Value - BEV",null,{"$f":"IF(VLOOKUP(Base_V1_Type_Ex,DB_Vehicles[],COLUMN(DB_Vehicles[[#Headers],[Drivetrain Type]]),FALSE)=\"BEV\",Base_V1_MSRP_Modeled,0)","v":0},{"$f":"IF(VLOOKUP(Base_V1_Type_Ex,DB_Vehicles[],COLUMN(DB_Vehicles[[#Headers],[Drivetrain Type]]),FALSE)=\"BEV\",MAX(IF(VLOOKUP(Base_V1_Type_Ex,DB_Vehicles[],COLUMN(DB_Vehicles[[#Headers],[Drivetrain Type]]),FALSE)=\"BEV\",Reg_BEV_Const_Ex+Reg_BEV_Age_Coef_Ex*(COLUMN(E4)-COLUMN($D4))+Reg_BEV_Agesq_Coef_Ex*((COLUMN(E4)-COLUMN($D4))^2)+Reg_BEV_MSRP_Coef_Ex*Base_V1_MSRP_Modeled+Reg_BEV_Range_Coef_Ex*VLOOKUP(Base_V1_Type_Ex,DB_Vehicles[],COLUMN(DB_Vehicles[[#Headers],[Electric Range]]),FALSE)+Reg_BEV_Mileage_Coef_Ex*Base_V1_VMT_Modeled*(COLUMN(E4)-COLUMN($D4)),0),300),0)","v":0},{"$f":"IF(VLOOKUP(Base_V1_Type_Ex,DB_Vehicles[],COLUMN(DB_Vehicles[[#Headers],[Drivetrain Type]]),FALSE)=\"BEV\",MAX(IF(VLOOKUP(Base_V1_Type_Ex,DB_Vehicles[],COLUMN(DB_Vehicles[[#Headers],[Drivetrain Type]]),FALSE)=\"BEV\",Reg_BEV_Const_Ex+Reg_BEV_Age_Coef_Ex*(COLUMN(F4)-COLUMN($D4))+Reg_BEV_Agesq_Coef_Ex*((COLUMN(F4)-COLUMN($D4))^2)+Reg_BEV_MSRP_Coef_Ex*Base_V1_MSRP_Modeled+Reg_BEV_Range_Coef_Ex*VLOOKUP(Base_V1_Type_Ex,DB_Vehicles[],COLUMN(DB_Vehicles[[#Headers],[Electric Range]]),FALSE)+Reg_BEV_Mileage_Coef_Ex*Base_V1_VMT_Modeled*(COLUMN(F4)-COLUMN($D4)),0),300),0)","v":0},{"$f":"IF(VLOOKUP(Base_V1_Type_Ex,DB_Vehicles[],COLUMN(DB_Vehicles[[#Headers],[Drivetrain Type]]),FALSE)=\"BEV\",MAX(IF(VLOOKUP(Base_V1_Type_Ex,DB_Vehicles[],COLUMN(DB_Vehicles[[#Headers],[Drivetrain Type]]),FALSE)=\"BEV\",Reg_BEV_Const_Ex+Reg_BEV_Age_Coef_Ex*(COLUMN(G4)-COLUMN($D4))+Reg_BEV_Agesq_Coef_Ex*((COLUMN(G4)-COLUMN($D4))^2)+Reg_BEV_MSRP_Coef_Ex*Base_V1_MSRP_Modeled+Reg_BEV_Range_Coef_Ex*VLOOKUP(Base_V1_Type_Ex,DB_Vehicles[],COLUMN(DB_Vehicles[[#Headers],[Electric Range]]),FALSE)+Reg_BEV_Mileage_Coef_Ex*Base_V1_VMT_Modeled*(COLUMN(G4)-COLUMN($D4)),0),300),0)","v":0},{"$f":"IF(VLOOKUP(Base_V1_Type_Ex,DB_Vehicles[],COLUMN(DB_Vehicles[[#Headers],[Drivetrain Type]]),FALSE)=\"BEV\",MAX(IF(VLOOKUP(Base_V1_Type_Ex,DB_Vehicles[],COLUMN(DB_Vehicles[[#Headers],[Drivetrain Type]]),FALSE)=\"BEV\",Reg_BEV_Const_Ex+Reg_BEV_Age_Coef_Ex*(COLUMN(H4)-COLUMN($D4))+Reg_BEV_Agesq_Coef_Ex*((COLUMN(H4)-COLUMN($D4))^2)+Reg_BEV_MSRP_Coef_Ex*Base_V1_MSRP_Modeled+Reg_BEV_Range_Coef_Ex*VLOOKUP(Base_V1_Type_Ex,DB_Vehicles[],COLUMN(DB_Vehicles[[#Headers],[Electric Range]]),FALSE)+Reg_BEV_Mileage_Coef_Ex*Base_V1_VMT_Modeled*(COLUMN(H4)-COLUMN($D4)),0),300),0)","v":0},{"$f":"IF(VLOOKUP(Base_V1_Type_Ex,DB_Vehicles[],COLUMN(DB_Vehicles[[#Headers],[Drivetrain Type]]),FALSE)=\"BEV\",MAX(IF(VLOOKUP(Base_V1_Type_Ex,DB_Vehicles[],COLUMN(DB_Vehicles[[#Headers],[Drivetrain Type]]),FALSE)=\"BEV\",Reg_BEV_Const_Ex+Reg_BEV_Age_Coef_Ex*(COLUMN(I4)-COLUMN($D4))+Reg_BEV_Agesq_Coef_Ex*((COLUMN(I4)-COLUMN($D4))^2)+Reg_BEV_MSRP_Coef_Ex*Base_V1_MSRP_Modeled+Reg_BEV_Range_Coef_Ex*VLOOKUP(Base_V1_Type_Ex,DB_Vehicles[],COLUMN(DB_Vehicles[[#Headers],[Electric Range]]),FALSE)+Reg_BEV_Mileage_Coef_Ex*Base_V1_VMT_Modeled*(COLUMN(I4)-COLUMN($D4)),0),300),0)","v":0},{"$f":"IF($H6-$I6=0,0,MAX((1-($H6-$I6)/$H6)*I6,300))","v":0},{"$f":"IF($H6-$I6=0,0,MAX((1-($H6-$I6)/$H6)*J6,300))","v":0},0,0,0,0,0,0,0,0,0,0,0,0,0,0,0,0,0,0]
[null,"Fair Market Value - PHEV",null,{"$f":"IF(VLOOKUP(Base_V1_Type_Ex,DB_Vehicles[],COLUMN(DB_Vehicles[[#Headers],[Drivetrain Type]]),FALSE)=\"PHEV\",Base_V1_MSRP_Modeled,0)","v":0},{"$f":"IF(VLOOKUP(Base_V1_Type_Ex,DB_Vehicles[],COLUMN(DB_Vehicles[[#Headers],[Drivetrain Type]]),FALSE)=\"PHEV\",MAX(IF(VLOOKUP(Base_V1_Type_Ex,DB_Vehicles[],COLUMN(DB_Vehicles[[#Headers],[Drivetrain Type]]),FALSE)=\"PHEV\",Reg_PHEV_Const_Ex+Reg_PHEV_Age_Coef_Ex*(COLUMN(E4)-COLUMN($D4))+Reg_PHEV_Agesq_Coef_Ex*((COLUMN(E4)-COLUMN($D4))^2)+Reg_PHEV_MSRP_Coef_Ex*Base_V1_MSRP_Modeled+Reg_PHEV_Range_Coef_Ex*VLOOKUP(Base_V1_Type_Ex,DB_Vehicles[],COLUMN(DB_Vehicles[[#Headers],[Electric Range]]),FALSE)+Reg_PHEV_Mileage_Coef_Ex*Base_V1_VMT_Modeled*(COLUMN(E4)-COLUMN($D4)),0),300),0)","v":0},{"$f":"IF(VLOOKUP(Base_V1_Type_Ex,DB_Vehicles[],COLUMN(DB_Vehicles[[#Headers],[Drivetrain Type]]),FALSE)=\"PHEV\",MAX(IF(VLOOKUP(Base_V1_Type_Ex,DB_Vehicles[],COLUMN(DB_Vehicles[[#Headers],[Drivetrain Type]]),FALSE)=\"PHEV\",Reg_PHEV_Const_Ex+Reg_PHEV_Age_Coef_Ex*(COLUMN(F4)-COLUMN($D4))+Reg_PHEV_Agesq_Coef_Ex*((COLUMN(F4)-COLUMN($D4))^2)+Reg_PHEV_MSRP_Coef_Ex*Base_V1_MSRP_Modeled+Reg_PHEV_Range_Coef_Ex*VLOOKUP(Base_V1_Type_Ex,DB_Vehicles[],COLUMN(DB_Vehicles[[#Headers],[Electric Range]]),FALSE)+Reg_PHEV_Mileage_Coef_Ex*Base_V1_VMT_Modeled*(COLUMN(F4)-COLUMN($D4)),0),300),0)","v":0},{"$f":"IF(VLOOKUP(Base_V1_Type_Ex,DB_Vehicles[],COLUMN(DB_Vehicles[[#Headers],[Drivetrain Type]]),FALSE)=\"PHEV\",MAX(IF(VLOOKUP(Base_V1_Type_Ex,DB_Vehicles[],COLUMN(DB_Vehicles[[#Headers],[Drivetrain Type]]),FALSE)=\"PHEV\",Reg_PHEV_Const_Ex+Reg_PHEV_Age_Coef_Ex*(COLUMN(G4)-COLUMN($D4))+Reg_PHEV_Agesq_Coef_Ex*((COLUMN(G4)-COLUMN($D4))^2)+Reg_PHEV_MSRP_Coef_Ex*Base_V1_MSRP_Modeled+Reg_PHEV_Range_Coef_Ex*VLOOKUP(Base_V1_Type_Ex,DB_Vehicles[],COLUMN(DB_Vehicles[[#Headers],[Electric Range]]),FALSE)+Reg_PHEV_Mileage_Coef_Ex*Base_V1_VMT_Modeled*(COLUMN(G4)-COLUMN($D4)),0),300),0)","v":0},{"$f":"IF(VLOOKUP(Base_V1_Type_Ex,DB_Vehicles[],COLUMN(DB_Vehicles[[#Headers],[Drivetrain Type]]),FALSE)=\"PHEV\",MAX(IF(VLOOKUP(Base_V1_Type_Ex,DB_Vehicles[],COLUMN(DB_Vehicles[[#Headers],[Drivetrain Type]]),FALSE)=\"PHEV\",Reg_PHEV_Const_Ex+Reg_PHEV_Age_Coef_Ex*(COLUMN(H4)-COLUMN($D4))+Reg_PHEV_Agesq_Coef_Ex*((COLUMN(H4)-COLUMN($D4))^2)+Reg_PHEV_MSRP_Coef_Ex*Base_V1_MSRP_Modeled+Reg_PHEV_Range_Coef_Ex*VLOOKUP(Base_V1_Type_Ex,DB_Vehicles[],COLUMN(DB_Vehicles[[#Headers],[Electric Range]]),FALSE)+Reg_PHEV_Mileage_Coef_Ex*Base_V1_VMT_Modeled*(COLUMN(H4)-COLUMN($D4)),0),300),0)","v":0},{"$f":"IF(VLOOKUP(Base_V1_Type_Ex,DB_Vehicles[],COLUMN(DB_Vehicles[[#Headers],[Drivetrain Type]]),FALSE)=\"PHEV\",MAX(IF(VLOOKUP(Base_V1_Type_Ex,DB_Vehicles[],COLUMN(DB_Vehicles[[#Headers],[Drivetrain Type]]),FALSE)=\"PHEV\",Reg_PHEV_Const_Ex+Reg_PHEV_Age_Coef_Ex*(COLUMN(I4)-COLUMN($D4))+Reg_PHEV_Agesq_Coef_Ex*((COLUMN(I4)-COLUMN($D4))^2)+Reg_PHEV_MSRP_Coef_Ex*Base_V1_MSRP_Modeled+Reg_PHEV_Range_Coef_Ex*VLOOKUP(Base_V1_Type_Ex,DB_Vehicles[],COLUMN(DB_Vehicles[[#Headers],[Electric Range]]),FALSE)+Reg_PHEV_Mileage_Coef_Ex*Base_V1_VMT_Modeled*(COLUMN(I4)-COLUMN($D4)),0),300),0)","v":0},{"$f":"IF($H7-$I7=0,0,MAX((1-($H7-$I7)/$H7)*I7,300))","v":0},0,0,0,0,0,0,0,0,0,0,0,0,0,0,0,0,0,0,0]
[null,"Fair Market Value - ICE",null,{"$f":"IF(VLOOKUP(Base_V1_Type_Ex,DB_Vehicles[],COLUMN(DB_Vehicles[[#Headers],[Drivetrain Type]]),FALSE)=\"ICE\",Base_V1_MSRP_Modeled,0)","v":16975},{"$f":"IF(VLOOKUP(Base_V1_Type_Ex,DB_Vehicles[],COLUMN(DB_Vehicles[[#Headers],[Drivetrain Type]]),FALSE)=\"ICE\",MAX(IF(VLOOKUP(Base_V1_Type_Ex,DB_Vehicles[],COLUMN(DB_Vehicles[[#Headers],[Drivetrain Type]]),FALSE)=\"ICE\",Reg_ICE_Const_Ex+Reg_ICE_Age_Coef_Ex*(COLUMN(E4)-COLUMN($D4))+Reg_ICE_Agesq_Coef_Ex*(COLUMN(E4)-COLUMN($D4))^2+Reg_ICE_MSRP_Coef_Ex*Base_V1_MSRP_Modeled+Reg_ICE_MPG_Coef_Ex*VLOOKUP(Base_V1_Type_Ex,DB_Vehicles[],COLUMN(DB_Vehicles[[#Headers],[Fuel Economy Gas City (MPG)]]),FALSE)+Reg_ICE_Mileage_Coef_Ex*Base_V1_VMT_Modeled*(COLUMN(E4)-COLUMN($D4)),0),300),0)","v":14063.546924999999},{"$f":"IF(VLOOKUP(Base_V1_Type_Ex,DB_Vehicles[],COLUMN(DB_Vehicles[[#Headers],[Drivetrain Type]]),FALSE)=\"ICE\",MAX(IF(VLOOKUP(Base_V1_Type_Ex,DB_Vehicles[],COLUMN(DB_Vehicles[[#Headers],[Drivetrain Type]]),FALSE)=\"ICE\",Reg_ICE_Const_Ex+Reg_ICE_Age_Coef_Ex*(COLUMN(F4)-COLUMN($D4))+Reg_ICE_Agesq_Coef_Ex*(COLUMN(F4)-COLUMN($D4))^2+Reg_ICE_MSRP_Coef_Ex*Base_V1_MSRP_Modeled+Reg_ICE_MPG_Coef_Ex*VLOOKUP(Base_V1_Type_Ex,DB_Vehicles[],COLUMN(DB_Vehicles[[#Headers],[Fuel Economy Gas City (MPG)]]),FALSE)+Reg_ICE_Mileage_Coef_Ex*Base_V1_VMT_Modeled*(COLUMN(F4)-COLUMN($D4)),0),300),0)","v":12434.066924999999},{"$f":"IF(VLOOKUP(Base_V1_Type_Ex,DB_Vehicles[],COLUMN(DB_Vehicles[[#Headers],[Drivetrain Type]]),FALSE)=\"ICE\",MAX(IF(VLOOKUP(Base_V1_Type_Ex,DB_Vehicles[],COLUMN(DB_Vehicles[[#Headers],[Drivetrain Type]]),FALSE)=\"ICE\",Reg_ICE_Const_Ex+Reg_ICE_Age_Coef_Ex*(COLUMN(G4)-COLUMN($D4))+Reg_ICE_Agesq_Coef_Ex*(COLUMN(G4)-COLUMN($D4))^2+Reg_ICE_MSRP_Coef_Ex*Base_V1_MSRP_Modeled+Reg_ICE_MPG_Coef_Ex*VLOOKUP(Base_V1_Type_Ex,DB_Vehicles[],COLUMN(DB_Vehicles[[#Headers],[Fuel Economy Gas City (MPG)]]),FALSE)+Reg_ICE_Mileage_Coef_Ex*Base_V1_VMT_Modeled*(COLUMN(G4)-COLUMN($D4)),0),300),0)","v":10486.886924999999},{"$f":"IF(VLOOKUP(Base_V1_Type_Ex,DB_Vehicles[],COLUMN(DB_Vehicles[[#Headers],[Drivetrain Type]]),FALSE)=\"ICE\",MAX(IF(VLOOKUP(Base_V1_Type_Ex,DB_Vehicles[],COLUMN(DB_Vehicles[[#Headers],[Drivetrain Type]]),FALSE)=\"ICE\",Reg_ICE_Const_Ex+Reg_ICE_Age_Coef_Ex*(COLUMN(H4)-COLUMN($D4))+Reg_ICE_Agesq_Coef_Ex*(COLUMN(H4)-COLUMN($D4))^2+Reg_ICE_MSRP_Coef_Ex*Base_V1_MSRP_Modeled+Reg_ICE_MPG_Coef_Ex*VLOOKUP(Base_V1_Type_Ex,DB_Vehicles[],COLUMN(DB_Vehicles[[#Headers],[Fuel Economy Gas City (MPG)]]),FALSE)+Reg_ICE_Mileage_Coef_Ex*Base_V1_VMT_Modeled*(COLUMN(H4)-COLUMN($D4)),0),300),0)","v":8222.0069249999997},{"$f":"IF(VLOOKUP(Base_V1_Type_Ex,DB_Vehicles[],COLUMN(DB_Vehicles[[#Headers],[Drivetrain Type]]),FALSE)=\"ICE\",MAX(IF(VLOOKUP(Base_V1_Type_Ex,DB_Vehicles[],COLUMN(DB_Vehicles[[#Headers],[Drivetrain Type]]),FALSE)=\"ICE\",Reg_ICE_Const_Ex+Reg_ICE_Age_Coef_Ex*(COLUMN(I4)-COLUMN($D4))+Reg_ICE_Agesq_Coef_Ex*(COLUMN(I4)-COLUMN($D4))^2+Reg_ICE_MSRP_Coef_Ex*Base_V1_MSRP_Modeled+Reg_ICE_MPG_Coef_Ex*VLOOKUP(Base_V1_Type_Ex,DB_Vehicles[],COLUMN(DB_Vehicles[[#Headers],[Fuel Economy Gas City (MPG)]]),FALSE)+Reg_ICE_Mileage_Coef_Ex*Base_V1_VMT_Modeled*(COLUMN(I4)-COLUMN($D4)),0),300),0)","v":5639.4269249999998},{"$f":"IF($H8-$I8=0,0,MAX((1-($H8-$I8)/$H8)*I8,300))","v":3868.0502622436011},2653.073269717524,1819.7275881329656,1248.1406121757013,856.09241620647663,587.18882947706959,402.74941692684354,300,300,300,300,300,300,300,300,300,300,300,300,300]
[]
[null,"Capital and Financing Costs"]
[null,"Cash "]
[null,"Cash Payment",null,{"$f":"IF(AND(Base_V1_Has_Cash_Purchase_Ex=TRUE,Base_V1_Has_Loan_Ex=FALSE,Base_V1_Has_Lease_Ex=FALSE,COLUMN(D4)-COLUMN($D4)=0),-(Base_V1_Base_Price_Ex-IF(Base_V1_Tax_Incentives_Monetized=\"Yes\",Base_V1_Federal_Tax_Incentives_Modeled+IF(Base_V1_State_Tax_Incentive_Cap_Modeled=0,Base_V1_State_Tax_Incentives_Modeled,MIN(Base_V1_State_Tax_Incentive_Cap_Modeled,Base_V1_State_Tax_Incentives_Modeled*Base_V1_Num_Vehicles_Modeled)/Base_V1_Num_Vehicles_Modeled),0)-Base_V1_Other_Incentives_Modeled),IF(AND(Base_V1_Has_Cash_Purchase_Ex=TRUE,OR(Base_V1_Has_Loan_Ex=TRUE,Base_V1_Has_Lease_Ex=TRUE),COLUMN(D4)-COLUMN($D4)=Base_V1_Lease_Term_Modeled),IF(ISERROR(FIND(\"Tax\",_Base_V1_Ownership_Structure,1)),-SUM(D6:D8),-Base_V1_Lease_Residual_Price_Modeled),0))","v":-18224},0,0,0,0,0,0,0,0,0,0,0,0,0,0,0,0,0,0,0,0,0,0,0,0,0]
[null,"Lease"]
[null,"Down Payment",null,{"$f":"IF(Base_V1_Has_Lease_Ex=TRUE,-Base_V1_Down_Payment_Modeled,0)","v":0}]
[null,"Acquisition Fee",null,{"$f":"IF(Base_V1_Has_Lease_Ex=TRUE,-Base_V1_Lease_Acquisition_Fee_Modeled,0)","v":0}]
[null,"Disposition Charge",null,{"$f":"IF(AND(Base_V1_Has_Lease_Ex=TRUE,((COLUMN(D4)-COLUMN($D4))=Base_V1_Lease_Term_Modeled)),-Base_V1_Lease_Disposition_Fee_Modeled,0)","v":0},0,0,0,0,0,0,0,0,0,0,0,0,0,0,0,0,0,0,0,0,0,0,0,0,0]
[null,"Lease Payments",null,null,{"$f":"IF(Base_V1_Has_Lease_Ex=TRUE,IF((COLUMN(E4)-COLUMN($E4))<Base_V1_Lease_Term_Modeled,-PMT(Base_V1_Lease_APR_Modeled/12,Base_V1_Lease_Term_Modeled*12,-(Base_V1_Base_Price_Ex-IF(Base_V1_Tax_Incentives_Monetized=\"Yes\",Base_V1_Federal_Tax_Incentives_Modeled+IF(Base_V1_State_Tax_Incentive_Cap_Modeled=0,Base_V1_State_Tax_Incentives_Modeled,MIN(Base_V1_State_Tax_Incentive_Cap_Modeled,Base_V1_State_Tax_Incentives_Modeled*Base_V1_Num_Vehicles_Modeled)/Base_V1_Num_Vehicles_Modeled),0)-Base_V1_Other_Incentives_Modeled-Base_V1_Down_Payment_Modeled)+Base_V1_Lease_Residual_Price_Modeled,0)*12,0),0)","v":0},0,0,0,0,0,0,0,0,0,0,0,0,0,0,0,0,0,0,0,0,0,0,0,0]
[null,"Principal Payments",null,null,{"$f":"IF(Base_V1_Has_Lease_Ex=TRUE,IF((COLUMN(E4)-COLUMN($E4))<Base_V1_Lease_Term_Modeled,-PPMT(Base_V1_Lease_APR_Modeled/12,(COLUMN(E4)-COLUMN($D4))*12,Base_V1_Lease_Term_Modeled*12,-(Base_V1_Base_Price_Ex-IF(Base_V1_Tax_Incentives_Monetized=\"Yes\",Base_V1_Federal_Tax_Incentives_Modeled+IF(Base_V1_State_Tax_Incentive_Cap_Modeled=0,Base_V1_State_Tax_Incentives_Modeled,MIN(Base_V1_State_Tax_Incentive_Cap_Modeled,Base_V1_State_Tax_Incentives_Modeled*Base_V1_Num_Vehicles_Modeled)/Base_V1_Num_Vehicles_Modeled),0)-Base_V1_Other_Incentives_Modeled-Base_V1_Down_Payment_Modeled)+Base_V1_Lease_Residual_Price_Modeled,0)*12,0),0)","v":0},0,0,0,0,0,0,0,0,0,0,0,0,0,0,0,0,0,0,0,0,0,0,0,0]
[null,"Interest Payments",null,null,{"$f":"IF(Base_V1_Has_Lease_Ex=TRUE,IF((COLUMN(E4)-COLUMN($E4))<Base_V1_Lease_Term_Modeled,-IPMT(Base_V1_Lease_APR_Modeled/12,(COLUMN(E4)-COLUMN($D4))*12,Base_V1_Lease_Term_Modeled*12,-(Base_V1_Base_Price_Ex-IF(Base_V1_Tax_Incentives_Monetized=\"Yes\",Base_V1_Federal_Tax_Incentives_Modeled+IF(Base_V1_State_Tax_Incentive_Cap_Modeled=0,Base_V1_State_Tax_Incentives_Modeled,MIN(Base_V1_State_Tax_Incentive_Cap_Modeled,Base_V1_State_Tax_Incentives_Modeled*Base_V1_Num_Vehicles_Modeled)/Base_V1_Num_Vehicles_Modeled),0)-Base_V1_Other_Incentives_Modeled-Base_V1_Down_Payment_Modeled)+Base_V1_Lease_Residual_Price_Modeled,0)*12,0),0)","v":0},0,0,0,0,0,0,0,0,0,0,0,0,0,0,0,0,0,0,0,0,0,0,0,0]
[null,"TRAC Value Adjustment",null,null,{"$f":"IF(ISERROR(FIND(\"TRAC\",_Base_V1_Ownership_Structure,1)),0,IF(Base_V1_Has_Loan_Ex=TRUE,0,IF((COLUMN(E4)-COLUMN($D4))=Base_V1_Lease_Term_Modeled,SUM(E6:E8)-Base_V1_Lease_Residual_Price_Modeled,0)))","v":0},0,0,0,0,0,0,0,0,0,0,0,0,0,0,0,0,0,0,0,0,0,0,0,0]
[null,"FMV Mileage Adjustment",null,null,{"$f":"MIN(0,MAX(-Base_V1_Lease_Residual_Price_Modeled+SUM(E6:E8),IF(IFERROR(IF(FIND(\"FMV\",_Base_V1_Ownership_Structure,1)>0,TRUE,FALSE),FALSE),IF((COLUMN(E4)-COLUMN($D4))=Base_V1_Lease_Term_Modeled,(Base_V1_Lease_Mileage_Inc_Modeled-Base_V1_VMT_Modeled)*(COLUMN(E4)-COLUMN($D4))*Base_V1_Lease_Mileage_Cost_Modeled,0),0)))","v":0},0,0,0,0,0,0,0,0,0,0,0,0,0,0,0,0,0,0,0,0,0,0,0,0]
[null,"Subtotal Lease Cash Flows",null,{"$f":"SUM(D14:D17)+SUM(D20:D21)","v":0},{"$f":"SUM(E14:E17)+SUM(E20:E21)","v":0},0,0,0,0,0,0,0,0,0,0,0,0,0,0,0,0,0,0,0,0,0,0,0,0]
[null,"Loan"]
[null,"Down Payment",null,{"$f":"IF(AND(Base_V1_Has_Loan_Ex=TRUE,Base_V1_Has_Lease_Ex=FALSE),-Base_V1_Down_Payment_Modeled,0)","v":0}]
[null,"Loan Payments",null,null,{"$f":"IF(Base_V1_Has_Loan_Ex=TRUE,IF(AND((COLUMN(E4)-COLUMN($E4))<Base_V1_Loan_Term_Modeled+Base_V1_Lease_Term_Modeled,(COLUMN(E4)-COLUMN($E4))>=Base_V1_Lease_Term_Modeled),PMT(Base_V1_Loan_APR_Modeled/12,Base_V1_Loan_Term_Modeled*12,IF(Base_V1_Has_Lease_Ex=TRUE,SUM(OFFSET($D4,0,Comp_V1_Lease_Term_Modeled,3,1)),Base_V1_Base_Price_Ex-IF(Base_V1_Tax_Incentives_Monetized=\"Yes\",Base_V1_Federal_Tax_Incentives_Modeled+IF(Base_V1_State_Tax_Incentive_Cap_Modeled=0,Base_V1_State_Tax_Incentives_Modeled,MIN(Base_V1_State_Tax_Incentive_Cap_Modeled,Base_V1_State_Tax_Incentives_Modeled*Base_V1_Num_Vehicles_Modeled)/Base_V1_Num_Vehicles_Modeled),0)-Base_V1_Other_Incentives_Modeled-Base_V1_Down_Payment_Modeled),0)*12,0),0)","v":0},0,0,0,0,0,0,0,0,0,0,0,0,0,0,0,0,0,0,0,0,0,0,0,0]
[null,"Principal Payments",null,null,{"$f":"IF(Base_V1_Has_Loan_Ex=TRUE,IF(AND((COLUMN(E4)-COLUMN($E4))<Base_V1_Loan_Term_Modeled+Base_V1_Lease_Term_Modeled,(COLUMN(E4)-COLUMN($E4))>=Base_V1_Lease_Term_Modeled),PPMT(Base_V1_Loan_APR_Modeled/12,IF(Base_V1_Has_Lease_Ex=TRUE,(COLUMN(E4)-COLUMN($D4)-Base_V1_Lease_Term_Modeled)*12,(COLUMN(E4)-COLUMN($D4))*12),Base_V1_Loan_Term_Modeled*12,IF(Base_V1_Has_Lease_Ex=TRUE,SUM(OFFSET($D4,0,Comp_V1_Lease_Term_Modeled,3,1)),Base_V1_Base_Price_Ex-IF(Base_V1_Tax_Incentives_Monetized=\"Yes\",Base_V1_Federal_Tax_Incentives_Modeled+IF(Base_V1_State_Tax_Incentive_Cap_Modeled=0,Base_V1_State_Tax_Incentives_Modeled,MIN(Base_V1_State_Tax_Incentive_Cap_Modeled,Base_V1_State_Tax_Incentives_Modeled*Base_V1_Num_Vehicles_Modeled)/Base_V1_Num_Vehicles_Modeled),0)-Base_V1_Other_Incentives_Modeled-Base_V1_Down_Payment_Modeled),0)*12,0),0)","v":0},0,0,0,0,0,0,0,0,0,0,0,0,0,0,0,0,0,0,0,0,0,0,0,0]
[null,"Interest Payments",null,null,{"$f":"IF(Base_V1_Has_Loan_Ex=TRUE,IF(AND((COLUMN(E4)-COLUMN($E4))<Base_V1_Loan_Term_Modeled+Base_V1_Lease_Term_Modeled,(COLUMN(E4)-COLUMN($E4))>=Base_V1_Lease_Term_Modeled),IPMT(Base_V1_Loan_APR_Modeled/12,IF(Base_V1_Has_Lease_Ex=TRUE,(COLUMN(E4)-COLUMN($D4)-Base_V1_Lease_Term)*12,(COLUMN(E4)-COLUMN($D4))*12),Base_V1_Loan_Term_Modeled*12,IF(Base_V1_Has_Lease_Ex=TRUE,SUM(OFFSET($D4,0,Comp_V1_Lease_Term_Modeled,3,1)),Base_V1_Base_Price_Ex-IF(Base_V1_Tax_Incentives_Monetized=\"Yes\",Base_V1_Federal_Tax_Incentives_Modeled+IF(Base_V1_State_Tax_Incentive_Cap_Modeled=0,Base_V1_State_Tax_Incentives_Modeled,MIN(Base_V1_State_Tax_Incentive_Cap_Modeled,Base_V1_State_Tax_Incentives_Modeled*Base_V1_Num_Vehicles_Modeled)/Base_V1_Num_Vehicles_Modeled),0)-Base_V1_Other_Incentives_Modeled-Base_V1_Down_Payment_Modeled),0)*12,0),0)","v":0},0,0,0,0,0,0,0,0,0,0,0,0,0,0,0,0,0,0,0,0,0,0,0,0]
[null,"Subtotal Loan Cash Flows",null,{"$f":"SUM(D24:D25)","v":0},{"$f":"SUM(E24:E25)","v":0},0,0,0,0,0,0,0,0,0,0,0,0,0,0,0,0,0,0,0,0,0,0,0,0]
[null,"Terminal Value",null,null,{"$f":"IF(OR(Base_V1_Has_Loan_Ex=TRUE,Base_V1_Has_Cash_Purchase_Ex=TRUE),IF((COLUMN(E4)-COLUMN($D4))=Base_V1_Years_Usage_Modeled,SUM(E6:E8),0),0)","v":0},0,0,0,0,0,2653.073269717524,0,0,0,0,0,0,0,0,0,0,0,0,0,0,0,0,0,0]
[]
[null,"Total Capital and Financing Costs",null,{"$f":"D12+D22+D28+D29","v":-18224},{"$f":"E12+E22+E28+E29","v":0},{"$f":"F12+F22+F28+F29","v":0},0,0,0,0,2653.073269717524,0,0,0,0,0,0,0,0,0,0,0,0,0,0,0,0,0,0]
[]
[null,"Fuel and Operating Costs"]
[null,"Fuel Cost",null,null,{"$f":"IF(COLUMN(E4)-COLUMN($E4)<Base_V1_Years_Usage_Modeled,-((Base_V1_Gas_Usage_Ex*Gasoline_Price_Modeled*Data!C$73)+(Base_V1_Electricity_Usage_Ex*Electricity_Price_Modeled*Data!C$75)),0)","v":-1025.9499999999998},{"$f":"IF(COLUMN(F4)-COLUMN($E4)<Base_V1_Years_Usage_Modeled,-((Base_V1_Gas_Usage_Ex*Gasoline_Price_Modeled*Data!D$73)+(Base_V1_Electricity_Usage_Ex*Electricity_Price_Modeled*Data!D$75)),0)","v":-1117.1543622292777},{"$f":"IF(COLUMN(G4)-COLUMN($E4)<Base_V1_Years_Usage_Modeled,-((Base_V1_Gas_Usage_Ex*Gasoline_Price_Modeled*Data!E$73)+(Base_V1_Electricity_Usage_Ex*Electricity_Price_Modeled*Data!E$75)),0)","v":-1199.215989477387},{"$f":"IF(COLUMN(H4)-COLUMN($E4)<Base_V1_Years_Usage_Modeled,-((Base_V1_Gas_Usage_Ex*Gasoline_Price_Modeled*Data!F$73)+(Base_V1_Electricity_Usage_Ex*Electricity_Price_Modeled*Data!F$75)),0)","v":-1319.7079459901779},{"$f":"IF(COLUMN(I4)-COLUMN($E4)<Base_V1_Years_Usage_Modeled,-((Base_V1_Gas_Usage_Ex*Gasoline_Price_Modeled*Data!G$73)+(Base_V1_Electricity_Usage_Ex*Electricity_Price_Modeled*Data!G$75)),0)","v":-1385.9524671876184},{"$f":"IF(COLUMN(J4)-COLUMN($E4)<Base_V1_Years_Usage_Modeled,-((Base_V1_Gas_Usage_Ex*Gasoline_Price_Modeled*Data!H$73)+(Base_V1_Electricity_Usage_Ex*Electricity_Price_Modeled*Data!H$75)),0)","v":-1429.8466024774036},{"$f":"IF(COLUMN(K4)-COLUMN($E4)<Base_V1_Years_Usage_Modeled,-((Base_V1_Gas_Usage_Ex*Gasoline_Price_Modeled*Data!I$73)+(Base_V1_Electricity_Usage_Ex*Electricity_Price_Modeled*Data!I$75)),0)","v":-1451.7399675846609},{"$f":"IF(COLUMN(L4)-COLUMN($E4)<Base_V1_Years_Usage_Modeled,-((Base_V1_Gas_Usage_Ex*Gasoline_Price_Modeled*Data!J$73)+(Base_V1_Electricity_Usage_Ex*Electricity_Price_Modeled*Data!J$75)),0)","v":0},{"$f":"IF(COLUMN(M4)-COLUMN($E4)<Base_V1_Years_Usage_Modeled,-((Base_V1_Gas_Usage_Ex*Gasoline_Price_Modeled*Data!K$73)+(Base_V1_Electricity_Usage_Ex*Electricity_Price_Modeled*Data!K$75)),0)","v":0},{"$f":"IF(COLUMN(N4)-COLUMN($E4)<Base_V1_Years_Usage_Modeled,-((Base_V1_Gas_Usage_Ex*Gasoline_Price_Modeled*Data!L$73)+(Base_V1_Electricity_Usage_Ex*Electricity_Price_Modeled*Data!L$75)),0)","v":0},{"$f":"IF(COLUMN(O4)-COLUMN($E4)<Base_V1_Years_Usage_Modeled,-((Base_V1_Gas_Usage_Ex*Gasoline_Price_Modeled*Data!M$73)+(Base_V1_Electricity_Usage_Ex*Electricity_Price_Modeled*Data!M$75)),0)","v":0},{"$f":"IF(COLUMN(P4)-COLUMN($E4)<Base_V1_Years_Usage_Modeled,-((Base_V1_Gas_Usage_Ex*Gasoline_Price_Modeled*Data!N$73)+(Base_V1_Electricity_Usage_Ex*Electricity_Price_Modeled*Data!N$75)),0)","v":0},{"$f":"IF(COLUMN(Q4)-COLUMN($E4)<Base_V1_Years_Usage_Modeled,-((Base_V1_Gas_Usage_Ex*Gasoline_Price_Modeled*Data!O$73)+(Base_V1_Electricity_Usage_Ex*Electricity_Price_Modeled*Data!O$75)),0)","v":0},{"$f":"IF(COLUMN(R4)-COLUMN($E4)<Base_V1_Years_Usage_Modeled,-((Base_V1_Gas_Usage_Ex*Gasoline_Price_Modeled*Data!P$73)+(Base_V1_Electricity_Usage_Ex*Electricity_Price_Modeled*Data!P$75)),0)","v":0},{"$f":"IF(COLUMN(S4)-COLUMN($E4)<Base_V1_Years_Usage_Modeled,-((Base_V1_Gas_Usage_Ex*Gasoline_Price_Modeled*Data!Q$73)+(Base_V1_Electricity_Usage_Ex*Electricity_Price_Modeled*Data!Q$75)),0)","v":0},{"$f":"IF(COLUMN(T4)-COLUMN($E4)<Base_V1_Years_Usage_Modeled,-((Base_V1_Gas_Usage_Ex*Gasoline_Price_Modeled*Data!R$73)+(Base_V1_Electricity_Usage_Ex*Electricity_Price_Modeled*Data!R$75)),0)","v":0},{"$f":"IF(COLUMN(U4)-COLUMN($E4)<Base_V1_Years_Usage_Modeled,-((Base_V1_Gas_Usage_Ex*Gasoline_Price_Modeled*Data!S$73)+(Base_V1_Electricity_Usage_Ex*Electricity_Price_Modeled*Data!S$75)),0)","v":0},{"$f":"IF(COLUMN(V4)-COLUMN($E4)<Base_V1_Years_Usage_Modeled,-((Base_V1_Gas_Usage_Ex*Gasoline_Price_Modeled*Data!T$73)+(Base_V1_Electricity_Usage_Ex*Electricity_Price_Modeled*Data!T$75)),0)","v":0},{"$f":"IF(COLUMN(W4)-COLUMN($E4)<Base_V1_Years_Usage_Modeled,-((Base_V1_Gas_Usage_Ex*Gasoline_Price_Modeled*Data!U$73)+(Base_V1_Electricity_Usage_Ex*Electricity_Price_Modeled*Data!U$75)),0)","v":0},{"$f":"IF(COLUMN(X4)-COLUMN($E4)<Base_V1_Years_Usage_Modeled,-((Base_V1_Gas_Usage_Ex*Gasoline_Price_Modeled*Data!V$73)+(Base_V1_Electricity_Usage_Ex*Electricity_Price_Modeled*Data!V$75)),0)","v":0},{"$f":"IF(COLUMN(Y4)-COLUMN($E4)<Base_V1_Years_Usage_Modeled,-((Base_V1_Gas_Usage_Ex*Gasoline_Price_Modeled*Data!W$73)+(Base_V1_Electricity_Usage_Ex*Electricity_Price_Modeled*Data!W$75)),0)","v":0},{"$f":"IF(COLUMN(Z4)-COLUMN($E4)<Base_V1_Years_Usage_Modeled,-((Base_V1_Gas_Usage_Ex*Gasoline_Price_Modeled*Data!X$73)+(Base_V1_Electricity_Usage_Ex*Electricity_Price_Modeled*Data!X$75)),0)","v":0},{"$f":"IF(COLUMN(AA4)-COLUMN($E4)<Base_V1_Years_Usage_Modeled,-((Base_V1_Gas_Usage_Ex*Gasoline_Price_Modeled*Data!Y$73)+(Base_V1_Electricity_Usage_Ex*Electricity_Price_Modeled*Data!Y$75)),0)","v":0},{"$f":"IF(COLUMN(AB4)-COLUMN($E4)<Base_V1_Years_Usage_Modeled,-((Base_V1_Gas_Usage_Ex*Gasoline_Price_Modeled*Data!Z$73)+(Base_V1_Electricity_Usage_Ex*Electricity_Price_Modeled*Data!Z$75)),0)","v":0},{"$f":"IF(COLUMN(AC4)-COLUMN($E4)<Base_V1_Years_Usage_Modeled,-((Base_V1_Gas_Usage_Ex*Gasoline_Price_Modeled*Data!AA$73)+(Base_V1_Electricity_Usage_Ex*Electricity_Price_Modeled*Data!AA$75)),0)","v":0}]
[null,"Maintenance and Repair Cost",null,null,{"$f":"-IF(_Base_V1_Maint_Repair_Cost_Use_Default=\"Yes\",IF(COLUMN(E4)-COLUMN($E4)<Base_V1_Years_Usage_Modeled,VLOOKUP(_Base_V1_Vehicle_Drivetrain,DB_Maint_Repair_Costs[],COLUMN(E4)-COLUMN($E4)+2,FALSE)*Base_V1_VMT_Modeled,0),IF(AND(COLUMN(E4)-COLUMN($E4)<Base_V1_Years_Usage_Modeled,COLUMN(E4)-COLUMN($E4)<5),Base_V1_Maint_Repair_Cost_Year_1_Modeled*Base_V1_VMT_Modeled,IF(AND(COLUMN(E4)-COLUMN($E4)<Base_V1_Years_Usage_Modeled,COLUMN(E4)-COLUMN($E4)>=5),Base_V1_Maint_Repair_Cost_Year_5_Modeled*Base_V1_VMT_Modeled,0)))*Data!C$81","v":-1200},{"$f":"-IF(_Base_V1_Maint_Repair_Cost_Use_Default=\"Yes\",IF(COLUMN(F4)-COLUMN($E4)<Base_V1_Years_Usage_Modeled,VLOOKUP(_Base_V1_Vehicle_Drivetrain,DB_Maint_Repair_Costs[],COLUMN(F4)-COLUMN($E4)+2,FALSE)*Base_V1_VMT_Modeled,0),IF(AND(COLUMN(F4)-COLUMN($E4)<Base_V1_Years_Usage_Modeled,COLUMN(F4)-COLUMN($E4)<5),Base_V1_Maint_Repair_Cost_Year_1_Modeled*Base_V1_VMT_Modeled,IF(AND(COLUMN(F4)-COLUMN($E4)<Base_V1_Years_Usage_Modeled,COLUMN(F4)-COLUMN($E4)>=5),Base_V1_Maint_Repair_Cost_Year_5_Modeled*Base_V1_VMT_Modeled,0)))*Data!D$81","v":-1224},{"$f":"-IF(_Base_V1_Maint_Repair_Cost_Use_Default=\"Yes\",IF(COLUMN(G4)-COLUMN($E4)<Base_V1_Years_Usage_Modeled,VLOOKUP(_Base_V1_Vehicle_Drivetrain,DB_Maint_Repair_Costs[],COLUMN(G4)-COLUMN($E4)+2,FALSE)*Base_V1_VMT_Modeled,0),IF(AND(COLUMN(G4)-COLUMN($E4)<Base_V1_Years_Usage_Modeled,COLUMN(G4)-COLUMN($E4)<5),Base_V1_Maint_Repair_Cost_Year_1_Modeled*Base_V1_VMT_Modeled,IF(AND(COLUMN(G4)-COLUMN($E4)<Base_V1_Years_Usage_Modeled,COLUMN(G4)-COLUMN($E4)>=5),Base_V1_Maint_Repair_Cost_Year_5_Modeled*Base_V1_VMT_Modeled,0)))*Data!E$81","v":-1248.48},{"$f":"-IF(_Base_V1_Maint_Repair_Cost_Use_Default=\"Yes\",IF(COLUMN(H4)-COLUMN($E4)<Base_V1_Years_Usage_Modeled,VLOOKUP(_Base_V1_Vehicle_Drivetrain,DB_Maint_Repair_Costs[],COLUMN(H4)-COLUMN($E4)+2,FALSE)*Base_V1_VMT_Modeled,0),IF(AND(COLUMN(H4)-COLUMN($E4)<Base_V1_Years_Usage_Modeled,COLUMN(H4)-COLUMN($E4)<5),Base_V1_Maint_Repair_Cost_Year_1_Modeled*Base_V1_VMT_Modeled,IF(AND(COLUMN(H4)-COLUMN($E4)<Base_V1_Years_Usage_Modeled,COLUMN(H4)-COLUMN($E4)>=5),Base_V1_Maint_Repair_Cost_Year_5_Modeled*Base_V1_VMT_Modeled,0)))*Data!F$81","v":-1273.4495999999999},{"$f":"-IF(_Base_V1_Maint_Repair_Cost_Use_Default=\"Yes\",IF(COLUMN(I4)-COLUMN($E4)<Base_V1_Years_Usage_Modeled,VLOOKUP(_Base_V1_Vehicle_Drivetrain,DB_Maint_Repair_Costs[],COLUMN(I4)-COLUMN($E4)+2,FALSE)*Base_V1_VMT_Modeled,0),IF(AND(COLUMN(I4)-COLUMN($E4)<Base_V1_Years_Usage_Modeled,COLUMN(I4)-COLUMN($E4)<5),Base_V1_Maint_Repair_Cost_Year_1_Modeled*Base_V1_VMT_Modeled,IF(AND(COLUMN(I4)-COLUMN($E4)<Base_V1_Years_Usage_Modeled,COLUMN(I4)-COLUMN($E4)>=5),Base_V1_Maint_Repair_Cost_Year_5_Modeled*Base_V1_VMT_Modeled,0)))*Data!G$81","v":-1298.918592},{"$f":"-IF(_Base_V1_Maint_Repair_Cost_Use_Default=\"Yes\",IF(COLUMN(J4)-COLUMN($E4)<Base_V1_Years_Usage_Modeled,VLOOKUP(_Base_V1_Vehicle_Drivetrain,DB_Maint_Repair_Costs[],COLUMN(J4)-COLUMN($E4)+2,FALSE)*Base_V1_VMT_Modeled,0),IF(AND(COLUMN(J4)-COLUMN($E4)<Base_V1_Years_Usage_Modeled,COLUMN(J4)-COLUMN($E4)<5),Base_V1_Maint_Repair_Cost_Year_1_Modeled*Base_V1_VMT_Modeled,IF(AND(COLUMN(J4)-COLUMN($E4)<Base_V1_Years_Usage_Modeled,COLUMN(J4)-COLUMN($E4)>=5),Base_V1_Maint_Repair_Cost_Year_5_Modeled*Base_V1_VMT_Modeled,0)))*Data!H$81","v":-1722.3660529920003},{"$f":"-IF(_Base_V1_Maint_Repair_Cost_Use_Default=\"Yes\",IF(COLUMN(K4)-COLUMN($E4)<Base_V1_Years_Usage_Modeled,VLOOKUP(_Base_V1_Vehicle_Drivetrain,DB_Maint_Repair_Costs[],COLUMN(K4)-COLUMN($E4)+2,FALSE)*Base_V1_VMT_Modeled,0),IF(AND(COLUMN(K4)-COLUMN($E4)<Base_V1_Years_Usage_Modeled,COLUMN(K4)-COLUMN($E4)<5),Base_V1_Maint_Repair_Cost_Year_1_Modeled*Base_V1_VMT_Modeled,IF(AND(COLUMN(K4)-COLUMN($E4)<Base_V1_Years_Usage_Modeled,COLUMN(K4)-COLUMN($E4)>=5),Base_V1_Maint_Repair_Cost_Year_5_Modeled*Base_V1_VMT_Modeled,0)))*Data!I$81","v":-1756.8133740518404},{"$f":"-IF(_Base_V1_Maint_Repair_Cost_Use_Default=\"Yes\",IF(COLUMN(L4)-COLUMN($E4)<Base_V1_Years_Usage_Modeled,VLOOKUP(_Base_V1_Vehicle_Drivetrain,DB_Maint_Repair_Costs[],COLUMN(L4)-COLUMN($E4)+2,FALSE)*Base_V1_VMT_Modeled,0),IF(AND(COLUMN(L4)-COLUMN($E4)<Base_V1_Years_Usage_Modeled,COLUMN(L4)-COLUMN($E4)<5),Base_V1_Maint_Repair_Cost_Year_1_Modeled*Base_V1_VMT_Modeled,IF(AND(COLUMN(L4)-COLUMN($E4)<Base_V1_Years_Usage_Modeled,COLUMN(L4)-COLUMN($E4)>=5),Base_V1_Maint_Repair_Cost_Year_5_Modeled*Base_V1_VMT_Modeled,0)))*Data!J$81","v":0},{"$f":"-IF(_Base_V1_Maint_Repair_Cost_Use_Default=\"Yes\",IF(COLUMN(M4)-COLUMN($E4)<Base_V1_Years_Usage_Modeled,VLOOKUP(_Base_V1_Vehicle_Drivetrain,DB_Maint_Repair_Costs[],COLUMN(M4)-COLUMN($E4)+2,FALSE)*Base_V1_VMT_Modeled,0),IF(AND(COLUMN(M4)-COLUMN($E4)<Base_V1_Years_Usage_Modeled,COLUMN(M4)-COLUMN($E4)<5),Base_V1_Maint_Repair_Cost_Year_1_Modeled*Base_V1_VMT_Modeled,IF(AND(COLUMN(M4)-COLUMN($E4)<Base_V1_Years_Usage_Modeled,COLUMN(M4)-COLUMN($E4)>=5),Base_V1_Maint_Repair_Cost_Year_5_Modeled*Base_V1_VMT_Modeled,0)))*Data!K$81","v":0},{"$f":"-IF(_Base_V1_Maint_Repair_Cost_Use_Default=\"Yes\",IF(COLUMN(N4)-COLUMN($E4)<Base_V1_Years_Usage_Modeled,VLOOKUP(_Base_V1_Vehicle_Drivetrain,DB_Maint_Repair_Costs[],COLUMN(N4)-COLUMN($E4)+2,FALSE)*Base_V1_VMT_Modeled,0),IF(AND(COLUMN(N4)-COLUMN($E4)<Base_V1_Years_Usage_Modeled,COLUMN(N4)-COLUMN($E4)<5),Base_V1_Maint_Repair_Cost_Year_1_Modeled*Base_V1_VMT_Modeled,IF(AND(COLUMN(N4)-COLUMN($E4)<Base_V1_Years_Usage_Modeled,COLUMN(N4)-COLUMN($E4)>=5),Base_V1_Maint_Repair_Cost_Year_5_Modeled*Base_V1_VMT_Modeled,0)))*Data!L$81","v":0},{"$f":"-IF(_Base_V1_Maint_Repair_Cost_Use_Default=\"Yes\",IF(COLUMN(O4)-COLUMN($E4)<Base_V1_Years_Usage_Modeled,VLOOKUP(_Base_V1_Vehicle_Drivetrain,DB_Maint_Repair_Costs[],COLUMN(O4)-COLUMN($E4)+2,FALSE)*Base_V1_VMT_Modeled,0),IF(AND(COLUMN(O4)-COLUMN($E4)<Base_V1_Years_Usage_Modeled,COLUMN(O4)-COLUMN($E4)<5),Base_V1_Maint_Repair_Cost_Year_1_Modeled*Base_V1_VMT_Modeled,IF(AND(COLUMN(O4)-COLUMN($E4)<Base_V1_Years_Usage_Modeled,COLUMN(O4)-COLUMN($E4)>=5),Base_V1_Maint_Repair_Cost_Year_5_Modeled*Base_V1_VMT_Modeled,0)))*Data!M$81","v":0},{"$f":"-IF(_Base_V1_Maint_Repair_Cost_Use_Default=\"Yes\",IF(COLUMN(P4)-COLUMN($E4)<Base_V1_Years_Usage_Modeled,VLOOKUP(_Base_V1_Vehicle_Drivetrain,DB_Maint_Repair_Costs[],COLUMN(P4)-COLUMN($E4)+2,FALSE)*Base_V1_VMT_Modeled,0),IF(AND(COLUMN(P4)-COLUMN($E4)<Base_V1_Years_Usage_Modeled,COLUMN(P4)-COLUMN($E4)<5),Base_V1_Maint_Repair_Cost_Year_1_Modeled*Base_V1_VMT_Modeled,IF(AND(COLUMN(P4)-COLUMN($E4)<Base_V1_Years_Usage_Modeled,COLUMN(P4)-COLUMN($E4)>=5),Base_V1_Maint_Repair_Cost_Year_5_Modeled*Base_V1_VMT_Modeled,0)))*Data!N$81","v":0},{"$f":"-IF(_Base_V1_Maint_Repair_Cost_Use_Default=\"Yes\",IF(COLUMN(Q4)-COLUMN($E4)<Base_V1_Years_Usage_Modeled,VLOOKUP(_Base_V1_Vehicle_Drivetrain,DB_Maint_Repair_Costs[],COLUMN(Q4)-COLUMN($E4)+2,FALSE)*Base_V1_VMT_Modeled,0),IF(AND(COLUMN(Q4)-COLUMN($E4)<Base_V1_Years_Usage_Modeled,COLUMN(Q4)-COLUMN($E4)<5),Base_V1_Maint_Repair_Cost_Year_1_Modeled*Base_V1_VMT_Modeled,IF(AND(COLUMN(Q4)-COLUMN($E4)<Base_V1_Years_Usage_Modeled,COLUMN(Q4)-COLUMN($E4)>=5),Base_V1_Maint_Repair_Cost_Year_5_Modeled*Base_V1_VMT_Modeled,0)))*Data!O$81","v":0},{"$f":"-IF(_Base_V1_Maint_Repair_Cost_Use_Default=\"Yes\",IF(COLUMN(R4)-COLUMN($E4)<Base_V1_Years_Usage_Modeled,VLOOKUP(_Base_V1_Vehicle_Drivetrain,DB_Maint_Repair_Costs[],COLUMN(R4)-COLUMN($E4)+2,FALSE)*Base_V1_VMT_Modeled,0),IF(AND(COLUMN(R4)-COLUMN($E4)<Base_V1_Years_Usage_Modeled,COLUMN(R4)-COLUMN($E4)<5),Base_V1_Maint_Repair_Cost_Year_1_Modeled*Base_V1_VMT_Modeled,IF(AND(COLUMN(R4)-COLUMN($E4)<Base_V1_Years_Usage_Modeled,COLUMN(R4)-COLUMN($E4)>=5),Base_V1_Maint_Repair_Cost_Year_5_Modeled*Base_V1_VMT_Modeled,0)))*Data!P$81","v":0},{"$f":"-IF(_Base_V1_Maint_Repair_Cost_Use_Default=\"Yes\",IF(COLUMN(S4)-COLUMN($E4)<Base_V1_Years_Usage_Modeled,VLOOKUP(_Base_V1_Vehicle_Drivetrain,DB_Maint_Repair_Costs[],COLUMN(S4)-COLUMN($E4)+2,FALSE)*Base_V1_VMT_Modeled,0),IF(AND(COLUMN(S4)-COLUMN($E4)<Base_V1_Years_Usage_Modeled,COLUMN(S4)-COLUMN($E4)<5),Base_V1_Maint_Repair_Cost_Year_1_Modeled*Base_V1_VMT_Modeled,IF(AND(COLUMN(S4)-COLUMN($E4)<Base_V1_Years_Usage_Modeled,COLUMN(S4)-COLUMN($E4)>=5),Base_V1_Maint_Repair_Cost_Year_5_Modeled*Base_V1_VMT_Modeled,0)))*Data!Q$81","v":0},{"$f":"-IF(_Base_V1_Maint_Repair_Cost_Use_Default=\"Yes\",IF(COLUMN(T4)-COLUMN($E4)<Base_V1_Years_Usage_Modeled,VLOOKUP(_Base_V1_Vehicle_Drivetrain,DB_Maint_Repair_Costs[],COLUMN(T4)-COLUMN($E4)+2,FALSE)*Base_V1_VMT_Modeled,0),IF(AND(COLUMN(T4)-COLUMN($E4)<Base_V1_Years_Usage_Modeled,COLUMN(T4)-COLUMN($E4)<5),Base_V1_Maint_Repair_Cost_Year_1_Modeled*Base_V1_VMT_Modeled,IF(AND(COLUMN(T4)-COLUMN($E4)<Base_V1_Years_Usage_Modeled,COLUMN(T4)-COLUMN($E4)>=5),Base_V1_Maint_Repair_Cost_Year_5_Modeled*Base_V1_VMT_Modeled,0)))*Data!R$81","v":0},{"$f":"-IF(_Base_V1_Maint_Repair_Cost_Use_Default=\"Yes\",IF(COLUMN(U4)-COLUMN($E4)<Base_V1_Years_Usage_Modeled,VLOOKUP(_Base_V1_Vehicle_Drivetrain,DB_Maint_Repair_Costs[],COLUMN(U4)-COLUMN($E4)+2,FALSE)*Base_V1_VMT_Modeled,0),IF(AND(COLUMN(U4)-COLUMN($E4)<Base_V1_Years_Usage_Modeled,COLUMN(U4)-COLUMN($E4)<5),Base_V1_Maint_Repair_Cost_Year_1_Modeled*Base_V1_VMT_Modeled,IF(AND(COLUMN(U4)-COLUMN($E4)<Base_V1_Years_Usage_Modeled,COLUMN(U4)-COLUMN($E4)>=5),Base_V1_Maint_Repair_Cost_Year_5_Modeled*Base_V1_VMT_Modeled,0)))*Data!S$81","v":0},{"$f":"-IF(_Base_V1_Maint_Repair_Cost_Use_Default=\"Yes\",IF(COLUMN(V4)-COLUMN($E4)<Base_V1_Years_Usage_Modeled,VLOOKUP(_Base_V1_Vehicle_Drivetrain,DB_Maint_Repair_Costs[],COLUMN(V4)-COLUMN($E4)+2,FALSE)*Base_V1_VMT_Modeled,0),IF(AND(COLUMN(V4)-COLUMN($E4)<Base_V1_Years_Usage_Modeled,COLUMN(V4)-COLUMN($E4)<5),Base_V1_Maint_Repair_Cost_Year_1_Modeled*Base_V1_VMT_Modeled,IF(AND(COLUMN(V4)-COLUMN($E4)<Base_V1_Years_Usage_Modeled,COLUMN(V4)-COLUMN($E4)>=5),Base_V1_Maint_Repair_Cost_Year_5_Modeled*Base_V1_VMT_Modeled,0)))*Data!T$81","v":0},{"$f":"-IF(_Base_V1_Maint_Repair_Cost_Use_Default=\"Yes\",IF(COLUMN(W4)-COLUMN($E4)<Base_V1_Years_Usage_Modeled,VLOOKUP(_Base_V1_Vehicle_Drivetrain,DB_Maint_Repair_Costs[],COLUMN(W4)-COLUMN($E4)+2,FALSE)*Base_V1_VMT_Modeled,0),IF(AND(COLUMN(W4)-COLUMN($E4)<Base_V1_Years_Usage_Modeled,COLUMN(W4)-COLUMN($E4)<5),Base_V1_Maint_Repair_Cost_Year_1_Modeled*Base_V1_VMT_Modeled,IF(AND(COLUMN(W4)-COLUMN($E4)<Base_V1_Years_Usage_Modeled,COLUMN(W4)-COLUMN($E4)>=5),Base_V1_Maint_Repair_Cost_Year_5_Modeled*Base_V1_VMT_Modeled,0)))*Data!U$81","v":0},{"$f":"-IF(_Base_V1_Maint_Repair_Cost_Use_Default=\"Yes\",IF(COLUMN(X4)-COLUMN($E4)<Base_V1_Years_Usage_Modeled,VLOOKUP(_Base_V1_Vehicle_Drivetrain,DB_Maint_Repair_Costs[],COLUMN(X4)-COLUMN($E4)+2,FALSE)*Base_V1_VMT_Modeled,0),IF(AND(COLUMN(X4)-COLUMN($E4)<Base_V1_Years_Usage_Modeled,COLUMN(X4)-COLUMN($E4)<5),Base_V1_Maint_Repair_Cost_Year_1_Modeled*Base_V1_VMT_Modeled,IF(AND(COLUMN(X4)-COLUMN($E4)<Base_V1_Years_Usage_Modeled,COLUMN(X4)-COLUMN($E4)>=5),Base_V1_Maint_Repair_Cost_Year_5_Modeled*Base_V1_VMT_Modeled,0)))*Data!V$81","v":0},{"$f":"-IF(_Base_V1_Maint_Repair_Cost_Use_Default=\"Yes\",IF(COLUMN(Y4)-COLUMN($E4)<Base_V1_Years_Usage_Modeled,VLOOKUP(_Base_V1_Vehicle_Drivetrain,DB_Maint_Repair_Costs[],COLUMN(Y4)-COLUMN($E4)+2,FALSE)*Base_V1_VMT_Modeled,0),IF(AND(COLUMN(Y4)-COLUMN($E4)<Base_V1_Years_Usage_Modeled,COLUMN(Y4)-COLUMN($E4)<5),Base_V1_Maint_Repair_Cost_Year_1_Modeled*Base_V1_VMT_Modeled,IF(AND(COLUMN(Y4)-COLUMN($E4)<Base_V1_Years_Usage_Modeled,COLUMN(Y4)-COLUMN($E4)>=5),Base_V1_Maint_Repair_Cost_Year_5_Modeled*Base_V1_VMT_Modeled,0)))*Data!W$81","v":0},{"$f":"-IF(_Base_V1_Maint_Repair_Cost_Use_Default=\"Yes\",IF(COLUMN(Z4)-COLUMN($E4)<Base_V1_Years_Usage_Modeled,VLOOKUP(_Base_V1_Vehicle_Drivetrain,DB_Maint_Repair_Costs[],COLUMN(Z4)-COLUMN($E4)+2,FALSE)*Base_V1_VMT_Modeled,0),IF(AND(COLUMN(Z4)-COLUMN($E4)<Base_V1_Years_Usage_Modeled,COLUMN(Z4)-COLUMN($E4)<5),Base_V1_Maint_Repair_Cost_Year_1_Modeled*Base_V1_VMT_Modeled,IF(AND(COLUMN(Z4)-COLUMN($E4)<Base_V1_Years_Usage_Modeled,COLUMN(Z4)-COLUMN($E4)>=5),Base_V1_Maint_Repair_Cost_Year_5_Modeled*Base_V1_VMT_Modeled,0)))*Data!X$81","v":0},{"$f":"-IF(_Base_V1_Maint_Repair_Cost_Use_Default=\"Yes\",IF(COLUMN(AA4)-COLUMN($E4)<Base_V1_Years_Usage_Modeled,VLOOKUP(_Base_V1_Vehicle_Drivetrain,DB_Maint_Repair_Costs[],COLUMN(AA4)-COLUMN($E4)+2,FALSE)*Base_V1_VMT_Modeled,0),IF(AND(COLUMN(AA4)-COLUMN($E4)<Base_V1_Years_Usage_Modeled,COLUMN(AA4)-COLUMN($E4)<5),Base_V1_Maint_Repair_Cost_Year_1_Modeled*Base_V1_VMT_Modeled,IF(AND(COLUMN(AA4)-COLUMN($E4)<Base_V1_Years_Usage_Modeled,COLUMN(AA4)-COLUMN($E4)>=5),Base_V1_Maint_Repair_Cost_Year_5_Modeled*Base_V1_VMT_Modeled,0)))*Data!Y$81","v":0},{"$f":"-IF(_Base_V1_Maint_Repair_Cost_Use_Default=\"Yes\",IF(COLUMN(AB4)-COLUMN($E4)<Base_V1_Years_Usage_Modeled,VLOOKUP(_Base_V1_Vehicle_Drivetrain,DB_Maint_Repair_Costs[],COLUMN(AB4)-COLUMN($E4)+2,FALSE)*Base_V1_VMT_Modeled,0),IF(AND(COLUMN(AB4)-COLUMN($E4)<Base_V1_Years_Usage_Modeled,COLUMN(AB4)-COLUMN($E4)<5),Base_V1_Maint_Repair_Cost_Year_1_Modeled*Base_V1_VMT_Modeled,IF(AND(COLUMN(AB4)-COLUMN($E4)<Base_V1_Years_Usage_Modeled,COLUMN(AB4)-COLUMN($E4)>=5),Base_V1_Maint_Repair_Cost_Year_5_Modeled*Base_V1_VMT_Modeled,0)))*Data!Z$81","v":0},{"$f":"-IF(_Base_V1_Maint_Repair_Cost_Use_Default=\"Yes\",IF(COLUMN(AC4)-COLUMN($E4)<Base_V1_Years_Usage_Modeled,VLOOKUP(_Base_V1_Vehicle_Drivetrain,DB_Maint_Repair_Costs[],COLUMN(AC4)-COLUMN($E4)+2,FALSE)*Base_V1_VMT_Modeled,0),IF(AND(COLUMN(AC4)-COLUMN($E4)<Base_V1_Years_Usage_Modeled,COLUMN(AC4)-COLUMN($E4)<5),Base_V1_Maint_Repair_Cost_Year_1_Modeled*Base_V1_VMT_Modeled,IF(AND(COLUMN(AC4)-COLUMN($E4)<Base_V1_Years_Usage_Modeled,COLUMN(AC4)-COLUMN($E4)>=5),Base_V1_Maint_Repair_Cost_Year_5_Modeled*Base_V1_VMT_Modeled,0)))*Data!AA$81","v":0}]
[null,"Taxes and Fees",null,{"$f":"-Base_V1_Initial_Taxes_Fees_Modeled-(Base_V1_Initial_Percent_Base_Price_Modeled*Base_V1_Base_Price_Ex)","v":-1000},{"$f":"-IF(COLUMN(E4)-COLUMN($E4)<Base_V1_Years_Usage_Modeled,Base_V1_Taxes_Fees_Modeled,0)*Data!C$81","v":-10},{"$f":"-IF(COLUMN(F4)-COLUMN($E4)<Base_V1_Years_Usage_Modeled,Base_V1_Taxes_Fees_Modeled,0)*Data!D$81","v":-10.199999999999999},{"$f":"-IF(COLUMN(G4)-COLUMN($E4)<Base_V1_Years_Usage_Modeled,Base_V1_Taxes_Fees_Modeled,0)*Data!E$81","v":-10.404},{"$f":"-IF(COLUMN(H4)-COLUMN($E4)<Base_V1_Years_Usage_Modeled,Base_V1_Taxes_Fees_Modeled,0)*Data!F$81","v":-10.612079999999999},{"$f":"-IF(COLUMN(I4)-COLUMN($E4)<Base_V1_Years_Usage_Modeled,Base_V1_Taxes_Fees_Modeled,0)*Data!G$81","v":-10.824321599999999},{"$f":"-IF(COLUMN(J4)-COLUMN($E4)<Base_V1_Years_Usage_Modeled,Base_V1_Taxes_Fees_Modeled,0)*Data!H$81","v":-11.040808032000001},{"$f":"-IF(COLUMN(K4)-COLUMN($E4)<Base_V1_Years_Usage_Modeled,Base_V1_Taxes_Fees_Modeled,0)*Data!I$81","v":-11.261624192640001},{"$f":"-IF(COLUMN(L4)-COLUMN($E4)<Base_V1_Years_Usage_Modeled,Base_V1_Taxes_Fees_Modeled,0)*Data!J$81","v":0},{"$f":"-IF(COLUMN(M4)-COLUMN($E4)<Base_V1_Years_Usage_Modeled,Base_V1_Taxes_Fees_Modeled,0)*Data!K$81","v":0},{"$f":"-IF(COLUMN(N4)-COLUMN($E4)<Base_V1_Years_Usage_Modeled,Base_V1_Taxes_Fees_Modeled,0)*Data!L$81","v":0},{"$f":"-IF(COLUMN(O4)-COLUMN($E4)<Base_V1_Years_Usage_Modeled,Base_V1_Taxes_Fees_Modeled,0)*Data!M$81","v":0},{"$f":"-IF(COLUMN(P4)-COLUMN($E4)<Base_V1_Years_Usage_Modeled,Base_V1_Taxes_Fees_Modeled,0)*Data!N$81","v":0},{"$f":"-IF(COLUMN(Q4)-COLUMN($E4)<Base_V1_Years_Usage_Modeled,Base_V1_Taxes_Fees_Modeled,0)*Data!O$81","v":0},{"$f":"-IF(COLUMN(R4)-COLUMN($E4)<Base_V1_Years_Usage_Modeled,Base_V1_Taxes_Fees_Modeled,0)*Data!P$81","v":0},{"$f":"-IF(COLUMN(S4)-COLUMN($E4)<Base_V1_Years_Usage_Modeled,Base_V1_Taxes_Fees_Modeled,0)*Data!Q$81","v":0},{"$f":"-IF(COLUMN(T4)-COLUMN($E4)<Base_V1_Years_Usage_Modeled,Base_V1_Taxes_Fees_Modeled,0)*Data!R$81","v":0},{"$f":"-IF(COLUMN(U4)-COLUMN($E4)<Base_V1_Years_Usage_Modeled,Base_V1_Taxes_Fees_Modeled,0)*Data!S$81","v":0},{"$f":"-IF(COLUMN(V4)-COLUMN($E4)<Base_V1_Years_Usage_Modeled,Base_V1_Taxes_Fees_Modeled,0)*Data!T$81","v":0},{"$f":"-IF(COLUMN(W4)-COLUMN($E4)<Base_V1_Years_Usage_Modeled,Base_V1_Taxes_Fees_Modeled,0)*Data!U$81","v":0},{"$f":"-IF(COLUMN(X4)-COLUMN($E4)<Base_V1_Years_Usage_Modeled,Base_V1_Taxes_Fees_Modeled,0)*Data!V$81","v":0},{"$f":"-IF(COLUMN(Y4)-COLUMN($E4)<Base_V1_Years_Usage_Modeled,Base_V1_Taxes_Fees_Modeled,0)*Data!W$81","v":0},{"$f":"-IF(COLUMN(Z4)-COLUMN($E4)<Base_V1_Years_Usage_Modeled,Base_V1_Taxes_Fees_Modeled,0)*Data!X$81","v":0},{"$f":"-IF(COLUMN(AA4)-COLUMN($E4)<Base_V1_Years_Usage_Modeled,Base_V1_Taxes_Fees_Modeled,0)*Data!Y$81","v":0},{"$f":"-IF(COLUMN(AB4)-COLUMN($E4)<Base_V1_Years_Usage_Modeled,Base_V1_Taxes_Fees_Modeled,0)*Data!Z$81","v":0},{"$f":"-IF(COLUMN(AC4)-COLUMN($E4)<Base_V1_Years_Usage_Modeled,Base_V1_Taxes_Fees_Modeled,0)*Data!AA$81","v":0}]
[null,"Insurance Cost",null,null,{"$f":"-IF(COLUMN(E4)-COLUMN($E4)<Base_V1_Years_Usage_Modeled,Base_V1_Insurance_Cost_Modeled,0)*Data!C$81","v":-1222},{"$f":"-IF(COLUMN(F4)-COLUMN($E4)<Base_V1_Years_Usage_Modeled,Base_V1_Insurance_Cost_Modeled,0)*Data!D$81","v":-1246.44},{"$f":"-IF(COLUMN(G4)-COLUMN($E4)<Base_V1_Years_Usage_Modeled,Base_V1_Insurance_Cost_Modeled,0)*Data!E$81","v":-1271.3688},{"$f":"-IF(COLUMN(H4)-COLUMN($E4)<Base_V1_Years_Usage_Modeled,Base_V1_Insurance_Cost_Modeled,0)*Data!F$81","v":-1296.7961759999998},{"$f":"-IF(COLUMN(I4)-COLUMN($E4)<Base_V1_Years_Usage_Modeled,Base_V1_Insurance_Cost_Modeled,0)*Data!G$81","v":-1322.73209952},{"$f":"-IF(COLUMN(J4)-COLUMN($E4)<Base_V1_Years_Usage_Modeled,Base_V1_Insurance_Cost_Modeled,0)*Data!H$81","v":-1349.1867415104},{"$f":"-IF(COLUMN(K4)-COLUMN($E4)<Base_V1_Years_Usage_Modeled,Base_V1_Insurance_Cost_Modeled,0)*Data!I$81","v":-1376.170476340608},{"$f":"-IF(COLUMN(L4)-COLUMN($E4)<Base_V1_Years_Usage_Modeled,Base_V1_Insurance_Cost_Modeled,0)*Data!J$81","v":0},{"$f":"-IF(COLUMN(M4)-COLUMN($E4)<Base_V1_Years_Usage_Modeled,Base_V1_Insurance_Cost_Modeled,0)*Data!K$81","v":0},{"$f":"-IF(COLUMN(N4)-COLUMN($E4)<Base_V1_Years_Usage_Modeled,Base_V1_Insurance_Cost_Modeled,0)*Data!L$81","v":0},{"$f":"-IF(COLUMN(O4)-COLUMN($E4)<Base_V1_Years_Usage_Modeled,Base_V1_Insurance_Cost_Modeled,0)*Data!M$81","v":0},{"$f":"-IF(COLUMN(P4)-COLUMN($E4)<Base_V1_Years_Usage_Modeled,Base_V1_Insurance_Cost_Modeled,0)*Data!N$81","v":0},{"$f":"-IF(COLUMN(Q4)-COLUMN($E4)<Base_V1_Years_Usage_Modeled,Base_V1_Insurance_Cost_Modeled,0)*Data!O$81","v":0},{"$f":"-IF(COLUMN(R4)-COLUMN($E4)<Base_V1_Years_Usage_Modeled,Base_V1_Insurance_Cost_Modeled,0)*Data!P$81","v":0},{"$f":"-IF(COLUMN(S4)-COLUMN($E4)<Base_V1_Years_Usage_Modeled,Base_V1_Insurance_Cost_Modeled,0)*Data!Q$81","v":0},{"$f":"-IF(COLUMN(T4)-COLUMN($E4)<Base_V1_Years_Usage_Modeled,Base_V1_Insurance_Cost_Modeled,0)*Data!R$81","v":0},{"$f":"-IF(COLUMN(U4)-COLUMN($E4)<Base_V1_Years_Usage_Modeled,Base_V1_Insurance_Cost_Modeled,0)*Data!S$81","v":0},{"$f":"-IF(COLUMN(V4)-COLUMN($E4)<Base_V1_Years_Usage_Modeled,Base_V1_Insurance_Cost_Modeled,0)*Data!T$81","v":0},{"$f":"-IF(COLUMN(W4)-COLUMN($E4)<Base_V1_Years_Usage_Modeled,Base_V1_Insurance_Cost_Modeled,0)*Data!U$81","v":0},{"$f":"-IF(COLUMN(X4)-COLUMN($E4)<Base_V1_Years_Usage_Modeled,Base_V1_Insurance_Cost_Modeled,0)*Data!V$81","v":0},{"$f":"-IF(COLUMN(Y4)-COLUMN($E4)<Base_V1_Years_Usage_Modeled,Base_V1_Insurance_Cost_Modeled,0)*Data!W$81","v":0},{"$f":"-IF(COLUMN(Z4)-COLUMN($E4)<Base_V1_Years_Usage_Modeled,Base_V1_Insurance_Cost_Modeled,0)*Data!X$81","v":0},{"$f":"-IF(COLUMN(AA4)-COLUMN($E4)<Base_V1_Years_Usage_Modeled,Base_V1_Insurance_Cost_Modeled,0)*Data!Y$81","v":0},{"$f":"-IF(COLUMN(AB4)-COLUMN($E4)<Base_V1_Years_Usage_Modeled,Base_V1_Insurance_Cost_Modeled,0)*Data!Z$81","v":0},{"$f":"-IF(COLUMN(AC4)-COLUMN($E4)<Base_V1_Years_Usage_Modeled,Base_V1_Insurance_Cost_Modeled,0)*Data!AA$81","v":0}]
[null,"Subtotal Fuel and Operating Costs",null,{"$f":"SUM(D34:D37)","v":-1000},-3457.95,-3597.7943622292773,-3729.468789477387,-3900.5658019901775,-4018.4274803076187,-4512.4402050118042,-4595.9854421697491,0,0,0,0,0,0,0,0,0,0,0,0,0,0,0,0,0,0]
[]
[null,"Other Costs"]
[null,"Cost of Carbon",null,null,{"$f":"-IF(COLUMN(E4)-COLUMN($E4)<Base_V1_Years_Usage_Modeled,Base_V1_CO2_Ex/2204.62*Carbon_Price_Modeled,0)","v":0},0,0,0,0,0,0,0,0,0,0,0,0,0,0,0,0,0,0,0,0,0,0,0,0]
[null,"Subtotal Other Costs",null,{"$f":"SUM(D41:D41)","v":0},0,0,0,0,0,0,0,0,0,0,0,0,0,0,0,0,0,0,0,0,0,0,0,0,{"$f":"SUM(AC41:AC41)","v":0}]
[]
[null,"Total Discounted Costs"]
[null,"Total Annual Costs",null,{"$f":"D31+D38+D42","v":-19224},-3457.95,-3597.7943622292773,-3729.468789477387,-3900.5658019901775,-4018.4274803076187,-4512.4402050118042,-1942.9121724522251,0,0,0,0,0,0,0,0,0,0,0,0,0,0,0,0,0,0]
[null,"Discount Factor",{"$f":"Base_Discount_Rate_Modeled","v":0},{"$f":"(1/(1+$C46))^(COLUMN(D4)-COLUMN($D4))","v":1},1,1,1,1,1,1,1,1,1,1,1,1,1,1,1,1,1,1,1,1,1,1,1,1,1]
[null,"Discounted Total",null,{"$f":"D45*D46","v":-19224},{"$f":"E45*E46","v":-3457.95},{"$f":"F45*F46","v":-3597.7943622292773},-3729.468789477387,-3900.5658019901775,-4018.4274803076187,-4512.4402050118042,-1942.9121724522251,0,0,0,0,0,0,0,0,0,0,0,0,0,0,0,0,0,0]
[null,"Cumulative Discounted Total",null,{"$f":"IF((COLUMN(D4)-COLUMN($D4))<=Base_V1_Years_Usage_Modeled,C48+D47,0)","v":-19224},-22681.95,-26279.744362229278,-30009.213151706666,-33909.778953696841,-37928.20643400446,-42440.646639016268,-44383.558811468494,0,0,0,0,0,0,0,0,0,0,0,0,0,0,0,0,0,0]
[null,"Annualized NPV Total Cost of Ownership",null,{"$f":"OFFSET($D48,0,Base_V1_Years_Usage_Modeled)/Base_V1_Years_Usage_Modeled","v":-6340.5084016383562}]
[]
[null,"Baseline EV Infrastructure"]
[null,null,null,"Year 0","Year 1 ","Year 2","Year 3","Year 4","Year 5","Year 6","Year 7","Year 8","Year 9","Year 10","Year 11","Year 12","Year 13","Year 14","Year 15","Year 16","Year 17","Year 18","Year 19","Year 20","Year 21","Year 22","Year 23","Year 24","Year 25"]
[null,"Capital and Financing Costs"]
[null,"Cash "]
[null,"Cash Payment",null,{"$f":"IF(AND(Base_Inf_Has_Cash_Purchase_Ex=TRUE,_Base_Include_Charging=\"Yes\"),-Base_Num_Stations_Modeled*Base_Station_Cost_Modeled,0)","v":0}]
[null,"Loan"]
[null,"Down Payment",null,{"$f":"IF(AND(Base_Inf_Has_Cash_Purchase_Ex=FALSE,_Base_Include_Charging=\"Yes\"),-Base_Inf_Down_Payment_Modeled,0)","v":0}]
[null,"Loan Payments",null,null,{"$f":"IF(AND(Base_Inf_Has_Cash_Purchase_Ex=FALSE,_Base_Include_Charging=\"Yes\",(COLUMN(E52)-COLUMN($E52))<Base_Inf_Loan_Term_Modeled),PMT(Base_Inf_Loan_APR_Modeled/12,Base_Inf_Loan_Term_Modeled*12,(Base_Num_Stations_Modeled*Base_Station_Cost_Modeled)-Base_Inf_Down_Payment_Modeled,0)*12,0)","v":0},0,0,0,0,0,0,0,0,0,0,0,0,0,0,0,0,0,0,0,0,0,0,0,0]
[null,"Subtotal Loan Cash Flows",null,{"$f":"SUM(D57:D58)","v":0},{"$f":"SUM(E57:E58)","v":0},0,0,0,0,0,0,0,0,0,0,0,0,0,0,0,0,0,0,0,0,0,0,0,0]
[]
[null,"Total Capital and Financing Costs",null,{"$f":"D55+D59","v":0},{"$f":"E55+E59","v":0},0,0,0,0,0,0,0,0,0,0,0,0,0,0,0,0,0,0,0,0,0,0,0,0]
[]
[null,"Operating Costs"]
[null,"Maintenance Cost",null,null,{"$f":"-IF(AND(COLUMN(E52)-COLUMN($E52)<Base_V1_Years_Usage_Modeled,_Base_Include_Charging=\"Yes\"),Base_Station_Maint_Cost_Modeled*Base_Num_Stations_Modeled,0)*Data!C$81","v":0},{"$f":"-IF(AND(COLUMN(F52)-COLUMN($E52)<Base_V1_Years_Usage_Modeled,_Base_Include_Charging=\"Yes\"),Base_Station_Maint_Cost_Modeled*Base_Num_Stations_Modeled,0)*Data!D$81","v":0},{"$f":"-IF(AND(COLUMN(G52)-COLUMN($E52)<Base_V1_Years_Usage_Modeled,_Base_Include_Charging=\"Yes\"),Base_Station_Maint_Cost_Modeled*Base_Num_Stations_Modeled,0)*Data!E$81","v":0},{"$f":"-IF(AND(COLUMN(H52)-COLUMN($E52)<Base_V1_Years_Usage_Modeled,_Base_Include_Charging=\"Yes\"),Base_Station_Maint_Cost_Modeled*Base_Num_Stations_Modeled,0)*Data!F$81","v":0},{"$f":"-IF(AND(COLUMN(I52)-COLUMN($E52)<Base_V1_Years_Usage_Modeled,_Base_Include_Charging=\"Yes\"),Base_Station_Maint_Cost_Modeled*Base_Num_Stations_Modeled,0)*Data!G$81","v":0},{"$f":"-IF(AND(COLUMN(J52)-COLUMN($E52)<Base_V1_Years_Usage_Modeled,_Base_Include_Charging=\"Yes\"),Base_Station_Maint_Cost_Modeled*Base_Num_Stations_Modeled,0)*Data!H$81","v":0},{"$f":"-IF(AND(COLUMN(K52)-COLUMN($E52)<Base_V1_Years_Usage_Modeled,_Base_Include_Charging=\"Yes\"),Base_Station_Maint_Cost_Modeled*Base_Num_Stations_Modeled,0)*Data!I$81","v":0},{"$f":"-IF(AND(COLUMN(L52)-COLUMN($E52)<Base_V1_Years_Usage_Modeled,_Base_Include_Charging=\"Yes\"),Base_Station_Maint_Cost_Modeled*Base_Num_Stations_Modeled,0)*Data!J$81","v":0},{"$f":"-IF(AND(COLUMN(M52)-COLUMN($E52)<Base_V1_Years_Usage_Modeled,_Base_Include_Charging=\"Yes\"),Base_Station_Maint_Cost_Modeled*Base_Num_Stations_Modeled,0)*Data!K$81","v":0},{"$f":"-IF(AND(COLUMN(N52)-COLUMN($E52)<Base_V1_Years_Usage_Modeled,_Base_Include_Charging=\"Yes\"),Base_Station_Maint_Cost_Modeled*Base_Num_Stations_Modeled,0)*Data!L$81","v":0},{"$f":"-IF(AND(COLUMN(O52)-COLUMN($E52)<Base_V1_Years_Usage_Modeled,_Base_Include_Charging=\"Yes\"),Base_Station_Maint_Cost_Modeled*Base_Num_Stations_Modeled,0)*Data!M$81","v":0},{"$f":"-IF(AND(COLUMN(P52)-COLUMN($E52)<Base_V1_Years_Usage_Modeled,_Base_Include_Charging=\"Yes\"),Base_Station_Maint_Cost_Modeled*Base_Num_Stations_Modeled,0)*Data!N$81","v":0},{"$f":"-IF(AND(COLUMN(Q52)-COLUMN($E52)<Base_V1_Years_Usage_Modeled,_Base_Include_Charging=\"Yes\"),Base_Station_Maint_Cost_Modeled*Base_Num_Stations_Modeled,0)*Data!O$81","v":0},{"$f":"-IF(AND(COLUMN(R52)-COLUMN($E52)<Base_V1_Years_Usage_Modeled,_Base_Include_Charging=\"Yes\"),Base_Station_Maint_Cost_Modeled*Base_Num_Stations_Modeled,0)*Data!P$81","v":0},{"$f":"-IF(AND(COLUMN(S52)-COLUMN($E52)<Base_V1_Years_Usage_Modeled,_Base_Include_Charging=\"Yes\"),Base_Station_Maint_Cost_Modeled*Base_Num_Stations_Modeled,0)*Data!Q$81","v":0},{"$f":"-IF(AND(COLUMN(T52)-COLUMN($E52)<Base_V1_Years_Usage_Modeled,_Base_Include_Charging=\"Yes\"),Base_Station_Maint_Cost_Modeled*Base_Num_Stations_Modeled,0)*Data!R$81","v":0},{"$f":"-IF(AND(COLUMN(U52)-COLUMN($E52)<Base_V1_Years_Usage_Modeled,_Base_Include_Charging=\"Yes\"),Base_Station_Maint_Cost_Modeled*Base_Num_Stations_Modeled,0)*Data!S$81","v":0},{"$f":"-IF(AND(COLUMN(V52)-COLUMN($E52)<Base_V1_Years_Usage_Modeled,_Base_Include_Charging=\"Yes\"),Base_Station_Maint_Cost_Modeled*Base_Num_Stations_Modeled,0)*Data!T$81","v":0},{"$f":"-IF(AND(COLUMN(W52)-COLUMN($E52)<Base_V1_Years_Usage_Modeled,_Base_Include_Charging=\"Yes\"),Base_Station_Maint_Cost_Modeled*Base_Num_Stations_Modeled,0)*Data!U$81","v":0},{"$f":"-IF(AND(COLUMN(X52)-COLUMN($E52)<Base_V1_Years_Usage_Modeled,_Base_Include_Charging=\"Yes\"),Base_Station_Maint_Cost_Modeled*Base_Num_Stations_Modeled,0)*Data!V$81","v":0},{"$f":"-IF(AND(COLUMN(Y52)-COLUMN($E52)<Base_V1_Years_Usage_Modeled,_Base_Include_Charging=\"Yes\"),Base_Station_Maint_Cost_Modeled*Base_Num_Stations_Modeled,0)*Data!W$81","v":0},{"$f":"-IF(AND(COLUMN(Z52)-COLUMN($E52)<Base_V1_Years_Usage_Modeled,_Base_Include_Charging=\"Yes\"),Base_Station_Maint_Cost_Modeled*Base_Num_Stations_Modeled,0)*Data!X$81","v":0},{"$f":"-IF(AND(COLUMN(AA52)-COLUMN($E52)<Base_V1_Years_Usage_Modeled,_Base_Include_Charging=\"Yes\"),Base_Station_Maint_Cost_Modeled*Base_Num_Stations_Modeled,0)*Data!Y$81","v":0},{"$f":"-IF(AND(COLUMN(AB52)-COLUMN($E52)<Base_V1_Years_Usage_Modeled,_Base_Include_Charging=\"Yes\"),Base_Station_Maint_Cost_Modeled*Base_Num_Stations_Modeled,0)*Data!Z$81","v":0},{"$f":"-IF(AND(COLUMN(AC52)-COLUMN($E52)<Base_V1_Years_Usage_Modeled,_Base_Include_Charging=\"Yes\"),Base_Station_Maint_Cost_Modeled*Base_Num_Stations_Modeled,0)*Data!AA$81","v":0}]
[null,"Subtotal Operating Costs",null,null,{"$f":"SUM(E64:E64)","v":0},0,0,0,0,0,0,0,0,0,0,0,0,0,0,0,0,0,0,0,0,0,0,0,0]
[null,"Total Discounted Costs"]
[null,"Total Annual Costs",null,{"$f":"D61+D65","v":0},{"$f":"E61+E65","v":0},0,0,0,0,0,0,0,0,0,0,0,0,0,0,0,0,0,0,0,0,0,0,0,0]
[null,"Discount Factor",{"$f":"Base_Discount_Rate_Modeled","v":0},{"$f":"(1/(1+$C68))^(COLUMN(D52)-COLUMN($D52))","v":1},1,1,1,1,1,1,1,1,1,1,1,1,1,1,1,1,1,1,1,1,1,1,1,1,1]
[null,"Discounted Total",null,{"$f":"D67*D68","v":0},{"$f":"E67*E68","v":0},{"$f":"F67*F68","v":0},0,0,0,0,0,0,0,0,0,0,0,0,0,0,0,0,0,0,0,0,0,0,0]
[null,"Cumulative Discounted Total",null,{"$f":"IF((COLUMN(D52)-COLUMN($D52))<=Base_V1_Years_Usage_Modeled,C70+D69,0)","v":0},0,0,0,0,0,0,0,0,0,0,0,0,0,0,0,0,0,0,0,0,0,0,0,0,0]
[null,"Annualized NPV Total Cost of Ownership",null,{"$f":"OFFSET($D70,0,Base_V1_Years_Usage_Modeled)/Base_V1_Years_Usage_Modeled","v":0}]
[]
[null,"Comparison Vehicle 1"]
[null,null,null,"Year 0","Year 1 ","Year 2","Year 3","Year 4","Year 5","Year 6","Year 7","Year 8","Year 9","Year 10","Year 11","Year 12","Year 13","Year 14","Year 15","Year 16","Year 17","Year 18","Year 19","Year 20","Year 21","Year 22","Year 23","Year 24","Year 25"]
[null,"Depreciation Calculations"]
[null,"Fair Market Value - BEV",null,{"$f":"IF(VLOOKUP(Comp_V1_Type_Ex,DB_Vehicles[],COLUMN(DB_Vehicles[[#Headers],[Drivetrain Type]]),FALSE)=\"BEV\",Comp_V1_MSRP_Modeled,0)","v":36620},{"$f":"IF(VLOOKUP(Comp_V1_Type_Ex,DB_Vehicles[],COLUMN(DB_Vehicles[[#Headers],[Drivetrain Type]]),FALSE)=\"BEV\",MAX(IF(VLOOKUP(Comp_V1_Type_Ex,DB_Vehicles[],COLUMN(DB_Vehicles[[#Headers],[Drivetrain Type]]),FALSE)=\"BEV\",Reg_BEV_Const_Ex+Reg_BEV_Age_Coef_Ex*(COLUMN(E74)-COLUMN($D74))+Reg_BEV_Agesq_Coef_Ex*((COLUMN(E74)-COLUMN($D74))^2)+Reg_BEV_MSRP_Coef_Ex*Comp_V1_MSRP_Modeled+Reg_BEV_Range_Coef_Ex*VLOOKUP(Comp_V1_Type_Ex,DB_Vehicles[],COLUMN(DB_Vehicles[[#Headers],[Electric Range]]),FALSE)+Reg_BEV_Mileage_Coef_Ex*Comp_V1_VMT_Modeled*(COLUMN(E74)-COLUMN($D74)),0),300),0)","v":25633.787640000006},{"$f":"IF(VLOOKUP(Comp_V1_Type_Ex,DB_Vehicles[],COLUMN(DB_Vehicles[[#Headers],[Drivetrain Type]]),FALSE)=\"BEV\",MAX(IF(VLOOKUP(Comp_V1_Type_Ex,DB_Vehicles[],COLUMN(DB_Vehicles[[#Headers],[Drivetrain Type]]),FALSE)=\"BEV\",Reg_BEV_Const_Ex+Reg_BEV_Age_Coef_Ex*(COLUMN(F74)-COLUMN($D74))+Reg_BEV_Agesq_Coef_Ex*((COLUMN(F74)-COLUMN($D74))^2)+Reg_BEV_MSRP_Coef_Ex*Comp_V1_MSRP_Modeled+Reg_BEV_Range_Coef_Ex*VLOOKUP(Comp_V1_Type_Ex,DB_Vehicles[],COLUMN(DB_Vehicles[[#Headers],[Electric Range]]),FALSE)+Reg_BEV_Mileage_Coef_Ex*Comp_V1_VMT_Modeled*(COLUMN(F74)-COLUMN($D74)),0),300),0)","v":21314.538640000002},{"$f":"IF(VLOOKUP(Comp_V1_Type_Ex,DB_Vehicles[],COLUMN(DB_Vehicles[[#Headers],[Drivetrain Type]]),FALSE)=\"BEV\",MAX(IF(VLOOKUP(Comp_V1_Type_Ex,DB_Vehicles[],COLUMN(DB_Vehicles[[#Headers],[Drivetrain Type]]),FALSE)=\"BEV\",Reg_BEV_Const_Ex+Reg_BEV_Age_Coef_Ex*(COLUMN(G74)-COLUMN($D74))+Reg_BEV_Agesq_Coef_Ex*((COLUMN(G74)-COLUMN($D74))^2)+Reg_BEV_MSRP_Coef_Ex*Comp_V1_MSRP_Modeled+Reg_BEV_Range_Coef_Ex*VLOOKUP(Comp_V1_Type_Ex,DB_Vehicles[],COLUMN(DB_Vehicles[[#Headers],[Electric Range]]),FALSE)+Reg_BEV_Mileage_Coef_Ex*Comp_V1_VMT_Modeled*(COLUMN(G74)-COLUMN($D74)),0),300),0)","v":16732.723640000004},{"$f":"IF(VLOOKUP(Comp_V1_Type_Ex,DB_Vehicles[],COLUMN(DB_Vehicles[[#Headers],[Drivetrain Type]]),FALSE)=\"BEV\",MAX(IF(VLOOKUP(Comp_V1_Type_Ex,DB_Vehicles[],COLUMN(DB_Vehicles[[#Headers],[Drivetrain Type]]),FALSE)=\"BEV\",Reg_BEV_Const_Ex+Reg_BEV_Age_Coef_Ex*(COLUMN(H74)-COLUMN($D74))+Reg_BEV_Agesq_Coef_Ex*((COLUMN(H74)-COLUMN($D74))^2)+Reg_BEV_MSRP_Coef_Ex*Comp_V1_MSRP_Modeled+Reg_BEV_Range_Coef_Ex*VLOOKUP(Comp_V1_Type_Ex,DB_Vehicles[],COLUMN(DB_Vehicles[[#Headers],[Electric Range]]),FALSE)+Reg_BEV_Mileage_Coef_Ex*Comp_V1_VMT_Modeled*(COLUMN(H74)-COLUMN($D74)),0),300),0)","v":11888.342640000004},{"$f":"IF(VLOOKUP(Comp_V1_Type_Ex,DB_Vehicles[],COLUMN(DB_Vehicles[[#Headers],[Drivetrain Type]]),FALSE)=\"BEV\",MAX(IF(VLOOKUP(Comp_V1_Type_Ex,DB_Vehicles[],COLUMN(DB_Vehicles[[#Headers],[Drivetrain Type]]),FALSE)=\"BEV\",Reg_BEV_Const_Ex+Reg_BEV_Age_Coef_Ex*(COLUMN(I74)-COLUMN($D74))+Reg_BEV_Agesq_Coef_Ex*((COLUMN(I74)-COLUMN($D74))^2)+Reg_BEV_MSRP_Coef_Ex*Comp_V1_MSRP_Modeled+Reg_BEV_Range_Coef_Ex*VLOOKUP(Comp_V1_Type_Ex,DB_Vehicles[],COLUMN(DB_Vehicles[[#Headers],[Electric Range]]),FALSE)+Reg_BEV_Mileage_Coef_Ex*Comp_V1_VMT_Modeled*(COLUMN(I74)-COLUMN($D74)),0),300),0)","v":6781.3956400000025},{"$f":"IF($H76-$I76=0,0,MAX((1-($H76-$I76)/$H76)*I76,300))","v":3868.2706428295728},2206.5543083661037,1258.671475015386,717.97638336420846,409.55094105270598,300,300,300,300,300,300,300,300,300,300,300,300,300,300,300]
[null,"Fair Market Value - PHEV",null,{"$f":"IF(VLOOKUP(Comp_V1_Type_Ex,DB_Vehicles[],COLUMN(DB_Vehicles[[#Headers],[Drivetrain Type]]),FALSE)=\"PHEV\",Comp_V1_MSRP_Modeled,0)","v":0},{"$f":"IF(VLOOKUP(Comp_V1_Type_Ex,DB_Vehicles[],COLUMN(DB_Vehicles[[#Headers],[Drivetrain Type]]),FALSE)=\"PHEV\",MAX(IF(VLOOKUP(Comp_V1_Type_Ex,DB_Vehicles[],COLUMN(DB_Vehicles[[#Headers],[Drivetrain Type]]),FALSE)=\"PHEV\",Reg_PHEV_Const_Ex+Reg_PHEV_Age_Coef_Ex*(COLUMN(E74)-COLUMN($D74))+Reg_PHEV_Agesq_Coef_Ex*((COLUMN(E74)-COLUMN($D74))^2)+Reg_PHEV_MSRP_Coef_Ex*Comp_V1_MSRP_Modeled+Reg_PHEV_Range_Coef_Ex*VLOOKUP(Comp_V1_Type_Ex,DB_Vehicles[],COLUMN(DB_Vehicles[[#Headers],[Electric Range]]),FALSE)+Reg_PHEV_Mileage_Coef_Ex*Comp_V1_VMT_Modeled*(COLUMN(E74)-COLUMN($D74)),0),300),0)","v":0},{"$f":"IF(VLOOKUP(Comp_V1_Type_Ex,DB_Vehicles[],COLUMN(DB_Vehicles[[#Headers],[Drivetrain Type]]),FALSE)=\"PHEV\",MAX(IF(VLOOKUP(Comp_V1_Type_Ex,DB_Vehicles[],COLUMN(DB_Vehicles[[#Headers],[Drivetrain Type]]),FALSE)=\"PHEV\",Reg_PHEV_Const_Ex+Reg_PHEV_Age_Coef_Ex*(COLUMN(F74)-COLUMN($D74))+Reg_PHEV_Agesq_Coef_Ex*((COLUMN(F74)-COLUMN($D74))^2)+Reg_PHEV_MSRP_Coef_Ex*Comp_V1_MSRP_Modeled+Reg_PHEV_Range_Coef_Ex*VLOOKUP(Comp_V1_Type_Ex,DB_Vehicles[],COLUMN(DB_Vehicles[[#Headers],[Electric Range]]),FALSE)+Reg_PHEV_Mileage_Coef_Ex*Comp_V1_VMT_Modeled*(COLUMN(F74)-COLUMN($D74)),0),300),0)","v":0},{"$f":"IF(VLOOKUP(Comp_V1_Type_Ex,DB_Vehicles[],COLUMN(DB_Vehicles[[#Headers],[Drivetrain Type]]),FALSE)=\"PHEV\",MAX(IF(VLOOKUP(Comp_V1_Type_Ex,DB_Vehicles[],COLUMN(DB_Vehicles[[#Headers],[Drivetrain Type]]),FALSE)=\"PHEV\",Reg_PHEV_Const_Ex+Reg_PHEV_Age_Coef_Ex*(COLUMN(G74)-COLUMN($D74))+Reg_PHEV_Agesq_Coef_Ex*((COLUMN(G74)-COLUMN($D74))^2)+Reg_PHEV_MSRP_Coef_Ex*Comp_V1_MSRP_Modeled+Reg_PHEV_Range_Coef_Ex*VLOOKUP(Comp_V1_Type_Ex,DB_Vehicles[],COLUMN(DB_Vehicles[[#Headers],[Electric Range]]),FALSE)+Reg_PHEV_Mileage_Coef_Ex*Comp_V1_VMT_Modeled*(COLUMN(G74)-COLUMN($D74)),0),300),0)","v":0},{"$f":"IF(VLOOKUP(Comp_V1_Type_Ex,DB_Vehicles[],COLUMN(DB_Vehicles[[#Headers],[Drivetrain Type]]),FALSE)=\"PHEV\",MAX(IF(VLOOKUP(Comp_V1_Type_Ex,DB_Vehicles[],COLUMN(DB_Vehicles[[#Headers],[Drivetrain Type]]),FALSE)=\"PHEV\",Reg_PHEV_Const_Ex+Reg_PHEV_Age_Coef_Ex*(COLUMN(H74)-COLUMN($D74))+Reg_PHEV_Agesq_Coef_Ex*((COLUMN(H74)-COLUMN($D74))^2)+Reg_PHEV_MSRP_Coef_Ex*Comp_V1_MSRP_Modeled+Reg_PHEV_Range_Coef_Ex*VLOOKUP(Comp_V1_Type_Ex,DB_Vehicles[],COLUMN(DB_Vehicles[[#Headers],[Electric Range]]),FALSE)+Reg_PHEV_Mileage_Coef_Ex*Comp_V1_VMT_Modeled*(COLUMN(H74)-COLUMN($D74)),0),300),0)","v":0},{"$f":"IF(VLOOKUP(Comp_V1_Type_Ex,DB_Vehicles[],COLUMN(DB_Vehicles[[#Headers],[Drivetrain Type]]),FALSE)=\"PHEV\",MAX(IF(VLOOKUP(Comp_V1_Type_Ex,DB_Vehicles[],COLUMN(DB_Vehicles[[#Headers],[Drivetrain Type]]),FALSE)=\"PHEV\",Reg_PHEV_Const_Ex+Reg_PHEV_Age_Coef_Ex*(COLUMN(I74)-COLUMN($D74))+Reg_PHEV_Agesq_Coef_Ex*((COLUMN(I74)-COLUMN($D74))^2)+Reg_PHEV_MSRP_Coef_Ex*Comp_V1_MSRP_Modeled+Reg_PHEV_Range_Coef_Ex*VLOOKUP(Comp_V1_Type_Ex,DB_Vehicles[],COLUMN(DB_Vehicles[[#Headers],[Electric Range]]),FALSE)+Reg_PHEV_Mileage_Coef_Ex*Comp_V1_VMT_Modeled*(COLUMN(I74)-COLUMN($D74)),0),300),0)","v":0},{"$f":"IF($H77-$I77=0,0,MAX((1-($H77-$I77)/$H77)*I77,300))","v":0},0,0,0,0,0,0,0,0,0,0,0,0,0,0,0,0,0,0,0]
[null,"Fair Market Value - ICE",null,{"$f":"IF(VLOOKUP(Comp_V1_Type_Ex,DB_Vehicles[],COLUMN(DB_Vehicles[[#Headers],[Drivetrain Type]]),FALSE)=\"ICE\",Comp_V1_MSRP_Modeled,0)","v":0},{"$f":"IF(VLOOKUP(Comp_V1_Type_Ex,DB_Vehicles[],COLUMN(DB_Vehicles[[#Headers],[Drivetrain Type]]),FALSE)=\"ICE\",MAX(IF(VLOOKUP(Comp_V1_Type_Ex,DB_Vehicles[],COLUMN(DB_Vehicles[[#Headers],[Drivetrain Type]]),FALSE)=\"ICE\",Reg_ICE_Const_Ex+Reg_ICE_Age_Coef_Ex*(COLUMN(E74)-COLUMN($D74))+Reg_ICE_Agesq_Coef_Ex*(COLUMN(E74)-COLUMN($D74))^2+Reg_ICE_MSRP_Coef_Ex*Comp_V1_MSRP_Modeled+Reg_ICE_MPG_Coef_Ex*VLOOKUP(Comp_V1_Type_Ex,DB_Vehicles[],COLUMN(DB_Vehicles[[#Headers],[Fuel Economy Gas City (MPG)]]),FALSE)+Reg_ICE_Mileage_Coef_Ex*Comp_V1_VMT_Modeled*(COLUMN(E74)-COLUMN($D74)),0),300),0)","v":0},{"$f":"IF(VLOOKUP(Comp_V1_Type_Ex,DB_Vehicles[],COLUMN(DB_Vehicles[[#Headers],[Drivetrain Type]]),FALSE)=\"ICE\",MAX(IF(VLOOKUP(Comp_V1_Type_Ex,DB_Vehicles[],COLUMN(DB_Vehicles[[#Headers],[Drivetrain Type]]),FALSE)=\"ICE\",Reg_ICE_Const_Ex+Reg_ICE_Age_Coef_Ex*(COLUMN(F74)-COLUMN($D74))+Reg_ICE_Agesq_Coef_Ex*(COLUMN(F74)-COLUMN($D74))^2+Reg_ICE_MSRP_Coef_Ex*Comp_V1_MSRP_Modeled+Reg_ICE_MPG_Coef_Ex*VLOOKUP(Comp_V1_Type_Ex,DB_Vehicles[],COLUMN(DB_Vehicles[[#Headers],[Fuel Economy Gas City (MPG)]]),FALSE)+Reg_ICE_Mileage_Coef_Ex*Comp_V1_VMT_Modeled*(COLUMN(F74)-COLUMN($D74)),0),300),0)","v":0},{"$f":"IF(VLOOKUP(Comp_V1_Type_Ex,DB_Vehicles[],COLUMN(DB_Vehicles[[#Headers],[Drivetrain Type]]),FALSE)=\"ICE\",MAX(IF(VLOOKUP(Comp_V1_Type_Ex,DB_Vehicles[],COLUMN(DB_Vehicles[[#Headers],[Drivetrain Type]]),FALSE)=\"ICE\",Reg_ICE_Const_Ex+Reg_ICE_Age_Coef_Ex*(COLUMN(G74)-COLUMN($D74))+Reg_ICE_Agesq_Coef_Ex*(COLUMN(G74)-COLUMN($D74))^2+Reg_ICE_MSRP_Coef_Ex*Comp_V1_MSRP_Modeled+Reg_ICE_MPG_Coef_Ex*VLOOKUP(Comp_V1_Type_Ex,DB_Vehicles[],COLUMN(DB_Vehicles[[#Headers],[Fuel Economy Gas City (MPG)]]),FALSE)+Reg_ICE_Mileage_Coef_Ex*Comp_V1_VMT_Modeled*(COLUMN(G74)-COLUMN($D74)),0),300),0)","v":0},{"$f":"IF(VLOOKUP(Comp_V1_Type_Ex,DB_Vehicles[],COLUMN(DB_Vehicles[[#Headers],[Drivetrain Type]]),FALSE)=\"ICE\",MAX(IF(VLOOKUP(Comp_V1_Type_Ex,DB_Vehicles[],COLUMN(DB_Vehicles[[#Headers],[Drivetrain Type]]),FALSE)=\"ICE\",Reg_ICE_Const_Ex+Reg_ICE_Age_Coef_Ex*(COLUMN(H74)-COLUMN($D74))+Reg_ICE_Agesq_Coef_Ex*(COLUMN(H74)-COLUMN($D74))^2+Reg_ICE_MSRP_Coef_Ex*Comp_V1_MSRP_Modeled+Reg_ICE_MPG_Coef_Ex*VLOOKUP(Comp_V1_Type_Ex,DB_Vehicles[],COLUMN(DB_Vehicles[[#Headers],[Fuel Economy Gas City (MPG)]]),FALSE)+Reg_ICE_Mileage_Coef_Ex*Comp_V1_VMT_Modeled*(COLUMN(H74)-COLUMN($D74)),0),300),0)","v":0},{"$f":"IF(VLOOKUP(Comp_V1_Type_Ex,DB_Vehicles[],COLUMN(DB_Vehicles[[#Headers],[Drivetrain Type]]),FALSE)=\"ICE\",MAX(IF(VLOOKUP(Comp_V1_Type_Ex,DB_Vehicles[],COLUMN(DB_Vehicles[[#Headers],[Drivetrain Type]]),FALSE)=\"ICE\",Reg_ICE_Const_Ex+Reg_ICE_Age_Coef_Ex*(COLUMN(I74)-COLUMN($D74))+Reg_ICE_Agesq_Coef_Ex*(COLUMN(I74)-COLUMN($D74))^2+Reg_ICE_MSRP_Coef_Ex*Comp_V1_MSRP_Modeled+Reg_ICE_MPG_Coef_Ex*VLOOKUP(Comp_V1_Type_Ex,DB_Vehicles[],COLUMN(DB_Vehicles[[#Headers],[Fuel Economy Gas City (MPG)]]),FALSE)+Reg_ICE_Mileage_Coef_Ex*Comp_V1_VMT_Modeled*(COLUMN(I74)-COLUMN($D74)),0),300),0)","v":0},{"$f":"IF($H78-$I78=0,0,MAX((1-($H78-$I78)/$H78)*I78,300))","v":0},0,0,0,0,0,0,0,0,0,0,0,0,0,0,0,0,0,0,0]
[]
[null,"Capital and Financing Costs"]
[null,"Cash "]
[null,"Cash Payment",null,{"$f":"IF(AND(Comp_V1_Has_Cash_Purchase_Ex=TRUE,Comp_V1_Has_Loan_Ex=FALSE,Comp_V1_Has_Lease_Ex=FALSE,COLUMN(D74)-COLUMN($D74)=0),-(Comp_V1_Base_Price_Ex-IF(Comp_V1_Tax_Incentives_Monetized=\"Yes\",Comp_V1_Federal_Tax_Incentives_Modeled+IF(Comp_V1_State_Tax_Incentive_Cap_Modeled=0,Comp_V1_State_Tax_Incentives_Modeled,MIN(Comp_V1_State_Tax_Incentive_Cap_Modeled,Comp_V1_State_Tax_Incentives_Modeled*Comp_V1_Num_Vehicles_Modeled)/Comp_V1_Num_Vehicles_Modeled),0)-Comp_V1_Other_Incentives_Modeled),IF(AND(Comp_V1_Has_Cash_Purchase_Ex=TRUE,OR(Comp_V1_Has_Loan_Ex=TRUE,Comp_V1_Has_Lease_Ex=TRUE),COLUMN(D74)-COLUMN($D74)=Comp_V1_Lease_Term_Modeled),IF(ISERROR(FIND(\"Tax\",_Comp_V1_Ownership_Structure,1)),-SUM(D76:D78),-Comp_V1_Lease_Residual_Price_Modeled),0))","v":-26026},0,0,0,0,0,0,0,0,0,0,0,0,0,0,0,0,0,0,0,0,0,0,0,0,0]
[null,"Lease"]
[null,"Down Payment",null,{"$f":"IF(Comp_V1_Has_Lease_Ex=TRUE,-Comp_V1_Down_Payment_Modeled,0)","v":0}]
[null,"Acquisition Fee",null,{"$f":"IF(Comp_V1_Has_Lease_Ex=TRUE,-Comp_V1_Lease_Acquisition_Fee_Modeled,0)","v":0}]
[null,"Disposition Charge",null,{"$f":"IF(AND(Comp_V1_Has_Lease_Ex=TRUE,((COLUMN(D74)-COLUMN($D74))=Comp_V1_Lease_Term_Modeled)),-Comp_V1_Lease_Disposition_Fee_Modeled,0)","v":0},0,0,0,0,0,0,0,0,0,0,0,0,0,0,0,0,0,0,0,0,0,0,0,0,0]
[null,"Lease Payments",null,null,{"$f":"IF(Comp_V1_Has_Lease_Ex=TRUE,IF((COLUMN(E74)-COLUMN($E74))<Comp_V1_Lease_Term_Modeled,-PMT(Comp_V1_Lease_APR_Modeled/12,Comp_V1_Lease_Term_Modeled*12,-(Comp_V1_Base_Price_Ex-IF(Comp_V1_Tax_Incentives_Monetized=\"Yes\",Comp_V1_Federal_Tax_Incentives_Modeled+IF(Comp_V1_State_Tax_Incentive_Cap_Modeled=0,Comp_V1_State_Tax_Incentives_Modeled,MIN(Comp_V1_State_Tax_Incentive_Cap_Modeled,Comp_V1_State_Tax_Incentives_Modeled*Comp_V1_Num_Vehicles_Modeled)/Comp_V1_Num_Vehicles_Modeled),0)-Comp_V1_Other_Incentives_Modeled-Comp_V1_Down_Payment_Modeled)+Comp_V1_Lease_Residual_Price_Modeled,0)*12,0),0)","v":0},0,0,0,0,0,0,0,0,0,0,0,0,0,0,0,0,0,0,0,0,0,0,0,0]
[null,"Principal Payments",null,null,{"$f":"IF(Comp_V1_Has_Lease_Ex=TRUE,IF((COLUMN(E74)-COLUMN($E74))<Comp_V1_Lease_Term_Modeled,-PPMT(Comp_V1_Lease_APR_Modeled/12,(COLUMN(E74)-COLUMN($D74))*12,Comp_V1_Lease_Term_Modeled*12,-(Comp_V1_Base_Price_Ex-IF(Comp_V1_Tax_Incentives_Monetized=\"Yes\",Comp_V1_Federal_Tax_Incentives_Modeled+IF(Comp_V1_State_Tax_Incentive_Cap_Modeled=0,Comp_V1_State_Tax_Incentives_Modeled,MIN(Comp_V1_State_Tax_Incentive_Cap_Modeled,Comp_V1_State_Tax_Incentives_Modeled*Comp_V1_Num_Vehicles_Modeled)/Comp_V1_Num_Vehicles_Modeled),0)-Comp_V1_Other_Incentives_Modeled-Comp_V1_Down_Payment_Modeled)+Comp_V1_Lease_Residual_Price_Modeled,0)*12,0),0)","v":0},0,0,0,0,0,0,0,0,0,0,0,0,0,0,0,0,0,0,0,0,0,0,0,0]
[null,"Interest Payments",null,null,{"$f":"IF(Comp_V1_Has_Lease_Ex=TRUE,IF((COLUMN(E74)-COLUMN($E74))<Comp_V1_Lease_Term_Modeled,-IPMT(Comp_V1_Lease_APR_Modeled/12,(COLUMN(E74)-COLUMN($D74))*12,Comp_V1_Lease_Term_Modeled*12,-(Comp_V1_Base_Price_Ex-IF(Comp_V1_Tax_Incentives_Monetized=\"Yes\",Comp_V1_Federal_Tax_Incentives_Modeled+IF(Comp_V1_State_Tax_Incentive_Cap_Modeled=0,Comp_V1_State_Tax_Incentives_Modeled,MIN(Comp_V1_State_Tax_Incentive_Cap_Modeled,Comp_V1_State_Tax_Incentives_Modeled*Comp_V1_Num_Vehicles_Modeled)/Comp_V1_Num_Vehicles_Modeled),0)-Comp_V1_Other_Incentives_Modeled-Comp_V1_Down_Payment_Modeled)+Comp_V1_Lease_Residual_Price_Modeled,0)*12,0),0)","v":0},0,0,0,0,0,0,0,0,0,0,0,0,0,0,0,0,0,0,0,0,0,0,0,0]
[null,"TRAC Value Adjustment",null,null,{"$f":"IF(ISERROR(FIND(\"TRAC\",_Comp_V1_Ownership_Structure,1)),0,IF(Comp_V1_Has_Loan_Ex=TRUE,0,IF((COLUMN(E74)-COLUMN($D74))=Comp_V1_Lease_Term_Modeled,SUM(E76:E78)-Comp_V1_Lease_Residual_Price_Modeled,0)))","v":0},0,0,0,0,0,0,0,0,0,0,0,0,0,0,0,0,0,0,0,0,0,0,0,0]
[null,"FMV Mileage Adjustment",null,null,{"$f":"MIN(0,MAX(-Comp_V1_Lease_Residual_Price_Modeled+SUM(E76:E78),IF(IFERROR(IF(FIND(\"FMV\",_Comp_V1_Ownership_Structure,1)>0,TRUE,FALSE),FALSE),IF((COLUMN(E74)-COLUMN($D74))=Comp_V1_Lease_Term_Modeled,(Comp_V1_Lease_Mileage_Inc_Modeled-Comp_V1_VMT_Modeled)*(COLUMN(E74)-COLUMN($D74))*Comp_V1_Lease_Mileage_Cost_Modeled,0),0)))","v":0},0,0,0,0,0,0,0,0,0,0,0,0,0,0,0,0,0,0,0,0,0,0,0,0]
[null,"Subtotal Lease Cash Flows",null,{"$f":"SUM(D84:D87)+SUM(D90:D91)","v":0},{"$f":"SUM(E84:E87)+SUM(E90:E91)","v":0},0,0,0,0,0,0,0,0,0,0,0,0,0,0,0,0,0,0,0,0,0,0,0,0]
[null,"Loan"]
[null,"Down Payment",null,{"$f":"IF(AND(Comp_V1_Has_Loan_Ex=TRUE,Comp_V1_Has_Lease_Ex=FALSE),-Comp_V1_Down_Payment_Modeled,0)","v":0}]
[null,"Loan Payments",null,null,{"$f":"IF(Comp_V1_Has_Loan_Ex=TRUE,IF(AND((COLUMN(E74)-COLUMN($E74))<Comp_V1_Loan_Term_Modeled+Comp_V1_Lease_Term_Modeled,(COLUMN(E74)-COLUMN($E74))>=Comp_V1_Lease_Term_Modeled),PMT(Comp_V1_Loan_APR_Modeled/12,Comp_V1_Loan_Term_Modeled*12,IF(Comp_V1_Has_Lease_Ex=TRUE,SUM(OFFSET($D76,0,Comp_V1_Lease_Term_Modeled,3,1)),Comp_V1_Base_Price_Ex-IF(Comp_V1_Tax_Incentives_Monetized=\"Yes\",Comp_V1_Federal_Tax_Incentives_Modeled+IF(Comp_V1_State_Tax_Incentive_Cap_Modeled=0,Comp_V1_State_Tax_Incentives_Modeled,MIN(Comp_V1_State_Tax_Incentive_Cap_Modeled,Comp_V1_State_Tax_Incentives_Modeled*Comp_V1_Num_Vehicles_Modeled)/Comp_V1_Num_Vehicles_Modeled),0)-Comp_V1_Other_Incentives_Modeled-Comp_V1_Down_Payment_Modeled),0)*12,0),0)","v":0},0,0,0,0,0,0,0,0,0,0,0,0,0,0,0,0,0,0,0,0,0,0,0,0]
[null,"Principal Payments",null,null,{"$f":"IF(Comp_V1_Has_Loan_Ex=TRUE,IF(AND((COLUMN(E74)-COLUMN($E74))<Comp_V1_Loan_Term_Modeled+Comp_V1_Lease_Term_Modeled,(COLUMN(E74)-COLUMN($E74))>=Comp_V1_Lease_Term_Modeled),PPMT(Comp_V1_Loan_APR_Modeled/12,IF(Comp_V1_Has_Lease_Ex=TRUE,(COLUMN(E74)-COLUMN($D74)-Comp_V1_Lease_Term_Modeled)*12,(COLUMN(E74)-COLUMN($D74))*12),Comp_V1_Loan_Term_Modeled*12,IF(Comp_V1_Has_Lease_Ex=TRUE,SUM(OFFSET($D76,0,Comp_V1_Lease_Term_Modeled,3,1)),Comp_V1_Base_Price_Ex-IF(Comp_V1_Tax_Incentives_Monetized=\"Yes\",Comp_V1_Federal_Tax_Incentives_Modeled+IF(Comp_V1_State_Tax_Incentive_Cap_Modeled=0,Comp_V1_State_Tax_Incentives_Modeled,MIN(Comp_V1_State_Tax_Incentive_Cap_Modeled,Comp_V1_State_Tax_Incentives_Modeled*Comp_V1_Num_Vehicles_Modeled)/Comp_V1_Num_Vehicles_Modeled),0)-Comp_V1_Other_Incentives_Modeled-Comp_V1_Down_Payment_Modeled),0)*12,0),0)","v":0},0,0,0,0,0,0,0,0,0,0,0,0,0,0,0,0,0,0,0,0,0,0,0,0]
[null,"Interest Payments",null,null,{"$f":"IF(Comp_V1_Has_Loan_Ex=TRUE,IF(AND((COLUMN(E74)-COLUMN($E74))<Comp_V1_Loan_Term_Modeled+Comp_V1_Lease_Term_Modeled,(COLUMN(E74)-COLUMN($E74))>=Comp_V1_Lease_Term_Modeled),IPMT(Comp_V1_Loan_APR_Modeled/12,IF(Comp_V1_Has_Lease_Ex=TRUE,(COLUMN(E74)-COLUMN($D74)-Comp_V1_Lease_Term)*12,(COLUMN(E74)-COLUMN($D74))*12),Comp_V1_Loan_Term_Modeled*12,IF(Comp_V1_Has_Lease_Ex=TRUE,SUM(OFFSET($D76,0,Comp_V1_Lease_Term_Modeled,3,1)),Comp_V1_Base_Price_Ex-IF(Comp_V1_Tax_Incentives_Monetized=\"Yes\",Comp_V1_Federal_Tax_Incentives_Modeled+IF(Comp_V1_State_Tax_Incentive_Cap_Modeled=0,Comp_V1_State_Tax_Incentives_Modeled,MIN(Comp_V1_State_Tax_Incentive_Cap_Modeled,Comp_V1_State_Tax_Incentives_Modeled*Comp_V1_Num_Vehicles_Modeled)/Comp_V1_Num_Vehicles_Modeled),0)-Comp_V1_Other_Incentives_Modeled-Comp_V1_Down_Payment_Modeled),0)*12,0),0)","v":0},0,0,0,0,0,0,0,0,0,0,0,0,0,0,0,0,0,0,0,0,0,0,0,0]
[null,"Subtotal Loan Cash Flows",null,{"$f":"SUM(D94:D95)","v":0},{"$f":"SUM(E94:E95)","v":0},0,0,0,0,0,0,0,0,0,0,0,0,0,0,0,0,0,0,0,0,0,0,0,0]
[null,"Terminal Value",null,null,{"$f":"IF(OR(Comp_V1_Has_Loan_Ex=TRUE,Comp_V1_Has_Cash_Purchase_Ex=TRUE),IF((COLUMN(E74)-COLUMN($D74))=Comp_V1_Years_Usage_Modeled,SUM(E76:E78),0),0)","v":0},0,0,0,0,0,2206.5543083661037,0,0,0,0,0,0,0,0,0,0,0,0,0,0,0,0,0,0]
[]
[null,"Total Capital and Financing Costs",null,{"$f":"D82+D92+D98+D99","v":-26026},0,0,0,0,0,0,2206.5543083661037,0,0,0,0,0,0,0,0,0,0,0,0,0,0,0,0,0,0]
[]
[null,"Fuel and Operating Costs"]
[null,"Fuel Cost",null,null,{"$f":"IF(COLUMN(E74)-COLUMN($E74)<Comp_V1_Years_Usage_Modeled,-((Comp_V1_Gas_Usage_Ex*Gasoline_Price_Modeled*Data!C$73)+(Comp_V1_Electricity_Usage_Ex*Electricity_Price_Modeled*Data!C$75)),0)","v":-517.28303267045453},{"$f":"IF(COLUMN(F74)-COLUMN($E74)<Comp_V1_Years_Usage_Modeled,-((Comp_V1_Gas_Usage_Ex*Gasoline_Price_Modeled*Data!D$73)+(Comp_V1_Electricity_Usage_Ex*Electricity_Price_Modeled*Data!D$75)),0)","v":-512.07213559675074},{"$f":"IF(COLUMN(G74)-COLUMN($E74)<Comp_V1_Years_Usage_Modeled,-((Comp_V1_Gas_Usage_Ex*Gasoline_Price_Modeled*Data!E$73)+(Comp_V1_Electricity_Usage_Ex*Electricity_Price_Modeled*Data!E$75)),0)","v":-531.08333084712149},{"$f":"IF(COLUMN(H74)-COLUMN($E74)<Comp_V1_Years_Usage_Modeled,-((Comp_V1_Gas_Usage_Ex*Gasoline_Price_Modeled*Data!F$73)+(Comp_V1_Electricity_Usage_Ex*Electricity_Price_Modeled*Data!F$75)),0)","v":-559.47522973871003},{"$f":"IF(COLUMN(I74)-COLUMN($E74)<Comp_V1_Years_Usage_Modeled,-((Comp_V1_Gas_Usage_Ex*Gasoline_Price_Modeled*Data!G$73)+(Comp_V1_Electricity_Usage_Ex*Electricity_Price_Modeled*Data!G$75)),0)","v":-573.3123525064716},{"$f":"IF(COLUMN(J74)-COLUMN($E74)<Comp_V1_Years_Usage_Modeled,-((Comp_V1_Gas_Usage_Ex*Gasoline_Price_Modeled*Data!H$73)+(Comp_V1_Electricity_Usage_Ex*Electricity_Price_Modeled*Data!H$75)),0)","v":-584.56378712258845},{"$f":"IF(COLUMN(K74)-COLUMN($E74)<Comp_V1_Years_Usage_Modeled,-((Comp_V1_Gas_Usage_Ex*Gasoline_Price_Modeled*Data!I$73)+(Comp_V1_Electricity_Usage_Ex*Electricity_Price_Modeled*Data!I$75)),0)","v":-590.71601606765557},{"$f":"IF(COLUMN(L74)-COLUMN($E74)<Comp_V1_Years_Usage_Modeled,-((Comp_V1_Gas_Usage_Ex*Gasoline_Price_Modeled*Data!J$73)+(Comp_V1_Electricity_Usage_Ex*Electricity_Price_Modeled*Data!J$75)),0)","v":0},{"$f":"IF(COLUMN(M74)-COLUMN($E74)<Comp_V1_Years_Usage_Modeled,-((Comp_V1_Gas_Usage_Ex*Gasoline_Price_Modeled*Data!K$73)+(Comp_V1_Electricity_Usage_Ex*Electricity_Price_Modeled*Data!K$75)),0)","v":0},{"$f":"IF(COLUMN(N74)-COLUMN($E74)<Comp_V1_Years_Usage_Modeled,-((Comp_V1_Gas_Usage_Ex*Gasoline_Price_Modeled*Data!L$73)+(Comp_V1_Electricity_Usage_Ex*Electricity_Price_Modeled*Data!L$75)),0)","v":0},{"$f":"IF(COLUMN(O74)-COLUMN($E74)<Comp_V1_Years_Usage_Modeled,-((Comp_V1_Gas_Usage_Ex*Gasoline_Price_Modeled*Data!M$73)+(Comp_V1_Electricity_Usage_Ex*Electricity_Price_Modeled*Data!M$75)),0)","v":0},{"$f":"IF(COLUMN(P74)-COLUMN($E74)<Comp_V1_Years_Usage_Modeled,-((Comp_V1_Gas_Usage_Ex*Gasoline_Price_Modeled*Data!N$73)+(Comp_V1_Electricity_Usage_Ex*Electricity_Price_Modeled*Data!N$75)),0)","v":0},{"$f":"IF(COLUMN(Q74)-COLUMN($E74)<Comp_V1_Years_Usage_Modeled,-((Comp_V1_Gas_Usage_Ex*Gasoline_Price_Modeled*Data!O$73)+(Comp_V1_Electricity_Usage_Ex*Electricity_Price_Modeled*Data!O$75)),0)","v":0},{"$f":"IF(COLUMN(R74)-COLUMN($E74)<Comp_V1_Years_Usage_Modeled,-((Comp_V1_Gas_Usage_Ex*Gasoline_Price_Modeled*Data!P$73)+(Comp_V1_Electricity_Usage_Ex*Electricity_Price_Modeled*Data!P$75)),0)","v":0},{"$f":"IF(COLUMN(S74)-COLUMN($E74)<Comp_V1_Years_Usage_Modeled,-((Comp_V1_Gas_Usage_Ex*Gasoline_Price_Modeled*Data!Q$73)+(Comp_V1_Electricity_Usage_Ex*Electricity_Price_Modeled*Data!Q$75)),0)","v":0},{"$f":"IF(COLUMN(T74)-COLUMN($E74)<Comp_V1_Years_Usage_Modeled,-((Comp_V1_Gas_Usage_Ex*Gasoline_Price_Modeled*Data!R$73)+(Comp_V1_Electricity_Usage_Ex*Electricity_Price_Modeled*Data!R$75)),0)","v":0},{"$f":"IF(COLUMN(U74)-COLUMN($E74)<Comp_V1_Years_Usage_Modeled,-((Comp_V1_Gas_Usage_Ex*Gasoline_Price_Modeled*Data!S$73)+(Comp_V1_Electricity_Usage_Ex*Electricity_Price_Modeled*Data!S$75)),0)","v":0},{"$f":"IF(COLUMN(V74)-COLUMN($E74)<Comp_V1_Years_Usage_Modeled,-((Comp_V1_Gas_Usage_Ex*Gasoline_Price_Modeled*Data!T$73)+(Comp_V1_Electricity_Usage_Ex*Electricity_Price_Modeled*Data!T$75)),0)","v":0},{"$f":"IF(COLUMN(W74)-COLUMN($E74)<Comp_V1_Years_Usage_Modeled,-((Comp_V1_Gas_Usage_Ex*Gasoline_Price_Modeled*Data!U$73)+(Comp_V1_Electricity_Usage_Ex*Electricity_Price_Modeled*Data!U$75)),0)","v":0},{"$f":"IF(COLUMN(X74)-COLUMN($E74)<Comp_V1_Years_Usage_Modeled,-((Comp_V1_Gas_Usage_Ex*Gasoline_Price_Modeled*Data!V$73)+(Comp_V1_Electricity_Usage_Ex*Electricity_Price_Modeled*Data!V$75)),0)","v":0},{"$f":"IF(COLUMN(Y74)-COLUMN($E74)<Comp_V1_Years_Usage_Modeled,-((Comp_V1_Gas_Usage_Ex*Gasoline_Price_Modeled*Data!W$73)+(Comp_V1_Electricity_Usage_Ex*Electricity_Price_Modeled*Data!W$75)),0)","v":0},{"$f":"IF(COLUMN(Z74)-COLUMN($E74)<Comp_V1_Years_Usage_Modeled,-((Comp_V1_Gas_Usage_Ex*Gasoline_Price_Modeled*Data!X$73)+(Comp_V1_Electricity_Usage_Ex*Electricity_Price_Modeled*Data!X$75)),0)","v":0},{"$f":"IF(COLUMN(AA74)-COLUMN($E74)<Comp_V1_Years_Usage_Modeled,-((Comp_V1_Gas_Usage_Ex*Gasoline_Price_Modeled*Data!Y$73)+(Comp_V1_Electricity_Usage_Ex*Electricity_Price_Modeled*Data!Y$75)),0)","v":0},{"$f":"IF(COLUMN(AB74)-COLUMN($E74)<Comp_V1_Years_Usage_Modeled,-((Comp_V1_Gas_Usage_Ex*Gasoline_Price_Modeled*Data!Z$73)+(Comp_V1_Electricity_Usage_Ex*Electricity_Price_Modeled*Data!Z$75)),0)","v":0},{"$f":"IF(COLUMN(AC74)-COLUMN($E74)<Comp_V1_Years_Usage_Modeled,-((Comp_V1_Gas_Usage_Ex*Gasoline_Price_Modeled*Data!AA$73)+(Comp_V1_Electricity_Usage_Ex*Electricity_Price_Modeled*Data!AA$75)),0)","v":0}]
[null,"Maintenance and Repair Cost",null,null,{"$f":"-IF(_Comp_V1_Maint_Repair_Cost_Use_Default=\"Yes\",IF(COLUMN(E74)-COLUMN($E74)<Comp_V1_Years_Usage_Modeled,VLOOKUP(_Comp_V1_Vehicle_Drivetrain,DB_Maint_Repair_Costs[],COLUMN(E74)-COLUMN($E74)+2,FALSE)*Comp_V1_VMT_Modeled,0),IF(AND(COLUMN(E74)-COLUMN($E74)<Comp_V1_Years_Usage_Modeled,COLUMN(E74)-COLUMN($E74)<5),Comp_V1_Maint_Repair_Cost_Year_1_Modeled*Comp_V1_VMT_Modeled,IF(AND(COLUMN(E74)-COLUMN($E74)<Comp_V1_Years_Usage_Modeled,COLUMN(E74)-COLUMN($E74)>=5),Comp_V1_Maint_Repair_Cost_Year_5_Modeled*Comp_V1_VMT_Modeled,0)))*Data!C$81","v":-600},{"$f":"-IF(_Comp_V1_Maint_Repair_Cost_Use_Default=\"Yes\",IF(COLUMN(F74)-COLUMN($E74)<Comp_V1_Years_Usage_Modeled,VLOOKUP(_Comp_V1_Vehicle_Drivetrain,DB_Maint_Repair_Costs[],COLUMN(F74)-COLUMN($E74)+2,FALSE)*Comp_V1_VMT_Modeled,0),IF(AND(COLUMN(F74)-COLUMN($E74)<Comp_V1_Years_Usage_Modeled,COLUMN(F74)-COLUMN($E74)<5),Comp_V1_Maint_Repair_Cost_Year_1_Modeled*Comp_V1_VMT_Modeled,IF(AND(COLUMN(F74)-COLUMN($E74)<Comp_V1_Years_Usage_Modeled,COLUMN(F74)-COLUMN($E74)>=5),Comp_V1_Maint_Repair_Cost_Year_5_Modeled*Comp_V1_VMT_Modeled,0)))*Data!D$81","v":-612},{"$f":"-IF(_Comp_V1_Maint_Repair_Cost_Use_Default=\"Yes\",IF(COLUMN(G74)-COLUMN($E74)<Comp_V1_Years_Usage_Modeled,VLOOKUP(_Comp_V1_Vehicle_Drivetrain,DB_Maint_Repair_Costs[],COLUMN(G74)-COLUMN($E74)+2,FALSE)*Comp_V1_VMT_Modeled,0),IF(AND(COLUMN(G74)-COLUMN($E74)<Comp_V1_Years_Usage_Modeled,COLUMN(G74)-COLUMN($E74)<5),Comp_V1_Maint_Repair_Cost_Year_1_Modeled*Comp_V1_VMT_Modeled,IF(AND(COLUMN(G74)-COLUMN($E74)<Comp_V1_Years_Usage_Modeled,COLUMN(G74)-COLUMN($E74)>=5),Comp_V1_Maint_Repair_Cost_Year_5_Modeled*Comp_V1_VMT_Modeled,0)))*Data!E$81","v":-624.24},{"$f":"-IF(_Comp_V1_Maint_Repair_Cost_Use_Default=\"Yes\",IF(COLUMN(H74)-COLUMN($E74)<Comp_V1_Years_Usage_Modeled,VLOOKUP(_Comp_V1_Vehicle_Drivetrain,DB_Maint_Repair_Costs[],COLUMN(H74)-COLUMN($E74)+2,FALSE)*Comp_V1_VMT_Modeled,0),IF(AND(COLUMN(H74)-COLUMN($E74)<Comp_V1_Years_Usage_Modeled,COLUMN(H74)-COLUMN($E74)<5),Comp_V1_Maint_Repair_Cost_Year_1_Modeled*Comp_V1_VMT_Modeled,IF(AND(COLUMN(H74)-COLUMN($E74)<Comp_V1_Years_Usage_Modeled,COLUMN(H74)-COLUMN($E74)>=5),Comp_V1_Maint_Repair_Cost_Year_5_Modeled*Comp_V1_VMT_Modeled,0)))*Data!F$81","v":-636.72479999999996},{"$f":"-IF(_Comp_V1_Maint_Repair_Cost_Use_Default=\"Yes\",IF(COLUMN(I74)-COLUMN($E74)<Comp_V1_Years_Usage_Modeled,VLOOKUP(_Comp_V1_Vehicle_Drivetrain,DB_Maint_Repair_Costs[],COLUMN(I74)-COLUMN($E74)+2,FALSE)*Comp_V1_VMT_Modeled,0),IF(AND(COLUMN(I74)-COLUMN($E74)<Comp_V1_Years_Usage_Modeled,COLUMN(I74)-COLUMN($E74)<5),Comp_V1_Maint_Repair_Cost_Year_1_Modeled*Comp_V1_VMT_Modeled,IF(AND(COLUMN(I74)-COLUMN($E74)<Comp_V1_Years_Usage_Modeled,COLUMN(I74)-COLUMN($E74)>=5),Comp_V1_Maint_Repair_Cost_Year_5_Modeled*Comp_V1_VMT_Modeled,0)))*Data!G$81","v":-649.45929599999999},{"$f":"-IF(_Comp_V1_Maint_Repair_Cost_Use_Default=\"Yes\",IF(COLUMN(J74)-COLUMN($E74)<Comp_V1_Years_Usage_Modeled,VLOOKUP(_Comp_V1_Vehicle_Drivetrain,DB_Maint_Repair_Costs[],COLUMN(J74)-COLUMN($E74)+2,FALSE)*Comp_V1_VMT_Modeled,0),IF(AND(COLUMN(J74)-COLUMN($E74)<Comp_V1_Years_Usage_Modeled,COLUMN(J74)-COLUMN($E74)<5),Comp_V1_Maint_Repair_Cost_Year_1_Modeled*Comp_V1_VMT_Modeled,IF(AND(COLUMN(J74)-COLUMN($E74)<Comp_V1_Years_Usage_Modeled,COLUMN(J74)-COLUMN($E74)>=5),Comp_V1_Maint_Repair_Cost_Year_5_Modeled*Comp_V1_VMT_Modeled,0)))*Data!H$81","v":-861.18302649600014},{"$f":"-IF(_Comp_V1_Maint_Repair_Cost_Use_Default=\"Yes\",IF(COLUMN(K74)-COLUMN($E74)<Comp_V1_Years_Usage_Modeled,VLOOKUP(_Comp_V1_Vehicle_Drivetrain,DB_Maint_Repair_Costs[],COLUMN(K74)-COLUMN($E74)+2,FALSE)*Comp_V1_VMT_Modeled,0),IF(AND(COLUMN(K74)-COLUMN($E74)<Comp_V1_Years_Usage_Modeled,COLUMN(K74)-COLUMN($E74)<5),Comp_V1_Maint_Repair_Cost_Year_1_Modeled*Comp_V1_VMT_Modeled,IF(AND(COLUMN(K74)-COLUMN($E74)<Comp_V1_Years_Usage_Modeled,COLUMN(K74)-COLUMN($E74)>=5),Comp_V1_Maint_Repair_Cost_Year_5_Modeled*Comp_V1_VMT_Modeled,0)))*Data!I$81","v":-878.40668702592018},{"$f":"-IF(_Comp_V1_Maint_Repair_Cost_Use_Default=\"Yes\",IF(COLUMN(L74)-COLUMN($E74)<Comp_V1_Years_Usage_Modeled,VLOOKUP(_Comp_V1_Vehicle_Drivetrain,DB_Maint_Repair_Costs[],COLUMN(L74)-COLUMN($E74)+2,FALSE)*Comp_V1_VMT_Modeled,0),IF(AND(COLUMN(L74)-COLUMN($E74)<Comp_V1_Years_Usage_Modeled,COLUMN(L74)-COLUMN($E74)<5),Comp_V1_Maint_Repair_Cost_Year_1_Modeled*Comp_V1_VMT_Modeled,IF(AND(COLUMN(L74)-COLUMN($E74)<Comp_V1_Years_Usage_Modeled,COLUMN(L74)-COLUMN($E74)>=5),Comp_V1_Maint_Repair_Cost_Year_5_Modeled*Comp_V1_VMT_Modeled,0)))*Data!J$81","v":0},{"$f":"-IF(_Comp_V1_Maint_Repair_Cost_Use_Default=\"Yes\",IF(COLUMN(M74)-COLUMN($E74)<Comp_V1_Years_Usage_Modeled,VLOOKUP(_Comp_V1_Vehicle_Drivetrain,DB_Maint_Repair_Costs[],COLUMN(M74)-COLUMN($E74)+2,FALSE)*Comp_V1_VMT_Modeled,0),IF(AND(COLUMN(M74)-COLUMN($E74)<Comp_V1_Years_Usage_Modeled,COLUMN(M74)-COLUMN($E74)<5),Comp_V1_Maint_Repair_Cost_Year_1_Modeled*Comp_V1_VMT_Modeled,IF(AND(COLUMN(M74)-COLUMN($E74)<Comp_V1_Years_Usage_Modeled,COLUMN(M74)-COLUMN($E74)>=5),Comp_V1_Maint_Repair_Cost_Year_5_Modeled*Comp_V1_VMT_Modeled,0)))*Data!K$81","v":0},{"$f":"-IF(_Comp_V1_Maint_Repair_Cost_Use_Default=\"Yes\",IF(COLUMN(N74)-COLUMN($E74)<Comp_V1_Years_Usage_Modeled,VLOOKUP(_Comp_V1_Vehicle_Drivetrain,DB_Maint_Repair_Costs[],COLUMN(N74)-COLUMN($E74)+2,FALSE)*Comp_V1_VMT_Modeled,0),IF(AND(COLUMN(N74)-COLUMN($E74)<Comp_V1_Years_Usage_Modeled,COLUMN(N74)-COLUMN($E74)<5),Comp_V1_Maint_Repair_Cost_Year_1_Modeled*Comp_V1_VMT_Modeled,IF(AND(COLUMN(N74)-COLUMN($E74)<Comp_V1_Years_Usage_Modeled,COLUMN(N74)-COLUMN($E74)>=5),Comp_V1_Maint_Repair_Cost_Year_5_Modeled*Comp_V1_VMT_Modeled,0)))*Data!L$81","v":0},{"$f":"-IF(_Comp_V1_Maint_Repair_Cost_Use_Default=\"Yes\",IF(COLUMN(O74)-COLUMN($E74)<Comp_V1_Years_Usage_Modeled,VLOOKUP(_Comp_V1_Vehicle_Drivetrain,DB_Maint_Repair_Costs[],COLUMN(O74)-COLUMN($E74)+2,FALSE)*Comp_V1_VMT_Modeled,0),IF(AND(COLUMN(O74)-COLUMN($E74)<Comp_V1_Years_Usage_Modeled,COLUMN(O74)-COLUMN($E74)<5),Comp_V1_Maint_Repair_Cost_Year_1_Modeled*Comp_V1_VMT_Modeled,IF(AND(COLUMN(O74)-COLUMN($E74)<Comp_V1_Years_Usage_Modeled,COLUMN(O74)-COLUMN($E74)>=5),Comp_V1_Maint_Repair_Cost_Year_5_Modeled*Comp_V1_VMT_Modeled,0)))*Data!M$81","v":0},{"$f":"-IF(_Comp_V1_Maint_Repair_Cost_Use_Default=\"Yes\",IF(COLUMN(P74)-COLUMN($E74)<Comp_V1_Years_Usage_Modeled,VLOOKUP(_Comp_V1_Vehicle_Drivetrain,DB_Maint_Repair_Costs[],COLUMN(P74)-COLUMN($E74)+2,FALSE)*Comp_V1_VMT_Modeled,0),IF(AND(COLUMN(P74)-COLUMN($E74)<Comp_V1_Years_Usage_Modeled,COLUMN(P74)-COLUMN($E74)<5),Comp_V1_Maint_Repair_Cost_Year_1_Modeled*Comp_V1_VMT_Modeled,IF(AND(COLUMN(P74)-COLUMN($E74)<Comp_V1_Years_Usage_Modeled,COLUMN(P74)-COLUMN($E74)>=5),Comp_V1_Maint_Repair_Cost_Year_5_Modeled*Comp_V1_VMT_Modeled,0)))*Data!N$81","v":0},{"$f":"-IF(_Comp_V1_Maint_Repair_Cost_Use_Default=\"Yes\",IF(COLUMN(Q74)-COLUMN($E74)<Comp_V1_Years_Usage_Modeled,VLOOKUP(_Comp_V1_Vehicle_Drivetrain,DB_Maint_Repair_Costs[],COLUMN(Q74)-COLUMN($E74)+2,FALSE)*Comp_V1_VMT_Modeled,0),IF(AND(COLUMN(Q74)-COLUMN($E74)<Comp_V1_Years_Usage_Modeled,COLUMN(Q74)-COLUMN($E74)<5),Comp_V1_Maint_Repair_Cost_Year_1_Modeled*Comp_V1_VMT_Modeled,IF(AND(COLUMN(Q74)-COLUMN($E74)<Comp_V1_Years_Usage_Modeled,COLUMN(Q74)-COLUMN($E74)>=5),Comp_V1_Maint_Repair_Cost_Year_5_Modeled*Comp_V1_VMT_Modeled,0)))*Data!O$81","v":0},{"$f":"-IF(_Comp_V1_Maint_Repair_Cost_Use_Default=\"Yes\",IF(COLUMN(R74)-COLUMN($E74)<Comp_V1_Years_Usage_Modeled,VLOOKUP(_Comp_V1_Vehicle_Drivetrain,DB_Maint_Repair_Costs[],COLUMN(R74)-COLUMN($E74)+2,FALSE)*Comp_V1_VMT_Modeled,0),IF(AND(COLUMN(R74)-COLUMN($E74)<Comp_V1_Years_Usage_Modeled,COLUMN(R74)-COLUMN($E74)<5),Comp_V1_Maint_Repair_Cost_Year_1_Modeled*Comp_V1_VMT_Modeled,IF(AND(COLUMN(R74)-COLUMN($E74)<Comp_V1_Years_Usage_Modeled,COLUMN(R74)-COLUMN($E74)>=5),Comp_V1_Maint_Repair_Cost_Year_5_Modeled*Comp_V1_VMT_Modeled,0)))*Data!P$81","v":0},{"$f":"-IF(_Comp_V1_Maint_Repair_Cost_Use_Default=\"Yes\",IF(COLUMN(S74)-COLUMN($E74)<Comp_V1_Years_Usage_Modeled,VLOOKUP(_Comp_V1_Vehicle_Drivetrain,DB_Maint_Repair_Costs[],COLUMN(S74)-COLUMN($E74)+2,FALSE)*Comp_V1_VMT_Modeled,0),IF(AND(COLUMN(S74)-COLUMN($E74)<Comp_V1_Years_Usage_Modeled,COLUMN(S74)-COLUMN($E74)<5),Comp_V1_Maint_Repair_Cost_Year_1_Modeled*Comp_V1_VMT_Modeled,IF(AND(COLUMN(S74)-COLUMN($E74)<Comp_V1_Years_Usage_Modeled,COLUMN(S74)-COLUMN($E74)>=5),Comp_V1_Maint_Repair_Cost_Year_5_Modeled*Comp_V1_VMT_Modeled,0)))*Data!Q$81","v":0},{"$f":"-IF(_Comp_V1_Maint_Repair_Cost_Use_Default=\"Yes\",IF(COLUMN(T74)-COLUMN($E74)<Comp_V1_Years_Usage_Modeled,VLOOKUP(_Comp_V1_Vehicle_Drivetrain,DB_Maint_Repair_Costs[],COLUMN(T74)-COLUMN($E74)+2,FALSE)*Comp_V1_VMT_Modeled,0),IF(AND(COLUMN(T74)-COLUMN($E74)<Comp_V1_Years_Usage_Modeled,COLUMN(T74)-COLUMN($E74)<5),Comp_V1_Maint_Repair_Cost_Year_1_Modeled*Comp_V1_VMT_Modeled,IF(AND(COLUMN(T74)-COLUMN($E74)<Comp_V1_Years_Usage_Modeled,COLUMN(T74)-COLUMN($E74)>=5),Comp_V1_Maint_Repair_Cost_Year_5_Modeled*Comp_V1_VMT_Modeled,0)))*Data!R$81","v":0},{"$f":"-IF(_Comp_V1_Maint_Repair_Cost_Use_Default=\"Yes\",IF(COLUMN(U74)-COLUMN($E74)<Comp_V1_Years_Usage_Modeled,VLOOKUP(_Comp_V1_Vehicle_Drivetrain,DB_Maint_Repair_Costs[],COLUMN(U74)-COLUMN($E74)+2,FALSE)*Comp_V1_VMT_Modeled,0),IF(AND(COLUMN(U74)-COLUMN($E74)<Comp_V1_Years_Usage_Modeled,COLUMN(U74)-COLUMN($E74)<5),Comp_V1_Maint_Repair_Cost_Year_1_Modeled*Comp_V1_VMT_Modeled,IF(AND(COLUMN(U74)-COLUMN($E74)<Comp_V1_Years_Usage_Modeled,COLUMN(U74)-COLUMN($E74)>=5),Comp_V1_Maint_Repair_Cost_Year_5_Modeled*Comp_V1_VMT_Modeled,0)))*Data!S$81","v":0},{"$f":"-IF(_Comp_V1_Maint_Repair_Cost_Use_Default=\"Yes\",IF(COLUMN(V74)-COLUMN($E74)<Comp_V1_Years_Usage_Modeled,VLOOKUP(_Comp_V1_Vehicle_Drivetrain,DB_Maint_Repair_Costs[],COLUMN(V74)-COLUMN($E74)+2,FALSE)*Comp_V1_VMT_Modeled,0),IF(AND(COLUMN(V74)-COLUMN($E74)<Comp_V1_Years_Usage_Modeled,COLUMN(V74)-COLUMN($E74)<5),Comp_V1_Maint_Repair_Cost_Year_1_Modeled*Comp_V1_VMT_Modeled,IF(AND(COLUMN(V74)-COLUMN($E74)<Comp_V1_Years_Usage_Modeled,COLUMN(V74)-COLUMN($E74)>=5),Comp_V1_Maint_Repair_Cost_Year_5_Modeled*Comp_V1_VMT_Modeled,0)))*Data!T$81","v":0},{"$f":"-IF(_Comp_V1_Maint_Repair_Cost_Use_Default=\"Yes\",IF(COLUMN(W74)-COLUMN($E74)<Comp_V1_Years_Usage_Modeled,VLOOKUP(_Comp_V1_Vehicle_Drivetrain,DB_Maint_Repair_Costs[],COLUMN(W74)-COLUMN($E74)+2,FALSE)*Comp_V1_VMT_Modeled,0),IF(AND(COLUMN(W74)-COLUMN($E74)<Comp_V1_Years_Usage_Modeled,COLUMN(W74)-COLUMN($E74)<5),Comp_V1_Maint_Repair_Cost_Year_1_Modeled*Comp_V1_VMT_Modeled,IF(AND(COLUMN(W74)-COLUMN($E74)<Comp_V1_Years_Usage_Modeled,COLUMN(W74)-COLUMN($E74)>=5),Comp_V1_Maint_Repair_Cost_Year_5_Modeled*Comp_V1_VMT_Modeled,0)))*Data!U$81","v":0},{"$f":"-IF(_Comp_V1_Maint_Repair_Cost_Use_Default=\"Yes\",IF(COLUMN(X74)-COLUMN($E74)<Comp_V1_Years_Usage_Modeled,VLOOKUP(_Comp_V1_Vehicle_Drivetrain,DB_Maint_Repair_Costs[],COLUMN(X74)-COLUMN($E74)+2,FALSE)*Comp_V1_VMT_Modeled,0),IF(AND(COLUMN(X74)-COLUMN($E74)<Comp_V1_Years_Usage_Modeled,COLUMN(X74)-COLUMN($E74)<5),Comp_V1_Maint_Repair_Cost_Year_1_Modeled*Comp_V1_VMT_Modeled,IF(AND(COLUMN(X74)-COLUMN($E74)<Comp_V1_Years_Usage_Modeled,COLUMN(X74)-COLUMN($E74)>=5),Comp_V1_Maint_Repair_Cost_Year_5_Modeled*Comp_V1_VMT_Modeled,0)))*Data!V$81","v":0},{"$f":"-IF(_Comp_V1_Maint_Repair_Cost_Use_Default=\"Yes\",IF(COLUMN(Y74)-COLUMN($E74)<Comp_V1_Years_Usage_Modeled,VLOOKUP(_Comp_V1_Vehicle_Drivetrain,DB_Maint_Repair_Costs[],COLUMN(Y74)-COLUMN($E74)+2,FALSE)*Comp_V1_VMT_Modeled,0),IF(AND(COLUMN(Y74)-COLUMN($E74)<Comp_V1_Years_Usage_Modeled,COLUMN(Y74)-COLUMN($E74)<5),Comp_V1_Maint_Repair_Cost_Year_1_Modeled*Comp_V1_VMT_Modeled,IF(AND(COLUMN(Y74)-COLUMN($E74)<Comp_V1_Years_Usage_Modeled,COLUMN(Y74)-COLUMN($E74)>=5),Comp_V1_Maint_Repair_Cost_Year_5_Modeled*Comp_V1_VMT_Modeled,0)))*Data!W$81","v":0},{"$f":"-IF(_Comp_V1_Maint_Repair_Cost_Use_Default=\"Yes\",IF(COLUMN(Z74)-COLUMN($E74)<Comp_V1_Years_Usage_Modeled,VLOOKUP(_Comp_V1_Vehicle_Drivetrain,DB_Maint_Repair_Costs[],COLUMN(Z74)-COLUMN($E74)+2,FALSE)*Comp_V1_VMT_Modeled,0),IF(AND(COLUMN(Z74)-COLUMN($E74)<Comp_V1_Years_Usage_Modeled,COLUMN(Z74)-COLUMN($E74)<5),Comp_V1_Maint_Repair_Cost_Year_1_Modeled*Comp_V1_VMT_Modeled,IF(AND(COLUMN(Z74)-COLUMN($E74)<Comp_V1_Years_Usage_Modeled,COLUMN(Z74)-COLUMN($E74)>=5),Comp_V1_Maint_Repair_Cost_Year_5_Modeled*Comp_V1_VMT_Modeled,0)))*Data!X$81","v":0},{"$f":"-IF(_Comp_V1_Maint_Repair_Cost_Use_Default=\"Yes\",IF(COLUMN(AA74)-COLUMN($E74)<Comp_V1_Years_Usage_Modeled,VLOOKUP(_Comp_V1_Vehicle_Drivetrain,DB_Maint_Repair_Costs[],COLUMN(AA74)-COLUMN($E74)+2,FALSE)*Comp_V1_VMT_Modeled,0),IF(AND(COLUMN(AA74)-COLUMN($E74)<Comp_V1_Years_Usage_Modeled,COLUMN(AA74)-COLUMN($E74)<5),Comp_V1_Maint_Repair_Cost_Year_1_Modeled*Comp_V1_VMT_Modeled,IF(AND(COLUMN(AA74)-COLUMN($E74)<Comp_V1_Years_Usage_Modeled,COLUMN(AA74)-COLUMN($E74)>=5),Comp_V1_Maint_Repair_Cost_Year_5_Modeled*Comp_V1_VMT_Modeled,0)))*Data!Y$81","v":0},{"$f":"-IF(_Comp_V1_Maint_Repair_Cost_Use_Default=\"Yes\",IF(COLUMN(AB74)-COLUMN($E74)<Comp_V1_Years_Usage_Modeled,VLOOKUP(_Comp_V1_Vehicle_Drivetrain,DB_Maint_Repair_Costs[],COLUMN(AB74)-COLUMN($E74)+2,FALSE)*Comp_V1_VMT_Modeled,0),IF(AND(COLUMN(AB74)-COLUMN($E74)<Comp_V1_Years_Usage_Modeled,COLUMN(AB74)-COLUMN($E74)<5),Comp_V1_Maint_Repair_Cost_Year_1_Modeled*Comp_V1_VMT_Modeled,IF(AND(COLUMN(AB74)-COLUMN($E74)<Comp_V1_Years_Usage_Modeled,COLUMN(AB74)-COLUMN($E74)>=5),Comp_V1_Maint_Repair_Cost_Year_5_Modeled*Comp_V1_VMT_Modeled,0)))*Data!Z$81","v":0},{"$f":"-IF(_Comp_V1_Maint_Repair_Cost_Use_Default=\"Yes\",IF(COLUMN(AC74)-COLUMN($E74)<Comp_V1_Years_Usage_Modeled,VLOOKUP(_Comp_V1_Vehicle_Drivetrain,DB_Maint_Repair_Costs[],COLUMN(AC74)-COLUMN($E74)+2,FALSE)*Comp_V1_VMT_Modeled,0),IF(AND(COLUMN(AC74)-COLUMN($E74)<Comp_V1_Years_Usage_Modeled,COLUMN(AC74)-COLUMN($E74)<5),Comp_V1_Maint_Repair_Cost_Year_1_Modeled*Comp_V1_VMT_Modeled,IF(AND(COLUMN(AC74)-COLUMN($E74)<Comp_V1_Years_Usage_Modeled,COLUMN(AC74)-COLUMN($E74)>=5),Comp_V1_Maint_Repair_Cost_Year_5_Modeled*Comp_V1_VMT_Modeled,0)))*Data!AA$81","v":0}]
[null,"Taxes and Fees",null,{"$f":"-Comp_V1_Initial_Taxes_Fees_Modeled-(Comp_V1_Initial_Percent_Base_Price_Modeled*Comp_V1_Base_Price_Ex)","v":-1000},{"$f":"-IF(COLUMN(E74)-COLUMN($E74)<Comp_V1_Years_Usage_Modeled,Comp_V1_Taxes_Fees_Modeled,0)*Data!C$81","v":-10},{"$f":"-IF(COLUMN(F74)-COLUMN($E74)<Comp_V1_Years_Usage_Modeled,Comp_V1_Taxes_Fees_Modeled,0)*Data!D$81","v":-10.199999999999999},{"$f":"-IF(COLUMN(G74)-COLUMN($E74)<Comp_V1_Years_Usage_Modeled,Comp_V1_Taxes_Fees_Modeled,0)*Data!E$81","v":-10.404},{"$f":"-IF(COLUMN(H74)-COLUMN($E74)<Comp_V1_Years_Usage_Modeled,Comp_V1_Taxes_Fees_Modeled,0)*Data!F$81","v":-10.612079999999999},{"$f":"-IF(COLUMN(I74)-COLUMN($E74)<Comp_V1_Years_Usage_Modeled,Comp_V1_Taxes_Fees_Modeled,0)*Data!G$81","v":-10.824321599999999},{"$f":"-IF(COLUMN(J74)-COLUMN($E74)<Comp_V1_Years_Usage_Modeled,Comp_V1_Taxes_Fees_Modeled,0)*Data!H$81","v":-11.040808032000001},{"$f":"-IF(COLUMN(K74)-COLUMN($E74)<Comp_V1_Years_Usage_Modeled,Comp_V1_Taxes_Fees_Modeled,0)*Data!I$81","v":-11.261624192640001},{"$f":"-IF(COLUMN(L74)-COLUMN($E74)<Comp_V1_Years_Usage_Modeled,Comp_V1_Taxes_Fees_Modeled,0)*Data!J$81","v":0},{"$f":"-IF(COLUMN(M74)-COLUMN($E74)<Comp_V1_Years_Usage_Modeled,Comp_V1_Taxes_Fees_Modeled,0)*Data!K$81","v":0},{"$f":"-IF(COLUMN(N74)-COLUMN($E74)<Comp_V1_Years_Usage_Modeled,Comp_V1_Taxes_Fees_Modeled,0)*Data!L$81","v":0},{"$f":"-IF(COLUMN(O74)-COLUMN($E74)<Comp_V1_Years_Usage_Modeled,Comp_V1_Taxes_Fees_Modeled,0)*Data!M$81","v":0},{"$f":"-IF(COLUMN(P74)-COLUMN($E74)<Comp_V1_Years_Usage_Modeled,Comp_V1_Taxes_Fees_Modeled,0)*Data!N$81","v":0},{"$f":"-IF(COLUMN(Q74)-COLUMN($E74)<Comp_V1_Years_Usage_Modeled,Comp_V1_Taxes_Fees_Modeled,0)*Data!O$81","v":0},{"$f":"-IF(COLUMN(R74)-COLUMN($E74)<Comp_V1_Years_Usage_Modeled,Comp_V1_Taxes_Fees_Modeled,0)*Data!P$81","v":0},{"$f":"-IF(COLUMN(S74)-COLUMN($E74)<Comp_V1_Years_Usage_Modeled,Comp_V1_Taxes_Fees_Modeled,0)*Data!Q$81","v":0},{"$f":"-IF(COLUMN(T74)-COLUMN($E74)<Comp_V1_Years_Usage_Modeled,Comp_V1_Taxes_Fees_Modeled,0)*Data!R$81","v":0},{"$f":"-IF(COLUMN(U74)-COLUMN($E74)<Comp_V1_Years_Usage_Modeled,Comp_V1_Taxes_Fees_Modeled,0)*Data!S$81","v":0},{"$f":"-IF(COLUMN(V74)-COLUMN($E74)<Comp_V1_Years_Usage_Modeled,Comp_V1_Taxes_Fees_Modeled,0)*Data!T$81","v":0},{"$f":"-IF(COLUMN(W74)-COLUMN($E74)<Comp_V1_Years_Usage_Modeled,Comp_V1_Taxes_Fees_Modeled,0)*Data!U$81","v":0},{"$f":"-IF(COLUMN(X74)-COLUMN($E74)<Comp_V1_Years_Usage_Modeled,Comp_V1_Taxes_Fees_Modeled,0)*Data!V$81","v":0},{"$f":"-IF(COLUMN(Y74)-COLUMN($E74)<Comp_V1_Years_Usage_Modeled,Comp_V1_Taxes_Fees_Modeled,0)*Data!W$81","v":0},{"$f":"-IF(COLUMN(Z74)-COLUMN($E74)<Comp_V1_Years_Usage_Modeled,Comp_V1_Taxes_Fees_Modeled,0)*Data!X$81","v":0},{"$f":"-IF(COLUMN(AA74)-COLUMN($E74)<Comp_V1_Years_Usage_Modeled,Comp_V1_Taxes_Fees_Modeled,0)*Data!Y$81","v":0},{"$f":"-IF(COLUMN(AB74)-COLUMN($E74)<Comp_V1_Years_Usage_Modeled,Comp_V1_Taxes_Fees_Modeled,0)*Data!Z$81","v":0},{"$f":"-IF(COLUMN(AC74)-COLUMN($E74)<Comp_V1_Years_Usage_Modeled,Comp_V1_Taxes_Fees_Modeled,0)*Data!AA$81","v":0}]
[null,"Insurance Cost",null,null,{"$f":"-IF(COLUMN(E74)-COLUMN($E74)<Comp_V1_Years_Usage_Modeled,Comp_V1_Insurance_Cost_Modeled,0)*Data!C$81","v":-1222},{"$f":"-IF(COLUMN(F74)-COLUMN($E74)<Comp_V1_Years_Usage_Modeled,Comp_V1_Insurance_Cost_Modeled,0)*Data!D$81","v":-1246.44},{"$f":"-IF(COLUMN(G74)-COLUMN($E74)<Comp_V1_Years_Usage_Modeled,Comp_V1_Insurance_Cost_Modeled,0)*Data!E$81","v":-1271.3688},{"$f":"-IF(COLUMN(H74)-COLUMN($E74)<Comp_V1_Years_Usage_Modeled,Comp_V1_Insurance_Cost_Modeled,0)*Data!F$81","v":-1296.7961759999998},{"$f":"-IF(COLUMN(I74)-COLUMN($E74)<Comp_V1_Years_Usage_Modeled,Comp_V1_Insurance_Cost_Modeled,0)*Data!G$81","v":-1322.73209952},{"$f":"-IF(COLUMN(J74)-COLUMN($E74)<Comp_V1_Years_Usage_Modeled,Comp_V1_Insurance_Cost_Modeled,0)*Data!H$81","v":-1349.1867415104},{"$f":"-IF(COLUMN(K74)-COLUMN($E74)<Comp_V1_Years_Usage_Modeled,Comp_V1_Insurance_Cost_Modeled,0)*Data!I$81","v":-1376.170476340608},{"$f":"-IF(COLUMN(L74)-COLUMN($E74)<Comp_V1_Years_Usage_Modeled,Comp_V1_Insurance_Cost_Modeled,0)*Data!J$81","v":0},{"$f":"-IF(COLUMN(M74)-COLUMN($E74)<Comp_V1_Years_Usage_Modeled,Comp_V1_Insurance_Cost_Modeled,0)*Data!K$81","v":0},{"$f":"-IF(COLUMN(N74)-COLUMN($E74)<Comp_V1_Years_Usage_Modeled,Comp_V1_Insurance_Cost_Modeled,0)*Data!L$81","v":0},{"$f":"-IF(COLUMN(O74)-COLUMN($E74)<Comp_V1_Years_Usage_Modeled,Comp_V1_Insurance_Cost_Modeled,0)*Data!M$81","v":0},{"$f":"-IF(COLUMN(P74)-COLUMN($E74)<Comp_V1_Years_Usage_Modeled,Comp_V1_Insurance_Cost_Modeled,0)*Data!N$81","v":0},{"$f":"-IF(COLUMN(Q74)-COLUMN($E74)<Comp_V1_Years_Usage_Modeled,Comp_V1_Insurance_Cost_Modeled,0)*Data!O$81","v":0},{"$f":"-IF(COLUMN(R74)-COLUMN($E74)<Comp_V1_Years_Usage_Modeled,Comp_V1_Insurance_Cost_Modeled,0)*Data!P$81","v":0},{"$f":"-IF(COLUMN(S74)-COLUMN($E74)<Comp_V1_Years_Usage_Modeled,Comp_V1_Insurance_Cost_Modeled,0)*Data!Q$81","v":0},{"$f":"-IF(COLUMN(T74)-COLUMN($E74)<Comp_V1_Years_Usage_Modeled,Comp_V1_Insurance_Cost_Modeled,0)*Data!R$81","v":0},{"$f":"-IF(COLUMN(U74)-COLUMN($E74)<Comp_V1_Years_Usage_Modeled,Comp_V1_Insurance_Cost_Modeled,0)*Data!S$81","v":0},{"$f":"-IF(COLUMN(V74)-COLUMN($E74)<Comp_V1_Years_Usage_Modeled,Comp_V1_Insurance_Cost_Modeled,0)*Data!T$81","v":0},{"$f":"-IF(COLUMN(W74)-COLUMN($E74)<Comp_V1_Years_Usage_Modeled,Comp_V1_Insurance_Cost_Modeled,0)*Data!U$81","v":0},{"$f":"-IF(COLUMN(X74)-COLUMN($E74)<Comp_V1_Years_Usage_Modeled,Comp_V1_Insurance_Cost_Modeled,0)*Data!V$81","v":0},{"$f":"-IF(COLUMN(Y74)-COLUMN($E74)<Comp_V1_Years_Usage_Modeled,Comp_V1_Insurance_Cost_Modeled,0)*Data!W$81","v":0},{"$f":"-IF(COLUMN(Z74)-COLUMN($E74)<Comp_V1_Years_Usage_Modeled,Comp_V1_Insurance_Cost_Modeled,0)*Data!X$81","v":0},{"$f":"-IF(COLUMN(AA74)-COLUMN($E74)<Comp_V1_Years_Usage_Modeled,Comp_V1_Insurance_Cost_Modeled,0)*Data!Y$81","v":0},{"$f":"-IF(COLUMN(AB74)-COLUMN($E74)<Comp_V1_Years_Usage_Modeled,Comp_V1_Insurance_Cost_Modeled,0)*Data!Z$81","v":0},{"$f":"-IF(COLUMN(AC74)-COLUMN($E74)<Comp_V1_Years_Usage_Modeled,Comp_V1_Insurance_Cost_Modeled,0)*Data!AA$81","v":0}]
[null,"Subtotal Fuel and Operating Costs",null,{"$f":"SUM(D104:D107)","v":-1000},-2349.2830326704543,-2380.7121355967511,-2437.0961308471215,-2503.60828573871,-2556.3280696264719,-2805.9743631609886,-2856.5548036268237,0,0,0,0,0,0,0,0,0,0,0,0,0,0,0,0,0,0]
[]
[null,"Other Costs"]
[null,"Cost of Carbon",null,null,{"$f":"-IF(COLUMN(E74)-COLUMN($E74)<Comp_V1_Years_Usage_Modeled,Comp_V1_CO2_Ex/2204.62*Carbon_Price_Modeled,0)","v":0},0,0,0,0,0,0,0,0,0,0,0,0,0,0,0,0,0,0,0,0,0,0,0,0]
[null,"Subtotal Other Costs",null,{"$f":"SUM(D111:D111)","v":0},0,0,0,0,0,0,0,0,0,0,0,0,0,0,0,0,0,0,0,0,0,0,0,0,{"$f":"SUM(AC111:AC111)","v":0}]
[]
[null,"Total Discounted Costs"]
[null,"Total Annual Costs",null,{"$f":"D101+D108+D112","v":-27026},-2349.2830326704543,-2380.7121355967511,-2437.0961308471215,-2503.60828573871,-2556.3280696264719,-2805.9743631609886,-650.00049526072007,0,0,0,0,0,0,0,0,0,0,0,0,0,0,0,0,0,0]
[null,"Discount Factor",{"$f":"Comp_Discount_Rate_Modeled","v":0},{"$f":"(1/(1+$C116))^(COLUMN(D74)-COLUMN($D74))","v":1},1,1,1,1,1,1,1,1,1,1,1,1,1,1,1,1,1,1,1,1,1,1,1,1,1]
[null,"Discounted Total",null,{"$f":"D115*D116","v":-27026},{"$f":"E115*E116","v":-2349.2830326704543},{"$f":"F115*F116","v":-2380.7121355967511},-2437.0961308471215,-2503.60828573871,-2556.3280696264719,-2805.9743631609886,-650.00049526072007,0,0,0,0,0,0,0,0,0,0,0,0,0,0,0,0,0,0]
[null,"Cumulative Discounted Total",null,{"$f":"IF((COLUMN(D74)-COLUMN($D74))<=Comp_V1_Years_Usage_Modeled,C118+D117,0)","v":-27026},-29375.283032670453,-31755.995168267204,-34193.091299114327,-36696.699584853035,-39253.027654479505,-42059.002017640494,-42709.002512901214,0,0,0,0,0,0,0,0,0,0,0,0,0,0,0,0,0,0]
[null,"Annualized NPV Total Cost of Ownership",null,{"$f":"OFFSET($D118,0,Comp_V1_Years_Usage_Modeled)/Comp_V1_Years_Usage_Modeled","v":-6101.2860732716017}]
[]
[null,"Comparison EV Infrastructure"]
[null,null,null,"Year 0","Year 1 ","Year 2","Year 3","Year 4","Year 5","Year 6","Year 7","Year 8","Year 9","Year 10","Year 11","Year 12","Year 13","Year 14","Year 15","Year 16","Year 17","Year 18","Year 19","Year 20","Year 21","Year 22","Year 23","Year 24","Year 25"]
[null,"Capital and Financing Costs"]
[null,"Cash "]
[null,"Cash Payment",null,{"$f":"IF(AND(Comp_Inf_Has_Cash_Purchase_Ex=TRUE,_Comp_Include_Charging=\"Yes\"),-Comp_Num_Stations_Modeled*Comp_Station_Cost_Modeled,0)","v":0}]
[null,"Loan"]
[null,"Down Payment",null,{"$f":"IF(AND(Comp_Inf_Has_Cash_Purchase_Ex=FALSE,_Comp_Include_Charging=\"Yes\"),-Comp_Inf_Down_Payment_Modeled,0)","v":0}]
[null,"Loan Payments",null,null,{"$f":"IF(AND(Comp_Inf_Has_Cash_Purchase_Ex=FALSE,_Comp_Include_Charging=\"Yes\",(COLUMN(E122)-COLUMN($E122))<Comp_Inf_Loan_Term_Modeled),PMT(Comp_Inf_Loan_APR_Modeled/12,Comp_Inf_Loan_Term_Modeled*12,(Comp_Num_Stations_Modeled*Comp_Station_Cost_Modeled)-Comp_Inf_Down_Payment_Modeled,0)*12,0)","v":0},0,0,0,0,0,0,0,0,0,0,0,0,0,0,0,0,0,0,0,0,0,0,0,0]
[null,"Subtotal Loan Cash Flows",null,{"$f":"SUM(D127:D128)","v":0},0,0,0,0,0,0,0,0,0,0,0,0,0,0,0,0,0,0,0,0,0,0,0,0,0]
[]
[null,"Total Capital and Financing Costs",null,{"$f":"D125+D129","v":0},{"$f":"E125+E129","v":0},0,0,0,0,0,0,0,0,0,0,0,0,0,0,0,0,0,0,0,0,0,0,0,0]
[]
[null,"Operating Costs"]
[null,"Maintenance Cost",null,null,{"$f":"-IF(AND(COLUMN(E122)-COLUMN($E122)<Comp_V1_Years_Usage_Modeled,_Comp_Include_Charging=\"Yes\"),Comp_Station_Maint_Cost_Modeled*Comp_Num_Stations_Modeled,0)*Data!C$81","v":0},{"$f":"-IF(AND(COLUMN(F122)-COLUMN($E122)<Comp_V1_Years_Usage_Modeled,_Comp_Include_Charging=\"Yes\"),Comp_Station_Maint_Cost_Modeled*Comp_Num_Stations_Modeled,0)*Data!D$81","v":0},{"$f":"-IF(AND(COLUMN(G122)-COLUMN($E122)<Comp_V1_Years_Usage_Modeled,_Comp_Include_Charging=\"Yes\"),Comp_Station_Maint_Cost_Modeled*Comp_Num_Stations_Modeled,0)*Data!E$81","v":0},{"$f":"-IF(AND(COLUMN(H122)-COLUMN($E122)<Comp_V1_Years_Usage_Modeled,_Comp_Include_Charging=\"Yes\"),Comp_Station_Maint_Cost_Modeled*Comp_Num_Stations_Modeled,0)*Data!F$81","v":0},{"$f":"-IF(AND(COLUMN(I122)-COLUMN($E122)<Comp_V1_Years_Usage_Modeled,_Comp_Include_Charging=\"Yes\"),Comp_Station_Maint_Cost_Modeled*Comp_Num_Stations_Modeled,0)*Data!G$81","v":0},{"$f":"-IF(AND(COLUMN(J122)-COLUMN($E122)<Comp_V1_Years_Usage_Modeled,_Comp_Include_Charging=\"Yes\"),Comp_Station_Maint_Cost_Modeled*Comp_Num_Stations_Modeled,0)*Data!H$81","v":0},{"$f":"-IF(AND(COLUMN(K122)-COLUMN($E122)<Comp_V1_Years_Usage_Modeled,_Comp_Include_Charging=\"Yes\"),Comp_Station_Maint_Cost_Modeled*Comp_Num_Stations_Modeled,0)*Data!I$81","v":0},{"$f":"-IF(AND(COLUMN(L122)-COLUMN($E122)<Comp_V1_Years_Usage_Modeled,_Comp_Include_Charging=\"Yes\"),Comp_Station_Maint_Cost_Modeled*Comp_Num_Stations_Modeled,0)*Data!J$81","v":0},{"$f":"-IF(AND(COLUMN(M122)-COLUMN($E122)<Comp_V1_Years_Usage_Modeled,_Comp_Include_Charging=\"Yes\"),Comp_Station_Maint_Cost_Modeled*Comp_Num_Stations_Modeled,0)*Data!K$81","v":0},{"$f":"-IF(AND(COLUMN(N122)-COLUMN($E122)<Comp_V1_Years_Usage_Modeled,_Comp_Include_Charging=\"Yes\"),Comp_Station_Maint_Cost_Modeled*Comp_Num_Stations_Modeled,0)*Data!L$81","v":0},{"$f":"-IF(AND(COLUMN(O122)-COLUMN($E122)<Comp_V1_Years_Usage_Modeled,_Comp_Include_Charging=\"Yes\"),Comp_Station_Maint_Cost_Modeled*Comp_Num_Stations_Modeled,0)*Data!M$81","v":0},{"$f":"-IF(AND(COLUMN(P122)-COLUMN($E122)<Comp_V1_Years_Usage_Modeled,_Comp_Include_Charging=\"Yes\"),Comp_Station_Maint_Cost_Modeled*Comp_Num_Stations_Modeled,0)*Data!N$81","v":0},{"$f":"-IF(AND(COLUMN(Q122)-COLUMN($E122)<Comp_V1_Years_Usage_Modeled,_Comp_Include_Charging=\"Yes\"),Comp_Station_Maint_Cost_Modeled*Comp_Num_Stations_Modeled,0)*Data!O$81","v":0},{"$f":"-IF(AND(COLUMN(R122)-COLUMN($E122)<Comp_V1_Years_Usage_Modeled,_Comp_Include_Charging=\"Yes\"),Comp_Station_Maint_Cost_Modeled*Comp_Num_Stations_Modeled,0)*Data!P$81","v":0},{"$f":"-IF(AND(COLUMN(S122)-COLUMN($E122)<Comp_V1_Years_Usage_Modeled,_Comp_Include_Charging=\"Yes\"),Comp_Station_Maint_Cost_Modeled*Comp_Num_Stations_Modeled,0)*Data!Q$81","v":0},{"$f":"-IF(AND(COLUMN(T122)-COLUMN($E122)<Comp_V1_Years_Usage_Modeled,_Comp_Include_Charging=\"Yes\"),Comp_Station_Maint_Cost_Modeled*Comp_Num_Stations_Modeled,0)*Data!R$81","v":0},{"$f":"-IF(AND(COLUMN(U122)-COLUMN($E122)<Comp_V1_Years_Usage_Modeled,_Comp_Include_Charging=\"Yes\"),Comp_Station_Maint_Cost_Modeled*Comp_Num_Stations_Modeled,0)*Data!S$81","v":0},{"$f":"-IF(AND(COLUMN(V122)-COLUMN($E122)<Comp_V1_Years_Usage_Modeled,_Comp_Include_Charging=\"Yes\"),Comp_Station_Maint_Cost_Modeled*Comp_Num_Stations_Modeled,0)*Data!T$81","v":0},{"$f":"-IF(AND(COLUMN(W122)-COLUMN($E122)<Comp_V1_Years_Usage_Modeled,_Comp_Include_Charging=\"Yes\"),Comp_Station_Maint_Cost_Modeled*Comp_Num_Stations_Modeled,0)*Data!U$81","v":0},{"$f":"-IF(AND(COLUMN(X122)-COLUMN($E122)<Comp_V1_Years_Usage_Modeled,_Comp_Include_Charging=\"Yes\"),Comp_Station_Maint_Cost_Modeled*Comp_Num_Stations_Modeled,0)*Data!V$81","v":0},{"$f":"-IF(AND(COLUMN(Y122)-COLUMN($E122)<Comp_V1_Years_Usage_Modeled,_Comp_Include_Charging=\"Yes\"),Comp_Station_Maint_Cost_Modeled*Comp_Num_Stations_Modeled,0)*Data!W$81","v":0},{"$f":"-IF(AND(COLUMN(Z122)-COLUMN($E122)<Comp_V1_Years_Usage_Modeled,_Comp_Include_Charging=\"Yes\"),Comp_Station_Maint_Cost_Modeled*Comp_Num_Stations_Modeled,0)*Data!X$81","v":0},{"$f":"-IF(AND(COLUMN(AA122)-COLUMN($E122)<Comp_V1_Years_Usage_Modeled,_Comp_Include_Charging=\"Yes\"),Comp_Station_Maint_Cost_Modeled*Comp_Num_Stations_Modeled,0)*Data!Y$81","v":0},{"$f":"-IF(AND(COLUMN(AB122)-COLUMN($E122)<Comp_V1_Years_Usage_Modeled,_Comp_Include_Charging=\"Yes\"),Comp_Station_Maint_Cost_Modeled*Comp_Num_Stations_Modeled,0)*Data!Z$81","v":0},{"$f":"-IF(AND(COLUMN(AC122)-COLUMN($E122)<Comp_V1_Years_Usage_Modeled,_Comp_Include_Charging=\"Yes\"),Comp_Station_Maint_Cost_Modeled*Comp_Num_Stations_Modeled,0)*Data!AA$81","v":0}]
[null,"Subtotal Operating Costs",null,null,{"$f":"SUM(E134:E134)","v":0},0,0,0,0,0,0,0,0,0,0,0,0,0,0,0,0,0,0,0,0,0,0,0,0]
[null,"Total Discounted Costs"]
[null,"Total Annual Costs",null,{"$f":"D131+D135","v":0},{"$f":"E131+E135","v":0},0,0,0,0,0,0,0,0,0,0,0,0,0,0,0,0,0,0,0,0,0,0,0,0]
[null,"Discount Factor",{"$f":"Comp_Discount_Rate_Modeled","v":0},{"$f":"(1/(1+$C138))^(COLUMN(D122)-COLUMN($D122))","v":1},1,1,1,1,1,1,1,1,1,1,1,1,1,1,1,1,1,1,1,1,1,1,1,1,1]
[null,"Discounted Total",null,{"$f":"D137*D138","v":0},{"$f":"E137*E138","v":0},{"$f":"F137*F138","v":0},0,0,0,0,0,0,0,0,0,0,0,0,0,0,0,0,0,0,0,0,0,0,0]
[null,"Cumulative Discounted Total",null,{"$f":"IF((COLUMN(D122)-COLUMN($D122))<=Comp_V1_Years_Usage_Modeled,C140+D139,0)","v":0},0,0,0,0,0,0,0,0,0,0,0,0,0,0,0,0,0,0,0,0,0,0,0,0,0]
[null,"Annualized NPV Total Cost of Ownership",null,{"$f":"OFFSET($D140,0,Comp_V1_Years_Usage_Modeled)/Comp_V1_Years_Usage_Modeled","v":0}]

{"sheet":"Results Tables","index":6,"n_rows":73,"n_cols":29,"rows_kept":73,"cut":false,"hidden":true,"merged":[]}
["Results Tables - EV Fleet Procurement Analysis Tool"]
[]
[null,"Total Cost per Vehicle"]
[null,null,{"$f":"Base_V1_Type_Ex&\" (Baseline)\"","v":"2017 Chevrolet Cruze ICE (Baseline)"},{"$f":"Comp_V1_Type_Ex&\" (Comparison)\"","v":"2017 Chevrolet Bolt EV BEV (Comparison)"}]
[null,"Depreciation (less tax credits and incentives)",{"$f":"SUM('Financial Model'!D31:AC31)-SUM('Financial Model'!D19:AC19)-SUM('Financial Model'!D27:AC27)","v":-15570.926730282476},{"$f":"SUM('Financial Model'!D101:AC101)-SUM('Financial Model'!D89:AC89)-SUM('Financial Model'!D97:AC97)","v":-23819.445691633897}]
[null,"Financing",{"$f":"SUM('Financial Model'!E19:AC19)+SUM('Financial Model'!E27:AC27)","v":0},{"$f":"SUM('Financial Model'!E89:AC89)+SUM('Financial Model'!E97:AC97)","v":0}]
[null,"Fuel",{"$f":"SUM('Financial Model'!D34:AC34)","v":-8929.5673349465251},{"$f":"SUM('Financial Model'!D104:AC104)","v":-3868.5058845497524}]
[null,"Maintenance and Repairs",{"$f":"SUM('Financial Model'!D35:AC35)","v":-9724.0276190438399},{"$f":"SUM('Financial Model'!D105:AC105)","v":-4862.0138095219199}]
[null,"Taxes & Fees",{"$f":"SUM('Financial Model'!D36:AC36)","v":-1074.3428338246404},{"$f":"SUM('Financial Model'!D106:AC106)","v":-1074.3428338246404}]
[null,"Insurance",{"$f":"SUM('Financial Model'!D37:AC37)","v":-9084.694293371007},{"$f":"SUM('Financial Model'!D107:AC107)","v":-9084.694293371007}]
[null,"Carbon",{"$f":"SUM('Financial Model'!D41:AC41)","v":0},{"$f":"SUM('Financial Model'!D111:AC111)","v":0}]
[null,"Vehicle Total ",{"$f":"SUM(C5:C11)","v":-44383.558811468487},{"$f":"SUM(D5:D11)","v":-42709.002512901214}]
[null,"Vehicle Total - Check",{"$f":"SUM('Financial Model'!D45:AC45)","v":-44383.558811468494},{"$f":"SUM('Financial Model'!D115:AC115)","v":-42709.002512901214}]
[null,"Infrastructure per Vehicle",{"$f":"SUM('Financial Model'!D67:AC67)/Base_V1_Num_Vehicles_Modeled","v":0},{"$f":"SUM('Financial Model'!D137:AC137)/Comp_V1_Num_Vehicles_Modeled","v":0}]
[null,"Grand Total",{"$f":"C12+C14","v":-44383.558811468487},{"$f":"D12+D14","v":-42709.002512901214}]
[]
[null,"Vehicle Cost per Mile"]
[null,null,{"$f":"C4","v":"2017 Chevrolet Cruze ICE (Baseline)"},{"$f":"D4","v":"2017 Chevrolet Bolt EV BEV (Comparison)"}]
[null,"Depreciation (less tax credits and incentives)",{"$f":"-C5/(Base_V1_VMT_Modeled*Base_V1_Years_Usage_Modeled)","v":0.14829454028840452},{"$f":"-D5/(Comp_V1_VMT_Modeled*Comp_V1_Years_Usage_Modeled)","v":0.22685186372984664}]
[null,"Financing",0,0]
[null,"Fuel",8.504349842806215E-2,3.6842913186188118E-2]
[null,"Maintenance and Repairs",9.2609786848036571E-2,4.6304893424018286E-2]
[null,"Taxes & Fees",1.0231836512615623E-2,1.0231836512615623E-2]
[null,"Insurance",8.6520898032104832E-2,8.6520898032104832E-2]
[null,"Carbon",0,0]
[null,"Vehicle Total ",{"$f":"SUM(C19:C25)","v":0.42270056010922369},{"$f":"SUM(D19:D25)","v":0.40675240488477349}]
[null,"Vehicle Total - Check",{"$f":"-C13/(Base_V1_VMT_Modeled*Base_V1_Years_Usage_Modeled)","v":0.42270056010922374},{"$f":"-D13/(Comp_V1_VMT_Modeled*Comp_V1_Years_Usage_Modeled)","v":0.40675240488477349}]
[null,"Charging Infrastructure",{"$f":"-C14/(Base_V1_VMT_Modeled*Base_V1_Years_Usage_Modeled)","v":0},{"$f":"-D14/(Comp_V1_VMT_Modeled*Comp_V1_Years_Usage_Modeled)","v":0}]
[null,"Grand Total",{"$f":"-C15/(Base_V1_VMT_Modeled*Base_V1_Years_Usage_Modeled)","v":0.42270056010922369},{"$f":"-D15/(Comp_V1_VMT_Modeled*Comp_V1_Years_Usage_Modeled)","v":0.40675240488477349}]
[]
[null,"Gasoline Displaced"]
[null,null,{"$f":"C4","v":"2017 Chevrolet Cruze ICE (Baseline)"},{"$f":"D4","v":"2017 Chevrolet Bolt EV BEV (Comparison)"}]
[null,"Gallons of Gasoline / Year / Vehicle",{"$f":"Base_V1_Gas_Usage_Ex","v":443.75},{"$f":"Comp_V1_Gas_Usage_Ex","v":0}]
[null,"Number of Years",{"$f":"Base_V1_Years_Usage_Modeled","v":7},{"$f":"Comp_V1_Years_Usage_Modeled","v":7}]
[null,"Number of Vehicles",{"$f":"Base_V1_Num_Vehicles_Modeled","v":19},{"$f":"Comp_V1_Num_Vehicles_Modeled","v":19}]
[null,"Total Gasoline Consumption (Gallons)",{"$f":"C33*C34*C35","v":59018.75},{"$f":"D33*D34*D35","v":0}]
[null,"Gasoline Consumption / Mile (Average)",{"$f":"C33/Base_V1_VMT_Modeled","v":2.9583333333333333E-2},{"$f":"D33/Comp_V1_VMT_Modeled","v":0}]
[]
[null,"Cash Flow Chart"]
[]
[null,{"$f":"Base_V1_Type_Ex&\" (Baseline)\"","v":"2017 Chevrolet Cruze ICE (Baseline)"}]
[null,null,"Year 0","Year 1 ","Year 2","Year 3","Year 4","Year 5","Year 6","Year 7","Year 8","Year 9","Year 10","Year 11","Year 12","Year 13","Year 14","Year 15","Year 16","Year 17","Year 18","Year 19","Year 20","Year 21","Year 22","Year 23","Year 24","Year 25","Totals"]
[null,"Principal (less tax credits and incentives)",{"$f":"('Financial Model'!D31-'Financial Model'!D27-'Financial Model'!D29)*Base_V1_Num_Vehicles_Modeled","v":-346256},{"$f":"('Financial Model'!E31-'Financial Model'!E27-'Financial Model'!E29)*Base_V1_Num_Vehicles_Modeled","v":0},{"$f":"('Financial Model'!F31-'Financial Model'!F27-'Financial Model'!F29)*Base_V1_Num_Vehicles_Modeled","v":0},{"$f":"('Financial Model'!G31-'Financial Model'!G27-'Financial Model'!G29)*Base_V1_Num_Vehicles_Modeled","v":0},{"$f":"('Financial Model'!H31-'Financial Model'!H27-'Financial Model'!H29)*Base_V1_Num_Vehicles_Modeled","v":0},{"$f":"('Financial Model'!I31-'Financial Model'!I27-'Financial Model'!I29)*Base_V1_Num_Vehicles_Modeled","v":0},{"$f":"('Financial Model'!J31-'Financial Model'!J27-'Financial Model'!J29)*Base_V1_Num_Vehicles_Modeled","v":0},{"$f":"('Financial Model'!K31-'Financial Model'!K27-'Financial Model'!K29)*Base_V1_Num_Vehicles_Modeled","v":0},{"$f":"('Financial Model'!L31-'Financial Model'!L27-'Financial Model'!L29)*Base_V1_Num_Vehicles_Modeled","v":0},{"$f":"('Financial Model'!M31-'Financial Model'!M27-'Financial Model'!M29)*Base_V1_Num_Vehicles_Modeled","v":0},{"$f":"('Financial Model'!N31-'Financial Model'!N27-'Financial Model'!N29)*Base_V1_Num_Vehicles_Modeled","v":0},{"$f":"('Financial Model'!O31-'Financial Model'!O27-'Financial Model'!O29)*Base_V1_Num_Vehicles_Modeled","v":0},{"$f":"('Financial Model'!P31-'Financial Model'!P27-'Financial Model'!P29)*Base_V1_Num_Vehicles_Modeled","v":0},{"$f":"('Financial Model'!Q31-'Financial Model'!Q27-'Financial Model'!Q29)*Base_V1_Num_Vehicles_Modeled","v":0},{"$f":"('Financial Model'!R31-'Financial Model'!R27-'Financial Model'!R29)*Base_V1_Num_Vehicles_Modeled","v":0},{"$f":"('Financial Model'!S31-'Financial Model'!S27-'Financial Model'!S29)*Base_V1_Num_Vehicles_Modeled","v":0},{"$f":"('Financial Model'!T31-'Financial Model'!T27-'Financial Model'!T29)*Base_V1_Num_Vehicles_Modeled","v":0},{"$f":"('Financial Model'!U31-'Financial Model'!U27-'Financial Model'!U29)*Base_V1_Num_Vehicles_Modeled","v":0},{"$f":"('Financial Model'!V31-'Financial Model'!V27-'Financial Model'!V29)*Base_V1_Num_Vehicles_Modeled","v":0},{"$f":"('Financial Model'!W31-'Financial Model'!W27-'Financial Model'!W29)*Base_V1_Num_Vehicles_Modeled","v":0},{"$f":"('Financial Model'!X31-'Financial Model'!X27-'Financial Model'!X29)*Base_V1_Num_Vehicles_Modeled","v":0},{"$f":"('Financial Model'!Y31-'Financial Model'!Y27-'Financial Model'!Y29)*Base_V1_Num_Vehicles_Modeled","v":0},{"$f":"('Financial Model'!Z31-'Financial Model'!Z27-'Financial Model'!Z29)*Base_V1_Num_Vehicles_Modeled","v":0},{"$f":"('Financial Model'!AA31-'Financial Model'!AA27-'Financial Model'!AA29)*Base_V1_Num_Vehicles_Modeled","v":0},{"$f":"('Financial Model'!AB31-'Financial Model'!AB27-'Financial Model'!AB29)*Base_V1_Num_Vehicles_Modeled","v":0},{"$f":"('Financial Model'!AC31-'Financial Model'!AC27-'Financial Model'!AC29)*Base_V1_Num_Vehicles_Modeled","v":0},{"$f":"SUM(C43:AB43)","v":-346256}]
[null,"Financing",{"$f":"'Financial Model'!D27*Base_V1_Num_Vehicles_Modeled","v":0},{"$f":"'Financial Model'!E27*Base_V1_Num_Vehicles_Modeled","v":0},{"$f":"'Financial Model'!F27*Base_V1_Num_Vehicles_Modeled","v":0},{"$f":"'Financial Model'!G27*Base_V1_Num_Vehicles_Modeled","v":0},{"$f":"'Financial Model'!H27*Base_V1_Num_Vehicles_Modeled","v":0},{"$f":"'Financial Model'!I27*Base_V1_Num_Vehicles_Modeled","v":0},{"$f":"'Financial Model'!J27*Base_V1_Num_Vehicles_Modeled","v":0},{"$f":"'Financial Model'!K27*Base_V1_Num_Vehicles_Modeled","v":0},{"$f":"'Financial Model'!L27*Base_V1_Num_Vehicles_Modeled","v":0},{"$f":"'Financial Model'!M27*Base_V1_Num_Vehicles_Modeled","v":0},{"$f":"'Financial Model'!N27*Base_V1_Num_Vehicles_Modeled","v":0},{"$f":"'Financial Model'!O27*Base_V1_Num_Vehicles_Modeled","v":0},{"$f":"'Financial Model'!P27*Base_V1_Num_Vehicles_Modeled","v":0},{"$f":"'Financial Model'!Q27*Base_V1_Num_Vehicles_Modeled","v":0},{"$f":"'Financial Model'!R27*Base_V1_Num_Vehicles_Modeled","v":0},{"$f":"'Financial Model'!S27*Base_V1_Num_Vehicles_Modeled","v":0},{"$f":"'Financial Model'!T27*Base_V1_Num_Vehicles_Modeled","v":0},{"$f":"'Financial Model'!U27*Base_V1_Num_Vehicles_Modeled","v":0},{"$f":"'Financial Model'!V27*Base_V1_Num_Vehicles_Modeled","v":0},{"$f":"'Financial Model'!W27*Base_V1_Num_Vehicles_Modeled","v":0},{"$f":"'Financial Model'!X27*Base_V1_Num_Vehicles_Modeled","v":0},{"$f":"'Financial Model'!Y27*Base_V1_Num_Vehicles_Modeled","v":0},{"$f":"'Financial Model'!Z27*Base_V1_Num_Vehicles_Modeled","v":0},{"$f":"'Financial Model'!AA27*Base_V1_Num_Vehicles_Modeled","v":0},{"$f":"'Financial Model'!AB27*Base_V1_Num_Vehicles_Modeled","v":0},{"$f":"'Financial Model'!AC27*Base_V1_Num_Vehicles_Modeled","v":0},{"$f":"SUM(C44:AB44)","v":0}]
[null,"Residual Value (Vehicle Sale)",{"$f":"'Financial Model'!D29*Base_V1_Num_Vehicles_Modeled","v":0},{"$f":"'Financial Model'!E29*Base_V1_Num_Vehicles_Modeled","v":0},{"$f":"'Financial Model'!F29*Base_V1_Num_Vehicles_Modeled","v":0},{"$f":"'Financial Model'!G29*Base_V1_Num_Vehicles_Modeled","v":0},{"$f":"'Financial Model'!H29*Base_V1_Num_Vehicles_Modeled","v":0},{"$f":"'Financial Model'!I29*Base_V1_Num_Vehicles_Modeled","v":0},{"$f":"'Financial Model'!J29*Base_V1_Num_Vehicles_Modeled","v":0},{"$f":"'Financial Model'!K29*Base_V1_Num_Vehicles_Modeled","v":50408.392124632956},{"$f":"'Financial Model'!L29*Base_V1_Num_Vehicles_Modeled","v":0},{"$f":"'Financial Model'!M29*Base_V1_Num_Vehicles_Modeled","v":0},{"$f":"'Financial Model'!N29*Base_V1_Num_Vehicles_Modeled","v":0},{"$f":"'Financial Model'!O29*Base_V1_Num_Vehicles_Modeled","v":0},{"$f":"'Financial Model'!P29*Base_V1_Num_Vehicles_Modeled","v":0},{"$f":"'Financial Model'!Q29*Base_V1_Num_Vehicles_Modeled","v":0},{"$f":"'Financial Model'!R29*Base_V1_Num_Vehicles_Modeled","v":0},{"$f":"'Financial Model'!S29*Base_V1_Num_Vehicles_Modeled","v":0},{"$f":"'Financial Model'!T29*Base_V1_Num_Vehicles_Modeled","v":0},{"$f":"'Financial Model'!U29*Base_V1_Num_Vehicles_Modeled","v":0},{"$f":"'Financial Model'!V29*Base_V1_Num_Vehicles_Modeled","v":0},{"$f":"'Financial Model'!W29*Base_V1_Num_Vehicles_Modeled","v":0},{"$f":"'Financial Model'!X29*Base_V1_Num_Vehicles_Modeled","v":0},{"$f":"'Financial Model'!Y29*Base_V1_Num_Vehicles_Modeled","v":0},{"$f":"'Financial Model'!Z29*Base_V1_Num_Vehicles_Modeled","v":0},{"$f":"'Financial Model'!AA29*Base_V1_Num_Vehicles_Modeled","v":0},{"$f":"'Financial Model'!AB29*Base_V1_Num_Vehicles_Modeled","v":0},{"$f":"'Financial Model'!AC29*Base_V1_Num_Vehicles_Modeled","v":0},50408.392124632956]
[null,"Fuel",{"$f":"'Financial Model'!D34*Base_V1_Num_Vehicles_Modeled","v":0},{"$f":"'Financial Model'!E34*Base_V1_Num_Vehicles_Modeled","v":-19493.049999999996},{"$f":"'Financial Model'!F34*Base_V1_Num_Vehicles_Modeled","v":-21225.932882356276},{"$f":"'Financial Model'!G34*Base_V1_Num_Vehicles_Modeled","v":-22785.103800070352},{"$f":"'Financial Model'!H34*Base_V1_Num_Vehicles_Modeled","v":-25074.450973813378},{"$f":"'Financial Model'!I34*Base_V1_Num_Vehicles_Modeled","v":-26333.096876564749},{"$f":"'Financial Model'!J34*Base_V1_Num_Vehicles_Modeled","v":-27167.085447070669},{"$f":"'Financial Model'!K34*Base_V1_Num_Vehicles_Modeled","v":-27583.059384108557},{"$f":"'Financial Model'!L34*Base_V1_Num_Vehicles_Modeled","v":0},{"$f":"'Financial Model'!M34*Base_V1_Num_Vehicles_Modeled","v":0},{"$f":"'Financial Model'!N34*Base_V1_Num_Vehicles_Modeled","v":0},{"$f":"'Financial Model'!O34*Base_V1_Num_Vehicles_Modeled","v":0},{"$f":"'Financial Model'!P34*Base_V1_Num_Vehicles_Modeled","v":0},{"$f":"'Financial Model'!Q34*Base_V1_Num_Vehicles_Modeled","v":0},{"$f":"'Financial Model'!R34*Base_V1_Num_Vehicles_Modeled","v":0},{"$f":"'Financial Model'!S34*Base_V1_Num_Vehicles_Modeled","v":0},{"$f":"'Financial Model'!T34*Base_V1_Num_Vehicles_Modeled","v":0},{"$f":"'Financial Model'!U34*Base_V1_Num_Vehicles_Modeled","v":0},{"$f":"'Financial Model'!V34*Base_V1_Num_Vehicles_Modeled","v":0},{"$f":"'Financial Model'!W34*Base_V1_Num_Vehicles_Modeled","v":0},{"$f":"'Financial Model'!X34*Base_V1_Num_Vehicles_Modeled","v":0},{"$f":"'Financial Model'!Y34*Base_V1_Num_Vehicles_Modeled","v":0},{"$f":"'Financial Model'!Z34*Base_V1_Num_Vehicles_Modeled","v":0},{"$f":"'Financial Model'!AA34*Base_V1_Num_Vehicles_Modeled","v":0},{"$f":"'Financial Model'!AB34*Base_V1_Num_Vehicles_Modeled","v":0},{"$f":"'Financial Model'!AC34*Base_V1_Num_Vehicles_Modeled","v":0},-169661.77936398398]
[null,"Maintenance and Repairs",{"$f":"'Financial Model'!D35*Base_V1_Num_Vehicles_Modeled","v":0},{"$f":"'Financial Model'!E35*Base_V1_Num_Vehicles_Modeled","v":-22800},{"$f":"'Financial Model'!F35*Base_V1_Num_Vehicles_Modeled","v":-23256},{"$f":"'Financial Model'!G35*Base_V1_Num_Vehicles_Modeled","v":-23721.119999999999},{"$f":"'Financial Model'!H35*Base_V1_Num_Vehicles_Modeled","v":-24195.542399999998},{"$f":"'Financial Model'!I35*Base_V1_Num_Vehicles_Modeled","v":-24679.453247999998},{"$f":"'Financial Model'!J35*Base_V1_Num_Vehicles_Modeled","v":-32724.955006848006},{"$f":"'Financial Model'!K35*Base_V1_Num_Vehicles_Modeled","v":-33379.454106984966},{"$f":"'Financial Model'!L35*Base_V1_Num_Vehicles_Modeled","v":0},{"$f":"'Financial Model'!M35*Base_V1_Num_Vehicles_Modeled","v":0},{"$f":"'Financial Model'!N35*Base_V1_Num_Vehicles_Modeled","v":0},{"$f":"'Financial Model'!O35*Base_V1_Num_Vehicles_Modeled","v":0},{"$f":"'Financial Model'!P35*Base_V1_Num_Vehicles_Modeled","v":0},{"$f":"'Financial Model'!Q35*Base_V1_Num_Vehicles_Modeled","v":0},{"$f":"'Financial Model'!R35*Base_V1_Num_Vehicles_Modeled","v":0},{"$f":"'Financial Model'!S35*Base_V1_Num_Vehicles_Modeled","v":0},{"$f":"'Financial Model'!T35*Base_V1_Num_Vehicles_Modeled","v":0},{"$f":"'Financial Model'!U35*Base_V1_Num_Vehicles_Modeled","v":0},{"$f":"'Financial Model'!V35*Base_V1_Num_Vehicles_Modeled","v":0},{"$f":"'Financial Model'!W35*Base_V1_Num_Vehicles_Modeled","v":0},{"$f":"'Financial Model'!X35*Base_V1_Num_Vehicles_Modeled","v":0},{"$f":"'Financial Model'!Y35*Base_V1_Num_Vehicles_Modeled","v":0},{"$f":"'Financial Model'!Z35*Base_V1_Num_Vehicles_Modeled","v":0},{"$f":"'Financial Model'!AA35*Base_V1_Num_Vehicles_Modeled","v":0},{"$f":"'Financial Model'!AB35*Base_V1_Num_Vehicles_Modeled","v":0},{"$f":"'Financial Model'!AC35*Base_V1_Num_Vehicles_Modeled","v":0},-184756.52476183296]
[null,"Taxes & Fees",{"$f":"'Financial Model'!D36*Base_V1_Num_Vehicles_Modeled","v":-19000},{"$f":"'Financial Model'!E36*Base_V1_Num_Vehicles_Modeled","v":-190},{"$f":"'Financial Model'!F36*Base_V1_Num_Vehicles_Modeled","v":-193.79999999999998},{"$f":"'Financial Model'!G36*Base_V1_Num_Vehicles_Modeled","v":-197.67599999999999},{"$f":"'Financial Model'!H36*Base_V1_Num_Vehicles_Modeled","v":-201.62951999999999},{"$f":"'Financial Model'!I36*Base_V1_Num_Vehicles_Modeled","v":-205.66211039999999},{"$f":"'Financial Model'!J36*Base_V1_Num_Vehicles_Modeled","v":-209.77535260800002},{"$f":"'Financial Model'!K36*Base_V1_Num_Vehicles_Modeled","v":-213.97085966016002},{"$f":"'Financial Model'!L36*Base_V1_Num_Vehicles_Modeled","v":0},{"$f":"'Financial Model'!M36*Base_V1_Num_Vehicles_Modeled","v":0},{"$f":"'Financial Model'!N36*Base_V1_Num_Vehicles_Modeled","v":0},{"$f":"'Financial Model'!O36*Base_V1_Num_Vehicles_Modeled","v":0},{"$f":"'Financial Model'!P36*Base_V1_Num_Vehicles_Modeled","v":0},{"$f":"'Financial Model'!Q36*Base_V1_Num_Vehicles_Modeled","v":0},{"$f":"'Financial Model'!R36*Base_V1_Num_Vehicles_Modeled","v":0},{"$f":"'Financial Model'!S36*Base_V1_Num_Vehicles_Modeled","v":0},{"$f":"'Financial Model'!T36*Base_V1_Num_Vehicles_Modeled","v":0},{"$f":"'Financial Model'!U36*Base_V1_Num_Vehicles_Modeled","v":0},{"$f":"'Financial Model'!V36*Base_V1_Num_Vehicles_Modeled","v":0},{"$f":"'Financial Model'!W36*Base_V1_Num_Vehicles_Modeled","v":0},{"$f":"'Financial Model'!X36*Base_V1_Num_Vehicles_Modeled","v":0},{"$f":"'Financial Model'!Y36*Base_V1_Num_Vehicles_Modeled","v":0},{"$f":"'Financial Model'!Z36*Base_V1_Num_Vehicles_Modeled","v":0},{"$f":"'Financial Model'!AA36*Base_V1_Num_Vehicles_Modeled","v":0},{"$f":"'Financial Model'!AB36*Base_V1_Num_Vehicles_Modeled","v":0},{"$f":"'Financial Model'!AC36*Base_V1_Num_Vehicles_Modeled","v":0},-20412.513842668159]
[null,"Insurance",{"$f":"'Financial Model'!D37*Base_V1_Num_Vehicles_Modeled","v":0},{"$f":"'Financial Model'!E37*Base_V1_Num_Vehicles_Modeled","v":-23218},{"$f":"'Financial Model'!F37*Base_V1_Num_Vehicles_Modeled","v":-23682.36},{"$f":"'Financial Model'!G37*Base_V1_Num_Vehicles_Modeled","v":-24156.0072},{"$f":"'Financial Model'!H37*Base_V1_Num_Vehicles_Modeled","v":-24639.127343999997},{"$f":"'Financial Model'!I37*Base_V1_Num_Vehicles_Modeled","v":-25131.909890880001},{"$f":"'Financial Model'!J37*Base_V1_Num_Vehicles_Modeled","v":-25634.5480886976},{"$f":"'Financial Model'!K37*Base_V1_Num_Vehicles_Modeled","v":-26147.239050471551},{"$f":"'Financial Model'!L37*Base_V1_Num_Vehicles_Modeled","v":0},{"$f":"'Financial Model'!M37*Base_V1_Num_Vehicles_Modeled","v":0},{"$f":"'Financial Model'!N37*Base_V1_Num_Vehicles_Modeled","v":0},{"$f":"'Financial Model'!O37*Base_V1_Num_Vehicles_Modeled","v":0},{"$f":"'Financial Model'!P37*Base_V1_Num_Vehicles_Modeled","v":0},{"$f":"'Financial Model'!Q37*Base_V1_Num_Vehicles_Modeled","v":0},{"$f":"'Financial Model'!R37*Base_V1_Num_Vehicles_Modeled","v":0},{"$f":"'Financial Model'!S37*Base_V1_Num_Vehicles_Modeled","v":0},{"$f":"'Financial Model'!T37*Base_V1_Num_Vehicles_Modeled","v":0},{"$f":"'Financial Model'!U37*Base_V1_Num_Vehicles_Modeled","v":0},{"$f":"'Financial Model'!V37*Base_V1_Num_Vehicles_Modeled","v":0},{"$f":"'Financial Model'!W37*Base_V1_Num_Vehicles_Modeled","v":0},{"$f":"'Financial Model'!X37*Base_V1_Num_Vehicles_Modeled","v":0},{"$f":"'Financial Model'!Y37*Base_V1_Num_Vehicles_Modeled","v":0},{"$f":"'Financial Model'!Z37*Base_V1_Num_Vehicles_Modeled","v":0},{"$f":"'Financial Model'!AA37*Base_V1_Num_Vehicles_Modeled","v":0},{"$f":"'Financial Model'!AB37*Base_V1_Num_Vehicles_Modeled","v":0},{"$f":"'Financial Model'!AC37*Base_V1_Num_Vehicles_Modeled","v":0},-172609.19157404915]
[null,"Carbon",{"$f":"'Financial Model'!D42*Base_V1_Num_Vehicles_Modeled","v":0},{"$f":"'Financial Model'!E42*Base_V1_Num_Vehicles_Modeled","v":0},{"$f":"'Financial Model'!F42*Base_V1_Num_Vehicles_Modeled","v":0},{"$f":"'Financial Model'!G42*Base_V1_Num_Vehicles_Modeled","v":0},{"$f":"'Financial Model'!H42*Base_V1_Num_Vehicles_Modeled","v":0},{"$f":"'Financial Model'!I42*Base_V1_Num_Vehicles_Modeled","v":0},{"$f":"'Financial Model'!J42*Base_V1_Num_Vehicles_Modeled","v":0},{"$f":"'Financial Model'!K42*Base_V1_Num_Vehicles_Modeled","v":0},{"$f":"'Financial Model'!L42*Base_V1_Num_Vehicles_Modeled","v":0},{"$f":"'Financial Model'!M42*Base_V1_Num_Vehicles_Modeled","v":0},{"$f":"'Financial Model'!N42*Base_V1_Num_Vehicles_Modeled","v":0},{"$f":"'Financial Model'!O42*Base_V1_Num_Vehicles_Modeled","v":0},{"$f":"'Financial Model'!P42*Base_V1_Num_Vehicles_Modeled","v":0},{"$f":"'Financial Model'!Q42*Base_V1_Num_Vehicles_Modeled","v":0},{"$f":"'Financial Model'!R42*Base_V1_Num_Vehicles_Modeled","v":0},{"$f":"'Financial Model'!S42*Base_V1_Num_Vehicles_Modeled","v":0},{"$f":"'Financial Model'!T42*Base_V1_Num_Vehicles_Modeled","v":0},{"$f":"'Financial Model'!U42*Base_V1_Num_Vehicles_Modeled","v":0},{"$f":"'Financial Model'!V42*Base_V1_Num_Vehicles_Modeled","v":0},{"$f":"'Financial Model'!W42*Base_V1_Num_Vehicles_Modeled","v":0},{"$f":"'Financial Model'!X42*Base_V1_Num_Vehicles_Modeled","v":0},{"$f":"'Financial Model'!Y42*Base_V1_Num_Vehicles_Modeled","v":0},{"$f":"'Financial Model'!Z42*Base_V1_Num_Vehicles_Modeled","v":0},{"$f":"'Financial Model'!AA42*Base_V1_Num_Vehicles_Modeled","v":0},{"$f":"'Financial Model'!AB42*Base_V1_Num_Vehicles_Modeled","v":0},{"$f":"'Financial Model'!AC42*Base_V1_Num_Vehicles_Modeled","v":0},0]
[null,"Vehicle Total ",{"$f":"SUM(C43:C50)","v":-365256},-65701.049999999988,-68358.092882356286,-70859.90700007035,-74110.750237813379,-76350.122125844748,-85736.363895224262,-36915.331276592275,0,0,0,0,0,0,0,0,0,0,0,0,0,0,0,0,0,0,-843287.61741790129]
[null,"Vehicle Total - Check",{"$f":"'Financial Model'!D45*Base_V1_Num_Vehicles_Modeled","v":-365256},{"$f":"'Financial Model'!E45*Base_V1_Num_Vehicles_Modeled","v":-65701.05},{"$f":"'Financial Model'!F45*Base_V1_Num_Vehicles_Modeled","v":-68358.092882356272},{"$f":"'Financial Model'!G45*Base_V1_Num_Vehicles_Modeled","v":-70859.90700007035},{"$f":"'Financial Model'!H45*Base_V1_Num_Vehicles_Modeled","v":-74110.750237813379},{"$f":"'Financial Model'!I45*Base_V1_Num_Vehicles_Modeled","v":-76350.122125844762},{"$f":"'Financial Model'!J45*Base_V1_Num_Vehicles_Modeled","v":-85736.363895224276},{"$f":"'Financial Model'!K45*Base_V1_Num_Vehicles_Modeled","v":-36915.331276592275},{"$f":"'Financial Model'!L45*Base_V1_Num_Vehicles_Modeled","v":0},{"$f":"'Financial Model'!M45*Base_V1_Num_Vehicles_Modeled","v":0},{"$f":"'Financial Model'!N45*Base_V1_Num_Vehicles_Modeled","v":0},{"$f":"'Financial Model'!O45*Base_V1_Num_Vehicles_Modeled","v":0},{"$f":"'Financial Model'!P45*Base_V1_Num_Vehicles_Modeled","v":0},{"$f":"'Financial Model'!Q45*Base_V1_Num_Vehicles_Modeled","v":0},{"$f":"'Financial Model'!R45*Base_V1_Num_Vehicles_Modeled","v":0},{"$f":"'Financial Model'!S45*Base_V1_Num_Vehicles_Modeled","v":0},{"$f":"'Financial Model'!T45*Base_V1_Num_Vehicles_Modeled","v":0},{"$f":"'Financial Model'!U45*Base_V1_Num_Vehicles_Modeled","v":0},{"$f":"'Financial Model'!V45*Base_V1_Num_Vehicles_Modeled","v":0},{"$f":"'Financial Model'!W45*Base_V1_Num_Vehicles_Modeled","v":0},{"$f":"'Financial Model'!X45*Base_V1_Num_Vehicles_Modeled","v":0},{"$f":"'Financial Model'!Y45*Base_V1_Num_Vehicles_Modeled","v":0},{"$f":"'Financial Model'!Z45*Base_V1_Num_Vehicles_Modeled","v":0},{"$f":"'Financial Model'!AA45*Base_V1_Num_Vehicles_Modeled","v":0},{"$f":"'Financial Model'!AB45*Base_V1_Num_Vehicles_Modeled","v":0},{"$f":"'Financial Model'!AC45*Base_V1_Num_Vehicles_Modeled","v":0},-843287.61741790129]
[null,"Charging Infrastructure",{"$f":"'Financial Model'!D67","v":0},{"$f":"'Financial Model'!E67","v":0},{"$f":"'Financial Model'!F67","v":0},{"$f":"'Financial Model'!G67","v":0},{"$f":"'Financial Model'!H67","v":0},{"$f":"'Financial Model'!I67","v":0},{"$f":"'Financial Model'!J67","v":0},{"$f":"'Financial Model'!K67","v":0},{"$f":"'Financial Model'!L67","v":0},{"$f":"'Financial Model'!M67","v":0},{"$f":"'Financial Model'!N67","v":0},{"$f":"'Financial Model'!O67","v":0},{"$f":"'Financial Model'!P67","v":0},{"$f":"'Financial Model'!Q67","v":0},{"$f":"'Financial Model'!R67","v":0},{"$f":"'Financial Model'!S67","v":0},{"$f":"'Financial Model'!T67","v":0},{"$f":"'Financial Model'!U67","v":0},{"$f":"'Financial Model'!V67","v":0},{"$f":"'Financial Model'!W67","v":0},{"$f":"'Financial Model'!X67","v":0},{"$f":"'Financial Model'!Y67","v":0},{"$f":"'Financial Model'!Z67","v":0},{"$f":"'Financial Model'!AA67","v":0},{"$f":"'Financial Model'!AB67","v":0},{"$f":"'Financial Model'!AC67","v":0},0]
[null,"Grand Total",{"$f":"C51+C53","v":-365256},{"$f":"D51+D53","v":-65701.049999999988},-68358.092882356286,-70859.90700007035,-74110.750237813379,-76350.122125844748,-85736.363895224262,-36915.331276592275,0,0,0,0,0,0,0,0,0,0,0,0,0,0,0,0,0,0,-843287.61741790129]
[null,"Discount Factor",{"$f":"'Financial Model'!D46","v":1},{"$f":"'Financial Model'!E46","v":1},{"$f":"'Financial Model'!F46","v":1},{"$f":"'Financial Model'!G46","v":1},{"$f":"'Financial Model'!H46","v":1},{"$f":"'Financial Model'!I46","v":1},{"$f":"'Financial Model'!J46","v":1},{"$f":"'Financial Model'!K46","v":1},{"$f":"'Financial Model'!L46","v":1},{"$f":"'Financial Model'!M46","v":1},{"$f":"'Financial Model'!N46","v":1},{"$f":"'Financial Model'!O46","v":1},{"$f":"'Financial Model'!P46","v":1},{"$f":"'Financial Model'!Q46","v":1},{"$f":"'Financial Model'!R46","v":1},{"$f":"'Financial Model'!S46","v":1},{"$f":"'Financial Model'!T46","v":1},{"$f":"'Financial Model'!U46","v":1},{"$f":"'Financial Model'!V46","v":1},{"$f":"'Financial Model'!W46","v":1},{"$f":"'Financial Model'!X46","v":1},{"$f":"'Financial Model'!Y46","v":1},{"$f":"'Financial Model'!Z46","v":1},{"$f":"'Financial Model'!AA46","v":1},{"$f":"'Financial Model'!AB46","v":1},{"$f":"'Financial Model'!AC46","v":1}]
[null,"NPV Total",{"$f":"C54*C55","v":-365256},{"$f":"D54*D55","v":-65701.049999999988},-68358.092882356286,-70859.90700007035,-74110.750237813379,-76350.122125844748,-85736.363895224262,-36915.331276592275,0,0,0,0,0,0,0,0,0,0,0,0,0,0,0,0,0,0,-843287.61741790129]
[]
[null,{"$f":"Comp_V1_Type_Ex&\" (Comparison)\"","v":"2017 Chevrolet Bolt EV BEV (Comparison)"}]
[null,null,"Year 0","Year 1 ","Year 2","Year 3","Year 4","Year 5","Year 6","Year 7","Year 8","Year 9","Year 10","Year 11","Year 12","Year 13","Year 14","Year 15","Year 16","Year 17","Year 18","Year 19","Year 20","Year 21","Year 22","Year 23","Year 24","Year 25","Totals"]
[null,"Principal (less tax credits and incentives)",{"$f":"('Financial Model'!D101-'Financial Model'!D97-'Financial Model'!D99)*Comp_V1_Num_Vehicles_Modeled","v":-494494},{"$f":"('Financial Model'!E101-'Financial Model'!E97-'Financial Model'!E99)*Comp_V1_Num_Vehicles_Modeled","v":0},{"$f":"('Financial Model'!F101-'Financial Model'!F97-'Financial Model'!F99)*Comp_V1_Num_Vehicles_Modeled","v":0},{"$f":"('Financial Model'!G101-'Financial Model'!G97-'Financial Model'!G99)*Comp_V1_Num_Vehicles_Modeled","v":0},{"$f":"('Financial Model'!H101-'Financial Model'!H97-'Financial Model'!H99)*Comp_V1_Num_Vehicles_Modeled","v":0},{"$f":"('Financial Model'!I101-'Financial Model'!I97-'Financial Model'!I99)*Comp_V1_Num_Vehicles_Modeled","v":0},{"$f":"('Financial Model'!J101-'Financial Model'!J97-'Financial Model'!J99)*Comp_V1_Num_Vehicles_Modeled","v":0},{"$f":"('Financial Model'!K101-'Financial Model'!K97-'Financial Model'!K99)*Comp_V1_Num_Vehicles_Modeled","v":0},{"$f":"('Financial Model'!L101-'Financial Model'!L97-'Financial Model'!L99)*Comp_V1_Num_Vehicles_Modeled","v":0},{"$f":"('Financial Model'!M101-'Financial Model'!M97-'Financial Model'!M99)*Comp_V1_Num_Vehicles_Modeled","v":0},{"$f":"('Financial Model'!N101-'Financial Model'!N97-'Financial Model'!N99)*Comp_V1_Num_Vehicles_Modeled","v":0},{"$f":"('Financial Model'!O101-'Financial Model'!O97-'Financial Model'!O99)*Comp_V1_Num_Vehicles_Modeled","v":0},{"$f":"('Financial Model'!P101-'Financial Model'!P97-'Financial Model'!P99)*Comp_V1_Num_Vehicles_Modeled","v":0},{"$f":"('Financial Model'!Q101-'Financial Model'!Q97-'Financial Model'!Q99)*Comp_V1_Num_Vehicles_Modeled","v":0},{"$f":"('Financial Model'!R101-'Financial Model'!R97-'Financial Model'!R99)*Comp_V1_Num_Vehicles_Modeled","v":0},{"$f":"('Financial Model'!S101-'Financial Model'!S97-'Financial Model'!S99)*Comp_V1_Num_Vehicles_Modeled","v":0},{"$f":"('Financial Model'!T101-'Financial Model'!T97-'Financial Model'!T99)*Comp_V1_Num_Vehicles_Modeled","v":0},{"$f":"('Financial Model'!U101-'Financial Model'!U97-'Financial Model'!U99)*Comp_V1_Num_Vehicles_Modeled","v":0},{"$f":"('Financial Model'!V101-'Financial Model'!V97-'Financial Model'!V99)*Comp_V1_Num_Vehicles_Modeled","v":0},{"$f":"('Financial Model'!W101-'Financial Model'!W97-'Financial Model'!W99)*Comp_V1_Num_Vehicles_Modeled","v":0},{"$f":"('Financial Model'!X101-'Financial Model'!X97-'Financial Model'!X99)*Comp_V1_Num_Vehicles_Modeled","v":0},{"$f":"('Financial Model'!Y101-'Financial Model'!Y97-'Financial Model'!Y99)*Comp_V1_Num_Vehicles_Modeled","v":0},{"$f":"('Financial Model'!Z101-'Financial Model'!Z97-'Financial Model'!Z99)*Comp_V1_Num_Vehicles_Modeled","v":0},{"$f":"('Financial Model'!AA101-'Financial Model'!AA97-'Financial Model'!AA99)*Comp_V1_Num_Vehicles_Modeled","v":0},{"$f":"('Financial Model'!AB101-'Financial Model'!AB97-'Financial Model'!AB99)*Comp_V1_Num_Vehicles_Modeled","v":0},{"$f":"('Financial Model'!AC101-'Financial Model'!AC97-'Financial Model'!AC99)*Comp_V1_Num_Vehicles_Modeled","v":0},{"$f":"SUM(C60:AB60)","v":-494494}]
[null,"Financing",{"$f":"'Financial Model'!D97*Comp_V1_Num_Vehicles_Modeled","v":0},{"$f":"'Financial Model'!E97*Comp_V1_Num_Vehicles_Modeled","v":0},{"$f":"'Financial Model'!F97*Comp_V1_Num_Vehicles_Modeled","v":0},{"$f":"'Financial Model'!G97*Comp_V1_Num_Vehicles_Modeled","v":0},{"$f":"'Financial Model'!H97*Comp_V1_Num_Vehicles_Modeled","v":0},{"$f":"'Financial Model'!I97*Comp_V1_Num_Vehicles_Modeled","v":0},{"$f":"'Financial Model'!J97*Comp_V1_Num_Vehicles_Modeled","v":0},{"$f":"'Financial Model'!K97*Comp_V1_Num_Vehicles_Modeled","v":0},{"$f":"'Financial Model'!L97*Comp_V1_Num_Vehicles_Modeled","v":0},{"$f":"'Financial Model'!M97*Comp_V1_Num_Vehicles_Modeled","v":0},{"$f":"'Financial Model'!N97*Comp_V1_Num_Vehicles_Modeled","v":0},{"$f":"'Financial Model'!O97*Comp_V1_Num_Vehicles_Modeled","v":0},{"$f":"'Financial Model'!P97*Comp_V1_Num_Vehicles_Modeled","v":0},{"$f":"'Financial Model'!Q97*Comp_V1_Num_Vehicles_Modeled","v":0},{"$f":"'Financial Model'!R97*Comp_V1_Num_Vehicles_Modeled","v":0},{"$f":"'Financial Model'!S97*Comp_V1_Num_Vehicles_Modeled","v":0},{"$f":"'Financial Model'!T97*Comp_V1_Num_Vehicles_Modeled","v":0},{"$f":"'Financial Model'!U97*Comp_V1_Num_Vehicles_Modeled","v":0},{"$f":"'Financial Model'!V97*Comp_V1_Num_Vehicles_Modeled","v":0},{"$f":"'Financial Model'!W97*Comp_V1_Num_Vehicles_Modeled","v":0},{"$f":"'Financial Model'!X97*Comp_V1_Num_Vehicles_Modeled","v":0},{"$f":"'Financial Model'!Y97*Comp_V1_Num_Vehicles_Modeled","v":0},{"$f":"'Financial Model'!Z97*Comp_V1_Num_Vehicles_Modeled","v":0},{"$f":"'Financial Model'!AA97*Comp_V1_Num_Vehicles_Modeled","v":0},{"$f":"'Financial Model'!AB97*Comp_V1_Num_Vehicles_Modeled","v":0},{"$f":"'Financial Model'!AC97*Comp_V1_Num_Vehicles_Modeled","v":0},{"$f":"SUM(C61:AB61)","v":0}]
[null,"Residual Value (Vehicle Sale)",{"$f":"'Financial Model'!D99*Comp_V1_Num_Vehicles_Modeled","v":0},{"$f":"'Financial Model'!E99*Comp_V1_Num_Vehicles_Modeled","v":0},{"$f":"'Financial Model'!F99*Comp_V1_Num_Vehicles_Modeled","v":0},{"$f":"'Financial Model'!G99*Comp_V1_Num_Vehicles_Modeled","v":0},{"$f":"'Financial Model'!H99*Comp_V1_Num_Vehicles_Modeled","v":0},{"$f":"'Financial Model'!I99*Comp_V1_Num_Vehicles_Modeled","v":0},{"$f":"'Financial Model'!J99*Comp_V1_Num_Vehicles_Modeled","v":0},{"$f":"'Financial Model'!K99*Comp_V1_Num_Vehicles_Modeled","v":41924.531858955968},{"$f":"'Financial Model'!L99*Comp_V1_Num_Vehicles_Modeled","v":0},{"$f":"'Financial Model'!M99*Comp_V1_Num_Vehicles_Modeled","v":0},{"$f":"'Financial Model'!N99*Comp_V1_Num_Vehicles_Modeled","v":0},{"$f":"'Financial Model'!O99*Comp_V1_Num_Vehicles_Modeled","v":0},{"$f":"'Financial Model'!P99*Comp_V1_Num_Vehicles_Modeled","v":0},{"$f":"'Financial Model'!Q99*Comp_V1_Num_Vehicles_Modeled","v":0},{"$f":"'Financial Model'!R99*Comp_V1_Num_Vehicles_Modeled","v":0},{"$f":"'Financial Model'!S99*Comp_V1_Num_Vehicles_Modeled","v":0},{"$f":"'Financial Model'!T99*Comp_V1_Num_Vehicles_Modeled","v":0},{"$f":"'Financial Model'!U99*Comp_V1_Num_Vehicles_Modeled","v":0},{"$f":"'Financial Model'!V99*Comp_V1_Num_Vehicles_Modeled","v":0},{"$f":"'Financial Model'!W99*Comp_V1_Num_Vehicles_Modeled","v":0},{"$f":"'Financial Model'!X99*Comp_V1_Num_Vehicles_Modeled","v":0},{"$f":"'Financial Model'!Y99*Comp_V1_Num_Vehicles_Modeled","v":0},{"$f":"'Financial Model'!Z99*Comp_V1_Num_Vehicles_Modeled","v":0},{"$f":"'Financial Model'!AA99*Comp_V1_Num_Vehicles_Modeled","v":0},{"$f":"'Financial Model'!AB99*Comp_V1_Num_Vehicles_Modeled","v":0},{"$f":"'Financial Model'!AC99*Comp_V1_Num_Vehicles_Modeled","v":0},41924.531858955968]
[null,"Fuel",{"$f":"'Financial Model'!D104*Comp_V1_Num_Vehicles_Modeled","v":0},{"$f":"'Financial Model'!E104*Comp_V1_Num_Vehicles_Modeled","v":-9828.3776207386363},{"$f":"'Financial Model'!F104*Comp_V1_Num_Vehicles_Modeled","v":-9729.3705763382641},{"$f":"'Financial Model'!G104*Comp_V1_Num_Vehicles_Modeled","v":-10090.583286095309},{"$f":"'Financial Model'!H104*Comp_V1_Num_Vehicles_Modeled","v":-10630.029365035491},{"$f":"'Financial Model'!I104*Comp_V1_Num_Vehicles_Modeled","v":-10892.934697622961},{"$f":"'Financial Model'!J104*Comp_V1_Num_Vehicles_Modeled","v":-11106.711955329181},{"$f":"'Financial Model'!K104*Comp_V1_Num_Vehicles_Modeled","v":-11223.604305285457},{"$f":"'Financial Model'!L104*Comp_V1_Num_Vehicles_Modeled","v":0},{"$f":"'Financial Model'!M104*Comp_V1_Num_Vehicles_Modeled","v":0},{"$f":"'Financial Model'!N104*Comp_V1_Num_Vehicles_Modeled","v":0},{"$f":"'Financial Model'!O104*Comp_V1_Num_Vehicles_Modeled","v":0},{"$f":"'Financial Model'!P104*Comp_V1_Num_Vehicles_Modeled","v":0},{"$f":"'Financial Model'!Q104*Comp_V1_Num_Vehicles_Modeled","v":0},{"$f":"'Financial Model'!R104*Comp_V1_Num_Vehicles_Modeled","v":0},{"$f":"'Financial Model'!S104*Comp_V1_Num_Vehicles_Modeled","v":0},{"$f":"'Financial Model'!T104*Comp_V1_Num_Vehicles_Modeled","v":0},{"$f":"'Financial Model'!U104*Comp_V1_Num_Vehicles_Modeled","v":0},{"$f":"'Financial Model'!V104*Comp_V1_Num_Vehicles_Modeled","v":0},{"$f":"'Financial Model'!W104*Comp_V1_Num_Vehicles_Modeled","v":0},{"$f":"'Financial Model'!X104*Comp_V1_Num_Vehicles_Modeled","v":0},{"$f":"'Financial Model'!Y104*Comp_V1_Num_Vehicles_Modeled","v":0},{"$f":"'Financial Model'!Z104*Comp_V1_Num_Vehicles_Modeled","v":0},{"$f":"'Financial Model'!AA104*Comp_V1_Num_Vehicles_Modeled","v":0},{"$f":"'Financial Model'!AB104*Comp_V1_Num_Vehicles_Modeled","v":0},{"$f":"'Financial Model'!AC104*Comp_V1_Num_Vehicles_Modeled","v":0},-73501.611806445289]
[null,"Maintenance and Repairs",{"$f":"'Financial Model'!D105*Comp_V1_Num_Vehicles_Modeled","v":0},{"$f":"'Financial Model'!E105*Comp_V1_Num_Vehicles_Modeled","v":-11400},{"$f":"'Financial Model'!F105*Comp_V1_Num_Vehicles_Modeled","v":-11628},{"$f":"'Financial Model'!G105*Comp_V1_Num_Vehicles_Modeled","v":-11860.56},{"$f":"'Financial Model'!H105*Comp_V1_Num_Vehicles_Modeled","v":-12097.771199999999},{"$f":"'Financial Model'!I105*Comp_V1_Num_Vehicles_Modeled","v":-12339.726623999999},{"$f":"'Financial Model'!J105*Comp_V1_Num_Vehicles_Modeled","v":-16362.477503424003},{"$f":"'Financial Model'!K105*Comp_V1_Num_Vehicles_Modeled","v":-16689.727053492483},{"$f":"'Financial Model'!L105*Comp_V1_Num_Vehicles_Modeled","v":0},{"$f":"'Financial Model'!M105*Comp_V1_Num_Vehicles_Modeled","v":0},{"$f":"'Financial Model'!N105*Comp_V1_Num_Vehicles_Modeled","v":0},{"$f":"'Financial Model'!O105*Comp_V1_Num_Vehicles_Modeled","v":0},{"$f":"'Financial Model'!P105*Comp_V1_Num_Vehicles_Modeled","v":0},{"$f":"'Financial Model'!Q105*Comp_V1_Num_Vehicles_Modeled","v":0},{"$f":"'Financial Model'!R105*Comp_V1_Num_Vehicles_Modeled","v":0},{"$f":"'Financial Model'!S105*Comp_V1_Num_Vehicles_Modeled","v":0},{"$f":"'Financial Model'!T105*Comp_V1_Num_Vehicles_Modeled","v":0},{"$f":"'Financial Model'!U105*Comp_V1_Num_Vehicles_Modeled","v":0},{"$f":"'Financial Model'!V105*Comp_V1_Num_Vehicles_Modeled","v":0},{"$f":"'Financial Model'!W105*Comp_V1_Num_Vehicles_Modeled","v":0},{"$f":"'Financial Model'!X105*Comp_V1_Num_Vehicles_Modeled","v":0},{"$f":"'Financial Model'!Y105*Comp_V1_Num_Vehicles_Modeled","v":0},{"$f":"'Financial Model'!Z105*Comp_V1_Num_Vehicles_Modeled","v":0},{"$f":"'Financial Model'!AA105*Comp_V1_Num_Vehicles_Modeled","v":0},{"$f":"'Financial Model'!AB105*Comp_V1_Num_Vehicles_Modeled","v":0},{"$f":"'Financial Model'!AC105*Comp_V1_Num_Vehicles_Modeled","v":0},-92378.26238091648]
[null,"Taxes & Fees",{"$f":"'Financial Model'!D106*Comp_V1_Num_Vehicles_Modeled","v":-19000},{"$f":"'Financial Model'!E106*Comp_V1_Num_Vehicles_Modeled","v":-190},{"$f":"'Financial Model'!F106*Comp_V1_Num_Vehicles_Modeled","v":-193.79999999999998},{"$f":"'Financial Model'!G106*Comp_V1_Num_Vehicles_Modeled","v":-197.67599999999999},{"$f":"'Financial Model'!H106*Comp_V1_Num_Vehicles_Modeled","v":-201.62951999999999},{"$f":"'Financial Model'!I106*Comp_V1_Num_Vehicles_Modeled","v":-205.66211039999999},{"$f":"'Financial Model'!J106*Comp_V1_Num_Vehicles_Modeled","v":-209.77535260800002},{"$f":"'Financial Model'!K106*Comp_V1_Num_Vehicles_Modeled","v":-213.97085966016002},{"$f":"'Financial Model'!L106*Comp_V1_Num_Vehicles_Modeled","v":0},{"$f":"'Financial Model'!M106*Comp_V1_Num_Vehicles_Modeled","v":0},{"$f":"'Financial Model'!N106*Comp_V1_Num_Vehicles_Modeled","v":0},{"$f":"'Financial Model'!O106*Comp_V1_Num_Vehicles_Modeled","v":0},{"$f":"'Financial Model'!P106*Comp_V1_Num_Vehicles_Modeled","v":0},{"$f":"'Financial Model'!Q106*Comp_V1_Num_Vehicles_Modeled","v":0},{"$f":"'Financial Model'!R106*Comp_V1_Num_Vehicles_Modeled","v":0},{"$f":"'Financial Model'!S106*Comp_V1_Num_Vehicles_Modeled","v":0},{"$f":"'Financial Model'!T106*Comp_V1_Num_Vehicles_Modeled","v":0},{"$f":"'Financial Model'!U106*Comp_V1_Num_Vehicles_Modeled","v":0},{"$f":"'Financial Model'!V106*Comp_V1_Num_Vehicles_Modeled","v":0},{"$f":"'Financial Model'!W106*Comp_V1_Num_Vehicles_Modeled","v":0},{"$f":"'Financial Model'!X106*Comp_V1_Num_Vehicles_Modeled","v":0},{"$f":"'Financial Model'!Y106*Comp_V1_Num_Vehicles_Modeled","v":0},{"$f":"'Financial Model'!Z106*Comp_V1_Num_Vehicles_Modeled","v":0},{"$f":"'Financial Model'!AA106*Comp_V1_Num_Vehicles_Modeled","v":0},{"$f":"'Financial Model'!AB106*Comp_V1_Num_Vehicles_Modeled","v":0},{"$f":"'Financial Model'!AC106*Comp_V1_Num_Vehicles_Modeled","v":0},-20412.513842668159]
[null,"Insurance",{"$f":"'Financial Model'!D107*Comp_V1_Num_Vehicles_Modeled","v":0},{"$f":"'Financial Model'!E107*Comp_V1_Num_Vehicles_Modeled","v":-23218},{"$f":"'Financial Model'!F107*Comp_V1_Num_Vehicles_Modeled","v":-23682.36},{"$f":"'Financial Model'!G107*Comp_V1_Num_Vehicles_Modeled","v":-24156.0072},{"$f":"'Financial Model'!H107*Comp_V1_Num_Vehicles_Modeled","v":-24639.127343999997},{"$f":"'Financial Model'!I107*Comp_V1_Num_Vehicles_Modeled","v":-25131.909890880001},{"$f":"'Financial Model'!J107*Comp_V1_Num_Vehicles_Modeled","v":-25634.5480886976},{"$f":"'Financial Model'!K107*Comp_V1_Num_Vehicles_Modeled","v":-26147.239050471551},{"$f":"'Financial Model'!L107*Comp_V1_Num_Vehicles_Modeled","v":0},{"$f":"'Financial Model'!M107*Comp_V1_Num_Vehicles_Modeled","v":0},{"$f":"'Financial Model'!N107*Comp_V1_Num_Vehicles_Modeled","v":0},{"$f":"'Financial Model'!O107*Comp_V1_Num_Vehicles_Modeled","v":0},{"$f":"'Financial Model'!P107*Comp_V1_Num_Vehicles_Modeled","v":0},{"$f":"'Financial Model'!Q107*Comp_V1_Num_Vehicles_Modeled","v":0},{"$f":"'Financial Model'!R107*Comp_V1_Num_Vehicles_Modeled","v":0},{"$f":"'Financial Model'!S107*Comp_V1_Num_Vehicles_Modeled","v":0},{"$f":"'Financial Model'!T107*Comp_V1_Num_Vehicles_Modeled","v":0},{"$f":"'Financial Model'!U107*Comp_V1_Num_Vehicles_Modeled","v":0},{"$f":"'Financial Model'!V107*Comp_V1_Num_Vehicles_Modeled","v":0},{"$f":"'Financial Model'!W107*Comp_V1_Num_Vehicles_Modeled","v":0},{"$f":"'Financial Model'!X107*Comp_V1_Num_Vehicles_Modeled","v":0},{"$f":"'Financial Model'!Y107*Comp_V1_Num_Vehicles_Modeled","v":0},{"$f":"'Financial Model'!Z107*Comp_V1_Num_Vehicles_Modeled","v":0},{"$f":"'Financial Model'!AA107*Comp_V1_Num_Vehicles_Modeled","v":0},{"$f":"'Financial Model'!AB107*Comp_V1_Num_Vehicles_Modeled","v":0},{"$f":"'Financial Model'!AC107*Comp_V1_Num_Vehicles_Modeled","v":0},-172609.19157404915]
[null,"Carbon",{"$f":"'Financial Model'!D112*Comp_V1_Num_Vehicles_Modeled","v":0},{"$f":"'Financial Model'!E112*Comp_V1_Num_Vehicles_Modeled","v":0},{"$f":"'Financial Model'!F112*Comp_V1_Num_Vehicles_Modeled","v":0},{"$f":"'Financial Model'!G112*Comp_V1_Num_Vehicles_Modeled","v":0},{"$f":"'Financial Model'!H112*Comp_V1_Num_Vehicles_Modeled","v":0},{"$f":"'Financial Model'!I112*Comp_V1_Num_Vehicles_Modeled","v":0},{"$f":"'Financial Model'!J112*Comp_V1_Num_Vehicles_Modeled","v":0},{"$f":"'Financial Model'!K112*Comp_V1_Num_Vehicles_Modeled","v":0},{"$f":"'Financial Model'!L112*Comp_V1_Num_Vehicles_Modeled","v":0},{"$f":"'Financial Model'!M112*Comp_V1_Num_Vehicles_Modeled","v":0},{"$f":"'Financial Model'!N112*Comp_V1_Num_Vehicles_Modeled","v":0},{"$f":"'Financial Model'!O112*Comp_V1_Num_Vehicles_Modeled","v":0},{"$f":"'Financial Model'!P112*Comp_V1_Num_Vehicles_Modeled","v":0},{"$f":"'Financial Model'!Q112*Comp_V1_Num_Vehicles_Modeled","v":0},{"$f":"'Financial Model'!R112*Comp_V1_Num_Vehicles_Modeled","v":0},{"$f":"'Financial Model'!S112*Comp_V1_Num_Vehicles_Modeled","v":0},{"$f":"'Financial Model'!T112*Comp_V1_Num_Vehicles_Modeled","v":0},{"$f":"'Financial Model'!U112*Comp_V1_Num_Vehicles_Modeled","v":0},{"$f":"'Financial Model'!V112*Comp_V1_Num_Vehicles_Modeled","v":0},{"$f":"'Financial Model'!W112*Comp_V1_Num_Vehicles_Modeled","v":0},{"$f":"'Financial Model'!X112*Comp_V1_Num_Vehicles_Modeled","v":0},{"$f":"'Financial Model'!Y112*Comp_V1_Num_Vehicles_Modeled","v":0},{"$f":"'Financial Model'!Z112*Comp_V1_Num_Vehicles_Modeled","v":0},{"$f":"'Financial Model'!AA112*Comp_V1_Num_Vehicles_Modeled","v":0},{"$f":"'Financial Model'!AB112*Comp_V1_Num_Vehicles_Modeled","v":0},{"$f":"'Financial Model'!AC112*Comp_V1_Num_Vehicles_Modeled","v":0},0]
[null,"Vehicle Total ",{"$f":"SUM(C60:C67)","v":-513494},-44636.37762073864,-45233.530576338264,-46304.826486095306,-47568.557429035485,-48570.233322902961,-53313.512900058791,-12350.009409953684,0,0,0,0,0,0,0,0,0,0,0,0,0,0,0,0,0,0,-811471.04774512316]
[null,"Vehicle Total - Check",{"$f":"'Financial Model'!D115*Comp_V1_Num_Vehicles_Modeled","v":-513494},{"$f":"'Financial Model'!E115*Comp_V1_Num_Vehicles_Modeled","v":-44636.377620738633},{"$f":"'Financial Model'!F115*Comp_V1_Num_Vehicles_Modeled","v":-45233.530576338271},{"$f":"'Financial Model'!G115*Comp_V1_Num_Vehicles_Modeled","v":-46304.826486095306},{"$f":"'Financial Model'!H115*Comp_V1_Num_Vehicles_Modeled","v":-47568.557429035493},{"$f":"'Financial Model'!I115*Comp_V1_Num_Vehicles_Modeled","v":-48570.233322902968},{"$f":"'Financial Model'!J115*Comp_V1_Num_Vehicles_Modeled","v":-53313.512900058784},{"$f":"'Financial Model'!K115*Comp_V1_Num_Vehicles_Modeled","v":-12350.009409953682},{"$f":"'Financial Model'!L115*Comp_V1_Num_Vehicles_Modeled","v":0},{"$f":"'Financial Model'!M115*Comp_V1_Num_Vehicles_Modeled","v":0},{"$f":"'Financial Model'!N115*Comp_V1_Num_Vehicles_Modeled","v":0},{"$f":"'Financial Model'!O115*Comp_V1_Num_Vehicles_Modeled","v":0},{"$f":"'Financial Model'!P115*Comp_V1_Num_Vehicles_Modeled","v":0},{"$f":"'Financial Model'!Q115*Comp_V1_Num_Vehicles_Modeled","v":0},{"$f":"'Financial Model'!R115*Comp_V1_Num_Vehicles_Modeled","v":0},{"$f":"'Financial Model'!S115*Comp_V1_Num_Vehicles_Modeled","v":0},{"$f":"'Financial Model'!T115*Comp_V1_Num_Vehicles_Modeled","v":0},{"$f":"'Financial Model'!U115*Comp_V1_Num_Vehicles_Modeled","v":0},{"$f":"'Financial Model'!V115*Comp_V1_Num_Vehicles_Modeled","v":0},{"$f":"'Financial Model'!W115*Comp_V1_Num_Vehicles_Modeled","v":0},{"$f":"'Financial Model'!X115*Comp_V1_Num_Vehicles_Modeled","v":0},{"$f":"'Financial Model'!Y115*Comp_V1_Num_Vehicles_Modeled","v":0},{"$f":"'Financial Model'!Z115*Comp_V1_Num_Vehicles_Modeled","v":0},{"$f":"'Financial Model'!AA115*Comp_V1_Num_Vehicles_Modeled","v":0},{"$f":"'Financial Model'!AB115*Comp_V1_Num_Vehicles_Modeled","v":0},{"$f":"'Financial Model'!AC115*Comp_V1_Num_Vehicles_Modeled","v":0},-811471.04774512316]
[null,"Charging Infrastructure",{"$f":"'Financial Model'!D137","v":0},{"$f":"'Financial Model'!E137","v":0},{"$f":"'Financial Model'!F137","v":0},{"$f":"'Financial Model'!G137","v":0},{"$f":"'Financial Model'!H137","v":0},{"$f":"'Financial Model'!I137","v":0},{"$f":"'Financial Model'!J137","v":0},{"$f":"'Financial Model'!K137","v":0},{"$f":"'Financial Model'!L137","v":0},{"$f":"'Financial Model'!M137","v":0},{"$f":"'Financial Model'!N137","v":0},{"$f":"'Financial Model'!O137","v":0},{"$f":"'Financial Model'!P137","v":0},{"$f":"'Financial Model'!Q137","v":0},{"$f":"'Financial Model'!R137","v":0},{"$f":"'Financial Model'!S137","v":0},{"$f":"'Financial Model'!T137","v":0},{"$f":"'Financial Model'!U137","v":0},{"$f":"'Financial Model'!V137","v":0},{"$f":"'Financial Model'!W137","v":0},{"$f":"'Financial Model'!X137","v":0},{"$f":"'Financial Model'!Y137","v":0},{"$f":"'Financial Model'!Z137","v":0},{"$f":"'Financial Model'!AA137","v":0},{"$f":"'Financial Model'!AB137","v":0},{"$f":"'Financial Model'!AC137","v":0},0]
[null,"Grand Total",{"$f":"C68+C70","v":-513494},-44636.37762073864,-45233.530576338264,-46304.826486095306,-47568.557429035485,-48570.233322902961,-53313.512900058791,-12350.009409953684,0,0,0,0,0,0,0,0,0,0,0,0,0,0,0,0,0,0,-811471.04774512316]
[null,"Discount Factor",{"$f":"'Financial Model'!D116","v":1},{"$f":"'Financial Model'!E116","v":1},{"$f":"'Financial Model'!F116","v":1},{"$f":"'Financial Model'!G116","v":1},{"$f":"'Financial Model'!H116","v":1},{"$f":"'Financial Model'!I116","v":1},{"$f":"'Financial Model'!J116","v":1},{"$f":"'Financial Model'!K116","v":1},{"$f":"'Financial Model'!L116","v":1},{"$f":"'Financial Model'!M116","v":1},{"$f":"'Financial Model'!N116","v":1},{"$f":"'Financial Model'!O116","v":1},{"$f":"'Financial Model'!P116","v":1},{"$f":"'Financial Model'!Q116","v":1},{"$f":"'Financial Model'!R116","v":1},{"$f":"'Financial Model'!S116","v":1},{"$f":"'Financial Model'!T116","v":1},{"$f":"'Financial Model'!U116","v":1},{"$f":"'Financial Model'!V116","v":1},{"$f":"'Financial Model'!W116","v":1},{"$f":"'Financial Model'!X116","v":1},{"$f":"'Financial Model'!Y116","v":1},{"$f":"'Financial Model'!Z116","v":1},{"$f":"'Financial Model'!AA116","v":1},{"$f":"'Financial Model'!AB116","v":1},{"$f":"'Financial Model'!AC116","v":1}]
[null,"NPV Total",{"$f":"C71*C72","v":-513494},-44636.37762073864,-45233.530576338264,-46304.826486095306,-47568.557429035485,-48570.233322902961,-53313.512900058791,-12350.009409953684,0,0,0,0,0,0,0,0,0,0,0,0,0,0,0,0,0,0,{"$f":"SUM(C73:AB73)","v":-811471.04774512316}]

{"sheet":"Environmental Model","index":7,"n_rows":27,"n_cols":3,"rows_kept":27,"cut":false,"hidden":false,"merged":[]}
["Environmental Models - Fleet Procurement Analysis Tool"]
[]
[null,{"$f":"Base_V1_Type_Ex&\" (Baseline)\"","v":"2017 Chevrolet Cruze ICE (Baseline)"},{"$f":"Comp_V1_Type_Ex&\" (Comparison)\"","v":"2017 Chevrolet Bolt EV BEV (Comparison)"}]
["Annual VMT",{"$f":"Base_V1_VMT_Modeled","v":15000},{"$f":"Comp_V1_VMT_Modeled","v":15000}]
["Fuel Economy Gas City (MPG)",{"$f":"Base_V1_Fuel_Economy_Gas_City_Modeled","v":30},{"$f":"Comp_V1_Fuel_Economy_Gas_City_Modeled","v":0}]
["Fuel Economy Gas Highway (MPG)",{"$f":"Base_V1_Fuel_Economy_Gas_Hwy_Modeled","v":40},{"$f":"Comp_V1_Fuel_Economy_Gas_Hwy_Modeled","v":0}]
["Fuel Economy Electric City (MPGe)",{"$f":"Base_V1_Fuel_Economy_Electric_City_Modeled","v":0},{"$f":"Comp_V1_Fuel_Economy_Electric_City_Modeled","v":128}]
["Fuel Economy Electric Highway (MPGe)",{"$f":"Base_V1_Fuel_Economy_Electric_Hwy_Modeled","v":0},{"$f":"Comp_V1_Fuel_Economy_Electric_Hwy_Modeled","v":110}]
["% of Annual Miles on Gasoline*",{"$f":"Base_V1_Miles_Gas_Modeled","v":1},{"$f":"Comp_V1_Miles_Gas_Modeled","v":0}]
["% of Annual Miles City Driving",{"$f":"Base_V1_Miles_City_Modeled","v":0.55000000000000004},{"$f":"Comp_V1_Miles_City_Modeled","v":0.55000000000000004}]
["Gallons of Gasoline / Year",{"$f":"IF(B5=0,0,(B4*B10*B9)/B5)+IF(B6=0,0,(B4*B9*(1-B10))/B6)","v":443.75},{"$f":"IF(C5=0,0,(C4*C10*C9)/C5)+IF(C6=0,0,(C4*C9*(1-C10))/C6)","v":0}]
["Lifecycle Carbon Intensity of Gallon of Gasoline (lbs)",{"$f":"Data!$C$131*Data!$B$147/Data!$B$149","v":24.074508509842389},{"$f":"Data!$C$131*Data!$B$147/Data!$B$149","v":24.074508509842389}]
["kWh Electricity / Year",{"$f":"IF(B7=0,0,((B4*(1-B9)*B10)/B7*33.7))+IF(B8=0,0,((B4*(1-B9)*(1-B10))/B8*33.7))","v":0},{"$f":"IF(C7=0,0,((C4*(1-C9)*C10)/C7*33.7))+IF(C8=0,0,((C4*(1-C9)*(1-C10))/C8*33.7))","v":4240.024857954545}]
["eGrid Region",{"$f":"eGrid_Region_Ex","v":"RFCE"},{"$f":"eGrid_Region_Ex","v":"RFCE"}]
["Lifecycle Carbon Intensity of kWh (lbs)**",{"$f":"(VLOOKUP(eGrid_Region_Ex,Data!$B$98:$G$126,2,FALSE)+VLOOKUP(eGrid_Region_Ex,Data!$B$98:$G$126,5,FALSE))/1000","v":0.94911646984955644},{"$f":"(VLOOKUP(eGrid_Region_Ex,Data!$B$98:$G$126,2,FALSE)+VLOOKUP(eGrid_Region_Ex,Data!$B$98:$G$126,5,FALSE))/1000","v":0.94911646984955644}]
["Electrical Transmission Line Loss",{"$f":"VLOOKUP(eGrid_Region_Ex,Data!$B$98:$G$126,6,FALSE)","v":4.9700000000000001E-2},{"$f":"VLOOKUP(eGrid_Region_Ex,Data!$B$98:$G$126,6,FALSE)","v":4.9700000000000001E-2}]
["Total Annual CO2 (lbs)",{"$f":"(B11*B12)+(B13*(B15/(1-B16)))","v":10683.063151242561},{"$f":"(C11*C12)+(C13*(C15/(1-C16)))","v":4234.7442126235765}]
["Lifecycle CO2 (lbs/mile)",{"$f":"B17/B4","v":0.71220421008283741},{"$f":"C17/C4","v":0.28231628084157179}]
["Other Lifecycle Emissions**"]
["NOX (mg/mile)",{"$f":"(VLOOKUP(eGrid_Region_Ex,Data!$B$98:$L$126,7,FALSE)/1000*Data!$B$148*Base_V1_Electricity_Usage_Ex/Base_V1_VMT_Modeled)+(Base_V1_Gas_Usage_Ex*Data!$B$147*Data!$C133/Base_V1_VMT_Modeled)","v":243.48095721523424},{"$f":"(VLOOKUP(eGrid_Region_Ex,Data!$B$98:$L$126,7,FALSE)/1000*Data!$B$148*Comp_V1_Electricity_Usage_Ex/Comp_V1_VMT_Modeled)+(Comp_V1_Gas_Usage_Ex*Data!$B$147*Data!$C133/Comp_V1_VMT_Modeled)","v":106.41935499710226}]
["SOX (mg/mile)",{"$f":"(VLOOKUP(eGrid_Region_Ex,Data!$B$98:$L$126,8,FALSE)/1000*Data!$B$148*Base_V1_Electricity_Usage_Ex/Base_V1_VMT_Modeled)+(Base_V1_Gas_Usage_Ex*Data!$B$147*Data!$C134/Base_V1_VMT_Modeled)","v":127.37528259977393},{"$f":"(VLOOKUP(eGrid_Region_Ex,Data!$B$98:$L$126,8,FALSE)/1000*Data!$B$148*Comp_V1_Electricity_Usage_Ex/Comp_V1_VMT_Modeled)+(Comp_V1_Gas_Usage_Ex*Data!$B$147*Data!$C134/Comp_V1_VMT_Modeled)","v":246.8159739390625}]
["PM10 (mg/mile)",{"$f":"(VLOOKUP(eGrid_Region_Ex,Data!$B$98:$L$126,9,FALSE)/1000*Data!$B$148*Base_V1_Electricity_Usage_Ex/Base_V1_VMT_Modeled)+(Base_V1_Gas_Usage_Ex*Data!$B$147*Data!$C135/Base_V1_VMT_Modeled)","v":17.478659517072387},{"$f":"(VLOOKUP(eGrid_Region_Ex,Data!$B$98:$L$126,9,FALSE)/1000*Data!$B$148*Comp_V1_Electricity_Usage_Ex/Comp_V1_VMT_Modeled)+(Comp_V1_Gas_Usage_Ex*Data!$B$147*Data!$C135/Comp_V1_VMT_Modeled)","v":15.83751333619715}]
["PM2.5 (mg/mile)",{"$f":"(VLOOKUP(eGrid_Region_Ex,Data!$B$98:$L$126,10,FALSE)/1000*Data!$B$148*Base_V1_Electricity_Usage_Ex/Base_V1_VMT_Modeled)+(Base_V1_Gas_Usage_Ex*Data!$B$147*Data!$C136/Base_V1_VMT_Modeled)","v":12.561664950668039},{"$f":"(VLOOKUP(eGrid_Region_Ex,Data!$B$98:$L$126,10,FALSE)/1000*Data!$B$148*Comp_V1_Electricity_Usage_Ex/Comp_V1_VMT_Modeled)+(Comp_V1_Gas_Usage_Ex*Data!$B$147*Data!$C136/Comp_V1_VMT_Modeled)","v":12.28665072971364}]
["VOC (mg/mile)",{"$f":"(VLOOKUP(eGrid_Region_Ex,Data!$B$98:$L$126,11,FALSE)/1000*Data!$B$148*Base_V1_Electricity_Usage_Ex/Base_V1_VMT_Modeled)+(Base_V1_Gas_Usage_Ex*Data!$B$147*Data!$C137/Base_V1_VMT_Modeled)","v":208.12884299692561},{"$f":"(VLOOKUP(eGrid_Region_Ex,Data!$B$98:$L$126,11,FALSE)/1000*Data!$B$148*Comp_V1_Electricity_Usage_Ex/Comp_V1_VMT_Modeled)+(Comp_V1_Gas_Usage_Ex*Data!$B$147*Data!$C137/Comp_V1_VMT_Modeled)","v":2.5883831307134266}]
[]
["*For PHEV calculations, assumes an equal number of miles driven on a daily basis, 365 days per year. No charging during the day."]
["** Emissions are well-to-wheel from Argonne National Laboratory's GREET model and U.S. EPA's eGRID."]

{"sheet":"Data","index":8,"n_rows":326,"n_cols":28,"rows_kept":326,"cut":false,"hidden":false,"merged":[]}
["Data - Fleet Procurement Analysis Tool"]
["Electricity and Gasoline Prices"]
["Energy Inflation"]
["General Inflation (Maintenance, Insurance)"]
["Maintenance and Repair Costs"]
["Electricity Emissions"]
["Gasoline Emissions"]
["Other Default Values and Scalars"]
["Federal and State Vehicles Incentive"]
["Vehicles"]
[]
["Electricity and Gasoline Prices (2016 Average)"]
["State Abbreviation","Commerical Electricity Price ($/kWh)","Gasoline Price","Date"]
["AK",0.16600000000000001,2.6459999999999999,2016]
["AL",0.112,2.024,2016]
["AR",8.1000000000000003E-2,2.024,2016]
["AZ",0.104,2.6459999999999999,2016]
["CA",0.156,2.782,2016]
["CO",9.4E-2,2.14,2016]
["CT",0.156,2.2549999999999999,2016]
["DC",0.122,2.3119999999999998,2016]
["DE",0.122,2.3119999999999998,2016]
["FL",8.6999999999999994E-2,2.2160000000000002,2016]
["GA",9.5000000000000001E-2,2.206,2016]
["HI",0.246,2.6459999999999999,2016]
["IA",9.1999999999999998E-2,2.1429999999999998,2016]
["ID",7.8E-2,2.2120000000000002,2016]
["IL",8.8999999999999996E-2,2.1429999999999998,2016]
["IN",9.9000000000000005E-2,2.1429999999999998,2016]
["KS",0.10100000000000001,2.1429999999999998,2016]
["KY",9.4E-2,2.1429999999999998,2016]
["LA",8.5999999999999993E-2,2.024,2016]
["MA",0.152,2.2210000000000001,2016]
["MD",0.11700000000000001,2.3119999999999998,2016]
["ME",0.11799999999999999,2.2549999999999999,2016]
["MI",0.11,2.1429999999999998,2016]
["MN",9.7000000000000003E-2,2.09,2016]
["MO",9.1999999999999998E-2,2.1429999999999998,2016]
["MS",0.09,2.024,2016]
["MT",0.10299999999999999,2.2120000000000002,2016]
["NC",8.2000000000000003E-2,2.206,2016]
["ND",0.09,2.1429999999999998,2016]
["NE",8.5000000000000006E-2,2.1429999999999998,2016]
["NH",0.191,2.2549999999999999,2016]
["NJ",0.128,2.3119999999999998,2016]
["NM",9.5000000000000001E-2,2.024,2016]
["NV",8.2000000000000003E-2,2.6459999999999999,2016]
["NY",0.16,2.3610000000000002,2016]
["OH",0.108,2.1850000000000001,2016]
["OK",7.0000000000000007E-2,2.1429999999999998,2016]
["OR",9.1999999999999998E-2,2.6459999999999999,2016]
["PA",0.111,2.3119999999999998,2016]
["RI",0.16400000000000001,2.2549999999999999,2016]
["SC",0.1,2.206,2016]
["SD",9.5000000000000001E-2,2.1429999999999998,2016]
["TN",0.1,2.1429999999999998,2016]
["TX",8.2000000000000003E-2,2.016,2016]
["U.S. Avg",0.104,2.25,2016]
["UT",8.7999999999999995E-2,2.2120000000000002,2016]
["VA",7.8E-2,2.206,2016]
["VT",0.14499999999999999,2.2549999999999999,2016]
["WA",8.8999999999999996E-2,2.5310000000000001,2016]
["WI",0.108,2.1429999999999998,2016]
["WV",9.2999999999999999E-2,2.206,2016]
["WY",9.1999999999999998E-2,2.2120000000000002,2016]
[]
["Source: Electricity Prices, https://www.eia.gov/electricity/data/eia861m/index.html"]
["Source: Gasoline Prices, http://www.eia.gov/dnav/pet/pet_pri_gnd_a_epmr_pte_dpgal_w.htm"]
[]
["Energy Inflation"]
["Field","Units","2016","2017","2018","2019","2020","2021","2022","2023","2024","2025","2026","2027","2028","2029","2030","2031","2032","2033","2034","2035","2036","2037","2038","2039","2040"]
["Motor Gasoline - Reference case without Clean Power Plan","2015 $/MMBtu",16.811793999999999,18.306319999999999,19.651028,21.625477,22.710996999999999,23.430271000000001,23.789027999999998,24.166338,24.381392999999999,24.682074,25.206372999999999,25.613256,25.905723999999999,26.279841999999999,26.534842999999999,27.035015000000001,27.612431999999998,28.160969000000001,28.710021999999999,28.920518999999999,29.497012999999999,29.873716000000002,30.530477999999999,31.132334,31.788157999999999]
["Motor Gasoline - % over base","%",{"$f":"C72/$C$72","v":1},1.0888974728098619,1.168883463597044,1.2863277411084149,1.3508966978776924,1.3936805911373886,1.4150201935617341,1.4374633664914049,1.4502552791213121,1.4681404019107063,1.4993267821387772,1.523529017783587,1.5409256144823094,1.5631789207029303,1.5783469033703363,1.608098160136866,1.6424441079875236,1.6750722141848755,1.7077310131209078,1.7202518065591335,1.7545428524760653,1.77694991980035,1.8160154710437209,1.8518151007560526,1.8908248578349225]
["Electricity - Reference case without Clean Power Plan","2015 $/MMBtu",29.737959,29.438390999999999,30.531320999999998,32.163536000000001,32.959015000000001,33.605846,33.959530000000001,34.370037000000004,34.751632999999998,35.272613999999997,35.575626,35.519874999999999,35.526302000000001,35.511578,35.512962000000002,35.480690000000003,35.475903000000002,35.448684999999998,35.458553000000002,35.297573,35.112625000000001,34.956843999999997,34.850203999999998,34.678581000000001,34.537486999999999]
["Electricity - % over base","%",{"$f":"C74/$C$74","v":1},0.98992641021530758,1.0266784280656247,1.0815650125820673,1.1083146291243458,1.130065651109412,1.1419590026336375,1.155763144336839,1.1685950942362924,1.1861141512771605,1.1963035526412555,1.1944288106658563,1.1946449317520413,1.194149806985745,1.1941963468306618,1.1931111344931238,1.1929501617780831,1.1920349005794244,1.1923667323638452,1.1869534489572737,1.1807341922826649,1.1754957359380311,1.1719097467314417,1.1661385705723786,1.161393994792985]
[]
["Source: http://www.eia.gov/outlooks/aeo/data/browser/#/?id=3-AEO2016&region=1-0&cases=ref2016~ref_no_cpp&start=2016&end=2040&f=A&linechart=ref2016-d032416a.3-3-AEO2016.1-0~ref_no_cpp-d032316a.3-3-AEO2016.1-0&map=ref_no_cpp-d032316a.3-3-AEO2016.1-0&chartin"]
[]
["General Inflation (Maintenance"]
["Federal Inflation",null,"2016","2017","2018","2019","2020","2021","2022","2023","2024","2025","2026","2027","2028","2029","2030","2031","2032","2033","2034","2035","2036","2037","2038","2039","2040"]
[{"$f":"Inflation_Rate_General_Modeled","v":0.02},null,{"$f":"(1+$A$81)^(C71-$C$71)","v":1},1.02,1.0404,1.0612079999999999,1.08243216,1.1040808032,1.1261624192640001,1.1486856676492798,1.1716593810022655,1.1950925686223108,1.2189944199947571,1.243374308394652,1.2682417945625453,1.2936066304537961,1.3194787630628722,1.3458683383241292,1.372785705090612,1.4002414191924244,1.4282462475762727,1.4568111725277981,1.4859473959783542,1.5156663438979212,1.5459796707758797,1.576899264191397,1.608437249475225]
[]
["Source: https://www.federalreserve.gov/faqs/economy_14400.htm"]
[]
["Maintenance and Repair Costs"]
["Vehicle Type ($/mile)","Year 1 ","Year 2","Year 3","Year 4","Year 5","Year 6","Year 7","Year 8","Year 9","Year 10","Year 11","Year 12","Year 13","Year 14","Year 15","Year 16","Year 17","Year 18","Year 19","Year 20","Year 21","Year 22","Year 23","Year 24","Year 25"]
["ICE",0.08,0.08,0.08,0.08,0.08,{"$f":"DB_Maint_Repair_Costs[[#This Row],[Year 5]]*1.3","v":0.10400000000000001},{"$f":"DB_Maint_Repair_Costs[[#This Row],[Year 5]]*1.3","v":0.10400000000000001},{"$f":"DB_Maint_Repair_Costs[[#This Row],[Year 5]]*1.3","v":0.10400000000000001},{"$f":"DB_Maint_Repair_Costs[[#This Row],[Year 5]]*1.3","v":0.10400000000000001},{"$f":"DB_Maint_Repair_Costs[[#This Row],[Year 5]]*1.3","v":0.10400000000000001},{"$f":"DB_Maint_Repair_Costs[[#This Row],[Year 5]]*1.3","v":0.10400000000000001},{"$f":"DB_Maint_Repair_Costs[[#This Row],[Year 5]]*1.3","v":0.10400000000000001},{"$f":"DB_Maint_Repair_Costs[[#This Row],[Year 5]]*1.3","v":0.10400000000000001},{"$f":"DB_Maint_Repair_Costs[[#This Row],[Year 5]]*1.3","v":0.10400000000000001},{"$f":"DB_Maint_Repair_Costs[[#This Row],[Year 5]]*1.3","v":0.10400000000000001},{"$f":"DB_Maint_Repair_Costs[[#This Row],[Year 5]]*1.3","v":0.10400000000000001},{"$f":"DB_Maint_Repair_Costs[[#This Row],[Year 5]]*1.3","v":0.10400000000000001},{"$f":"DB_Maint_Repair_Costs[[#This Row],[Year 5]]*1.3","v":0.10400000000000001},{"$f":"DB_Maint_Repair_Costs[[#This Row],[Year 5]]*1.3","v":0.10400000000000001},{"$f":"DB_Maint_Repair_Costs[[#This Row],[Year 5]]*1.3","v":0.10400000000000001},{"$f":"DB_Maint_Repair_Costs[[#This Row],[Year 5]]*1.3","v":0.10400000000000001},{"$f":"DB_Maint_Repair_Costs[[#This Row],[Year 5]]*1.3","v":0.10400000000000001},{"$f":"DB_Maint_Repair_Costs[[#This Row],[Year 5]]*1.3","v":0.10400000000000001},{"$f":"DB_Maint_Repair_Costs[[#This Row],[Year 5]]*1.3","v":0.10400000000000001},{"$f":"DB_Maint_Repair_Costs[[#This Row],[Year 5]]*1.3","v":0.10400000000000001}]
["BEV",0.04,0.04,0.04,0.04,0.04,{"$f":"DB_Maint_Repair_Costs[[#This Row],[Year 5]]*1.3","v":5.2000000000000005E-2},{"$f":"DB_Maint_Repair_Costs[[#This Row],[Year 5]]*1.3","v":5.2000000000000005E-2},{"$f":"DB_Maint_Repair_Costs[[#This Row],[Year 5]]*1.3","v":5.2000000000000005E-2},{"$f":"DB_Maint_Repair_Costs[[#This Row],[Year 5]]*1.3","v":5.2000000000000005E-2},{"$f":"DB_Maint_Repair_Costs[[#This Row],[Year 5]]*1.3","v":5.2000000000000005E-2},{"$f":"DB_Maint_Repair_Costs[[#This Row],[Year 5]]*1.3","v":5.2000000000000005E-2},{"$f":"DB_Maint_Repair_Costs[[#This Row],[Year 5]]*1.3","v":5.2000000000000005E-2},{"$f":"DB_Maint_Repair_Costs[[#This Row],[Year 5]]*1.3","v":5.2000000000000005E-2},{"$f":"DB_Maint_Repair_Costs[[#This Row],[Year 5]]*1.3","v":5.2000000000000005E-2},{"$f":"DB_Maint_Repair_Costs[[#This Row],[Year 5]]*1.3","v":5.2000000000000005E-2},{"$f":"DB_Maint_Repair_Costs[[#This Row],[Year 5]]*1.3","v":5.2000000000000005E-2},{"$f":"DB_Maint_Repair_Costs[[#This Row],[Year 5]]*1.3","v":5.2000000000000005E-2},{"$f":"DB_Maint_Repair_Costs[[#This Row],[Year 5]]*1.3","v":5.2000000000000005E-2},{"$f":"DB_Maint_Repair_Costs[[#This Row],[Year 5]]*1.3","v":5.2000000000000005E-2},{"$f":"DB_Maint_Repair_Costs[[#This Row],[Year 5]]*1.3","v":5.2000000000000005E-2},{"$f":"DB_Maint_Repair_Costs[[#This Row],[Year 5]]*1.3","v":5.2000000000000005E-2},{"$f":"DB_Maint_Repair_Costs[[#This Row],[Year 5]]*1.3","v":5.2000000000000005E-2},{"$f":"DB_Maint_Repair_Costs[[#This Row],[Year 5]]*1.3","v":5.2000000000000005E-2},{"$f":"DB_Maint_Repair_Costs[[#This Row],[Year 5]]*1.3","v":5.2000000000000005E-2},{"$f":"DB_Maint_Repair_Costs[[#This Row],[Year 5]]*1.3","v":5.2000000000000005E-2}]
["PHEV",7.0000000000000007E-2,7.0000000000000007E-2,7.0000000000000007E-2,7.0000000000000007E-2,7.0000000000000007E-2,{"$f":"DB_Maint_Repair_Costs[[#This Row],[Year 5]]*1.3","v":9.1000000000000011E-2},{"$f":"DB_Maint_Repair_Costs[[#This Row],[Year 5]]*1.3","v":9.1000000000000011E-2},{"$f":"DB_Maint_Repair_Costs[[#This Row],[Year 5]]*1.3","v":9.1000000000000011E-2},{"$f":"DB_Maint_Repair_Costs[[#This Row],[Year 5]]*1.3","v":9.1000000000000011E-2},{"$f":"DB_Maint_Repair_Costs[[#This Row],[Year 5]]*1.3","v":9.1000000000000011E-2},{"$f":"DB_Maint_Repair_Costs[[#This Row],[Year 5]]*1.3","v":9.1000000000000011E-2},{"$f":"DB_Maint_Repair_Costs[[#This Row],[Year 5]]*1.3","v":9.1000000000000011E-2},{"$f":"DB_Maint_Repair_Costs[[#This Row],[Year 5]]*1.3","v":9.1000000000000011E-2},{"$f":"DB_Maint_Repair_Costs[[#This Row],[Year 5]]*1.3","v":9.1000000000000011E-2},{"$f":"DB_Maint_Repair_Costs[[#This Row],[Year 5]]*1.3","v":9.1000000000000011E-2},{"$f":"DB_Maint_Repair_Costs[[#This Row],[Year 5]]*1.3","v":9.1000000000000011E-2},{"$f":"DB_Maint_Repair_Costs[[#This Row],[Year 5]]*1.3","v":9.1000000000000011E-2},{"$f":"DB_Maint_Repair_Costs[[#This Row],[Year 5]]*1.3","v":9.1000000000000011E-2},{"$f":"DB_Maint_Repair_Costs[[#This Row],[Year 5]]*1.3","v":9.1000000000000011E-2},{"$f":"DB_Maint_Repair_Costs[[#This Row],[Year 5]]*1.3","v":9.1000000000000011E-2},{"$f":"DB_Maint_Repair_Costs[[#This Row],[Year 5]]*1.3","v":9.1000000000000011E-2},{"$f":"DB_Maint_Repair_Costs[[#This Row],[Year 5]]*1.3","v":9.1000000000000011E-2},{"$f":"DB_Maint_Repair_Costs[[#This Row],[Year 5]]*1.3","v":9.1000000000000011E-2},{"$f":"DB_Maint_Repair_Costs[[#This Row],[Year 5]]*1.3","v":9.1000000000000011E-2},{"$f":"DB_Maint_Repair_Costs[[#This Row],[Year 5]]*1.3","v":9.1000000000000011E-2}]
[]
["Source: Alameda County, 2017"]
[]
["Electricity Emissions"]
["eGRID subregion name ","eGRID subregion acronym","eGRID subregion annual CO2 total direct plant output emission rate (lb/MWh)1","eGRID subregion annual CH4 total output emission rate (lb/GWh)1","eGRID subregion annual N2O total output emission rate (lb/GWh)1","Upstream CO2 emissions from extraction \n(lb/MWh)3","Grid Loss Factors eGrid 2014 (%)2","eGRID subregion annual NOx total direct plant output emission rate (lb/MWh)1","eGRID subregion annual SOx total direct plant output emission rate (lb/MWh)1","EPA PM10 total direct plant output emission rate based on national average (lb/MWh)4","EPA PM2.5 total direct plant output emission rate based on national average (lb/MWh)4","EPA VOC total direct plant output emission rate based on national average (lb/MWh)4"]
["ASCC Alaska Grid","AKGD",929.73599999999999,46.628999999999998,7.1609999999999996,194.00694897617242,5.6300000000000003E-2,2.0579999999999998,0.625,{"$f":"228.579845629779*1000/4079690473.912*2204.62","v":0.12352204229579826},{"$f":"177.330914739379*1000/4079690473.912*2204.62","v":9.582768196574773E-2},{"$f":"37.3576459820216*1000/4079690473.912*2204.62","v":2.0187662277699792E-2}]
["ASCC Miscellaneous","AKMS",683.11500000000001,36.07,5.9980000000000002,112.43584542937266,5.6300000000000003E-2,9.6430000000000007,0.96699999999999997,{"$f":"228.579845629779*1000/4079690473.912*2204.62","v":0.12352204229579826},{"$f":"177.330914739379*1000/4079690473.912*2204.62","v":9.582768196574773E-2},{"$f":"37.3576459820216*1000/4079690473.912*2204.62","v":2.0187662277699792E-2}]
["WECC Southwest","AZNM",879.87199999999996,66.378,9.3130000000000006,125.66359195047532,4.7899999999999998E-2,0.65400000000000003,0.32600000000000001,0.12352204229579826,9.582768196574773E-2,2.0187662277699792E-2]
["WECC California","CAMX",570.48900000000003,33.104999999999997,4.0359999999999996,130.07284079084289,4.7899999999999998E-2,0.24,0.04,0.12352204229579826,9.582768196574773E-2,2.0187662277699792E-2]
["ERCOT All","ERCT",1148.049,81.834999999999994,11.574999999999999,147.7098361523131,5.1200000000000002E-2,0.59499999999999997,1.587,0.12352204229579826,9.582768196574773E-2,2.0187662277699792E-2]
["FRCC All","FRCC",1080.768,87.777000000000001,12.051,176.36995361470221,4.9700000000000001E-2,0.61899999999999999,0.82299999999999995,0.12352204229579826,9.582768196574773E-2,2.0187662277699792E-2]
["HICC Miscellaneous","HIMS",947.52700000000004,95.34,15.22,253.53180832113441,5.1799999999999999E-2,6.9139999999999997,3.8159999999999998,0.12352204229579826,9.582768196574773E-2,2.0187662277699792E-2]
["HICC Oahu","HIOA",1490.366,159.41,24.46,308.64741882572883,5.1799999999999999E-2,2.6389999999999998,8.73,0.12352204229579826,9.582768196574773E-2,2.0187662277699792E-2]
["MRO East","MROE",1676.5309999999999,191.16,28.178000000000001,123.45896753029155,4.9700000000000001E-2,1.1080000000000001,3.052,0.12352204229579826,9.582768196574773E-2,2.0187662277699792E-2]
["MRO West","MROW",1375.606,161.369,23.347000000000001,105.82197216882132,4.9700000000000001E-2,1.4570000000000001,2.302,0.12352204229579826,9.582768196574773E-2,2.0187662277699792E-2]
["NPCC New England","NEWE",576.76,96.003,12.843,130.07284079084289,4.9700000000000001E-2,0.46500000000000002,0.23499999999999999,0.12352204229579826,9.582768196574773E-2,2.0187662277699792E-2]
["WECC Northwest","NWPP",913.423,97.807000000000002,14.224,59.524859344961996,4.7899999999999998E-2,1.1950000000000001,0.626,0.12352204229579826,9.582768196574773E-2,2.0187662277699792E-2]
["NPCC NYC/Westchester","NYCW",666.93899999999996,24.364999999999998,2.9710000000000001,138.891338471578,4.9700000000000001E-2,0.31,4.5999999999999999E-2,0.12352204229579826,9.582768196574773E-2,2.0187662277699792E-2]
["NPCC Long Island","NYLI",1204.3230000000001,132.411,17.193999999999999,202.82544665690753,4.9700000000000001E-2,0.89400000000000002,0.44800000000000001,0.12352204229579826,9.582768196574773E-2,2.0187662277699792E-2]
["NPCC Upstate NY","NYUP",367.64,30.686,4.1379999999999999,81.571103546799776,4.9700000000000001E-2,0.40200000000000002,0.42199999999999999,0.12352204229579826,9.582768196574773E-2,2.0187662277699792E-2]
["RFC East","RFCE",834.476,73.933000000000007,11.226000000000001,114.64046984955644,4.9700000000000001E-2,0.83,1.925,0.12352204229579826,9.582768196574773E-2,2.0187662277699792E-2]
["RFC Michigan","RFCM",1542.6179999999999,170.08500000000001,24.460999999999999,145.50521173212931,4.9700000000000001E-2,1.3939999999999999,3.504,0.12352204229579826,9.582768196574773E-2,2.0187662277699792E-2]
["RFC West","RFCW",1390.8679999999999,150.19900000000001,22.033999999999999,121.25434311010777,4.9700000000000001E-2,1.254,2.9049999999999998,0.12352204229579826,9.582768196574773E-2,2.0187662277699792E-2]
["WECC Rockies","RMPA",1749.42,178.15799999999999,25.771000000000001,134.48208963121044,4.7899999999999998E-2,1.526,1.0589999999999999,0.12352204229579826,9.582768196574773E-2,2.0187662277699792E-2]
["SPP North","SPNO",1586.4590000000001,173.78899999999999,25.216999999999999,130.07284079084289,4.9700000000000001E-2,1.1919999999999999,1.5629999999999999,0.12352204229579826,9.582768196574773E-2,2.0187662277699792E-2]
["SPP South","SPSO",1484.8009999999999,135.441,19.690000000000001,156.52833383304821,4.9700000000000001E-2,1.1359999999999999,2.3090000000000002,0.12352204229579826,9.582768196574773E-2,2.0187662277699792E-2]
["SERC Mississippi Valley","SRMV",1027.116,78.625,11.247,154.32370941286442,4.9700000000000001E-2,0.96599999999999997,1.4610000000000001,0.12352204229579826,9.582768196574773E-2,2.0187662277699792E-2]
["SERC Midwest","SRMW",1785.806,208.84100000000001,30.370999999999999,132.27746521102665,4.9700000000000001E-2,1.282,2.907,0.12352204229579826,9.582768196574773E-2,2.0187662277699792E-2]
["SERC South","SRSO",1150.7329999999999,103.712,15.324999999999999,145.50521173212931,4.9700000000000001E-2,0.75700000000000001,1.9890000000000001,0.12352204229579826,9.582768196574773E-2,2.0187662277699792E-2]
["SERC Tennessee Valley","SRTV",1345.4169999999999,138.63900000000001,20.193999999999999,121.25434311010777,4.9700000000000001E-2,0.98099999999999998,2.1150000000000002,0.12352204229579826,9.582768196574773E-2,2.0187662277699792E-2]
["SERC Virginia/Carolina","SRVC",862.78599999999994,95.722999999999999,13.776999999999999,108.02659658900509,4.9700000000000001E-2,0.58199999999999996,0.67600000000000005,0.12352204229579826,9.582768196574773E-2,2.0187662277699792E-2]
["National Average","U.S. Avg",1122.9000000000001,110.9,16,117.70885218293428,4.9500000000000002E-2,0.9,1.63,{"$f":"228.579845629779*1000/4079690473.912*2204.62","v":0.12352204229579826},{"$f":"177.330914739379*1000/4079690473.912*2204.62","v":9.582768196574773E-2},{"$f":"37.3576459820216*1000/4079690473.912*2204.62","v":2.0187662277699792E-2}]
[]
["Source: http://www.epa.gov/cleanenergy/energy-resources/egrid/index.html"]
["1 - eGrid 2014 Data File V2 - SRL14 tab - https://www.epa.gov/energy/emissions-generation-resource-integrated-database-egrid"]
["2 - Table 3.5 - Grid Loss Factors https://www.epa.gov/sites/production/files/2017-02/documents/egrid2014_technicalsupportdocument_v2.pdf"]
["3 - http://www.ucsusa.org/sites/default/files/attach/2015/11/Cleaner-Cars-from-Cradle-to-Grave-full-report.pdf"]
["4 - National Average Annual Emissions Trends - https://www.epa.gov/air-emissions-inventories/air-pollutant-emissions-trends-data"]
[]
["Gasoline Emissions"]
["Pollutant","Car Tailpipe Emissions","Car Lifecycle Emissions","Pickup Tailpipe Emissions","Pickup Lifecycle Emissions","SUV Tailpipe Emissions","SUV Lifecycle Emissions"]
["CO2 ( g/MJ)",71.67,90.01,70.59,88.93,71.64,89.98]
["GHG-100 (g/MJ)",68.59,90.24,69.95,91.59,68.59,90.24]
["Nox (mg/MJ)",26.45,67.84,86.16,{"$f":"0.13*1000","v":130},33.79,75.180000000000007]
["Sox (mg/MJ)",0,35.49,0,35.49,0,35.49]
["PM10 (mg/MJ)",1.19,4.87,1.97,5.66,1.39,5.07]
["PM2.5 (mg/MJ)",1.05,3.5,1.75,4.1900000000000004,1.23,3.68]
["VOC (mg/MJ)",29.66,57.99,30.32,58.66,24.5,52.83]
[]
["Source: https://greet.es.anl.gov"]
[]
["Other Default Values and Scalars"]
["Factor","Value","Source"]
["% of Annual Miles City Driving",0.55000000000000004,"https://www.epa.gov/fueleconomy/plug-hybrid-electric-vehicle-learn-more-about-new-label"]
["Carbon Price",36,"https://www.epa.gov/climatechange/social-cost-carbon"]
["kWh per Gasoline Gallon",33.700000000000003,"*EPA number "]
["KWh per MJ",0.27777800000000002,"kWh / MJ"]
["MJ per Gasoline Gallon",{"$f":"B145/B146","v":121.31990294407764},"*EPA uses 121 MJ/gallon"]
["Miligram per Pound",453592]
["Gram per Pound",{"$f":"B148/1000","v":453.59199999999998}]
["Level 2 Charging Station Cost",5000]
["Level 2 Charging Annual Maintenance Cost",75]
["Annual Insurance Cost ($/year)",1222,"Average passenger car insurance costs from AAA 2016 Your Driving Cost Study"]
[]
["Federal and State Vehicle Incentives"]
["State Abbreviation","Incentive Type","2016 Chevrolet Spark EV BEV","2016 Chevrolet Volt PHEV","2016 Fiat 500e BEV","2016 Ford C-MAX Energi Plug-in Hybrid PHEV","2016 Ford Focus Electric BEV","2016 Ford Fusion Energi Plug-in Hybrid PHEV","2016 Hyundai Sonata Plug-in Hybrid PHEV","2016 Kia Soul Electric BEV","2016 Mitsubishi i-MiEV BEV","2016 Nissan Leaf (30 kW-hr battery pack) BEV","2016 Volkswagen e-Golf BEV","2016 smart fortwo electric drive coupe BEV","2017 Chevrolet Bolt EV BEV","2017 Chevrolet Volt PHEV","2017 Chrysler Pacifica Plug-in Hybrid PHEV","2017 Fiat 500e BEV","2017 Ford C-MAX Energi Plug-In Hybrid PHEV","2017 Ford Focus Electric BEV","2017 Ford Fusion Energi Plug-in Hybrid PHEV","2017 Hyundai Ioniq Electric BEV","2017 Hyundai Sonata Plug-in Hybrid PHEV","2017 Kia Soul Electric BEV","2017 Mitsubishi i-MiEV BEV","2017 Nissan Leaf BEV","2017 Toyota Prius Prime PHEV","2017 Volkswagen e-Golf BEV"]
["Federal Tax Credit","",7500,7500,7500,4007,7500,4007,4919,7500,7500,7500,7500,7500,7500,7500,7500,7500,4007,7500,4007,7500,4919,7500,7500,7500,4502,7500]
["CA","Other",2500,1500,2500,1500,2500,1500,1500,2500,2500,2500,2500,2500,2500,1500,1500,2500,1500,2500,1500,2500,1500,2500,2500,2500,1500,2500]
["AK","",0,0,0,0,0,0,0,0,0,0,0,0,0,0,0,0,0,0,0,0,0,0,0,0,0,0]
["CO","Tax",5000,5000,5000,5000,5000,5000,5000,5000,5000,5000,5000,5000,5000,5000,5000,5000,5000,5000,5000,5000,5000,5000,5000,5000,5000,5000]
["AL","",0,0,0,0,0,0,0,0,0,0,0,0,0,0,0,0,0,0,0,0,0,0,0,0,0,0]
["CT","Other",750,3000,1500,750,1500,750,750,3000,750,3000,1500,750,3000,3000,1500,1500,750,3000,750,3000,750,3000,750,3000,750,3000]
["AR","",0,0,0,0,0,0,0,0,0,0,0,0,0,0,0,0,0,0,0,0,0,0,0,0,0,0]
["DE","Other",3500,1500,3500,1500,3500,1500,1500,3500,3500,3500,3500,3500,3500,1500,1500,3500,1500,3500,1500,3500,1500,3500,3500,3500,1500,3500]
["AZ","",0,0,0,0,0,0,0,0,0,0,0,0,0,0,0,0,0,0,0,0,0,0,0,0,0,0]
["DC","",0,0,0,0,0,0,0,0,0,0,0,0,0,0,0,0,0,0,0,0,0,0,0,0,0,0]
["FL","",0,0,0,0,0,0,0,0,0,0,0,0,0,0,0,0,0,0,0,0,0,0,0,0,0,0]
["GA","",0,0,0,0,0,0,0,0,0,0,0,0,0,0,0,0,0,0,0,0,0,0,0,0,0,0]
["HI","",0,0,0,0,0,0,0,0,0,0,0,0,0,0,0,0,0,0,0,0,0,0,0,0,0,0]
["IA","",0,0,0,0,0,0,0,0,0,0,0,0,0,0,0,0,0,0,0,0,0,0,0,0,0,0]
["ID","",0,0,0,0,0,0,0,0,0,0,0,0,0,0,0,0,0,0,0,0,0,0,0,0,0,0]
["IL","",0,0,0,0,0,0,0,0,0,0,0,0,0,0,0,0,0,0,0,0,0,0,0,0,0,0]
["IN","",0,0,0,0,0,0,0,0,0,0,0,0,0,0,0,0,0,0,0,0,0,0,0,0,0,0]
["KS","",0,0,0,0,0,0,0,0,0,0,0,0,0,0,0,0,0,0,0,0,0,0,0,0,0,0]
["KY","",0,0,0,0,0,0,0,0,0,0,0,0,0,0,0,0,0,0,0,0,0,0,0,0,0,0]
["LA","Tax",1500,1500,1500,1500,1500,1500,1500,1500,1500,1500,1500,1500,1500,1500,1500,1500,1500,1500,1500,1500,1500,1500,1500,1500,1500,1500]
["MA","Other",7500,5000,7500,5000,7500,5000,5000,7500,7500,7500,7500,7500,7500,5000,5000,7500,5000,7500,5000,7500,5000,7500,7500,7500,5000,7500]
["MD","Tax",2375,2300,3000,951.5,2875,951.5,1225,3000,2000,3000,3000,2200,3000,2300,2000,3000,951.5,3000,951.5,3000,1225,3000,2000,3000,1100,3000]
["ME","",0,0,0,0,0,0,0,0,0,0,0,0,0,0,0,0,0,0,0,0,0,0,0,0,0,0]
["MI","",0,0,0,0,0,0,0,0,0,0,0,0,0,0,0,0,0,0,0,0,0,0,0,0,0,0]
["MN","",0,0,0,0,0,0,0,0,0,0,0,0,0,0,0,0,0,0,0,0,0,0,0,0,0,0]
["MO","",0,0,0,0,0,0,0,0,0,0,0,0,0,0,0,0,0,0,0,0,0,0,0,0,0,0]
["MS","",0,0,0,0,0,0,0,0,0,0,0,0,0,0,0,0,0,0,0,0,0,0,0,0,0,0]
["MT","",0,0,0,0,0,0,0,0,0,0,0,0,0,0,0,0,0,0,0,0,0,0,0,0,0,0]
["NC","",0,0,0,0,0,0,0,0,0,0,0,0,0,0,0,0,0,0,0,0,0,0,0,0,0,0]
["ND","",0,0,0,0,0,0,0,0,0,0,0,0,0,0,0,0,0,0,0,0,0,0,0,0,0,0]
["NE","",0,0,0,0,0,0,0,0,0,0,0,0,0,0,0,0,0,0,0,0,0,0,0,0,0,0]
["NH","",0,0,0,0,0,0,0,0,0,0,0,0,0,0,0,0,0,0,0,0,0,0,0,0,0,0]
["NJ","Other",0,0,0,0,0,0,0,0,0,0,0,0,0,0,0,0,0,0,0,0,0,0,0,0,0,0]
["NM","",0,0,0,0,0,0,0,0,0,0,0,0,0,0,0,0,0,0,0,0,0,0,0,0,0,0]
["NV","",0,0,0,0,0,0,0,0,0,0,0,0,0,0,0,0,0,0,0,0,0,0,0,0,0,0]
["NY","Other",1700,1700,1700,500,1700,500,1100,1700,1700,1700,1700,1700,2000,1700,1100,1700,500,1700,1100,2000,1100,1700,1700,1700,1100,2000]
["OH","",0,0,0,0,0,0,0,0,0,0,0,0,0,0,0,0,0,0,0,0,0,0,0,0,0,0]
["OK","",0,0,0,0,0,0,0,0,0,0,0,0,0,0,0,0,0,0,0,0,0,0,0,0,0,0]
["OR","",0,0,0,0,0,0,0,0,0,0,0,0,0,0,0,0,0,0,0,0,0,0,0,0,0,0]
["PA","Other",1750,1000,1750,1000,1750,1000,1000,1750,1750,1750,1750,1750,1750,1000,1000,1750,1000,1750,1000,1750,1000,1750,1750,1750,1000,1750]
["PR","",0,0,0,0,0,0,0,0,0,0,0,0,0,0,0,0,0,0,0,0,0,0,0,0,0,0]
["RI","Other",2500,1500,2500,1500,2500,1500,1500,2500,0,2500,2500,0,2500,1500,1500,2500,1500,2500,1500,2500,1500,2500,0,2500,1500,2500]
["SC","",0,0,0,0,0,0,0,0,0,0,0,0,0,0,0,0,0,0,0,0,0,0,0,0,0,0]
["SD","",0,0,0,0,0,0,0,0,0,0,0,0,0,0,0,0,0,0,0,0,0,0,0,0,0,0]
["TN","",0,0,0,0,0,0,0,0,0,0,0,0,0,0,0,0,0,0,0,0,0,0,0,0,0,0]
["TX","Other",2500,2500,2500,2500,2500,2500,2500,2500,2500,2500,2500,2500,2500,2500,2500,2500,2500,2500,2500,2500,2500,2500,2500,2500,2500,2500]
["UT","",0,0,0,0,0,0,0,0,0,0,0,0,0,0,0,0,0,0,0,0,0,0,0,0,0,0]
["VA","",0,0,0,0,0,0,0,0,0,0,0,0,0,0,0,0,0,0,0,0,0,0,0,0,0,0]
["VT","",0,0,0,0,0,0,0,0,0,0,0,0,0,0,0,0,0,0,0,0,0,0,0,0,0,0]
["WA","Other",0,0,0,0,0,0,0,0,0,0,0,0,0,0,0,0,0,0,0,0,0,0,0,0,0,0]
["WI","",0,0,0,0,0,0,0,0,0,0,0,0,0,0,0,0,0,0,0,0,0,0,0,0,0,0]
["WV","",0,0,0,0,0,0,0,0,0,0,0,0,0,0,0,0,0,0,0,0,0,0,0,0,0,0]
["WY","",0,0,0,0,0,0,0,0,0,0,0,0,0,0,0,0,0,0,0,0,0,0,0,0,0,0]
[]
["Vehicles"]
["Selection Name","Year","Make","Model","Drivetrain Type","Battery Size (kWh)","Electric Range","Fuel Economy Electric City (MPGe)","Fuel Economy Electric Hwy (MPGe)","Fuel Economy Gas City (MPG)","Fuel Economy Gas Hwy (MPG)","MSRP","Fueleconomy.gov Link"]
[{"$f":"DB_Vehicles[[#This Row],[Year]] & \" \" & DB_Vehicles[[#This Row],[Make]] & \" \" & DB_Vehicles[[#This Row],[Model]] & \" \" & DB_Vehicles[[#This Row],[Drivetrain Type]]","v":"*Custom Custom Custom BEV"},"*Custom","Custom","Custom","BEV",null,null,null,null,null,null,null,"N/A"]
[{"$f":"DB_Vehicles[[#This Row],[Year]] & \" \" & DB_Vehicles[[#This Row],[Make]] & \" \" & DB_Vehicles[[#This Row],[Model]] & \" \" & DB_Vehicles[[#This Row],[Drivetrain Type]]","v":"*Custom Custom Custom ICE"},"*Custom","Custom","Custom","ICE",null,null,null,null,null,null,null,"N/A"]
[{"$f":"DB_Vehicles[[#This Row],[Year]] & \" \" & DB_Vehicles[[#This Row],[Make]] & \" \" & DB_Vehicles[[#This Row],[Model]] & \" \" & DB_Vehicles[[#This Row],[Drivetrain Type]]","v":"*Custom Custom Custom PHEV"},"*Custom","Custom","Custom","PHEV",null,null,null,null,null,null,null,"N/A"]
["2016 Mitsubishi i-MiEV BEV",2016,"Mitsubishi","i-MiEV","BEV",16,62,126,99,null,null,22995,"https://www.fueleconomy.gov/feg/Find.do?action=sbs&id=36023"]
["2016 Hyundai Sonata Hybrid ICE",2016,"Hyundai","Sonata Hybrid","ICE",null,0,null,null,38,41,26000,"https://www.fueleconomy.gov/feg/Find.do?action=sbs&id=36100"]
["2016 Ford Fusion FWD ICE",2016,"Ford","Fusion FWD","ICE",null,0,null,null,25,36,22750,"https://www.fueleconomy.gov/feg/Find.do?action=sbs&id=36155"]
["2016 Ford Fusion FWD ICE",2016,"Ford","Fusion FWD","ICE",null,0,null,null,24,36,22750,"https://www.fueleconomy.gov/feg/Find.do?action=sbs&id=36156"]
["2016 Ford Fusion FWD ICE",2016,"Ford","Fusion FWD","ICE",null,0,null,null,22,33,22750,"https://www.fueleconomy.gov/feg/Find.do?action=sbs&id=36158"]
["2016 Ford Fusion FWD ICE",2016,"Ford","Fusion FWD","ICE",null,0,null,null,22,33,22750,"https://www.fueleconomy.gov/feg/Find.do?action=sbs&id=36159"]
["2016 Ford Fusion Hybrid FWD ICE",2016,"Ford","Fusion Hybrid FWD","ICE",null,0,null,null,43,39,25675,"https://www.fueleconomy.gov/feg/Find.do?action=sbs&id=36160"]
["2016 Kia Soul ICE",2016,"Kia","Soul","ICE",null,0,null,null,24,31,15900,"https://www.fueleconomy.gov/feg/Find.do?action=sbs&id=36233"]
["2016 Kia Soul ICE",2016,"Kia","Soul","ICE",null,0,null,null,24,30,15900,"https://www.fueleconomy.gov/feg/Find.do?action=sbs&id=36234"]
["2016 Kia Soul ICE",2016,"Kia","Soul","ICE",null,0,null,null,24,30,15900,"https://www.fueleconomy.gov/feg/Find.do?action=sbs&id=36235"]
["2016 Ford Fusion Energi Plug-in Hybrid PHEV",2016,"Ford","Fusion Energi Plug-in Hybrid","PHEV",7.6120000000000001,20,95,81,40,36,33900,"https://www.fueleconomy.gov/feg/Find.do?action=sbs&id=36248"]
["2016 Chevrolet Sonic ICE",2016,"Chevrolet","Sonic","ICE",null,0,null,null,28,38,14345,"https://www.fueleconomy.gov/feg/Find.do?action=sbs&id=36447"]
["2016 Chevrolet Sonic ICE",2016,"Chevrolet","Sonic","ICE",null,0,null,null,27,36,14345,"https://www.fueleconomy.gov/feg/Find.do?action=sbs&id=36449"]
["2016 Chevrolet Sonic ICE",2016,"Chevrolet","Sonic","ICE",null,0,null,null,24,34,14345,"https://www.fueleconomy.gov/feg/Find.do?action=sbs&id=36451"]
["2016 Chevrolet Sonic ICE",2016,"Chevrolet","Sonic","ICE",null,0,null,null,26,34,14345,"https://www.fueleconomy.gov/feg/Find.do?action=sbs&id=36452"]
["2016 Hyundai Sonata ICE",2016,"Hyundai","Sonata","ICE",null,0,null,null,22,31,21750,"https://www.fueleconomy.gov/feg/Find.do?action=sbs&id=36475"]
["2016 Hyundai Sonata ICE",2016,"Hyundai","Sonata","ICE",null,0,null,null,25,36,21750,"https://www.fueleconomy.gov/feg/Find.do?action=sbs&id=36477"]
["2016 Hyundai Sonata ICE",2016,"Hyundai","Sonata","ICE",null,0,null,null,28,36,21750,"https://www.fueleconomy.gov/feg/Find.do?action=sbs&id=36479"]
["2016 Kia Soul Electric BEV",2016,"Kia","Soul Electric","BEV",27,93,120,92,null,null,31950,"https://www.fueleconomy.gov/feg/Find.do?action=sbs&id=36553"]
["2016 Volkswagen Golf ICE",2016,"Volkswagen","Golf","ICE",null,0,null,null,25,35,18495,"https://www.fueleconomy.gov/feg/Find.do?action=sbs&id=36575"]
["2016 Volkswagen Golf ICE",2016,"Volkswagen","Golf","ICE",null,0,null,null,25,36,18495,"https://www.fueleconomy.gov/feg/Find.do?action=sbs&id=36576"]
["2016 Volkswagen e-Golf BEV",2016,"Volkswagen","e-Golf","BEV",24.2,83,126,105,null,null,28995,"https://www.fueleconomy.gov/feg/Find.do?action=sbs&id=36834"]
["2016 Fiat 500 ICE",2016,"Fiat","500","ICE",null,0,null,null,null,null,16995,"https://www.fueleconomy.gov/feg/Find.do?action=sbs&id=36837"]
["2016 Fiat 500 ICE",2016,"Fiat","500","ICE",null,0,null,null,null,null,16995,"https://www.fueleconomy.gov/feg/Find.do?action=sbs&id=36838"]
["2016 Fiat 500 ICE",2016,"Fiat","500","ICE",null,0,null,null,null,null,16995,"https://www.fueleconomy.gov/feg/Find.do?action=sbs&id=36839"]
["2016 Fiat 500 ICE",2016,"Fiat","500","ICE",null,0,null,null,null,null,16995,"https://www.fueleconomy.gov/feg/Find.do?action=sbs&id=36840"]
["2016 smart fortwo electric drive coupe BEV",2016,"smart","fortwo electric drive coupe","BEV",17.600000000000001,68,122,93,null,null,null,"https://www.fueleconomy.gov/feg/Find.do?action=sbs&id=36861"]
["2016 Chevrolet Volt PHEV",2016,"Chevrolet","Volt","PHEV",18.399999999999999,53,113,99,43,42,33170,"https://www.fueleconomy.gov/feg/Find.do?action=sbs&id=36863"]
["2016 Ford C-MAX Hybrid FWD ICE",2016,"Ford","C-MAX Hybrid FWD","ICE",null,0,null,null,41,36,24170,"https://www.fueleconomy.gov/feg/Find.do?action=sbs&id=36915"]
["2016 Ford C-MAX Energi Plug-in Hybrid PHEV",2016,"Ford","C-MAX Energi Plug-in Hybrid","PHEV",7.6120000000000001,20,95,81,40,36,31770,"https://www.fueleconomy.gov/feg/Find.do?action=sbs&id=36932"]
["2016 smart fortwo coupe ICE",2016,"smart","fortwo coupe","ICE",null,0,null,null,null,null,14650,"https://www.fueleconomy.gov/feg/Find.do?action=sbs&id=36934"]
["2016 smart fortwo coupe ICE",2016,"smart","fortwo coupe","ICE",null,0,null,null,null,null,14650,"https://www.fueleconomy.gov/feg/Find.do?action=sbs&id=36935"]
["2016 Ford Focus Electric BEV",2016,"Ford","Focus Electric","BEV",23,76,110,99,null,null,29170,"https://www.fueleconomy.gov/feg/Find.do?action=sbs&id=36978"]
["2016 Ford Focus FWD ICE",2016,"Ford","Focus FWD","ICE",null,0,null,null,30,41,17225,"https://www.fueleconomy.gov/feg/Find.do?action=sbs&id=36981"]
["2016 Ford Focus FWD ICE",2016,"Ford","Focus FWD","ICE",null,0,null,null,27,39,17225,"https://www.fueleconomy.gov/feg/Find.do?action=sbs&id=36985"]
["2016 Ford Focus FWD ICE",2016,"Ford","Focus FWD","ICE",null,0,null,null,26,37,17225,"https://www.fueleconomy.gov/feg/Find.do?action=sbs&id=36986"]
["2016 Ford Focus FWD ICE",2016,"Ford","Focus FWD","ICE",null,0,null,null,26,36,17225,"https://www.fueleconomy.gov/feg/Find.do?action=sbs&id=36987"]
["2016 Ford Focus FWD ICE",2016,"Ford","Focus FWD","ICE",null,0,null,null,28,39,17225,"https://www.fueleconomy.gov/feg/Find.do?action=sbs&id=36988"]
["2016 Chevrolet Spark EV BEV",2016,"Chevrolet","Spark EV","BEV",19,82,128,109,null,null,25120,"https://www.fueleconomy.gov/feg/Find.do?action=sbs&id=36996"]
["2016 Hyundai Sonata Plug-in Hybrid PHEV",2016,"Hyundai","Sonata Plug-in Hybrid","PHEV",9.8000000000000007,27,99,98,38,41,34600,"https://www.fueleconomy.gov/feg/Find.do?action=sbs&id=36998"]
["2016 Nissan Leaf (30 kW-hr battery pack) BEV",2016,"Nissan","Leaf (30 kW-hr battery pack)","BEV",30,107,124,101,null,null,29010,"https://www.fueleconomy.gov/feg/Find.do?action=sbs&id=37067"]
["2016 Chevrolet Spark ICE",2016,"Chevrolet","Spark","ICE",null,0,null,null,31,40,12660,"https://www.fueleconomy.gov/feg/Find.do?action=sbs&id=37095"]
["2016 Chevrolet Spark ICE",2016,"Chevrolet","Spark","ICE",null,0,null,null,30,39,12660,"https://www.fueleconomy.gov/feg/Find.do?action=sbs&id=37096"]
["2016 Chevrolet Malibu ICE",2016,"Chevrolet","Malibu","ICE",null,0,null,null,22,32,21625,"https://www.fueleconomy.gov/feg/Find.do?action=sbs&id=37138"]
["2016 Chevrolet Malibu ICE",2016,"Chevrolet","Malibu","ICE",null,0,null,null,27,36,21625,"https://www.fueleconomy.gov/feg/Find.do?action=sbs&id=37146"]
["2016 Fiat 500e BEV",2016,"Fiat","500e","BEV",24,84,121,103,null,null,31800,"https://www.fueleconomy.gov/feg/Find.do?action=sbs&id=37156"]
["2016 Toyota Prius ICE",2016,"Toyota","Prius","ICE",null,0,null,null,54,50,24200,"https://www.fueleconomy.gov/feg/Find.do?action=sbs&id=37163"]
["2016 Ford Taurus FWD ICE",2016,"Ford","Taurus FWD","ICE",null,0,null,null,20,29,27110,"https://www.fueleconomy.gov/feg/Find.do?action=sbs&id=37168"]
["2016 Ford Taurus FWD ICE",2016,"Ford","Taurus FWD","ICE",null,0,null,null,18,27,27110,"https://www.fueleconomy.gov/feg/Find.do?action=sbs&id=37171"]
["2016 Chevrolet Cruze ICE",2016,"Chevrolet","Cruze","ICE",null,0,null,null,30,40,16620,"https://www.fueleconomy.gov/feg/Find.do?action=sbs&id=37276"]
["2016 Chevrolet Cruze ICE",2016,"Chevrolet","Cruze","ICE",null,0,null,null,28,39,16620,"https://www.fueleconomy.gov/feg/Find.do?action=sbs&id=37277"]
["2017 Chrysler Pacifica ICE",2017,"Chrysler","Pacifica","ICE",null,0,null,null,18,28,28995,"https://www.fueleconomy.gov/feg/Find.do?action=sbs&id=37292"]
["2017 Mitsubishi i-MiEV BEV",2017,"Mitsubishi","i-MiEV","BEV",16,59,121,102,null,null,null,"https://www.fueleconomy.gov/feg/Find.do?action=sbs&id=37293"]
["2016 Chevrolet Malibu Hybrid ICE",2016,"Chevrolet","Malibu Hybrid","ICE",null,0,null,null,47,46,27770,"https://www.fueleconomy.gov/feg/Find.do?action=sbs&id=37297"]
["2017 Chevrolet Volt PHEV",2017,"Chevrolet","Volt","PHEV",18.399999999999999,53,113,99,43,42,33220,"https://www.fueleconomy.gov/feg/Find.do?action=sbs&id=37309"]
["2017 Ford Fusion FWD ICE",2017,"Ford","Fusion FWD","ICE",null,0,null,null,23,34,22610,"https://www.fueleconomy.gov/feg/Find.do?action=sbs&id=37382"]
["2017 Ford Fusion Hybrid FWD ICE",2017,"Ford","Fusion Hybrid FWD","ICE",null,0,null,null,43,41,25675,"https://www.fueleconomy.gov/feg/Find.do?action=sbs&id=37383"]
["2017 Ford Fusion FWD ICE",2017,"Ford","Fusion FWD","ICE",null,0,null,null,21,31,22610,"https://www.fueleconomy.gov/feg/Find.do?action=sbs&id=37402"]
["2017 Ford Fusion FWD ICE",2017,"Ford","Fusion FWD","ICE",null,0,null,null,21,32,22610,"https://www.fueleconomy.gov/feg/Find.do?action=sbs&id=37429"]
["2017 Hyundai Sonata ICE",2017,"Hyundai","Sonata","ICE",null,0,null,null,25,36,21600,"https://www.fueleconomy.gov/feg/Find.do?action=sbs&id=37432"]
["2017 Hyundai Sonata ICE",2017,"Hyundai","Sonata","ICE",null,0,null,null,28,36,21600,"https://www.fueleconomy.gov/feg/Find.do?action=sbs&id=37452"]
["2017 Hyundai Sonata ICE",2017,"Hyundai","Sonata","ICE",null,0,null,null,22,31,21600,"https://www.fueleconomy.gov/feg/Find.do?action=sbs&id=37462"]
["2017 Ford Fusion Energi Plug-in Hybrid PHEV",2017,"Ford","Fusion Energi Plug-in Hybrid","PHEV",7.6120000000000001,22,104,91,43,41,33120,"https://www.fueleconomy.gov/feg/Find.do?action=sbs&id=37470"]
["2017 Hyundai Sonata Hybrid ICE",2017,"Hyundai","Sonata Hybrid","ICE",null,0,null,null,38,43,30100,"https://www.fueleconomy.gov/feg/Find.do?action=sbs&id=37532"]
["2017 Fiat 500e BEV",2017,"Fiat","500e","BEV",24,84,121,103,null,null,31800,"https://www.fueleconomy.gov/feg/Find.do?action=sbs&id=37798"]
["2017 Fiat 500 ICE",2017,"Fiat","500","ICE",null,0,null,null,null,null,14995,"https://www.fueleconomy.gov/feg/Find.do?action=sbs&id=37807"]
["2017 Fiat 500 ICE",2017,"Fiat","500","ICE",null,0,null,null,null,null,14995,"https://www.fueleconomy.gov/feg/Find.do?action=sbs&id=37808"]
["2017 Fiat 500 ICE",2017,"Fiat","500","ICE",null,0,null,null,null,null,14995,"https://www.fueleconomy.gov/feg/Find.do?action=sbs&id=37809"]
["2017 Fiat 500 ICE",2017,"Fiat","500","ICE",null,0,null,null,null,null,14995,"https://www.fueleconomy.gov/feg/Find.do?action=sbs&id=37810"]
["2017 Chevrolet Spark ICE",2017,"Chevrolet","Spark","ICE",null,0,null,null,30,38,13000,"https://www.fueleconomy.gov/feg/Find.do?action=sbs&id=37882"]
["2017 Chevrolet Spark ICE",2017,"Chevrolet","Spark","ICE",null,0,null,null,29,38,13000,"https://www.fueleconomy.gov/feg/Find.do?action=sbs&id=37883"]
["2017 Chevrolet Sonic ICE",2017,"Chevrolet","Sonic","ICE",null,0,null,null,24,34,15145,"https://www.fueleconomy.gov/feg/Find.do?action=sbs&id=37903"]
["2017 Chevrolet Sonic ICE",2017,"Chevrolet","Sonic","ICE",null,0,null,null,25,33,15145,"https://www.fueleconomy.gov/feg/Find.do?action=sbs&id=37904"]
["2017 Chevrolet Sonic ICE",2017,"Chevrolet","Sonic","ICE",null,0,null,null,27,36,15145,"https://www.fueleconomy.gov/feg/Find.do?action=sbs&id=37905"]
["2017 Chevrolet Sonic ICE",2017,"Chevrolet","Sonic","ICE",null,0,null,null,28,38,15145,"https://www.fueleconomy.gov/feg/Find.do?action=sbs&id=37906"]
["2017 Chevrolet Cruze ICE",2017,"Chevrolet","Cruze","ICE",null,0,null,null,30,40,16975,"https://www.fueleconomy.gov/feg/Find.do?action=sbs&id=37907"]
["2017 Chevrolet Cruze ICE",2017,"Chevrolet","Cruze","ICE",null,0,null,null,28,39,16975,"https://www.fueleconomy.gov/feg/Find.do?action=sbs&id=37911"]
["2017 Chevrolet Malibu ICE",2017,"Chevrolet","Malibu","ICE",null,0,null,null,27,36,21680,"https://www.fueleconomy.gov/feg/Find.do?action=sbs&id=37928"]
["2017 Volkswagen Golf ICE",2017,"Volkswagen","Golf","ICE",null,0,null,null,25,35,19895,"https://www.fueleconomy.gov/feg/Find.do?action=sbs&id=37977"]
["2017 Volkswagen Golf ICE",2017,"Volkswagen","Golf","ICE",null,0,null,null,25,36,19895,"https://www.fueleconomy.gov/feg/Find.do?action=sbs&id=37978"]
["2017 Hyundai Sonata Plug-in Hybrid PHEV",2017,"Hyundai","Sonata Plug-in Hybrid","PHEV",9.8000000000000007,27,99,98,38,40,null,"https://www.fueleconomy.gov/feg/Find.do?action=sbs&id=38046"]
["2017 Toyota Prius ICE",2017,"Toyota","Prius","ICE",null,0,null,null,54,50,23475,"https://www.fueleconomy.gov/feg/Find.do?action=sbs&id=38061"]
["2017 Kia Soul ICE",2017,"Kia","Soul","ICE",null,0,null,null,25,30,16100,"https://www.fueleconomy.gov/feg/Find.do?action=sbs&id=38066"]
["2017 Kia Soul ICE",2017,"Kia","Soul","ICE",null,0,null,null,25,30,16100,"https://www.fueleconomy.gov/feg/Find.do?action=sbs&id=38067"]
["2017 Kia Soul ICE",2017,"Kia","Soul","ICE",null,0,null,null,24,30,16100,"https://www.fueleconomy.gov/feg/Find.do?action=sbs&id=38068"]
["2017 Chevrolet Malibu ICE",2017,"Chevrolet","Malibu","ICE",null,0,null,null,null,null,21680,"https://www.fueleconomy.gov/feg/Find.do?action=sbs&id=38096"]
["2017 Chevrolet Malibu Hybrid ICE",2017,"Chevrolet","Malibu Hybrid","ICE",null,0,null,null,49,43,27875,"https://www.fueleconomy.gov/feg/Find.do?action=sbs&id=38097"]
["2017 Kia Soul Electric BEV",2017,"Kia","Soul Electric","BEV",27,93,120,92,null,null,32250,"https://www.fueleconomy.gov/feg/Find.do?action=sbs&id=38168"]
["2017 Chevrolet Bolt EV BEV",2017,"Chevrolet","Bolt EV","BEV",60,238,128,110,null,null,36620,"https://www.fueleconomy.gov/feg/Find.do?action=sbs&id=38187"]
["2017 Kia Soul ICE",2017,"Kia","Soul","ICE",null,0,null,null,26,31,16100,"https://www.fueleconomy.gov/feg/Find.do?action=sbs&id=38379"]
["2017 Nissan Leaf BEV",2017,"Nissan","Leaf","BEV",30,107,124,101,null,null,30680,"https://www.fueleconomy.gov/feg/Find.do?action=sbs&id=38428"]
["2017 Hyundai Ioniq Electric BEV",2017,"Hyundai","Ioniq Electric","BEV",28,124,150,122,null,null,29500,"https://www.fueleconomy.gov/feg/Find.do?action=sbs&id=38431"]
["2017 smart fortwo coupe ICE",2017,"smart","fortwo coupe","ICE",null,0,null,null,null,null,14650,"https://www.fueleconomy.gov/feg/Find.do?action=sbs&id=38461"]
["2017 smart fortwo coupe ICE",2017,"smart","fortwo coupe","ICE",null,0,null,null,null,null,14650,"https://www.fueleconomy.gov/feg/Find.do?action=sbs&id=38462"]
["2017 Ford Focus FWD ICE",2017,"Ford","Focus FWD","ICE",null,0,null,null,27,38,16775,"https://www.fueleconomy.gov/feg/Find.do?action=sbs&id=38469"]
["2017 Ford Focus FWD ICE",2017,"Ford","Focus FWD","ICE",null,0,null,null,30,40,16775,"https://www.fueleconomy.gov/feg/Find.do?action=sbs&id=38470"]
["2017 Ford Focus FWD ICE",2017,"Ford","Focus FWD","ICE",null,0,null,null,26,38,16775,"https://www.fueleconomy.gov/feg/Find.do?action=sbs&id=38471"]
["2017 Ford Focus FWD ICE",2017,"Ford","Focus FWD","ICE",null,0,null,null,26,36,16775,"https://www.fueleconomy.gov/feg/Find.do?action=sbs&id=38472"]
["2017 Ford Focus FWD ICE",2017,"Ford","Focus FWD","ICE",null,0,null,null,25,34,16775,"https://www.fueleconomy.gov/feg/Find.do?action=sbs&id=38473"]
["2017 Ford Taurus FWD ICE",2017,"Ford","Taurus FWD","ICE",null,0,null,null,20,29,27345,"https://www.fueleconomy.gov/feg/Find.do?action=sbs&id=38478"]
["2017 Ford Taurus FWD ICE",2017,"Ford","Taurus FWD","ICE",null,0,null,null,18,27,27345,"https://www.fueleconomy.gov/feg/Find.do?action=sbs&id=38482"]
["2017 Hyundai Ioniq ICE",2017,"Hyundai","Ioniq","ICE",null,0,null,null,55,54,23950,"https://www.fueleconomy.gov/feg/Find.do?action=sbs&id=38484"]
["2017 Chrysler Pacifica Plug-in Hybrid PHEV",2017,"Chrysler","Pacifica Plug-in Hybrid","PHEV",16,33,89,78,32,33,41995,"https://www.fueleconomy.gov/feg/Find.do?action=sbs&id=38491"]
["2017 Ford C-MAX Hybrid FWD ICE",2017,"Ford","C-MAX Hybrid FWD","ICE",null,0,null,null,42,38,24120,"https://www.fueleconomy.gov/feg/Find.do?action=sbs&id=38495"]
["2017 Ford Focus Electric BEV",2017,"Ford","Focus Electric","BEV",33.5,115,118,96,null,null,29120,"https://www.fueleconomy.gov/feg/Find.do?action=sbs&id=38505"]
["2017 Ford C-MAX Energi Plug-In Hybrid PHEV",2017,"Ford","C-MAX Energi Plug-In Hybrid","PHEV",7.6120000000000001,20,104,87,41,38,27120,"https://www.fueleconomy.gov/feg/Find.do?action=sbs&id=38506"]
["2017 Toyota Prius Prime PHEV",2017,"Toyota","Prius Prime","PHEV",8.8000000000000007,25,145,121,55,53,27100,"https://www.fueleconomy.gov/feg/Find.do?action=sbs&id=38531"]
["2017 Chrysler Pacifica ICE",2017,"Chrysler","Pacifica","ICE",null,0,null,null,19,28,28995,"https://www.fueleconomy.gov/feg/Find.do?action=sbs&id=38542"]
["2017 Volkswagen e-Golf BEV",2017,"Volkswagen","e-Golf","BEV",36,125,126,111,null,null,28995,"https://www.fueleconomy.gov/feg/Find.do?action=sbs&id=38549"]
["2018 Hyundai Sonata ICE",2018,"Hyundai","Sonata","ICE",null,0,null,null,25,35,null,"https://www.fueleconomy.gov/feg/Find.do?action=sbs&id=38663"]
["2018 Hyundai Sonata ICE",2018,"Hyundai","Sonata","ICE",null,0,null,null,23,32,null,"https://www.fueleconomy.gov/feg/Find.do?action=sbs&id=38719"]
["2018 Kia Soul ICE",2018,"Kia","Soul","ICE",null,0,null,null,25,30,null,"https://www.fueleconomy.gov/feg/Find.do?action=sbs&id=38830"]

{"sheet":"Zipcode Data","index":9,"n_rows":42526,"n_cols":6,"rows_kept":4500,"cut":true,"hidden":true,"merged":[],"bounds":{"rows_first":2000,"rows_last":500,"rows_between":2000,"halvings":0}}
["Zipcode Data - EV Fleet Procurement Analysis Tool"]
[]
["Zip Code Lookup Table"]
["PostalCodeStandardized","City","StateCode","State Name","PADD Region","Primary eGRID Subregion"]
["00000","Anytown","U.S. Avg","National Average","U.S. Avg","U.S. Avg"]
["00705","AIBONITO","PR","Puerto Rico"]
["00610","ANASCO","PR","Puerto Rico"]
["00611","ANGELES","PR","Puerto Rico"]
["00612","ARECIBO","PR","Puerto Rico"]
["00601","ADJUNTAS","PR","Puerto Rico"]
["00631","CASTANER","PR","Puerto Rico"]
["00602","AGUADA","PR","Puerto Rico"]
["00603","AGUADILLA","PR","Puerto Rico"]
["00604","AGUADILLA","PR","Puerto Rico"]
["00605","AGUADILLA","PR","Puerto Rico"]
["00703","AGUAS BUENAS","PR","Puerto Rico"]
["00704","AGUIRRE","PR","Puerto Rico"]
["07675","WESTWOOD","NJ","New Jersey","1b","NYUP"]
["07677","WOODCLIFF LAKE","NJ","New Jersey","1b","RFCE"]
["07885","WHARTON","NJ","New Jersey","1b","RFCE"]
["07981","WHIPPANY","NJ","New Jersey","1b","RFCE"]
["07999","WHIPPANY","NJ","New Jersey","1b","RFCE"]
["08888","WHITEHOUSE","NJ","New Jersey","1b","RFCE"]
["08889","WHITEHOUSE STATION","NJ","New Jersey","1b","RFCE"]
["07095","WOODBRIDGE","NJ","New Jersey","1b","RFCE"]
["07481","WYCKOFF","NJ","New Jersey","1b","NYUP"]
["10451","BRONX","NY","New York","1b","NYCW"]
["10452","BRONX","NY","New York","1b","NYCW"]
["10453","BRONX","NY","New York","1b","NYCW"]
["10454","BRONX","NY","New York","1b","NYCW"]
["10455","BRONX","NY","New York","1b","NYCW"]
["10456","BRONX","NY","New York","1b","NYCW"]
["10457","BRONX","NY","New York","1b","NYCW"]
["10458","BRONX","NY","New York","1b","NYCW"]
["10459","BRONX","NY","New York","1b","NYCW"]
["10460","BRONX","NY","New York","1b","NYCW"]
["10461","BRONX","NY","New York","1b","NYCW"]
["10462","BRONX","NY","New York","1b","NYCW"]
["10463","BRONX","NY","New York","1b","NYCW"]
["10464","BRONX","NY","New York","1b","NYCW"]
["10465","BRONX","NY","New York","1b","NYCW"]
["10466","BRONX","NY","New York","1b","NYCW"]
["10467","BRONX","NY","New York","1b","NYCW"]
["10468","BRONX","NY","New York","1b","NYCW"]
["10469","BRONX","NY","New York","1b","NYCW"]
["10470","BRONX","NY","New York","1b","NYCW"]
["10471","BRONX","NY","New York","1b","NYCW"]
["10472","BRONX","NY","New York","1b","NYCW"]
["10473","BRONX","NY","New York","1b","NYCW"]
["10474","BRONX","NY","New York","1b","NYCW"]
["10475","BRONX","NY","New York","1b","NYCW"]
["10499","BRONX","NY","New York","1b","NYCW"]
["10001","NEW YORK","NY","New York","1b","NYCW"]
["10002","NEW YORK","NY","New York","1b","NYCW"]
["10003","NEW YORK","NY","New York","1b","NYCW"]
["10004","NEW YORK","NY","New York","1b","NYCW"]
["10005","NEW YORK","NY","New York","1b","NYCW"]
["10006","NEW YORK","NY","New York","1b","NYCW"]
["10007","NEW YORK","NY","New York","1b","NYCW"]
["10008","NEW YORK","NY","New York","1b","NYCW"]
["10009","NEW YORK","NY","New York","1b","NYCW"]
["10010","NEW YORK","NY","New York","1b","NYCW"]
["10011","NEW YORK","NY","New York","1b","NYCW"]
["10012","NEW YORK","NY","New York","1b","NYCW"]
["10013","NEW YORK","NY","New York","1b","NYCW"]
["10014","NEW YORK","NY","New York","1b","NYCW"]
["10016","NEW YORK","NY","New York","1b","NYCW"]
["10017","NEW YORK","NY","New York","1b","NYCW"]
["10018","NEW YORK","NY","New York","1b","NYCW"]
["10019","NEW YORK","NY","New York","1b","NYCW"]
["10020","NEW YORK","NY","New York","1b","NYCW"]
["10021","NEW YORK","NY","New York","1b","NYCW"]
["10022","NEW YORK","NY","New York","1b","NYCW"]
["10023","NEW YORK","NY","New York","1b","NYCW"]
["10024","NEW YORK","NY","New York","1b","NYCW"]
["10025","NEW YORK","NY","New York","1b","NYCW"]
["10026","NEW YORK","NY","New York","1b","NYCW"]
["10027","NEW YORK","NY","New York","1b","NYCW"]
["10028","NEW YORK","NY","New York","1b","NYCW"]
["10029","NEW YORK","NY","New York","1b","NYCW"]
["10030","NEW YORK","NY","New York","1b","NYCW"]
["10031","NEW YORK","NY","New York","1b","NYCW"]
["10032","NEW YORK","NY","New York","1b","NYCW"]
["10033","NEW YORK","NY","New York","1b","NYCW"]
["10034","NEW YORK","NY","New York","1b","NYCW"]
["00613","ARECIBO","PR","Puerto Rico"]
["00614","ARECIBO","PR","Puerto Rico"]
["00714","ARROYO","PR","Puerto Rico"]
["00616","BAJADERO","PR","Puerto Rico"]
["00617","BARCELONETA","PR","Puerto Rico"]
["00794","BARRANQUITAS","PR","Puerto Rico"]
["00622","BOQUERON","PR","Puerto Rico"]
["00623","CABO ROJO","PR","Puerto Rico"]
["00627","CAMUY","PR","Puerto Rico"]
["00729","CANOVANAS","PR","Puerto Rico"]
["00979","CAROLINA","PR","Puerto Rico"]
["00981","CAROLINA","PR","Puerto Rico"]
["00982","CAROLINA","PR","Puerto Rico"]
["00983","CAROLINA","PR","Puerto Rico"]
["00984","CAROLINA","PR","Puerto Rico"]
["00985","CAROLINA","PR","Puerto Rico"]
["00986","CAROLINA","PR","Puerto Rico"]
["00987","CAROLINA","PR","Puerto Rico"]
["00988","CAROLINA","PR","Puerto Rico"]
["00736","CAYEY","PR","Puerto Rico"]
["00739","CIDRA","PR","Puerto Rico"]
["00769","COAMO","PR","Puerto Rico"]
["00782","COMERIO","PR","Puerto Rico"]
["00783","COROZAL","PR","Puerto Rico"]
["09848","APO","AE","U.S. Armed Forces – Europe"]
["10200","NEW YORK","NY","New York","1b","NYCW"]
["09323","APO","AE","U.S. Armed Forces – Europe"]
["00659","HATILLO","PR","Puerto Rico"]
["00660","HORMIGUEROS","PR","Puerto Rico"]
["00791","HUMACAO","PR","Puerto Rico"]
["00792","HUMACAO","PR","Puerto Rico"]
["00662","ISABELA","PR","Puerto Rico"]
["00664","JAYUYA","PR","Puerto Rico"]
["00795","JUANA DIAZ","PR","Puerto Rico"]
["00777","JUNCOS","PR","Puerto Rico"]
["00728","PONCE","PR","Puerto Rico"]
["00725","CAGUAS","PR","Puerto Rico"]
["00726","CAGUAS","PR","Puerto Rico"]
["00727","CAGUAS","PR","Puerto Rico"]
["00737","CAYEY","PR","Puerto Rico"]
["00735","CEIBA","PR","Puerto Rico"]
["00742","ROOSEVELT ROADS","PR","Puerto Rico"]
["00638","CIALES","PR","Puerto Rico"]
["00780","COTO LAUREL","PR","Puerto Rico"]
["00775","CULEBRA","PR","Puerto Rico"]
["00646","DORADO","PR","Puerto Rico"]
["00647","ENSENADA","PR","Puerto Rico"]
["00738","FAJARDO","PR","Puerto Rico"]
["00650","FLORIDA","PR","Puerto Rico"]
["00652","GARROCHALES","PR","Puerto Rico"]
["00653","GUANICA","PR","Puerto Rico"]
["00784","GUAYAMA","PR","Puerto Rico"]
["00785","GUAYAMA","PR","Puerto Rico"]
["00965","GUAYNABO","PR","Puerto Rico"]
["00966","GUAYNABO","PR","Puerto Rico"]
["00968","GUAYNABO","PR","Puerto Rico"]
["00969","GUAYNABO","PR","Puerto Rico"]
["00970","GUAYNABO","PR","Puerto Rico"]
["00971","GUAYNABO","PR","Puerto Rico"]
["00778","GURABO","PR","Puerto Rico"]
["00667","LAJAS","PR","Puerto Rico"]
["00786","LA PLATA","PR","Puerto Rico"]
["00669","LARES","PR","Puerto Rico"]
["00670","LAS MARIAS","PR","Puerto Rico"]
["00771","LAS PIEDRAS","PR","Puerto Rico"]
["00931","SAN JUAN","PR","Puerto Rico"]
["00933","SAN JUAN","PR","Puerto Rico"]
["00934","FORT BUCHANAN","PR","Puerto Rico"]
["00935","SAN JUAN","PR","Puerto Rico"]
["00936","SAN JUAN","PR","Puerto Rico"]
["00772","LOIZA","PR","Puerto Rico"]
["00773","LUQUILLO","PR","Puerto Rico"]
["00674","MANATI","PR","Puerto Rico"]
["00606","MARICAO","PR","Puerto Rico"]
["00707","MAUNABO","PR","Puerto Rico"]
["00636","ROSARIO","PR","Puerto Rico"]
["00680","MAYAGUEZ","PR","Puerto Rico"]
["00681","MAYAGUEZ","PR","Puerto Rico"]
["00682","MAYAGUEZ","PR","Puerto Rico"]
["00715","MERCEDITA","PR","Puerto Rico"]
["00676","MOCA","PR","Puerto Rico"]
["00687","MOROVIS","PR","Puerto Rico"]
["00718","NAGUABO","PR","Puerto Rico"]
["00719","NARANJITO","PR","Puerto Rico"]
["00720","OROCOVIS","PR","Puerto Rico"]
["00723","PATILLAS","PR","Puerto Rico"]
["00624","PENUELAS","PR","Puerto Rico"]
["00716","PONCE","PR","Puerto Rico"]
["00717","PONCE","PR","Puerto Rico"]
["00730","PONCE","PR","Puerto Rico"]
["00731","PONCE","PR","Puerto Rico"]
["00732","PONCE","PR","Puerto Rico"]
["00733","PONCE","PR","Puerto Rico"]
["00734","PONCE","PR","Puerto Rico"]
["00740","PUERTO REAL","PR","Puerto Rico"]
["00741","PUNTA SANTIAGO","PR","Puerto Rico"]
["00678","QUEBRADILLAS","PR","Puerto Rico"]
["00677","RINCON","PR","Puerto Rico"]
["00744","RIO BLANCO","PR","Puerto Rico"]
["00721","PALMER","PR","Puerto Rico"]
["00745","RIO GRANDE","PR","Puerto Rico"]
["00637","SABANA GRANDE","PR","Puerto Rico"]
["00688","SABANA HOYOS","PR","Puerto Rico"]
["00952","SABANA SECA","PR","Puerto Rico"]
["00751","SALINAS","PR","Puerto Rico"]
["00690","SAN ANTONIO","PR","Puerto Rico"]
["00683","SAN GERMAN","PR","Puerto Rico"]
["00901","SAN JUAN","PR","Puerto Rico"]
["00902","SAN JUAN","PR","Puerto Rico"]
["00906","SAN JUAN","PR","Puerto Rico"]
["00907","SAN JUAN","PR","Puerto Rico"]
["00908","SAN JUAN","PR","Puerto Rico"]
["00909","SAN JUAN","PR","Puerto Rico"]
["00910","SAN JUAN","PR","Puerto Rico"]
["00911","SAN JUAN","PR","Puerto Rico"]
["00912","SAN JUAN","PR","Puerto Rico"]
["00913","SAN JUAN","PR","Puerto Rico"]
["00914","SAN JUAN","PR","Puerto Rico"]
["00915","SAN JUAN","PR","Puerto Rico"]
["00916","SAN JUAN","PR","Puerto Rico"]
["00917","SAN JUAN","PR","Puerto Rico"]
["00918","SAN JUAN","PR","Puerto Rico"]
["00919","SAN JUAN","PR","Puerto Rico"]
["00920","SAN JUAN","PR","Puerto Rico"]
["00921","SAN JUAN","PR","Puerto Rico"]
["00922","SAN JUAN","PR","Puerto Rico"]
["00923","SAN JUAN","PR","Puerto Rico"]
["00924","SAN JUAN","PR","Puerto Rico"]
["00925","SAN JUAN","PR","Puerto Rico"]
["00926","SAN JUAN","PR","Puerto Rico"]
["00927","SAN JUAN","PR","Puerto Rico"]
["00928","SAN JUAN","PR","Puerto Rico"]
["00929","SAN JUAN","PR","Puerto Rico"]
["00930","SAN JUAN","PR","Puerto Rico"]
["00937","SAN JUAN","PR","Puerto Rico"]
["00939","SAN JUAN","PR","Puerto Rico"]
["00940","SAN JUAN","PR","Puerto Rico"]
["00955","SAN JUAN","PR","Puerto Rico"]
["00956","BAYAMON","PR","Puerto Rico"]
["00957","BAYAMON","PR","Puerto Rico"]
["00958","BAYAMON","PR","Puerto Rico"]
["00959","BAYAMON","PR","Puerto Rico"]
["00801","ST THOMAS","VI","U.S. Virgin Islands"]
["00802","ST THOMAS","VI","U.S. Virgin Islands"]
["00803","ST THOMAS","VI","U.S. Virgin Islands"]
["00804","ST THOMAS","VI","U.S. Virgin Islands"]
["00805","ST THOMAS","VI","U.S. Virgin Islands"]
["00820","CHRISTIANSTED","VI","U.S. Virgin Islands"]
["00821","CHRISTIANSTED","VI","U.S. Virgin Islands"]
["00822","CHRISTIANSTED","VI","U.S. Virgin Islands"]
["00823","CHRISTIANSTED","VI","U.S. Virgin Islands"]
["00824","CHRISTIANSTED","VI","U.S. Virgin Islands"]
["00830","ST JOHN","VI","U.S. Virgin Islands"]
["00831","ST JOHN","VI","U.S. Virgin Islands"]
["00840","FREDERIKSTED","VI","U.S. Virgin Islands"]
["00841","FREDERIKSTED","VI","U.S. Virgin Islands"]
["00850","KINGSHILL","VI","U.S. Virgin Islands"]
["00851","KINGSHILL","VI","U.S. Virgin Islands"]
["02478","BELMONT","MA","Massachusetts","1a","NEWE"]
["02479","WAVERLEY","MA","Massachusetts","1a","NEWE"]
["02445","BROOKLINE","MA","Massachusetts","1a","NEWE"]
["02446","BROOKLINE","MA","Massachusetts","1a","NEWE"]
["02447","BROOKLINE VILLAGE","MA","Massachusetts","1a","NEWE"]
["02420","LEXINGTON","MA","Massachusetts","1a","NEWE"]
["02421","LEXINGTON","MA","Massachusetts","1a","NEWE"]
["02492","NEEDHAM","MA","Massachusetts","1a","NEWE"]
["02494","NEEDHAM HEIGHTS","MA","Massachusetts","1a","NEWE"]
["02456","NEW TOWN","MA","Massachusetts","1a","NEWE"]
["02458","NEWTON","MA","Massachusetts","1a","NEWE"]
["02459","NEWTON CENTER","MA","Massachusetts","1a","NEWE"]
["02460","NEWTONVILLE","MA","Massachusetts","1a","NEWE"]
["02461","NEWTON HIGHLANDS","MA","Massachusetts","1a","NEWE"]
["02462","NEWTON LOWER FALLS","MA","Massachusetts","1a","NEWE"]
["02464","NEWTON UPPER FALLS","MA","Massachusetts","1a","NEWE"]
["02465","WEST NEWTON","MA","Massachusetts","1a","NEWE"]
["02466","AUBURNDALE","MA","Massachusetts","1a","NEWE"]
["00960","BAYAMON","PR","Puerto Rico"]
["00961","BAYAMON","PR","Puerto Rico"]
["00962","CATANO","PR","Puerto Rico"]
["00963","CATANO","PR","Puerto Rico"]
["00975","SAN JUAN","PR","Puerto Rico"]
["00976","TRUJILLO ALTO","PR","Puerto Rico"]
["00977","TRUJILLO ALTO","PR","Puerto Rico"]
["00978","SAINT JUST","PR","Puerto Rico"]
["00754","SAN LORENZO","PR","Puerto Rico"]
["00685","SAN SEBASTIAN","PR","Puerto Rico"]
["00757","SANTA ISABEL","PR","Puerto Rico"]
["00953","TOA ALTA","PR","Puerto Rico"]
["00954","TOA ALTA","PR","Puerto Rico"]
["00949","TOA BAJA","PR","Puerto Rico"]
["00950","TOA BAJA","PR","Puerto Rico"]
["00951","TOA BAJA","PR","Puerto Rico"]
["00641","UTUADO","PR","Puerto Rico"]
["00692","VEGA ALTA","PR","Puerto Rico"]
["00693","VEGA BAJA","PR","Puerto Rico"]
["00694","VEGA BAJA","PR","Puerto Rico"]
["00765","VIEQUES","PR","Puerto Rico"]
["00766","VILLALBA","PR","Puerto Rico"]
["00767","YABUCOA","PR","Puerto Rico"]
["00698","YAUCO","PR","Puerto Rico"]
["02467","CHESTNUT HILL","MA","Massachusetts","1a","NEWE"]
["02468","WABAN","MA","Massachusetts","1a","NEWE"]
["02495","NONANTUM","MA","Massachusetts","1a","NEWE"]
["02451","WALTHAM","MA","Massachusetts","1a","NEWE"]
["02452","WALTHAM","MA","Massachusetts","1a","NEWE"]
["02453","WALTHAM","MA","Massachusetts","1a","NEWE"]
["02454","WALTHAM","MA","Massachusetts","1a","NEWE"]
["02455","NORTH WALTHAM","MA","Massachusetts","1a","NEWE"]
["02471","WATERTOWN","MA","Massachusetts","1a","NEWE"]
["02472","WATERTOWN","MA","Massachusetts","1a","NEWE"]
["02477","WATERTOWN","MA","Massachusetts","1a","NEWE"]
["02457","BABSON PARK","MA","Massachusetts","1a","NEWE"]
["02481","WELLESLEY HILLS","MA","Massachusetts","1a","NEWE"]
["02482","WELLESLEY","MA","Massachusetts","1a","NEWE"]
["02493","WESTON","MA","Massachusetts","1a","NEWE"]
["02184","BRAINTREE","MA","Massachusetts","1a","NEWE"]
["02185","BRAINTREE","MA","Massachusetts","1a","NEWE"]
["02186","MILTON","MA","Massachusetts","1a","NEWE"]
["02187","MILTON VILLAGE","MA","Massachusetts","1a","NEWE"]
["02169","QUINCY","MA","Massachusetts","1a","NEWE"]
["02170","QUINCY","MA","Massachusetts","1a","NEWE"]
["02171","QUINCY","MA","Massachusetts","1a","NEWE"]
["02269","QUINCY","MA","Massachusetts","1a","NEWE"]
["02188","WEYMOUTH","MA","Massachusetts","1a","NEWE"]
["02189","EAST WEYMOUTH","MA","Massachusetts","1a","NEWE"]
["02190","SOUTH WEYMOUTH","MA","Massachusetts","1a","NEWE"]
["02191","NORTH WEYMOUTH","MA","Massachusetts","1a","NEWE"]
["01718","VILLAGE OF NAGOG WOODS","MA","Massachusetts","1a","NEWE"]
["01719","BOXBOROUGH","MA","Massachusetts","1a","NEWE"]
["01720","ACTON","MA","Massachusetts","1a","NEWE"]
["02474","ARLINGTON","MA","Massachusetts","1a","NEWE"]
["02475","ARLINGTON HEIGHTS","MA","Massachusetts","1a","NEWE"]
["02476","ARLINGTON","MA","Massachusetts","1a","NEWE"]
["02150","CHELSEA","MA","Massachusetts","1a","NEWE"]
["02149","EVERETT","MA","Massachusetts","1a","NEWE"]
["02152","WINTHROP","MA","Massachusetts","1a","NEWE"]
["02151","REVERE","MA","Massachusetts","1a","NEWE"]
["02148","MALDEN","MA","Massachusetts","1a","NEWE"]
["02176","MELROSE","MA","Massachusetts","1a","NEWE"]
["02153","MEDFORD","MA","Massachusetts","1a","NEWE"]
["02155","MEDFORD","MA","Massachusetts","1a","NEWE"]
["02156","WEST MEDFORD","MA","Massachusetts","1a","NEWE"]
["02143","SOMERVILLE","MA","Massachusetts","1a","NEWE"]
["02144","SOMERVILLE","MA","Massachusetts","1a","NEWE"]
["02145","SOMERVILLE","MA","Massachusetts","1a","NEWE"]
["02180","STONEHAM","MA","Massachusetts","1a","NEWE"]
["01913","AMESBURY","MA","Massachusetts","1a","NEWE"]
["01810","ANDOVER","MA","Massachusetts","1a","NEWE"]
["01812","ANDOVER","MA","Massachusetts","1a","NEWE"]
["01899","ANDOVER","MA","Massachusetts","1a","NEWE"]
["05501","ANDOVER","MA","Massachusetts","1a","NEWE"]
["01586","WEST MILLBURY","MA","Massachusetts","1a","NEWE"]
["02054","MILLIS","MA","Massachusetts","1a","NEWE"]
["01529","MILLVILLE","MA","Massachusetts","1a","NEWE"]
["02350","MONPONSETT","MA","Massachusetts","1a","NEWE"]
["02553","MONUMENT BEACH","MA","Massachusetts","1a","NEWE"]
["02554","NANTUCKET","MA","Massachusetts","1a","NEWE"]
["02564","SIASCONSET","MA","Massachusetts","1a","NEWE"]
["02584","NANTUCKET","MA","Massachusetts","1a","NEWE"]
["01760","NATICK","MA","Massachusetts","1a","NEWE"]
["01531","NEW BRAINTREE","MA","Massachusetts","1a","NEWE"]
["01950","NEWBURYPORT","MA","Massachusetts","1a","NEWE"]
["01951","NEWBURY","MA","Massachusetts","1a","NEWE"]
["01952","SALISBURY","MA","Massachusetts","1a","NEWE"]
["02056","NORFOLK","MA","Massachusetts","1a","NEWE"]
["02351","ABINGTON","MA","Massachusetts","1a","NEWE"]
["01862","NORTH BILLERICA","MA","Massachusetts","1a","NEWE"]
["01532","NORTHBOROUGH","MA","Massachusetts","1a","NEWE"]
["01534","NORTHBRIDGE","MA","Massachusetts","1a","NEWE"]
["01535","NORTH BROOKFIELD","MA","Massachusetts","1a","NEWE"]
["02355","NORTH CARVER","MA","Massachusetts","1a","NEWE"]
["02650","NORTH CHATHAM","MA","Massachusetts","1a","NEWE"]
["01863","NORTH CHELMSFORD","MA","Massachusetts","1a","NEWE"]
["02651","NORTH EASTHAM","MA","Massachusetts","1a","NEWE"]
["02356","NORTH EASTON","MA","Massachusetts","1a","NEWE"]
["02357","NORTH EASTON","MA","Massachusetts","1a","NEWE"]
["02556","NORTH FALMOUTH","MA","Massachusetts","1a","NEWE"]
["02565","SILVER BEACH","MA","Massachusetts","1a","NEWE"]
["01536","NORTH GRAFTON","MA","Massachusetts","1a","NEWE"]
["02059","NORTH MARSHFIELD","MA","Massachusetts","1a","NEWE"]
["01537","NORTH OXFORD","MA","Massachusetts","1a","NEWE"]
["02358","NORTH PEMBROKE","MA","Massachusetts","1a","NEWE"]
["01864","NORTH READING","MA","Massachusetts","1a","NEWE"]
["01889","NORTH READING","MA","Massachusetts","1a","NEWE"]
["05544","ANDOVER","MA","Massachusetts","1a","NEWE"]
["01430","ASHBURNHAM","MA","Massachusetts","1a","NEWE"]
["01431","ASHBY","MA","Massachusetts","1a","NEWE"]
["01721","ASHLAND","MA","Massachusetts","1a","NEWE"]
["01501","AUBURN","MA","Massachusetts","1a","NEWE"]
["02322","AVON","MA","Massachusetts","1a","NEWE"]
["01432","AYER","MA","Massachusetts","1a","NEWE"]
["01434","DEVENS","MA","Massachusetts","1a","NEWE"]
["01436","BALDWINVILLE","MA","Massachusetts","1a","NEWE"]
["02630","BARNSTABLE","MA","Massachusetts","1a","NEWE"]
["01730","BEDFORD","MA","Massachusetts","1a","NEWE"]
["01731","HANSCOM AFB","MA","Massachusetts","1a","NEWE"]
["02019","BELLINGHAM","MA","Massachusetts","1a","NEWE"]
["01503","BERLIN","MA","Massachusetts","1a","NEWE"]
["01915","BEVERLY","MA","Massachusetts","1a","NEWE"]
["01821","BILLERICA","MA","Massachusetts","1a","NEWE"]
["01822","BILLERICA","MA","Massachusetts","1a","NEWE"]
["01504","BLACKSTONE","MA","Massachusetts","1a","NEWE"]
["01740","BOLTON","MA","Massachusetts","1a","NEWE"]
["02108","BOSTON","MA","Massachusetts","1a","NEWE"]
["02109","BOSTON","MA","Massachusetts","1a","NEWE"]
["02110","BOSTON","MA","Massachusetts","1a","NEWE"]
["02111","BOSTON","MA","Massachusetts","1a","NEWE"]
["02112","BOSTON","MA","Massachusetts","1a","NEWE"]
["02113","BOSTON","MA","Massachusetts","1a","NEWE"]
["02114","BOSTON","MA","Massachusetts","1a","NEWE"]
["02115","BOSTON","MA","Massachusetts","1a","NEWE"]
["02116","BOSTON","MA","Massachusetts","1a","NEWE"]
["02117","BOSTON","MA","Massachusetts","1a","NEWE"]
["02118","BOSTON","MA","Massachusetts","1a","NEWE"]
["02119","ROXBURY","MA","Massachusetts","1a","NEWE"]
["02120","ROXBURY CROSSING","MA","Massachusetts","1a","NEWE"]
["02121","DORCHESTER","MA","Massachusetts","1a","NEWE"]
["02122","DORCHESTER","MA","Massachusetts","1a","NEWE"]
["02123","BOSTON","MA","Massachusetts","1a","NEWE"]
["02124","DORCHESTER CENTER","MA","Massachusetts","1a","NEWE"]
["02125","DORCHESTER","MA","Massachusetts","1a","NEWE"]
["02126","MATTAPAN","MA","Massachusetts","1a","NEWE"]
["02127","BOSTON","MA","Massachusetts","1a","NEWE"]
["02128","BOSTON","MA","Massachusetts","1a","NEWE"]
["02129","CHARLESTOWN","MA","Massachusetts","1a","NEWE"]
["02130","JAMAICA PLAIN","MA","Massachusetts","1a","NEWE"]
["02131","ROSLINDALE","MA","Massachusetts","1a","NEWE"]
["02132","WEST ROXBURY","MA","Massachusetts","1a","NEWE"]
["02133","BOSTON","MA","Massachusetts","1a","NEWE"]
["02134","ALLSTON","MA","Massachusetts","1a","NEWE"]
["02135","BRIGHTON","MA","Massachusetts","1a","NEWE"]
["02136","HYDE PARK","MA","Massachusetts","1a","NEWE"]
["02137","READVILLE","MA","Massachusetts","1a","NEWE"]
["02163","BOSTON","MA","Massachusetts","1a","NEWE"]
["02196","BOSTON","MA","Massachusetts","1a","NEWE"]
["02199","BOSTON","MA","Massachusetts","1a","NEWE"]
["02201","BOSTON","MA","Massachusetts","1a","NEWE"]
["02203","BOSTON","MA","Massachusetts","1a","NEWE"]
["02204","BOSTON","MA","Massachusetts","1a","NEWE"]
["02205","BOSTON","MA","Massachusetts","1a","NEWE"]
["02206","BOSTON","MA","Massachusetts","1a","NEWE"]
["02210","BOSTON","MA","Massachusetts","1a","NEWE"]
["02211","BOSTON","MA","Massachusetts","1a","NEWE"]
["02212","BOSTON","MA","Massachusetts","1a","NEWE"]
["02215","BOSTON","MA","Massachusetts","1a","NEWE"]
["02217","BOSTON","MA","Massachusetts","1a","NEWE"]
["02222","BOSTON","MA","Massachusetts","1a","NEWE"]
["02228","EAST BOSTON","MA","Massachusetts","1a","NEWE"]
["02241","BOSTON","MA","Massachusetts","1a","NEWE"]
["02266","BOSTON","MA","Massachusetts","1a","NEWE"]
["02283","BOSTON","MA","Massachusetts","1a","NEWE"]
["02284","BOSTON","MA","Massachusetts","1a","NEWE"]
["02293","BOSTON","MA","Massachusetts","1a","NEWE"]
["02295","BOSTON","MA","Massachusetts","1a","NEWE"]
["02297","BOSTON","MA","Massachusetts","1a","NEWE"]
["02298","BOSTON","MA","Massachusetts","1a","NEWE"]
["01921","BOXFORD","MA","Massachusetts","1a","NEWE"]
["01505","BOYLSTON","MA","Massachusetts","1a","NEWE"]
["02020","BRANT ROCK","MA","Massachusetts","1a","NEWE"]
["02631","BREWSTER","MA","Massachusetts","1a","NEWE"]
["02324","BRIDGEWATER","MA","Massachusetts","1a","NEWE"]
["02325","BRIDGEWATER","MA","Massachusetts","1a","NEWE"]
["02301","BROCKTON","MA","Massachusetts","1a","NEWE"]
["02302","BROCKTON","MA","Massachusetts","1a","NEWE"]
["02303","BROCKTON","MA","Massachusetts","1a","NEWE"]
["02304","BROCKTON","MA","Massachusetts","1a","NEWE"]
["02305","BROCKTON","MA","Massachusetts","1a","NEWE"]
["01506","BROOKFIELD","MA","Massachusetts","1a","NEWE"]
["02327","BRYANTVILLE","MA","Massachusetts","1a","NEWE"]
["01803","BURLINGTON","MA","Massachusetts","1a","NEWE"]
["01805","BURLINGTON","MA","Massachusetts","1a","NEWE"]
["02532","BUZZARDS BAY","MA","Massachusetts","1a","NEWE"]
["02542","BUZZARDS BAY","MA","Massachusetts","1a","NEWE"]
["01922","BYFIELD","MA","Massachusetts","1a","NEWE"]
["02138","CAMBRIDGE","MA","Massachusetts","1a","NEWE"]
["02139","CAMBRIDGE","MA","Massachusetts","1a","NEWE"]
["02140","CAMBRIDGE","MA","Massachusetts","1a","NEWE"]
["02141","CAMBRIDGE","MA","Massachusetts","1a","NEWE"]
["02142","CAMBRIDGE","MA","Massachusetts","1a","NEWE"]
["02238","CAMBRIDGE","MA","Massachusetts","1a","NEWE"]
["02021","CANTON","MA","Massachusetts","1a","NEWE"]
["01741","CARLISLE","MA","Massachusetts","1a","NEWE"]
["02330","CARVER","MA","Massachusetts","1a","NEWE"]
["02534","CATAUMET","MA","Massachusetts","1a","NEWE"]
["02632","CENTERVILLE","MA","Massachusetts","1a","NEWE"]
["02634","CENTERVILLE","MA","Massachusetts","1a","NEWE"]
["01507","CHARLTON","MA","Massachusetts","1a","NEWE"]
["01509","CHARLTON DEPOT","MA","Massachusetts","1a","NEWE"]
["01508","CHARLTON CITY","MA","Massachusetts","1a","NEWE"]
["02633","CHATHAM","MA","Massachusetts","1a","NEWE"]
["01824","CHELMSFORD","MA","Massachusetts","1a","NEWE"]
["02535","CHILMARK","MA","Massachusetts","1a","NEWE"]
["02552","MENEMSHA","MA","Massachusetts","1a","NEWE"]
["01510","CLINTON","MA","Massachusetts","1a","NEWE"]
["02025","COHASSET","MA","Massachusetts","1a","NEWE"]
["01742","CONCORD","MA","Massachusetts","1a","NEWE"]
["02635","COTUIT","MA","Massachusetts","1a","NEWE"]
["02652","NORTH TRURO","MA","Massachusetts","1a","NEWE"]
["01538","NORTH UXBRIDGE","MA","Massachusetts","1a","NEWE"]
["02061","NORWELL","MA","Massachusetts","1a","NEWE"]
["02062","NORWOOD","MA","Massachusetts","1a","NEWE"]
["01865","NUTTING LAKE","MA","Massachusetts","1a","NEWE"]
["02557","OAK BLUFFS","MA","Massachusetts","1a","NEWE"]
["02558","ONSET","MA","Massachusetts","1a","NEWE"]
["02653","ORLEANS","MA","Massachusetts","1a","NEWE"]
["02655","OSTERVILLE","MA","Massachusetts","1a","NEWE"]
["01540","OXFORD","MA","Massachusetts","1a","NEWE"]
["01960","PEABODY","MA","Massachusetts","1a","NEWE"]
["01961","PEABODY","MA","Massachusetts","1a","NEWE"]
["02359","PEMBROKE","MA","Massachusetts","1a","NEWE"]
["01463","PEPPERELL","MA","Massachusetts","1a","NEWE"]
["01866","PINEHURST","MA","Massachusetts","1a","NEWE"]
["02360","PLYMOUTH","MA","Massachusetts","1a","NEWE"]
["02361","PLYMOUTH","MA","Massachusetts","1a","NEWE"]
["02362","PLYMOUTH","MA","Massachusetts","1a","NEWE"]
["02367","PLYMPTON","MA","Massachusetts","1a","NEWE"]
["02559","POCASSET","MA","Massachusetts","1a","NEWE"]
["01965","PRIDES CROSSING","MA","Massachusetts","1a","NEWE"]
["01541","PRINCETON","MA","Massachusetts","1a","NEWE"]
["02657","PROVINCETOWN","MA","Massachusetts","1a","NEWE"]
["02368","RANDOLPH","MA","Massachusetts","1a","NEWE"]
["01867","READING","MA","Massachusetts","1a","NEWE"]
["01542","ROCHDALE","MA","Massachusetts","1a","NEWE"]
["02370","ROCKLAND","MA","Massachusetts","1a","NEWE"]
["01966","ROCKPORT","MA","Massachusetts","1a","NEWE"]
["01969","ROWLEY","MA","Massachusetts","1a","NEWE"]
["01543","RUTLAND","MA","Massachusetts","1a","NEWE"]
["02561","SAGAMORE","MA","Massachusetts","1a","NEWE"]
["02562","SAGAMORE BEACH","MA","Massachusetts","1a","NEWE"]
["01970","SALEM","MA","Massachusetts","1a","NEWE"]
["01971","SALEM","MA","Massachusetts","1a","NEWE"]
["02563","SANDWICH","MA","Massachusetts","1a","NEWE"]
["02040","GREENBUSH","MA","Massachusetts","1a","NEWE"]
["02055","MINOT","MA","Massachusetts","1a","NEWE"]
["02060","NORTH SCITUATE","MA","Massachusetts","1a","NEWE"]
["02066","SCITUATE","MA","Massachusetts","1a","NEWE"]
["02067","SHARON","MA","Massachusetts","1a","NEWE"]
["02070","SHELDONVILLE","MA","Massachusetts","1a","NEWE"]
["01770","SHERBORN","MA","Massachusetts","1a","NEWE"]
["01464","SHIRLEY","MA","Massachusetts","1a","NEWE"]
["01545","SHREWSBURY","MA","Massachusetts","1a","NEWE"]
["01546","SHREWSBURY","MA","Massachusetts","1a","NEWE"]
["01745","FAYVILLE","MA","Massachusetts","1a","NEWE"]
["01772","SOUTHBOROUGH","MA","Massachusetts","1a","NEWE"]
["01550","SOUTHBRIDGE","MA","Massachusetts","1a","NEWE"]
["02366","SOUTH CARVER","MA","Massachusetts","1a","NEWE"]
["02659","SOUTH CHATHAM","MA","Massachusetts","1a","NEWE"]
["02660","SOUTH DENNIS","MA","Massachusetts","1a","NEWE"]
["02375","SOUTH EASTON","MA","Massachusetts","1a","NEWE"]
["01560","SOUTH GRAFTON","MA","Massachusetts","1a","NEWE"]
["01982","SOUTH HAMILTON","MA","Massachusetts","1a","NEWE"]
["02661","SOUTH HARWICH","MA","Massachusetts","1a","NEWE"]
["01561","SOUTH LANCASTER","MA","Massachusetts","1a","NEWE"]
["02662","SOUTH ORLEANS","MA","Massachusetts","1a","NEWE"]
["02071","SOUTH WALPOLE","MA","Massachusetts","1a","NEWE"]
["02663","SOUTH WELLFLEET","MA","Massachusetts","1a","NEWE"]
["02664","SOUTH YARMOUTH","MA","Massachusetts","1a","NEWE"]
["02673","WEST YARMOUTH","MA","Massachusetts","1a","NEWE"]
["01562","SPENCER","MA","Massachusetts","1a","NEWE"]
["01564","STERLING","MA","Massachusetts","1a","NEWE"]
["01467","STILL RIVER","MA","Massachusetts","1a","NEWE"]
["02072","STOUGHTON","MA","Massachusetts","1a","NEWE"]
["01775","STOW","MA","Massachusetts","1a","NEWE"]
["01518","FISKDALE","MA","Massachusetts","1a","NEWE"]
["01566","STURBRIDGE","MA","Massachusetts","1a","NEWE"]
["01776","SUDBURY","MA","Massachusetts","1a","NEWE"]
["01590","SUTTON","MA","Massachusetts","1a","NEWE"]
["01468","TEMPLETON","MA","Massachusetts","1a","NEWE"]
["01876","TEWKSBURY","MA","Massachusetts","1a","NEWE"]
["01983","TOPSFIELD","MA","Massachusetts","1a","NEWE"]
["01469","TOWNSEND","MA","Massachusetts","1a","NEWE"]
["01474","WEST TOWNSEND","MA","Massachusetts","1a","NEWE"]
["02666","TRURO","MA","Massachusetts","1a","NEWE"]
["01879","TYNGSBORO","MA","Massachusetts","1a","NEWE"]
["01569","UXBRIDGE","MA","Massachusetts","1a","NEWE"]
["02568","VINEYARD HAVEN","MA","Massachusetts","1a","NEWE"]
["02573","WEST CHOP","MA","Massachusetts","1a","NEWE"]
["01880","WAKEFIELD","MA","Massachusetts","1a","NEWE"]
["02081","WALPOLE","MA","Massachusetts","1a","NEWE"]
["02571","WAREHAM","MA","Massachusetts","1a","NEWE"]
["01778","WAYLAND","MA","Massachusetts","1a","NEWE"]
["01570","WEBSTER","MA","Massachusetts","1a","NEWE"]
["01571","DUDLEY","MA","Massachusetts","1a","NEWE"]
["02667","WELLFLEET","MA","Massachusetts","1a","NEWE"]
["02637","CUMMAQUID","MA","Massachusetts","1a","NEWE"]
["01923","DANVERS","MA","Massachusetts","1a","NEWE"]
["02026","DEDHAM","MA","Massachusetts","1a","NEWE"]
["02027","DEDHAM","MA","Massachusetts","1a","NEWE"]
["02638","DENNIS","MA","Massachusetts","1a","NEWE"]
["02639","DENNIS PORT","MA","Massachusetts","1a","NEWE"]
["02030","DOVER","MA","Massachusetts","1a","NEWE"]
["01826","DRACUT","MA","Massachusetts","1a","NEWE"]
["01827","DUNSTABLE","MA","Massachusetts","1a","NEWE"]
["02331","DUXBURY","MA","Massachusetts","1a","NEWE"]
["02332","DUXBURY","MA","Massachusetts","1a","NEWE"]
["02333","EAST BRIDGEWATER","MA","Massachusetts","1a","NEWE"]
["01515","EAST BROOKFIELD","MA","Massachusetts","1a","NEWE"]
["02641","EAST DENNIS","MA","Massachusetts","1a","NEWE"]
["01516","DOUGLAS","MA","Massachusetts","1a","NEWE"]
["02536","EAST FALMOUTH","MA","Massachusetts","1a","NEWE"]
["02642","EASTHAM","MA","Massachusetts","1a","NEWE"]
["02334","EASTON","MA","Massachusetts","1a","NEWE"]
["02643","EAST ORLEANS","MA","Massachusetts","1a","NEWE"]
["01517","EAST PRINCETON","MA","Massachusetts","1a","NEWE"]
["02537","EAST SANDWICH","MA","Massachusetts","1a","NEWE"]
["01438","EAST TEMPLETON","MA","Massachusetts","1a","NEWE"]
["02032","EAST WALPOLE","MA","Massachusetts","1a","NEWE"]
["02538","EAST WAREHAM","MA","Massachusetts","1a","NEWE"]
["02539","EDGARTOWN","MA","Massachusetts","1a","NEWE"]
["02337","ELMWOOD","MA","Massachusetts","1a","NEWE"]
["01929","ESSEX","MA","Massachusetts","1a","NEWE"]
["02540","FALMOUTH","MA","Massachusetts","1a","NEWE"]
["02541","FALMOUTH","MA","Massachusetts","1a","NEWE"]
["02543","WOODS HOLE","MA","Massachusetts","1a","NEWE"]
["01521","HOLLAND","MA","Massachusetts","1a","NEWE"]
["01420","FITCHBURG","MA","Massachusetts","1a","NEWE"]
["02644","FORESTDALE","MA","Massachusetts","1a","NEWE"]
["02035","FOXBORO","MA","Massachusetts","1a","NEWE"]
["01701","FRAMINGHAM","MA","Massachusetts","1a","NEWE"]
["01702","FRAMINGHAM","MA","Massachusetts","1a","NEWE"]
["01703","FRAMINGHAM","MA","Massachusetts","1a","NEWE"]
["01704","FRAMINGHAM","MA","Massachusetts","1a","NEWE"]
["01705","FRAMINGHAM","MA","Massachusetts","1a","NEWE"]
["02038","FRANKLIN","MA","Massachusetts","1a","NEWE"]
["01440","GARDNER","MA","Massachusetts","1a","NEWE"]
["01930","GLOUCESTER","MA","Massachusetts","1a","NEWE"]
["01931","GLOUCESTER","MA","Massachusetts","1a","NEWE"]
["01519","GRAFTON","MA","Massachusetts","1a","NEWE"]
["02041","GREEN HARBOR","MA","Massachusetts","1a","NEWE"]
["01450","GROTON","MA","Massachusetts","1a","NEWE"]
["01470","GROTON","MA","Massachusetts","1a","NEWE"]
["01471","GROTON","MA","Massachusetts","1a","NEWE"]
["02338","HALIFAX","MA","Massachusetts","1a","NEWE"]
["01936","HAMILTON","MA","Massachusetts","1a","NEWE"]
["02339","HANOVER","MA","Massachusetts","1a","NEWE"]
["02340","HANOVER","MA","Massachusetts","1a","NEWE"]
["02341","HANSON","MA","Massachusetts","1a","NEWE"]
["01451","HARVARD","MA","Massachusetts","1a","NEWE"]
["02645","HARWICH","MA","Massachusetts","1a","NEWE"]
["02646","HARWICH PORT","MA","Massachusetts","1a","NEWE"]
["01937","HATHORNE","MA","Massachusetts","1a","NEWE"]
["01830","HAVERHILL","MA","Massachusetts","1a","NEWE"]
["01831","HAVERHILL","MA","Massachusetts","1a","NEWE"]
["01832","HAVERHILL","MA","Massachusetts","1a","NEWE"]
["01833","GEORGETOWN","MA","Massachusetts","1a","NEWE"]
["01834","GROVELAND","MA","Massachusetts","1a","NEWE"]
["01835","HAVERHILL","MA","Massachusetts","1a","NEWE"]
["02018","ACCORD","MA","Massachusetts","1a","NEWE"]
["02043","HINGHAM","MA","Massachusetts","1a","NEWE"]
["02044","HINGHAM","MA","Massachusetts","1a","NEWE"]
["02343","HOLBROOK","MA","Massachusetts","1a","NEWE"]
["01520","HOLDEN","MA","Massachusetts","1a","NEWE"]
["01746","HOLLISTON","MA","Massachusetts","1a","NEWE"]
["01747","HOPEDALE","MA","Massachusetts","1a","NEWE"]
["01748","HOPKINTON","MA","Massachusetts","1a","NEWE"]
["01452","HUBBARDSTON","MA","Massachusetts","1a","NEWE"]
["01749","HUDSON","MA","Massachusetts","1a","NEWE"]
["02045","HULL","MA","Massachusetts","1a","NEWE"]
["02047","HUMAROCK","MA","Massachusetts","1a","NEWE"]
["02601","HYANNIS","MA","Massachusetts","1a","NEWE"]
["02647","HYANNIS PORT","MA","Massachusetts","1a","NEWE"]
["01938","IPSWICH","MA","Massachusetts","1a","NEWE"]
["01522","JEFFERSON","MA","Massachusetts","1a","NEWE"]
["01523","LANCASTER","MA","Massachusetts","1a","NEWE"]
["01840","LAWRENCE","MA","Massachusetts","1a","NEWE"]
["01841","LAWRENCE","MA","Massachusetts","1a","NEWE"]
["01842","LAWRENCE","MA","Massachusetts","1a","NEWE"]
["01843","LAWRENCE","MA","Massachusetts","1a","NEWE"]
["01844","METHUEN","MA","Massachusetts","1a","NEWE"]
["01845","NORTH ANDOVER","MA","Massachusetts","1a","NEWE"]
["01524","LEICESTER","MA","Massachusetts","1a","NEWE"]
["01453","LEOMINSTER","MA","Massachusetts","1a","NEWE"]
["01773","LINCOLN","MA","Massachusetts","1a","NEWE"]
["01525","LINWOOD","MA","Massachusetts","1a","NEWE"]
["01460","LITTLETON","MA","Massachusetts","1a","NEWE"]
["01850","LOWELL","MA","Massachusetts","1a","NEWE"]
["01851","LOWELL","MA","Massachusetts","1a","NEWE"]
["01852","LOWELL","MA","Massachusetts","1a","NEWE"]
["01853","LOWELL","MA","Massachusetts","1a","NEWE"]
["01854","LOWELL","MA","Massachusetts","1a","NEWE"]
["01462","LUNENBURG","MA","Massachusetts","1a","NEWE"]
["01901","LYNN","MA","Massachusetts","1a","NEWE"]
["01902","LYNN","MA","Massachusetts","1a","NEWE"]
["01903","LYNN","MA","Massachusetts","1a","NEWE"]
["01904","LYNN","MA","Massachusetts","1a","NEWE"]
["01905","LYNN","MA","Massachusetts","1a","NEWE"]
["01906","SAUGUS","MA","Massachusetts","1a","NEWE"]
["01907","SWAMPSCOTT","MA","Massachusetts","1a","NEWE"]
["01908","NAHANT","MA","Massachusetts","1a","NEWE"]
["01910","LYNN","MA","Massachusetts","1a","NEWE"]
["01940","LYNNFIELD","MA","Massachusetts","1a","NEWE"]
["01526","MANCHAUG","MA","Massachusetts","1a","NEWE"]
["01944","MANCHESTER","MA","Massachusetts","1a","NEWE"]
["02345","MANOMET","MA","Massachusetts","1a","NEWE"]
["02048","MANSFIELD","MA","Massachusetts","1a","NEWE"]
["01945","MARBLEHEAD","MA","Massachusetts","1a","NEWE"]
["01752","MARLBOROUGH","MA","Massachusetts","1a","NEWE"]
["02050","MARSHFIELD","MA","Massachusetts","1a","NEWE"]
["02065","OCEAN BLUFF","MA","Massachusetts","1a","NEWE"]
["02051","MARSHFIELD HILLS","MA","Massachusetts","1a","NEWE"]
["02648","MARSTONS MILLS","MA","Massachusetts","1a","NEWE"]
["02649","MASHPEE","MA","Massachusetts","1a","NEWE"]
["01754","MAYNARD","MA","Massachusetts","1a","NEWE"]
["02052","MEDFIELD","MA","Massachusetts","1a","NEWE"]
["02053","MEDWAY","MA","Massachusetts","1a","NEWE"]
["01756","MENDON","MA","Massachusetts","1a","NEWE"]
["01860","MERRIMAC","MA","Massachusetts","1a","NEWE"]
["02344","MIDDLEBORO","MA","Massachusetts","1a","NEWE"]
["02346","MIDDLEBORO","MA","Massachusetts","1a","NEWE"]
["02348","LAKEVILLE","MA","Massachusetts","1a","NEWE"]
["02349","MIDDLEBORO","MA","Massachusetts","1a","NEWE"]
["01949","MIDDLETON","MA","Massachusetts","1a","NEWE"]
["01757","MILFORD","MA","Massachusetts","1a","NEWE"]
["01527","MILLBURY","MA","Massachusetts","1a","NEWE"]
["01984","WENHAM","MA","Massachusetts","1a","NEWE"]
["02668","WEST BARNSTABLE","MA","Massachusetts","1a","NEWE"]
["01580","WESTBOROUGH","MA","Massachusetts","1a","NEWE"]
["01581","WESTBOROUGH","MA","Massachusetts","1a","NEWE"]
["01582","WESTBOROUGH","MA","Massachusetts","1a","NEWE"]
["01885","WEST BOXFORD","MA","Massachusetts","1a","NEWE"]
["01583","WEST BOYLSTON","MA","Massachusetts","1a","NEWE"]
["02379","WEST BRIDGEWATER","MA","Massachusetts","1a","NEWE"]
["01585","WEST BROOKFIELD","MA","Massachusetts","1a","NEWE"]
["02669","WEST CHATHAM","MA","Massachusetts","1a","NEWE"]
["02670","WEST DENNIS","MA","Massachusetts","1a","NEWE"]
["02574","WEST FALMOUTH","MA","Massachusetts","1a","NEWE"]
["01886","WESTFORD","MA","Massachusetts","1a","NEWE"]
["01472","WEST GROTON","MA","Massachusetts","1a","NEWE"]
["02671","WEST HARWICH","MA","Massachusetts","1a","NEWE"]
["02672","WEST HYANNISPORT","MA","Massachusetts","1a","NEWE"]
["01441","WESTMINSTER","MA","Massachusetts","1a","NEWE"]
["01473","WESTMINSTER","MA","Massachusetts","1a","NEWE"]
["01985","WEST NEWBURY","MA","Massachusetts","1a","NEWE"]
["02575","WEST TISBURY","MA","Massachusetts","1a","NEWE"]
["01568","UPTON","MA","Massachusetts","1a","NEWE"]
["02576","WEST WAREHAM","MA","Massachusetts","1a","NEWE"]
["02090","WESTWOOD","MA","Massachusetts","1a","NEWE"]
["02381","WHITE HORSE BEACH","MA","Massachusetts","1a","NEWE"]
["01588","WHITINSVILLE","MA","Massachusetts","1a","NEWE"]
["02382","WHITMAN","MA","Massachusetts","1a","NEWE"]
["01887","WILMINGTON","MA","Massachusetts","1a","NEWE"]
["01475","WINCHENDON","MA","Massachusetts","1a","NEWE"]
["01477","WINCHENDON SPRINGS","MA","Massachusetts","1a","NEWE"]
["01890","WINCHESTER","MA","Massachusetts","1a","NEWE"]
["01801","WOBURN","MA","Massachusetts","1a","NEWE"]
["01807","WOBURN","MA","Massachusetts","1a","NEWE"]
["01813","WOBURN","MA","Massachusetts","1a","NEWE"]
["01815","WOBURN","MA","Massachusetts","1a","NEWE"]
["01888","WOBURN","MA","Massachusetts","1a","NEWE"]
["01784","WOODVILLE","MA","Massachusetts","1a","NEWE"]
["01601","WORCESTER","MA","Massachusetts","1a","NEWE"]
["01602","WORCESTER","MA","Massachusetts","1a","NEWE"]
["01603","WORCESTER","MA","Massachusetts","1a","NEWE"]
["01604","WORCESTER","MA","Massachusetts","1a","NEWE"]
["01605","WORCESTER","MA","Massachusetts","1a","NEWE"]
["01606","WORCESTER","MA","Massachusetts","1a","NEWE"]
["01607","WORCESTER","MA","Massachusetts","1a","NEWE"]
["01608","WORCESTER","MA","Massachusetts","1a","NEWE"]
["01609","WORCESTER","MA","Massachusetts","1a","NEWE"]
["01610","WORCESTER","MA","Massachusetts","1a","NEWE"]
["01611","CHERRY VALLEY","MA","Massachusetts","1a","NEWE"]
["01612","PAXTON","MA","Massachusetts","1a","NEWE"]
["01613","WORCESTER","MA","Massachusetts","1a","NEWE"]
["01614","WORCESTER","MA","Massachusetts","1a","NEWE"]
["01615","WORCESTER","MA","Massachusetts","1a","NEWE"]
["01653","WORCESTER","MA","Massachusetts","1a","NEWE"]
["01654","WORCESTER","MA","Massachusetts","1a","NEWE"]
["01655","WORCESTER","MA","Massachusetts","1a","NEWE"]
["02093","WRENTHAM","MA","Massachusetts","1a","NEWE"]
["02675","YARMOUTH PORT","MA","Massachusetts","1a","NEWE"]
["02364","KINGSTON","MA","Massachusetts","1a","NEWE"]
["02347","LAKEVILLE","MA","Massachusetts","1a","NEWE"]
["04406","ABBOT","ME","Maine","1a","NEWE"]
["04001","ACTON","ME","Maine","1a","NEWE"]
["04606","ADDISON","ME","Maine","1a","NEWE"]
["04910","ALBION","ME","Maine","1a","NEWE"]
["04002","ALFRED","ME","Maine","1a","NEWE"]
["04535","ALNA","ME","Maine","1a","NEWE"]
["04216","ANDOVER","ME","Maine","1a","NEWE"]
["04911","ANSON","ME","Maine","1a","NEWE"]
["04732","ASHLAND","ME","Maine","1a","NEWE"]
["04912","ATHENS","ME","Maine","1a","NEWE"]
["04210","AUBURN","ME","Maine","1a","NEWE"]
["04211","AUBURN","ME","Maine","1a","NEWE"]
["04212","AUBURN","ME","Maine","1a","NEWE"]
["04330","AUGUSTA","ME","Maine","1a","NEWE"]
["04332","AUGUSTA","ME","Maine","1a","NEWE"]
["04333","AUGUSTA","ME","Maine","1a","NEWE"]
["04336","AUGUSTA","ME","Maine","1a","NEWE"]
["04338","AUGUSTA","ME","Maine","1a","NEWE"]
["04408","AURORA","ME","Maine","1a","NEWE"]
["04003","BAILEY ISLAND","ME","Maine","1a","NEWE"]
["04401","BANGOR","ME","Maine","1a","NEWE"]
["04402","BANGOR","ME","Maine","1a","NEWE"]
["04609","BAR HARBOR","ME","Maine","1a","NEWE"]
["04004","BAR MILLS","ME","Maine","1a","NEWE"]
["04635","FRENCHBORO","ME","Maine","1a","NEWE"]
["04653","BASS HARBOR","ME","Maine","1a","NEWE"]
["04530","BATH","ME","Maine","1a","NEWE"]
["04611","BEALS","ME","Maine","1a","NEWE"]
["04915","BELFAST","ME","Maine","1a","NEWE"]
["04917","BELGRADE","ME","Maine","1a","NEWE"]
["04918","BELGRADE LAKES","ME","Maine","1a","NEWE"]
["04733","BENEDICTA","ME","Maine","1a","NEWE"]
["04612","BERNARD","ME","Maine","1a","NEWE"]
["03901","BERWICK","ME","Maine","1a","NEWE"]
["04217","BETHEL","ME","Maine","1a","NEWE"]
["04286","WEST BETHEL","ME","Maine","1a","NEWE"]
["04005","BIDDEFORD","ME","Maine","1a","NEWE"]
["04007","BIDDEFORD","ME","Maine","1a","NEWE"]
["04006","BIDDEFORD POOL","ME","Maine","1a","NEWE"]
["04920","BINGHAM","ME","Maine","1a","NEWE"]
["04613","BIRCH HARBOR","ME","Maine","1a","NEWE"]
["04734","BLAINE","ME","Maine","1a","NEWE"]
["04614","BLUE HILL","ME","Maine","1a","NEWE"]
["04629","EAST BLUE HILL","ME","Maine","1a","NEWE"]
["04537","BOOTHBAY","ME","Maine","1a","NEWE"]
["04549","ISLE OF SPRINGS","ME","Maine","1a","NEWE"]
["04538","BOOTHBAY HARBOR","ME","Maine","1a","NEWE"]
["04570","SQUIRREL ISLAND","ME","Maine","1a","NEWE"]
["04008","BOWDOINHAM","ME","Maine","1a","NEWE"]
["04410","BRADFORD","ME","Maine","1a","NEWE"]
["04411","BRADLEY","ME","Maine","1a","NEWE"]
["04412","BREWER","ME","Maine","1a","NEWE"]
["04735","BRIDGEWATER","ME","Maine","1a","NEWE"]
["04009","BRIDGTON","ME","Maine","1a","NEWE"]
["04539","BRISTOL","ME","Maine","1a","NEWE"]
["04616","BROOKLIN","ME","Maine","1a","NEWE"]
["04921","BROOKS","ME","Maine","1a","NEWE"]
["04617","BROOKSVILLE","ME","Maine","1a","NEWE"]
["04642","HARBORSIDE","ME","Maine","1a","NEWE"]
["04413","BROOKTON","ME","Maine","1a","NEWE"]
["04010","BROWNFIELD","ME","Maine","1a","NEWE"]
["04414","BROWNVILLE","ME","Maine","1a","NEWE"]
["04415","BROWNVILLE JUNCTION","ME","Maine","1a","NEWE"]
["04011","BRUNSWICK","ME","Maine","1a","NEWE"]
["04219","BRYANT POND","ME","Maine","1a","NEWE"]
["04220","BUCKFIELD","ME","Maine","1a","NEWE"]
["04416","BUCKSPORT","ME","Maine","1a","NEWE"]
["04417","BURLINGTON","ME","Maine","1a","NEWE"]
["04922","BURNHAM","ME","Maine","1a","NEWE"]
["04619","CALAIS","ME","Maine","1a","NEWE"]
["04923","CAMBRIDGE","ME","Maine","1a","NEWE"]
["04843","CAMDEN","ME","Maine","1a","NEWE"]
["04847","HOPE","ME","Maine","1a","NEWE"]
["04924","CANAAN","ME","Maine","1a","NEWE"]
["04221","CANTON","ME","Maine","1a","NEWE"]
["03902","CAPE NEDDICK","ME","Maine","1a","NEWE"]
["04925","CARATUNK","ME","Maine","1a","NEWE"]
["04418","GREENBUSH","ME","Maine","1a","NEWE"]
["04736","CARIBOU","ME","Maine","1a","NEWE"]
["04419","CARMEL","ME","Maine","1a","NEWE"]
["04015","CASCO","ME","Maine","1a","NEWE"]
["04420","CASTINE","ME","Maine","1a","NEWE"]
["04421","CASTINE","ME","Maine","1a","NEWE"]
["04016","CENTER LOVELL","ME","Maine","1a","NEWE"]
["04541","CHAMBERLAIN","ME","Maine","1a","NEWE"]
["04422","CHARLESTON","ME","Maine","1a","NEWE"]
["04017","CHEBEAGUE ISLAND","ME","Maine","1a","NEWE"]
["04622","CHERRYFIELD","ME","Maine","1a","NEWE"]
["04926","CHINA VILLAGE","ME","Maine","1a","NEWE"]
["04019","CLIFF ISLAND","ME","Maine","1a","NEWE"]
["04927","CLINTON","ME","Maine","1a","NEWE"]
["04623","COLUMBIA FALLS","ME","Maine","1a","NEWE"]
["04341","COOPERS MILLS","ME","Maine","1a","NEWE"]
["04624","COREA","ME","Maine","1a","NEWE"]
["04928","CORINNA","ME","Maine","1a","NEWE"]
["04020","CORNISH","ME","Maine","1a","NEWE"]
["04625","CRANBERRY ISLES","ME","Maine","1a","NEWE"]
["04738","CROUSEVILLE","ME","Maine","1a","NEWE"]
["04021","CUMBERLAND CENTER","ME","Maine","1a","NEWE"]
["04563","CUSHING","ME","Maine","1a","NEWE"]
["04626","CUTLER","ME","Maine","1a","NEWE"]
["04543","DAMARISCOTTA","ME","Maine","1a","NEWE"]
["04424","DANFORTH","ME","Maine","1a","NEWE"]
["04492","WAITE","ME","Maine","1a","NEWE"]
["04223","DANVILLE","ME","Maine","1a","NEWE"]
["04627","DEER ISLE","ME","Maine","1a","NEWE"]
["04022","DENMARK","ME","Maine","1a","NEWE"]
["04628","DENNYSVILLE","ME","Maine","1a","NEWE"]
["04929","DETROIT","ME","Maine","1a","NEWE"]
["04930","DEXTER","ME","Maine","1a","NEWE"]
["04224","DIXFIELD","ME","Maine","1a","NEWE"]
["04932","DIXMONT","ME","Maine","1a","NEWE"]
["04426","DOVER FOXCROFT","ME","Maine","1a","NEWE"]
["04481","SEBEC","ME","Maine","1a","NEWE"]
["04342","DRESDEN","ME","Maine","1a","NEWE"]
["04225","DRYDEN","ME","Maine","1a","NEWE"]
["04739","EAGLE LAKE","ME","Maine","1a","NEWE"]
["04226","EAST ANDOVER","ME","Maine","1a","NEWE"]
["04024","EAST BALDWIN","ME","Maine","1a","NEWE"]
["04544","EAST BOOTHBAY","ME","Maine","1a","NEWE"]
["04427","CORINTH","ME","Maine","1a","NEWE"]
["04227","EAST DIXFIELD","ME","Maine","1a","NEWE"]
["04428","EDDINGTON","ME","Maine","1a","NEWE"]
["04429","HOLDEN","ME","Maine","1a","NEWE"]
["04027","LEBANON","ME","Maine","1a","NEWE"]
["04228","EAST LIVERMORE","ME","Maine","1a","NEWE"]
["04630","EAST MACHIAS","ME","Maine","1a","NEWE"]
["04430","EAST MILLINOCKET","ME","Maine","1a","NEWE"]
["04933","EAST NEWPORT","ME","Maine","1a","NEWE"]
["04740","EASTON","ME","Maine","1a","NEWE"]
["04431","EAST ORLAND","ME","Maine","1a","NEWE"]
["04028","EAST PARSONSFIELD","ME","Maine","1a","NEWE"]
["04230","EAST POLAND","ME","Maine","1a","NEWE"]
["04631","EASTPORT","ME","Maine","1a","NEWE"]
["04029","SEBAGO","ME","Maine","1a","NEWE"]
["04231","STONEHAM","ME","Maine","1a","NEWE"]
["04935","EAST VASSALBORO","ME","Maine","1a","NEWE"]
["04030","EAST WATERBORO","ME","Maine","1a","NEWE"]
["04234","EAST WILTON","ME","Maine","1a","NEWE"]
["04343","EAST WINTHROP","ME","Maine","1a","NEWE"]
["03903","ELIOT","ME","Maine","1a","NEWE"]
["04605","ELLSWORTH","ME","Maine","1a","NEWE"]
["04434","ETNA","ME","Maine","1a","NEWE"]
["04936","EUSTIS","ME","Maine","1a","NEWE"]
["04435","EXETER","ME","Maine","1a","NEWE"]
["04937","FAIRFIELD","ME","Maine","1a","NEWE"]
["04938","FARMINGTON","ME","Maine","1a","NEWE"]
["04940","FARMINGTON FALLS","ME","Maine","1a","NEWE"]
["04742","FORT FAIRFIELD","ME","Maine","1a","NEWE"]
["04737","CLAYTON LAKE","ME","Maine","1a","NEWE"]
["04741","ESTCOURT STATION","ME","Maine","1a","NEWE"]
["04743","FORT KENT","ME","Maine","1a","NEWE"]
["04744","FORT KENT MILLS","ME","Maine","1a","NEWE"]
["04438","FRANKFORT","ME","Maine","1a","NEWE"]
["04634","FRANKLIN","ME","Maine","1a","NEWE"]
["04941","FREEDOM","ME","Maine","1a","NEWE"]
["04032","FREEPORT","ME","Maine","1a","NEWE"]
["04033","FREEPORT","ME","Maine","1a","NEWE"]
["04034","FREEPORT","ME","Maine","1a","NEWE"]
["04547","FRIENDSHIP","ME","Maine","1a","NEWE"]
["04037","FRYEBURG","ME","Maine","1a","NEWE"]
["04344","FARMINGDALE","ME","Maine","1a","NEWE"]
["04345","GARDINER","ME","Maine","1a","NEWE"]
["04346","RANDOLPH","ME","Maine","1a","NEWE"]
["04939","GARLAND","ME","Maine","1a","NEWE"]
["04548","GEORGETOWN","ME","Maine","1a","NEWE"]
["04038","GORHAM","ME","Maine","1a","NEWE"]
["04607","GOULDSBORO","ME","Maine","1a","NEWE"]
["04746","GRAND ISLE","ME","Maine","1a","NEWE"]
["04039","GRAY","ME","Maine","1a","NEWE"]
["04236","GREENE","ME","Maine","1a","NEWE"]
["04441","GREENVILLE","ME","Maine","1a","NEWE"]
["04485","SHIRLEY MILLS","ME","Maine","1a","NEWE"]
["04442","GREENVILLE JUNCTION","ME","Maine","1a","NEWE"]
["04443","GUILFORD","ME","Maine","1a","NEWE"]
["04347","HALLOWELL","ME","Maine","1a","NEWE"]
["04444","HAMPDEN","ME","Maine","1a","NEWE"]
["04640","HANCOCK","ME","Maine","1a","NEWE"]
["04237","HANOVER","ME","Maine","1a","NEWE"]
["04942","HARMONY","ME","Maine","1a","NEWE"]
["04643","HARRINGTON","ME","Maine","1a","NEWE"]
["04040","HARRISON","ME","Maine","1a","NEWE"]
["04943","HARTLAND","ME","Maine","1a","NEWE"]
["04238","HEBRON","ME","Maine","1a","NEWE"]
["04944","HINCKLEY","ME","Maine","1a","NEWE"]
["04041","HIRAM","ME","Maine","1a","NEWE"]
["04042","HOLLIS CENTER","ME","Maine","1a","NEWE"]
["04730","HOULTON","ME","Maine","1a","NEWE"]
["04761","NEW LIMERICK","ME","Maine","1a","NEWE"]
["04448","HOWLAND","ME","Maine","1a","NEWE"]
["04449","HUDSON","ME","Maine","1a","NEWE"]
["04644","HULLS COVE","ME","Maine","1a","NEWE"]
["04747","ISLAND FALLS","ME","Maine","1a","NEWE"]
["04848","ISLESBORO","ME","Maine","1a","NEWE"]
["04646","ISLESFORD","ME","Maine","1a","NEWE"]
["04945","JACKMAN","ME","Maine","1a","NEWE"]
["04239","JAY","ME","Maine","1a","NEWE"]
["04262","NORTH JAY","ME","Maine","1a","NEWE"]
["04348","JEFFERSON","ME","Maine","1a","NEWE"]
["04648","JONESBORO","ME","Maine","1a","NEWE"]
["04649","JONESPORT","ME","Maine","1a","NEWE"]
["04450","KENDUSKEAG","ME","Maine","1a","NEWE"]
["04043","KENNEBUNK","ME","Maine","1a","NEWE"]
["04014","CAPE PORPOISE","ME","Maine","1a","NEWE"]
["04046","KENNEBUNKPORT","ME","Maine","1a","NEWE"]
["04349","KENTS HILL","ME","Maine","1a","NEWE"]
["04047","PARSONSFIELD","ME","Maine","1a","NEWE"]
["04947","KINGFIELD","ME","Maine","1a","NEWE"]
["04451","KINGMAN","ME","Maine","1a","NEWE"]
["03904","KITTERY","ME","Maine","1a","NEWE"]
["03905","KITTERY POINT","ME","Maine","1a","NEWE"]
["04453","LAGRANGE","ME","Maine","1a","NEWE"]
["04455","LEE","ME","Maine","1a","NEWE"]
["04263","LEEDS","ME","Maine","1a","NEWE"]
["04456","LEVANT","ME","Maine","1a","NEWE"]
["04240","LEWISTON","ME","Maine","1a","NEWE"]
["04241","LEWISTON","ME","Maine","1a","NEWE"]
["04243","LEWISTON","ME","Maine","1a","NEWE"]
["04949","LIBERTY","ME","Maine","1a","NEWE"]
["04048","LIMERICK","ME","Maine","1a","NEWE"]
["04750","LIMESTONE","ME","Maine","1a","NEWE"]
["04751","LIMESTONE","ME","Maine","1a","NEWE"]
["04049","LIMINGTON","ME","Maine","1a","NEWE"]
["04457","LINCOLN","ME","Maine","1a","NEWE"]
["04849","LINCOLNVILLE","ME","Maine","1a","NEWE"]
["04850","LINCOLNVILLE CENTER","ME","Maine","1a","NEWE"]
["04222","DURHAM","ME","Maine","1a","NEWE"]
["04250","LISBON","ME","Maine","1a","NEWE"]
["04252","LISBON FALLS","ME","Maine","1a","NEWE"]
["04350","LITCHFIELD","ME","Maine","1a","NEWE"]
["04650","LITTLE DEER ISLE","ME","Maine","1a","NEWE"]
["04253","LIVERMORE","ME","Maine","1a","NEWE"]
["04254","LIVERMORE FALLS","ME","Maine","1a","NEWE"]
["04255","GREENWOOD","ME","Maine","1a","NEWE"]
["04050","LONG ISLAND","ME","Maine","1a","NEWE"]
["04051","LOVELL","ME","Maine","1a","NEWE"]
["04652","LUBEC","ME","Maine","1a","NEWE"]
["04654","MACHIAS","ME","Maine","1a","NEWE"]
["04686","WESLEY","ME","Maine","1a","NEWE"]
["04655","MACHIASPORT","ME","Maine","1a","NEWE"]
["04756","MADAWASKA","ME","Maine","1a","NEWE"]
["04950","MADISON","ME","Maine","1a","NEWE"]
["04351","MANCHESTER","ME","Maine","1a","NEWE"]
["04757","MAPLETON","ME","Maine","1a","NEWE"]
["04758","MARS HILL","ME","Maine","1a","NEWE"]
["04851","MATINICUS","ME","Maine","1a","NEWE"]
["04459","MATTAWAMKEAG","ME","Maine","1a","NEWE"]
["04256","MECHANIC FALLS","ME","Maine","1a","NEWE"]
["04657","MEDDYBEMPS","ME","Maine","1a","NEWE"]
["04551","BREMEN","ME","Maine","1a","NEWE"]
["04460","MEDWAY","ME","Maine","1a","NEWE"]
["04257","MEXICO","ME","Maine","1a","NEWE"]
["04658","MILBRIDGE","ME","Maine","1a","NEWE"]
["04461","MILFORD","ME","Maine","1a","NEWE"]
["04462","MILLINOCKET","ME","Maine","1a","NEWE"]
["04463","MILO","ME","Maine","1a","NEWE"]
["04258","MINOT","ME","Maine","1a","NEWE"]
["04852","MONHEGAN","ME","Maine","1a","NEWE"]
["04259","MONMOUTH","ME","Maine","1a","NEWE"]
["04951","MONROE","ME","Maine","1a","NEWE"]
["04464","MONSON","ME","Maine","1a","NEWE"]
["04760","MONTICELLO","ME","Maine","1a","NEWE"]
["04054","MOODY","ME","Maine","1a","NEWE"]
["04952","MORRILL","ME","Maine","1a","NEWE"]
["04660","MOUNT DESERT","ME","Maine","1a","NEWE"]
["04352","MOUNT VERNON","ME","Maine","1a","NEWE"]
["04055","NAPLES","ME","Maine","1a","NEWE"]
["04553","NEWCASTLE","ME","Maine","1a","NEWE"]
["04056","NEWFIELD","ME","Maine","1a","NEWE"]
["04260","NEW GLOUCESTER","ME","Maine","1a","NEWE"]
["04554","NEW HARBOR","ME","Maine","1a","NEWE"]
["04558","PEMAQUID","ME","Maine","1a","NEWE"]
["04953","NEWPORT","ME","Maine","1a","NEWE"]
["04261","NEWRY","ME","Maine","1a","NEWE"]
["04955","NEW SHARON","ME","Maine","1a","NEWE"]
["04762","NEW SWEDEN","ME","Maine","1a","NEWE"]
["04956","NEW VINEYARD","ME","Maine","1a","NEWE"]
["04555","NOBLEBORO","ME","Maine","1a","NEWE"]
["04957","NORRIDGEWOCK","ME","Maine","1a","NEWE"]
["04958","NORTH ANSON","ME","Maine","1a","NEWE"]
["03906","NORTH BERWICK","ME","Maine","1a","NEWE"]
["04057","NORTH BRIDGTON","ME","Maine","1a","NEWE"]
["04662","NORTHEAST HARBOR","ME","Maine","1a","NEWE"]
["04556","EDGECOMB","ME","Maine","1a","NEWE"]
["04853","NORTH HAVEN","ME","Maine","1a","NEWE"]
["04265","NORTH MONMOUTH","ME","Maine","1a","NEWE"]
["04954","NEW PORTLAND","ME","Maine","1a","NEWE"]
["04961","NEW PORTLAND","ME","Maine","1a","NEWE"]
["04664","SULLIVAN","ME","Maine","1a","NEWE"]
["04266","NORTH TURNER","ME","Maine","1a","NEWE"]
["04962","NORTH VASSALBORO","ME","Maine","1a","NEWE"]
["04061","NORTH WATERBORO","ME","Maine","1a","NEWE"]
["04267","NORTH WATERFORD","ME","Maine","1a","NEWE"]
["04353","WHITEFIELD","ME","Maine","1a","NEWE"]
["04062","WINDHAM","ME","Maine","1a","NEWE"]
["04082","SOUTH WINDHAM","ME","Maine","1a","NEWE"]
["04268","NORWAY","ME","Maine","1a","NEWE"]
["04763","OAKFIELD","ME","Maine","1a","NEWE"]
["04963","OAKLAND","ME","Maine","1a","NEWE"]
["03907","OGUNQUIT","ME","Maine","1a","NEWE"]
["04063","OCEAN PARK","ME","Maine","1a","NEWE"]
["04064","OLD ORCHARD BEACH","ME","Maine","1a","NEWE"]
["04468","OLD TOWN","ME","Maine","1a","NEWE"]
["04964","OQUOSSOC","ME","Maine","1a","NEWE"]
["04471","ORIENT","ME","Maine","1a","NEWE"]
["04472","ORLAND","ME","Maine","1a","NEWE"]
["04469","ORONO","ME","Maine","1a","NEWE"]
["04473","ORONO","ME","Maine","1a","NEWE"]
["04474","ORRINGTON","ME","Maine","1a","NEWE"]
["04066","ORRS ISLAND","ME","Maine","1a","NEWE"]
["04854","OWLS HEAD","ME","Maine","1a","NEWE"]
["04764","OXBOW","ME","Maine","1a","NEWE"]
["04270","OXFORD","ME","Maine","1a","NEWE"]
["04354","PALERMO","ME","Maine","1a","NEWE"]
["04965","PALMYRA","ME","Maine","1a","NEWE"]
["04271","PARIS","ME","Maine","1a","NEWE"]
["04475","PASSADUMKEAG","ME","Maine","1a","NEWE"]
["04765","PATTEN","ME","Maine","1a","NEWE"]
["04666","PEMBROKE","ME","Maine","1a","NEWE"]
["04476","PENOBSCOT","ME","Maine","1a","NEWE"]
["04766","PERHAM","ME","Maine","1a","NEWE"]
["04667","PERRY","ME","Maine","1a","NEWE"]
["04966","PHILLIPS","ME","Maine","1a","NEWE"]
["04562","PHIPPSBURG","ME","Maine","1a","NEWE"]
["04967","PITTSFIELD","ME","Maine","1a","NEWE"]
["04969","PLYMOUTH","ME","Maine","1a","NEWE"]
["04274","POLAND","ME","Maine","1a","NEWE"]
["04768","PORTAGE","ME","Maine","1a","NEWE"]
["04855","PORT CLYDE","ME","Maine","1a","NEWE"]
["04068","PORTER","ME","Maine","1a","NEWE"]
["04101","PORTLAND","ME","Maine","1a","NEWE"]
["04102","PORTLAND","ME","Maine","1a","NEWE"]
["04103","PORTLAND","ME","Maine","1a","NEWE"]
["04104","PORTLAND","ME","Maine","1a","NEWE"]
["04105","FALMOUTH","ME","Maine","1a","NEWE"]
["04106","SOUTH PORTLAND","ME","Maine","1a","NEWE"]
["04107","CAPE ELIZABETH","ME","Maine","1a","NEWE"]
["04108","PEAKS ISLAND","ME","Maine","1a","NEWE"]
["04109","PORTLAND","ME","Maine","1a","NEWE"]
["04110","CUMBERLAND FORESIDE","ME","Maine","1a","NEWE"]
["04112","PORTLAND","ME","Maine","1a","NEWE"]
["04116","SOUTH PORTLAND","ME","Maine","1a","NEWE"]
["04122","PORTLAND","ME","Maine","1a","NEWE"]
["04123","PORTLAND","ME","Maine","1a","NEWE"]
["04124","PORTLAND","ME","Maine","1a","NEWE"]
["04069","POWNAL","ME","Maine","1a","NEWE"]
["04769","PRESQUE ISLE","ME","Maine","1a","NEWE"]
["04637","GRAND LAKE STREAM","ME","Maine","1a","NEWE"]
["04668","PRINCETON","ME","Maine","1a","NEWE"]
["04669","PROSPECT HARBOR","ME","Maine","1a","NEWE"]
["04970","RANGELEY","ME","Maine","1a","NEWE"]
["04071","RAYMOND","ME","Maine","1a","NEWE"]
["04355","READFIELD","ME","Maine","1a","NEWE"]
["04357","RICHMOND","ME","Maine","1a","NEWE"]
["04671","ROBBINSTON","ME","Maine","1a","NEWE"]
["04841","ROCKLAND","ME","Maine","1a","NEWE"]
["04846","GLEN COVE","ME","Maine","1a","NEWE"]
["04856","ROCKPORT","ME","Maine","1a","NEWE"]
["04478","ROCKWOOD","ME","Maine","1a","NEWE"]
["04564","ROUND POND","ME","Maine","1a","NEWE"]
["04275","ROXBURY","ME","Maine","1a","NEWE"]
["04276","RUMFORD","ME","Maine","1a","NEWE"]
["04280","SABATTUS","ME","Maine","1a","NEWE"]
["04072","SACO","ME","Maine","1a","NEWE"]
["04772","SAINT AGATHA","ME","Maine","1a","NEWE"]
["04971","SAINT ALBANS","ME","Maine","1a","NEWE"]
["04773","SAINT DAVID","ME","Maine","1a","NEWE"]
["04774","SAINT FRANCIS","ME","Maine","1a","NEWE"]
["04672","SALSBURY COVE","ME","Maine","1a","NEWE"]
["04972","SANDY POINT","ME","Maine","1a","NEWE"]
["04073","SANFORD","ME","Maine","1a","NEWE"]
["04479","SANGERVILLE","ME","Maine","1a","NEWE"]
["04070","SCARBOROUGH","ME","Maine","1a","NEWE"]
["04074","SCARBOROUGH","ME","Maine","1a","NEWE"]
["04674","SEAL COVE","ME","Maine","1a","NEWE"]
["04675","SEAL HARBOR","ME","Maine","1a","NEWE"]
["04973","SEARSMONT","ME","Maine","1a","NEWE"]
["04974","SEARSPORT","ME","Maine","1a","NEWE"]
["04565","SEBASCO ESTATES","ME","Maine","1a","NEWE"]
["04673","SARGENTVILLE","ME","Maine","1a","NEWE"]
["04676","SEDGWICK","ME","Maine","1a","NEWE"]
["04076","SHAPLEIGH","ME","Maine","1a","NEWE"]
["04975","SHAWMUT","ME","Maine","1a","NEWE"]
["04775","SHERIDAN","ME","Maine","1a","NEWE"]
["04776","SHERMAN","ME","Maine","1a","NEWE"]
["04777","STACYVILLE","ME","Maine","1a","NEWE"]
["04779","SINCLAIR","ME","Maine","1a","NEWE"]
["04976","SKOWHEGAN","ME","Maine","1a","NEWE"]
["04978","SMITHFIELD","ME","Maine","1a","NEWE"]
["04780","SMYRNA MILLS","ME","Maine","1a","NEWE"]
["04781","WALLAGRASS","ME","Maine","1a","NEWE"]
["04979","SOLON","ME","Maine","1a","NEWE"]
["04677","SORRENTO","ME","Maine","1a","NEWE"]
["03908","SOUTH BERWICK","ME","Maine","1a","NEWE"]
["04568","SOUTH BRISTOL","ME","Maine","1a","NEWE"]
["04077","SOUTH CASCO","ME","Maine","1a","NEWE"]
["04358","SOUTH CHINA","ME","Maine","1a","NEWE"]
["04013","BUSTINS ISLAND","ME","Maine","1a","NEWE"]
["04078","SOUTH FREEPORT","ME","Maine","1a","NEWE"]
["04359","SOUTH GARDINER","ME","Maine","1a","NEWE"]
["04079","HARPSWELL","ME","Maine","1a","NEWE"]
["04281","SOUTH PARIS","ME","Maine","1a","NEWE"]
["04858","SOUTH THOMASTON","ME","Maine","1a","NEWE"]
["04679","SOUTHWEST HARBOR","ME","Maine","1a","NEWE"]
["04487","SPRINGFIELD","ME","Maine","1a","NEWE"]
["04083","SPRINGVALE","ME","Maine","1a","NEWE"]
["04859","SPRUCE HEAD","ME","Maine","1a","NEWE"]
["04084","STANDISH","ME","Maine","1a","NEWE"]
["04085","STEEP FALLS","ME","Maine","1a","NEWE"]
["04488","STETSON","ME","Maine","1a","NEWE"]
["04680","STEUBEN","ME","Maine","1a","NEWE"]
["04489","STILLWATER","ME","Maine","1a","NEWE"]
["04783","STOCKHOLM","ME","Maine","1a","NEWE"]
["04981","STOCKTON SPRINGS","ME","Maine","1a","NEWE"]
["04645","ISLE AU HAUT","ME","Maine","1a","NEWE"]
["04681","STONINGTON","ME","Maine","1a","NEWE"]
["04982","STRATTON","ME","Maine","1a","NEWE"]
["04983","STRONG","ME","Maine","1a","NEWE"]
["04683","SUNSET","ME","Maine","1a","NEWE"]
["04684","SURRY","ME","Maine","1a","NEWE"]
["04685","SWANS ISLAND","ME","Maine","1a","NEWE"]
["04984","TEMPLE","ME","Maine","1a","NEWE"]
["04860","TENANTS HARBOR","ME","Maine","1a","NEWE"]
["04861","THOMASTON","ME","Maine","1a","NEWE"]
["04986","THORNDIKE","ME","Maine","1a","NEWE"]
["04490","TOPSFIELD","ME","Maine","1a","NEWE"]
["04086","TOPSHAM","ME","Maine","1a","NEWE"]
["04571","TREVETT","ME","Maine","1a","NEWE"]
["04987","TROY","ME","Maine","1a","NEWE"]
["04282","TURNER","ME","Maine","1a","NEWE"]
["04862","UNION","ME","Maine","1a","NEWE"]
["04988","UNITY","ME","Maine","1a","NEWE"]
["04745","FRENCHVILLE","ME","Maine","1a","NEWE"]
["04785","VAN BUREN","ME","Maine","1a","NEWE"]
["04454","LAMBERT LAKE","ME","Maine","1a","NEWE"]
["04491","VANCEBORO","ME","Maine","1a","NEWE"]
["04989","VASSALBORO","ME","Maine","1a","NEWE"]
["04360","VIENNA","ME","Maine","1a","NEWE"]
["04863","VINALHAVEN","ME","Maine","1a","NEWE"]
["04572","WALDOBORO","ME","Maine","1a","NEWE"]
["04573","WALPOLE","ME","Maine","1a","NEWE"]
["04864","WARREN","ME","Maine","1a","NEWE"]
["04786","WASHBURN","ME","Maine","1a","NEWE"]
["04574","WASHINGTON","ME","Maine","1a","NEWE"]
["04087","WATERBORO","ME","Maine","1a","NEWE"]
["04088","WATERFORD","ME","Maine","1a","NEWE"]
["04901","WATERVILLE","ME","Maine","1a","NEWE"]
["04903","WATERVILLE","ME","Maine","1a","NEWE"]
["04284","WAYNE","ME","Maine","1a","NEWE"]
["04285","WELD","ME","Maine","1a","NEWE"]
["04090","WELLS","ME","Maine","1a","NEWE"]
["04091","WEST BALDWIN","ME","Maine","1a","NEWE"]
["04575","WEST BOOTHBAY HARBOR","ME","Maine","1a","NEWE"]
["04287","BOWDOIN","ME","Maine","1a","NEWE"]
["04092","WESTBROOK","ME","Maine","1a","NEWE"]
["04098","WESTBROOK","ME","Maine","1a","NEWE"]
["04093","BUXTON","ME","Maine","1a","NEWE"]
["04493","WEST ENFIELD","ME","Maine","1a","NEWE"]
["04992","WEST FARMINGTON","ME","Maine","1a","NEWE"]
["04787","WESTFIELD","ME","Maine","1a","NEWE"]
["04985","WEST FORKS","ME","Maine","1a","NEWE"]
["04094","WEST KENNEBUNK","ME","Maine","1a","NEWE"]
["04288","WEST MINOT","ME","Maine","1a","NEWE"]
["04095","WEST NEWFIELD","ME","Maine","1a","NEWE"]
["04289","WEST PARIS","ME","Maine","1a","NEWE"]
["04290","PERU","ME","Maine","1a","NEWE"]
["04291","WEST POLAND","ME","Maine","1a","NEWE"]
["04865","WEST ROCKPORT","ME","Maine","1a","NEWE"]
["04576","SOUTHPORT","ME","Maine","1a","NEWE"]
["04292","SUMNER","ME","Maine","1a","NEWE"]
["04691","WHITING","ME","Maine","1a","NEWE"]
["04294","WILTON","ME","Maine","1a","NEWE"]
["04363","WINDSOR","ME","Maine","1a","NEWE"]
["04495","WINN","ME","Maine","1a","NEWE"]
["04693","WINTER HARBOR","ME","Maine","1a","NEWE"]
["04496","WINTERPORT","ME","Maine","1a","NEWE"]
["04364","WINTHROP","ME","Maine","1a","NEWE"]
["04578","WISCASSET","ME","Maine","1a","NEWE"]
["04694","BAILEYVILLE","ME","Maine","1a","NEWE"]
["04579","WOOLWICH","ME","Maine","1a","NEWE"]
["04497","WYTOPITLOCK","ME","Maine","1a","NEWE"]
["04096","YARMOUTH","ME","Maine","1a","NEWE"]
["04097","NORTH YARMOUTH","ME","Maine","1a","NEWE"]
["03909","YORK","ME","Maine","1a","NEWE"]
["03910","YORK BEACH","ME","Maine","1a","NEWE"]
["03911","YORK HARBOR","ME","Maine","1a","NEWE"]
["03601","ACWORTH","NH","New Hampshire","1a","NEWE"]
["03602","ALSTEAD","NH","New Hampshire","1a","NEWE"]
["03607","SOUTH ACWORTH","NH","New Hampshire","1a","NEWE"]
["03809","ALTON","NH","New Hampshire","1a","NEWE"]
["03810","ALTON BAY","NH","New Hampshire","1a","NEWE"]
["03031","AMHERST","NH","New Hampshire","1a","NEWE"]
["03216","ANDOVER","NH","New Hampshire","1a","NEWE"]
["03440","ANTRIM","NH","New Hampshire","1a","NEWE"]
["03217","ASHLAND","NH","New Hampshire","1a","NEWE"]
["03441","ASHUELOT","NH","New Hampshire","1a","NEWE"]
["03811","ATKINSON","NH","New Hampshire","1a","NEWE"]
["03032","AUBURN","NH","New Hampshire","1a","NEWE"]
["03218","BARNSTEAD","NH","New Hampshire","1a","NEWE"]
["03825","BARRINGTON","NH","New Hampshire","1a","NEWE"]
["03812","BARTLETT","NH","New Hampshire","1a","NEWE"]
["03740","BATH","NH","New Hampshire","1a","NEWE"]
["03220","BELMONT","NH","New Hampshire","1a","NEWE"]
["03442","BENNINGTON","NH","New Hampshire","1a","NEWE"]
["03570","BERLIN","NH","New Hampshire","1a","NEWE"]
["03574","BETHLEHEM","NH","New Hampshire","1a","NEWE"]
["03221","BRADFORD","NH","New Hampshire","1a","NEWE"]
["03222","BRISTOL","NH","New Hampshire","1a","NEWE"]
["03033","BROOKLINE","NH","New Hampshire","1a","NEWE"]
["03215","WATERVILLE VALLEY","NH","New Hampshire","1a","NEWE"]
["03223","CAMPTON","NH","New Hampshire","1a","NEWE"]
["03285","THORNTON","NH","New Hampshire","1a","NEWE"]
["03741","CANAAN","NH","New Hampshire","1a","NEWE"]
["03034","CANDIA","NH","New Hampshire","1a","NEWE"]
["03040","EAST CANDIA","NH","New Hampshire","1a","NEWE"]
["03224","CANTERBURY","NH","New Hampshire","1a","NEWE"]
["03225","CENTER BARNSTEAD","NH","New Hampshire","1a","NEWE"]
["03813","CENTER CONWAY","NH","New Hampshire","1a","NEWE"]
["03226","CENTER HARBOR","NH","New Hampshire","1a","NEWE"]
["03814","CENTER OSSIPEE","NH","New Hampshire","1a","NEWE"]
["03227","CENTER SANDWICH","NH","New Hampshire","1a","NEWE"]
["03603","CHARLESTOWN","NH","New Hampshire","1a","NEWE"]
["03036","CHESTER","NH","New Hampshire","1a","NEWE"]
["03443","CHESTERFIELD","NH","New Hampshire","1a","NEWE"]
["03817","CHOCORUA","NH","New Hampshire","1a","NEWE"]
["03743","CLAREMONT","NH","New Hampshire","1a","NEWE"]
["03576","COLEBROOK","NH","New Hampshire","1a","NEWE"]
["03301","CONCORD","NH","New Hampshire","1a","NEWE"]
["03302","CONCORD","NH","New Hampshire","1a","NEWE"]
["03303","CONCORD","NH","New Hampshire","1a","NEWE"]
["03304","BOW","NH","New Hampshire","1a","NEWE"]
["03305","CONCORD","NH","New Hampshire","1a","NEWE"]
["03307","LOUDON","NH","New Hampshire","1a","NEWE"]
["03229","CONTOOCOOK","NH","New Hampshire","1a","NEWE"]
["03818","CONWAY","NH","New Hampshire","1a","NEWE"]
["03745","CORNISH","NH","New Hampshire","1a","NEWE"]
["03746","CORNISH FLAT","NH","New Hampshire","1a","NEWE"]
["03230","DANBURY","NH","New Hampshire","1a","NEWE"]
["03819","DANVILLE","NH","New Hampshire","1a","NEWE"]
["03037","DEERFIELD","NH","New Hampshire","1a","NEWE"]
["03038","DERRY","NH","New Hampshire","1a","NEWE"]
["03820","DOVER","NH","New Hampshire","1a","NEWE"]
["03821","DOVER","NH","New Hampshire","1a","NEWE"]
["03822","DOVER","NH","New Hampshire","1a","NEWE"]
["03823","MADBURY","NH","New Hampshire","1a","NEWE"]
["03444","DUBLIN","NH","New Hampshire","1a","NEWE"]
["03824","DURHAM","NH","New Hampshire","1a","NEWE"]
["03861","LEE","NH","New Hampshire","1a","NEWE"]
["03231","EAST ANDOVER","NH","New Hampshire","1a","NEWE"]
["03041","EAST DERRY","NH","New Hampshire","1a","NEWE"]
["03826","EAST HAMPSTEAD","NH","New Hampshire","1a","NEWE"]
["03827","EAST KINGSTON","NH","New Hampshire","1a","NEWE"]
["03605","LEMPSTER","NH","New Hampshire","1a","NEWE"]
["03445","SULLIVAN","NH","New Hampshire","1a","NEWE"]
["03457","NELSON","NH","New Hampshire","1a","NEWE"]
["03446","SWANZEY","NH","New Hampshire","1a","NEWE"]
["03830","EAST WAKEFIELD","NH","New Hampshire","1a","NEWE"]
["03233","ELKINS","NH","New Hampshire","1a","NEWE"]
["03748","ENFIELD","NH","New Hampshire","1a","NEWE"]
["03749","ENFIELD CENTER","NH","New Hampshire","1a","NEWE"]
["03042","EPPING","NH","New Hampshire","1a","NEWE"]
["03234","EPSOM","NH","New Hampshire","1a","NEWE"]
["03258","CHICHESTER","NH","New Hampshire","1a","NEWE"]
["03579","ERROL","NH","New Hampshire","1a","NEWE"]
["03750","ETNA","NH","New Hampshire","1a","NEWE"]
["03833","EXETER","NH","New Hampshire","1a","NEWE"]
["03835","FARMINGTON","NH","New Hampshire","1a","NEWE"]
["03447","FITZWILLIAM","NH","New Hampshire","1a","NEWE"]
["03043","FRANCESTOWN","NH","New Hampshire","1a","NEWE"]
["03580","FRANCONIA","NH","New Hampshire","1a","NEWE"]
["03235","FRANKLIN","NH","New Hampshire","1a","NEWE"]
["03836","FREEDOM","NH","New Hampshire","1a","NEWE"]
["03044","FREMONT","NH","New Hampshire","1a","NEWE"]
["03751","GEORGES MILLS","NH","New Hampshire","1a","NEWE"]
["03237","GILMANTON","NH","New Hampshire","1a","NEWE"]
["03837","GILMANTON IRON WORKS","NH","New Hampshire","1a","NEWE"]
["03448","GILSUM","NH","New Hampshire","1a","NEWE"]
["03838","GLEN","NH","New Hampshire","1a","NEWE"]
["03238","GLENCLIFF","NH","New Hampshire","1a","NEWE"]
["03045","GOFFSTOWN","NH","New Hampshire","1a","NEWE"]
["03046","DUNBARTON","NH","New Hampshire","1a","NEWE"]
["03581","GORHAM","NH","New Hampshire","1a","NEWE"]
["03593","RANDOLPH","NH","New Hampshire","1a","NEWE"]
["03752","GOSHEN","NH","New Hampshire","1a","NEWE"]
["03240","GRAFTON","NH","New Hampshire","1a","NEWE"]
["03753","GRANTHAM","NH","New Hampshire","1a","NEWE"]
["03047","GREENFIELD","NH","New Hampshire","1a","NEWE"]
["03840","GREENLAND","NH","New Hampshire","1a","NEWE"]
["03048","GREENVILLE","NH","New Hampshire","1a","NEWE"]
["03582","GROVETON","NH","New Hampshire","1a","NEWE"]
["03754","GUILD","NH","New Hampshire","1a","NEWE"]
["03841","HAMPSTEAD","NH","New Hampshire","1a","NEWE"]
["03842","HAMPTON","NH","New Hampshire","1a","NEWE"]
["03843","HAMPTON","NH","New Hampshire","1a","NEWE"]
["03844","HAMPTON FALLS","NH","New Hampshire","1a","NEWE"]
["03449","HANCOCK","NH","New Hampshire","1a","NEWE"]
["03755","HANOVER","NH","New Hampshire","1a","NEWE"]
["03450","HARRISVILLE","NH","New Hampshire","1a","NEWE"]
["03765","HAVERHILL","NH","New Hampshire","1a","NEWE"]
["03241","HEBRON","NH","New Hampshire","1a","NEWE"]
["03242","HENNIKER","NH","New Hampshire","1a","NEWE"]
["03243","HILL","NH","New Hampshire","1a","NEWE"]
["03244","HILLSBOROUGH","NH","New Hampshire","1a","NEWE"]
["03451","HINSDALE","NH","New Hampshire","1a","NEWE"]
["03245","HOLDERNESS","NH","New Hampshire","1a","NEWE"]
["03049","HOLLIS","NH","New Hampshire","1a","NEWE"]
["03051","HUDSON","NH","New Hampshire","1a","NEWE"]
["03052","LITCHFIELD","NH","New Hampshire","1a","NEWE"]
["03845","INTERVALE","NH","New Hampshire","1a","NEWE"]
["03846","JACKSON","NH","New Hampshire","1a","NEWE"]
["03452","JAFFREY","NH","New Hampshire","1a","NEWE"]
["03583","JEFFERSON","NH","New Hampshire","1a","NEWE"]
["03847","KEARSARGE","NH","New Hampshire","1a","NEWE"]
["03431","KEENE","NH","New Hampshire","1a","NEWE"]
["03435","KEENE","NH","New Hampshire","1a","NEWE"]
["03848","KINGSTON","NH","New Hampshire","1a","NEWE"]
["03246","LACONIA","NH","New Hampshire","1a","NEWE"]
["03247","LACONIA","NH","New Hampshire","1a","NEWE"]
["03249","GILFORD","NH","New Hampshire","1a","NEWE"]
["03584","LANCASTER","NH","New Hampshire","1a","NEWE"]
["03756","LEBANON","NH","New Hampshire","1a","NEWE"]
["03766","LEBANON","NH","New Hampshire","1a","NEWE"]
["03784","WEST LEBANON","NH","New Hampshire","1a","NEWE"]
["03251","LINCOLN","NH","New Hampshire","1a","NEWE"]
["03585","LISBON","NH","New Hampshire","1a","NEWE"]
["03586","SUGAR HILL","NH","New Hampshire","1a","NEWE"]
["03561","LITTLETON","NH","New Hampshire","1a","NEWE"]
["03252","LOCHMERE","NH","New Hampshire","1a","NEWE"]
["03053","LONDONDERRY","NH","New Hampshire","1a","NEWE"]
["03768","LYME","NH","New Hampshire","1a","NEWE"]
["03769","LYME CENTER","NH","New Hampshire","1a","NEWE"]
["03832","EATON CENTER","NH","New Hampshire","1a","NEWE"]
["03849","MADISON","NH","New Hampshire","1a","NEWE"]
["03101","MANCHESTER","NH","New Hampshire","1a","NEWE"]
["03102","MANCHESTER","NH","New Hampshire","1a","NEWE"]
["03103","MANCHESTER","NH","New Hampshire","1a","NEWE"]
["03104","MANCHESTER","NH","New Hampshire","1a","NEWE"]
["03105","MANCHESTER","NH","New Hampshire","1a","NEWE"]
["03106","HOOKSETT","NH","New Hampshire","1a","NEWE"]
["03107","MANCHESTER","NH","New Hampshire","1a","NEWE"]
["03108","MANCHESTER","NH","New Hampshire","1a","NEWE"]
["03109","MANCHESTER","NH","New Hampshire","1a","NEWE"]
["03110","BEDFORD","NH","New Hampshire","1a","NEWE"]
["03111","MANCHESTER","NH","New Hampshire","1a","NEWE"]
["03455","MARLBOROUGH","NH","New Hampshire","1a","NEWE"]
["03456","MARLOW","NH","New Hampshire","1a","NEWE"]
["03464","STODDARD","NH","New Hampshire","1a","NEWE"]
["03850","MELVIN VILLAGE","NH","New Hampshire","1a","NEWE"]
["03253","MEREDITH","NH","New Hampshire","1a","NEWE"]
["03770","MERIDEN","NH","New Hampshire","1a","NEWE"]
["03054","MERRIMACK","NH","New Hampshire","1a","NEWE"]
["03588","MILAN","NH","New Hampshire","1a","NEWE"]
["03055","MILFORD","NH","New Hampshire","1a","NEWE"]
["03851","MILTON","NH","New Hampshire","1a","NEWE"]
["03852","MILTON MILLS","NH","New Hampshire","1a","NEWE"]
["03853","MIRROR LAKE","NH","New Hampshire","1a","NEWE"]
["03771","MONROE","NH","New Hampshire","1a","NEWE"]
["03057","MONT VERNON","NH","New Hampshire","1a","NEWE"]
["03254","MOULTONBOROUGH","NH","New Hampshire","1a","NEWE"]
["03060","NASHUA","NH","New Hampshire","1a","NEWE"]
["03061","NASHUA","NH","New Hampshire","1a","NEWE"]
["03062","NASHUA","NH","New Hampshire","1a","NEWE"]
["03063","NASHUA","NH","New Hampshire","1a","NEWE"]
["03064","NASHUA","NH","New Hampshire","1a","NEWE"]
["03070","NEW BOSTON","NH","New Hampshire","1a","NEWE"]
["03255","NEWBURY","NH","New Hampshire","1a","NEWE"]
["03272","SOUTH NEWBURY","NH","New Hampshire","1a","NEWE"]
["03854","NEW CASTLE","NH","New Hampshire","1a","NEWE"]
["03855","NEW DURHAM","NH","New Hampshire","1a","NEWE"]
["03856","NEWFIELDS","NH","New Hampshire","1a","NEWE"]
["03256","NEW HAMPTON","NH","New Hampshire","1a","NEWE"]
["03071","NEW IPSWICH","NH","New Hampshire","1a","NEWE"]
["03257","NEW LONDON","NH","New Hampshire","1a","NEWE"]
["03857","NEWMARKET","NH","New Hampshire","1a","NEWE"]
["03773","NEWPORT","NH","New Hampshire","1a","NEWE"]
["03858","NEWTON","NH","New Hampshire","1a","NEWE"]
["03859","NEWTON JUNCTION","NH","New Hampshire","1a","NEWE"]
["03860","NORTH CONWAY","NH","New Hampshire","1a","NEWE"]
["03862","NORTH HAMPTON","NH","New Hampshire","1a","NEWE"]
["03774","NORTH HAVERHILL","NH","New Hampshire","1a","NEWE"]
["03073","NORTH SALEM","NH","New Hampshire","1a","NEWE"]
["03259","NORTH SANDWICH","NH","New Hampshire","1a","NEWE"]
["03590","NORTH STRATFORD","NH","New Hampshire","1a","NEWE"]
["03260","NORTH SUTTON","NH","New Hampshire","1a","NEWE"]
["03261","NORTHWOOD","NH","New Hampshire","1a","NEWE"]
["03262","NORTH WOODSTOCK","NH","New Hampshire","1a","NEWE"]
["03293","WOODSTOCK","NH","New Hampshire","1a","NEWE"]
["03290","NOTTINGHAM","NH","New Hampshire","1a","NEWE"]
["03777","ORFORD","NH","New Hampshire","1a","NEWE"]
["03864","OSSIPEE","NH","New Hampshire","1a","NEWE"]
["03076","PELHAM","NH","New Hampshire","1a","NEWE"]
["03458","PETERBOROUGH","NH","New Hampshire","1a","NEWE"]
["03779","PIERMONT","NH","New Hampshire","1a","NEWE"]
["03780","PIKE","NH","New Hampshire","1a","NEWE"]
["03592","PITTSBURG","NH","New Hampshire","1a","NEWE"]
["03263","PITTSFIELD","NH","New Hampshire","1a","NEWE"]
["03781","PLAINFIELD","NH","New Hampshire","1a","NEWE"]
["03865","PLAISTOW","NH","New Hampshire","1a","NEWE"]
["03264","PLYMOUTH","NH","New Hampshire","1a","NEWE"]
["03801","PORTSMOUTH","NH","New Hampshire","1a","NEWE"]
["03802","PORTSMOUTH","NH","New Hampshire","1a","NEWE"]
["03803","PORTSMOUTH","NH","New Hampshire","1a","NEWE"]
["03804","PORTSMOUTH","NH","New Hampshire","1a","NEWE"]
["03805","NEWINGTON","NH","New Hampshire","1a","NEWE"]
["03077","RAYMOND","NH","New Hampshire","1a","NEWE"]
["03461","RINDGE","NH","New Hampshire","1a","NEWE"]
["03839","ROCHESTER","NH","New Hampshire","1a","NEWE"]
["03866","ROCHESTER","NH","New Hampshire","1a","NEWE"]
["03867","ROCHESTER","NH","New Hampshire","1a","NEWE"]
["03868","ROCHESTER","NH","New Hampshire","1a","NEWE"]
["03869","ROLLINSFORD","NH","New Hampshire","1a","NEWE"]
["03266","RUMNEY","NH","New Hampshire","1a","NEWE"]
["03274","STINSON LAKE","NH","New Hampshire","1a","NEWE"]
["03870","RYE","NH","New Hampshire","1a","NEWE"]
["03871","RYE BEACH","NH","New Hampshire","1a","NEWE"]
["03079","SALEM","NH","New Hampshire","1a","NEWE"]
["03268","SALISBURY","NH","New Hampshire","1a","NEWE"]
["03269","SANBORNTON","NH","New Hampshire","1a","NEWE"]
["03872","SANBORNVILLE","NH","New Hampshire","1a","NEWE"]
["03873","SANDOWN","NH","New Hampshire","1a","NEWE"]
["03874","SEABROOK","NH","New Hampshire","1a","NEWE"]
["03875","SILVER LAKE","NH","New Hampshire","1a","NEWE"]
["03878","SOMERSWORTH","NH","New Hampshire","1a","NEWE"]
["03882","EFFINGHAM","NH","New Hampshire","1a","NEWE"]
["03082","LYNDEBOROUGH","NH","New Hampshire","1a","NEWE"]
["03273","SOUTH SUTTON","NH","New Hampshire","1a","NEWE"]
["03883","SOUTH TAMWORTH","NH","New Hampshire","1a","NEWE"]
["03462","SPOFFORD","NH","New Hampshire","1a","NEWE"]
["03815","CENTER STRAFFORD","NH","New Hampshire","1a","NEWE"]
["03884","STRAFFORD","NH","New Hampshire","1a","NEWE"]
["03885","STRATHAM","NH","New Hampshire","1a","NEWE"]
["03782","SUNAPEE","NH","New Hampshire","1a","NEWE"]
["03275","SUNCOOK","NH","New Hampshire","1a","NEWE"]
["03886","TAMWORTH","NH","New Hampshire","1a","NEWE"]
["03897","WONALANCET","NH","New Hampshire","1a","NEWE"]
["03084","TEMPLE","NH","New Hampshire","1a","NEWE"]
["03276","TILTON","NH","New Hampshire","1a","NEWE"]
["03298","TILTON","NH","New Hampshire","1a","NEWE"]
["03299","TILTON","NH","New Hampshire","1a","NEWE"]
["03465","TROY","NH","New Hampshire","1a","NEWE"]
["03575","BRETTON WOODS","NH","New Hampshire","1a","NEWE"]
["03589","MOUNT WASHINGTON","NH","New Hampshire","1a","NEWE"]
["03595","TWIN MOUNTAIN","NH","New Hampshire","1a","NEWE"]
["03887","UNION","NH","New Hampshire","1a","NEWE"]
["03604","DREWSVILLE","NH","New Hampshire","1a","NEWE"]
["03608","WALPOLE","NH","New Hampshire","1a","NEWE"]
["03609","NORTH WALPOLE","NH","New Hampshire","1a","NEWE"]
["03278","WARNER","NH","New Hampshire","1a","NEWE"]
["03279","WARREN","NH","New Hampshire","1a","NEWE"]
["03280","WASHINGTON","NH","New Hampshire","1a","NEWE"]
["03281","WEARE","NH","New Hampshire","1a","NEWE"]
["03282","WENTWORTH","NH","New Hampshire","1a","NEWE"]
["03466","WEST CHESTERFIELD","NH","New Hampshire","1a","NEWE"]
["03467","WESTMORELAND","NH","New Hampshire","1a","NEWE"]
["03291","WEST NOTTINGHAM","NH","New Hampshire","1a","NEWE"]
["03890","WEST OSSIPEE","NH","New Hampshire","1a","NEWE"]
["03468","WEST PETERBOROUGH","NH","New Hampshire","1a","NEWE"]
["03284","SPRINGFIELD","NH","New Hampshire","1a","NEWE"]
["03597","WEST STEWARTSTOWN","NH","New Hampshire","1a","NEWE"]
["03469","WEST SWANZEY","NH","New Hampshire","1a","NEWE"]
["03598","WHITEFIELD","NH","New Hampshire","1a","NEWE"]
["03287","WILMOT","NH","New Hampshire","1a","NEWE"]
["03086","WILTON","NH","New Hampshire","1a","NEWE"]
["03470","WINCHESTER","NH","New Hampshire","1a","NEWE"]
["03087","WINDHAM","NH","New Hampshire","1a","NEWE"]
["03289","WINNISQUAM","NH","New Hampshire","1a","NEWE"]
["03816","CENTER TUFTONBORO","NH","New Hampshire","1a","NEWE"]
["03894","WOLFEBORO","NH","New Hampshire","1a","NEWE"]
["03896","WOLFEBORO FALLS","NH","New Hampshire","1a","NEWE"]
["03785","WOODSVILLE","NH","New Hampshire","1a","NEWE"]
["05820","ALBANY","VT","Vermont","1a","NEWE"]
["05440","ALBURGH","VT","Vermont","1a","NEWE"]
["05250","ARLINGTON","VT","Vermont","1a","NEWE"]
["05030","ASCUTNEY","VT","Vermont","1a","NEWE"]
["05441","BAKERSFIELD","VT","Vermont","1a","NEWE"]
["05031","BARNARD","VT","Vermont","1a","NEWE"]
["05821","BARNET","VT","Vermont","1a","NEWE"]
["05641","BARRE","VT","Vermont","1a","NEWE"]
["05822","BARTON","VT","Vermont","1a","NEWE"]
["05839","GLOVER","VT","Vermont","1a","NEWE"]
["05875","WEST GLOVER","VT","Vermont","1a","NEWE"]
["05823","BEEBE PLAIN","VT","Vermont","1a","NEWE"]
["05902","BEECHER FALLS","VT","Vermont","1a","NEWE"]
["05101","BELLOWS FALLS","VT","Vermont","1a","NEWE"]
["05730","BELMONT","VT","Vermont","1a","NEWE"]
["05201","BENNINGTON","VT","Vermont","1a","NEWE"]
["05032","BETHEL","VT","Vermont","1a","NEWE"]
["05732","BOMOSEEN","VT","Vermont","1a","NEWE"]
["05340","BONDVILLE","VT","Vermont","1a","NEWE"]
["05033","BRADFORD","VT","Vermont","1a","NEWE"]
["05733","BRANDON","VT","Vermont","1a","NEWE"]
["05301","BRATTLEBORO","VT","Vermont","1a","NEWE"]
["05302","BRATTLEBORO","VT","Vermont","1a","NEWE"]
["05303","BRATTLEBORO","VT","Vermont","1a","NEWE"]
["05304","BRATTLEBORO","VT","Vermont","1a","NEWE"]
["05034","BRIDGEWATER","VT","Vermont","1a","NEWE"]
["05035","BRIDGEWATER CORNERS","VT","Vermont","1a","NEWE"]
["05734","BRIDPORT","VT","Vermont","1a","NEWE"]
["05443","BRISTOL","VT","Vermont","1a","NEWE"]
["05036","BROOKFIELD","VT","Vermont","1a","NEWE"]
["05037","BROWNSVILLE","VT","Vermont","1a","NEWE"]
["05401","BURLINGTON","VT","Vermont","1a","NEWE"]
["05402","BURLINGTON","VT","Vermont","1a","NEWE"]
["05403","SOUTH BURLINGTON","VT","Vermont","1a","NEWE"]
["05404","WINOOSKI","VT","Vermont","1a","NEWE"]
["05405","BURLINGTON","VT","Vermont","1a","NEWE"]
["05406","BURLINGTON","VT","Vermont","1a","NEWE"]
["05407","SOUTH BURLINGTON","VT","Vermont","1a","NEWE"]
["05408","BURLINGTON","VT","Vermont","1a","NEWE"]
["05647","CABOT","VT","Vermont","1a","NEWE"]
["05648","CALAIS","VT","Vermont","1a","NEWE"]
["05444","CAMBRIDGE","VT","Vermont","1a","NEWE"]
["05141","CAMBRIDGEPORT","VT","Vermont","1a","NEWE"]
["05901","AVERILL","VT","Vermont","1a","NEWE"]
["05903","CANAAN","VT","Vermont","1a","NEWE"]
["05735","CASTLETON","VT","Vermont","1a","NEWE"]
["05142","CAVENDISH","VT","Vermont","1a","NEWE"]
["05445","CHARLOTTE","VT","Vermont","1a","NEWE"]
["05038","CHELSEA","VT","Vermont","1a","NEWE"]
["05143","CHESTER","VT","Vermont","1a","NEWE"]
["05144","CHESTER DEPOT","VT","Vermont","1a","NEWE"]
["05737","CHITTENDEN","VT","Vermont","1a","NEWE"]
["05439","COLCHESTER","VT","Vermont","1a","NEWE"]
["05446","COLCHESTER","VT","Vermont","1a","NEWE"]
["05449","COLCHESTER","VT","Vermont","1a","NEWE"]
["05824","CONCORD","VT","Vermont","1a","NEWE"]
["05039","CORINTH","VT","Vermont","1a","NEWE"]
["05825","COVENTRY","VT","Vermont","1a","NEWE"]
["05826","CRAFTSBURY","VT","Vermont","1a","NEWE"]
["05827","CRAFTSBURY COMMON","VT","Vermont","1a","NEWE"]
["05738","CUTTINGSVILLE","VT","Vermont","1a","NEWE"]
["05739","DANBY","VT","Vermont","1a","NEWE"]
["05828","DANVILLE","VT","Vermont","1a","NEWE"]
["05829","DERBY","VT","Vermont","1a","NEWE"]
["05830","DERBY LINE","VT","Vermont","1a","NEWE"]
["05251","DORSET","VT","Vermont","1a","NEWE"]
["05252","EAST ARLINGTON","VT","Vermont","1a","NEWE"]
["05649","EAST BARRE","VT","Vermont","1a","NEWE"]
["05832","EAST BURKE","VT","Vermont","1a","NEWE"]
["05640","ADAMANT","VT","Vermont","1a","NEWE"]
["05650","EAST CALAIS","VT","Vermont","1a","NEWE"]
["05833","EAST CHARLESTON","VT","Vermont","1a","NEWE"]
["05040","EAST CORINTH","VT","Vermont","1a","NEWE"]
["05076","TOPSHAM","VT","Vermont","1a","NEWE"]
["05253","EAST DORSET","VT","Vermont","1a","NEWE"]
["05341","EAST DOVER","VT","Vermont","1a","NEWE"]
["05448","EAST FAIRFIELD","VT","Vermont","1a","NEWE"]
["05836","EAST HARDWICK","VT","Vermont","1a","NEWE"]
["05837","EAST HAVEN","VT","Vermont","1a","NEWE"]
["05740","EAST MIDDLEBURY","VT","Vermont","1a","NEWE"]
["05766","RIPTON","VT","Vermont","1a","NEWE"]
["05651","EAST MONTPELIER","VT","Vermont","1a","NEWE"]
["05666","NORTH MONTPELIER","VT","Vermont","1a","NEWE"]
["05041","EAST RANDOLPH","VT","Vermont","1a","NEWE"]
["05042","EAST RYEGATE","VT","Vermont","1a","NEWE"]
["05838","EAST SAINT JOHNSBURY","VT","Vermont","1a","NEWE"]
["05043","EAST THETFORD","VT","Vermont","1a","NEWE"]
["05742","EAST WALLINGFORD","VT","Vermont","1a","NEWE"]
["05652","EDEN","VT","Vermont","1a","NEWE"]
["05653","EDEN MILLS","VT","Vermont","1a","NEWE"]
["05447","EAST BERKSHIRE","VT","Vermont","1a","NEWE"]
["05450","ENOSBURG FALLS","VT","Vermont","1a","NEWE"]
["05451","ESSEX","VT","Vermont","1a","NEWE"]
["05452","ESSEX JUNCTION","VT","Vermont","1a","NEWE"]
["05453","ESSEX JUNCTION","VT","Vermont","1a","NEWE"]
["05454","FAIRFAX","VT","Vermont","1a","NEWE"]
["05455","FAIRFIELD","VT","Vermont","1a","NEWE"]
["05731","BENSON","VT","Vermont","1a","NEWE"]
["05743","FAIR HAVEN","VT","Vermont","1a","NEWE"]
["05045","FAIRLEE","VT","Vermont","1a","NEWE"]
["05456","FERRISBURGH","VT","Vermont","1a","NEWE"]
["05744","FLORENCE","VT","Vermont","1a","NEWE"]
["05745","FOREST DALE","VT","Vermont","1a","NEWE"]
["05457","FRANKLIN","VT","Vermont","1a","NEWE"]
["05746","GAYSVILLE","VT","Vermont","1a","NEWE"]
["05904","GILMAN","VT","Vermont","1a","NEWE"]
["05146","GRAFTON","VT","Vermont","1a","NEWE"]
["05458","GRAND ISLE","VT","Vermont","1a","NEWE"]
["05654","GRANITEVILLE","VT","Vermont","1a","NEWE"]
["05747","GRANVILLE","VT","Vermont","1a","NEWE"]
["05841","GREENSBORO","VT","Vermont","1a","NEWE"]
["05842","GREENSBORO BEND","VT","Vermont","1a","NEWE"]
["05046","GROTON","VT","Vermont","1a","NEWE"]
["05905","GUILDHALL","VT","Vermont","1a","NEWE"]
["05748","HANCOCK","VT","Vermont","1a","NEWE"]
["05843","HARDWICK","VT","Vermont","1a","NEWE"]
["05047","HARTFORD","VT","Vermont","1a","NEWE"]
["05048","HARTLAND","VT","Vermont","1a","NEWE"]
["05049","HARTLAND FOUR CORNERS","VT","Vermont","1a","NEWE"]
["05459","HIGHGATE CENTER","VT","Vermont","1a","NEWE"]
["05460","HIGHGATE SPRINGS","VT","Vermont","1a","NEWE"]
["05461","HINESBURG","VT","Vermont","1a","NEWE"]
["05462","HUNTINGTON","VT","Vermont","1a","NEWE"]
["05655","HYDE PARK","VT","Vermont","1a","NEWE"]
["05750","HYDEVILLE","VT","Vermont","1a","NEWE"]
["05845","IRASBURG","VT","Vermont","1a","NEWE"]
["05846","ISLAND POND","VT","Vermont","1a","NEWE"]
["05463","ISLE LA MOTTE","VT","Vermont","1a","NEWE"]
["05342","JACKSONVILLE","VT","Vermont","1a","NEWE"]
["05343","JAMAICA","VT","Vermont","1a","NEWE"]
["05464","JEFFERSONVILLE","VT","Vermont","1a","NEWE"]
["05465","JERICHO","VT","Vermont","1a","NEWE"]
["05656","JOHNSON","VT","Vermont","1a","NEWE"]
["05466","JONESVILLE","VT","Vermont","1a","NEWE"]
["05751","KILLINGTON","VT","Vermont","1a","NEWE"]
["05148","LONDONDERRY","VT","Vermont","1a","NEWE"]
["05847","LOWELL","VT","Vermont","1a","NEWE"]
["05848","LOWER WATERFORD","VT","Vermont","1a","NEWE"]
["05149","LUDLOW","VT","Vermont","1a","NEWE"]
["05906","LUNENBURG","VT","Vermont","1a","NEWE"]
["05849","LYNDON","VT","Vermont","1a","NEWE"]
["05850","LYNDON CENTER","VT","Vermont","1a","NEWE"]
["05851","LYNDONVILLE","VT","Vermont","1a","NEWE"]
["05050","MC INDOE FALLS","VT","Vermont","1a","NEWE"]
["05254","MANCHESTER","VT","Vermont","1a","NEWE"]
["05255","MANCHESTER CENTER","VT","Vermont","1a","NEWE"]
["05344","MARLBORO","VT","Vermont","1a","NEWE"]
["05658","MARSHFIELD","VT","Vermont","1a","NEWE"]
["05753","MIDDLEBURY","VT","Vermont","1a","NEWE"]
["05757","MIDDLETOWN SPRINGS","VT","Vermont","1a","NEWE"]
["05468","MILTON","VT","Vermont","1a","NEWE"]
["05469","MONKTON","VT","Vermont","1a","NEWE"]
["05470","MONTGOMERY","VT","Vermont","1a","NEWE"]
["05471","MONTGOMERY CENTER","VT","Vermont","1a","NEWE"]
["05601","MONTPELIER","VT","Vermont","1a","NEWE"]
["05602","MONTPELIER","VT","Vermont","1a","NEWE"]
["05603","MONTPELIER","VT","Vermont","1a","NEWE"]
["05604","MONTPELIER","VT","Vermont","1a","NEWE"]
["05609","MONTPELIER","VT","Vermont","1a","NEWE"]
["05620","MONTPELIER","VT","Vermont","1a","NEWE"]
["05633","MONTPELIER","VT","Vermont","1a","NEWE"]
["05660","MORETOWN","VT","Vermont","1a","NEWE"]
["05853","MORGAN","VT","Vermont","1a","NEWE"]
["05657","LAKE ELMORE","VT","Vermont","1a","NEWE"]
["05661","MORRISVILLE","VT","Vermont","1a","NEWE"]
["05758","MOUNT HOLLY","VT","Vermont","1a","NEWE"]
["05051","NEWBURY","VT","Vermont","1a","NEWE"]
["05345","NEWFANE","VT","Vermont","1a","NEWE"]
["05472","NEW HAVEN","VT","Vermont","1a","NEWE"]
["05855","NEWPORT","VT","Vermont","1a","NEWE"]
["05857","NEWPORT CENTER","VT","Vermont","1a","NEWE"]
["05257","NORTH BENNINGTON","VT","Vermont","1a","NEWE"]
["05759","NORTH CLARENDON","VT","Vermont","1a","NEWE"]
["05840","GRANBY","VT","Vermont","1a","NEWE"]
["05858","NORTH CONCORD","VT","Vermont","1a","NEWE"]
["05473","NORTH FERRISBURGH","VT","Vermont","1a","NEWE"]
["05663","NORTHFIELD","VT","Vermont","1a","NEWE"]
["05664","NORTHFIELD FALLS","VT","Vermont","1a","NEWE"]
["05052","NORTH HARTLAND","VT","Vermont","1a","NEWE"]
["05474","NORTH HERO","VT","Vermont","1a","NEWE"]
["05665","NORTH HYDE PARK","VT","Vermont","1a","NEWE"]
["05053","NORTH POMFRET","VT","Vermont","1a","NEWE"]
["05260","NORTH POWNAL","VT","Vermont","1a","NEWE"]
["05150","NORTH SPRINGFIELD","VT","Vermont","1a","NEWE"]
["05054","NORTH THETFORD","VT","Vermont","1a","NEWE"]
["05859","NORTH TROY","VT","Vermont","1a","NEWE"]
["05907","NORTON","VT","Vermont","1a","NEWE"]
["05055","NORWICH","VT","Vermont","1a","NEWE"]
["05860","ORLEANS","VT","Vermont","1a","NEWE"]
["05760","ORWELL","VT","Vermont","1a","NEWE"]
["05861","PASSUMPSIC","VT","Vermont","1a","NEWE"]
["05761","PAWLET","VT","Vermont","1a","NEWE"]
["05862","PEACHAM","VT","Vermont","1a","NEWE"]
["05151","PERKINSVILLE","VT","Vermont","1a","NEWE"]
["05152","PERU","VT","Vermont","1a","NEWE"]
["05762","PITTSFIELD","VT","Vermont","1a","NEWE"]
["05763","PITTSFORD","VT","Vermont","1a","NEWE"]
["05667","PLAINFIELD","VT","Vermont","1a","NEWE"]
["05056","PLYMOUTH","VT","Vermont","1a","NEWE"]
["05058","POST MILLS","VT","Vermont","1a","NEWE"]
["05741","EAST POULTNEY","VT","Vermont","1a","NEWE"]
["05764","POULTNEY","VT","Vermont","1a","NEWE"]
["05261","POWNAL","VT","Vermont","1a","NEWE"]
["05765","PROCTOR","VT","Vermont","1a","NEWE"]
["05153","PROCTORSVILLE","VT","Vermont","1a","NEWE"]
["05346","PUTNEY","VT","Vermont","1a","NEWE"]
["05059","QUECHEE","VT","Vermont","1a","NEWE"]
["05060","RANDOLPH","VT","Vermont","1a","NEWE"]
["05061","RANDOLPH CENTER","VT","Vermont","1a","NEWE"]
["05062","READING","VT","Vermont","1a","NEWE"]
["05350","READSBORO","VT","Vermont","1a","NEWE"]
["05352","STAMFORD","VT","Vermont","1a","NEWE"]
["05476","RICHFORD","VT","Vermont","1a","NEWE"]
["05477","RICHMOND","VT","Vermont","1a","NEWE"]
["05767","ROCHESTER","VT","Vermont","1a","NEWE"]
["05669","ROXBURY","VT","Vermont","1a","NEWE"]
["05768","RUPERT","VT","Vermont","1a","NEWE"]
["05701","RUTLAND","VT","Vermont","1a","NEWE"]
["05702","RUTLAND","VT","Vermont","1a","NEWE"]
["05478","SAINT ALBANS","VT","Vermont","1a","NEWE"]
["05479","SAINT ALBANS","VT","Vermont","1a","NEWE"]
["05481","SAINT ALBANS BAY","VT","Vermont","1a","NEWE"]
["05819","SAINT JOHNSBURY","VT","Vermont","1a","NEWE"]
["05863","SAINT JOHNSBURY CENTER","VT","Vermont","1a","NEWE"]
["05769","SALISBURY","VT","Vermont","1a","NEWE"]
["05154","SAXTONS RIVER","VT","Vermont","1a","NEWE"]
["05262","SHAFTSBURY","VT","Vermont","1a","NEWE"]
["05065","SHARON","VT","Vermont","1a","NEWE"]
["05866","SHEFFIELD","VT","Vermont","1a","NEWE"]
["05482","SHELBURNE","VT","Vermont","1a","NEWE"]
["05483","SHELDON","VT","Vermont","1a","NEWE"]
["05485","SHELDON SPRINGS","VT","Vermont","1a","NEWE"]
["05770","SHOREHAM","VT","Vermont","1a","NEWE"]
["05670","SOUTH BARRE","VT","Vermont","1a","NEWE"]
["05486","SOUTH HERO","VT","Vermont","1a","NEWE"]
["05155","SOUTH LONDONDERRY","VT","Vermont","1a","NEWE"]
["05067","SOUTH POMFRET","VT","Vermont","1a","NEWE"]
["05068","SOUTH ROYALTON","VT","Vermont","1a","NEWE"]
["05069","SOUTH RYEGATE","VT","Vermont","1a","NEWE"]
["05070","SOUTH STRAFFORD","VT","Vermont","1a","NEWE"]
["05071","SOUTH WOODSTOCK","VT","Vermont","1a","NEWE"]
["05156","SPRINGFIELD","VT","Vermont","1a","NEWE"]
["05487","STARKSBORO","VT","Vermont","1a","NEWE"]
["05772","STOCKBRIDGE","VT","Vermont","1a","NEWE"]
["05662","MOSCOW","VT","Vermont","1a","NEWE"]
["05672","STOWE","VT","Vermont","1a","NEWE"]
["05072","STRAFFORD","VT","Vermont","1a","NEWE"]
["05488","SWANTON","VT","Vermont","1a","NEWE"]
["05073","TAFTSVILLE","VT","Vermont","1a","NEWE"]
["05074","THETFORD","VT","Vermont","1a","NEWE"]
["05083","WEST FAIRLEE","VT","Vermont","1a","NEWE"]
["05075","THETFORD CENTER","VT","Vermont","1a","NEWE"]
["05353","TOWNSHEND","VT","Vermont","1a","NEWE"]
["05359","WEST TOWNSHEND","VT","Vermont","1a","NEWE"]
["05868","TROY","VT","Vermont","1a","NEWE"]
["05874","WESTFIELD","VT","Vermont","1a","NEWE"]
["05077","TUNBRIDGE","VT","Vermont","1a","NEWE"]
["05489","UNDERHILL","VT","Vermont","1a","NEWE"]
["05490","UNDERHILL CENTER","VT","Vermont","1a","NEWE"]
["05491","VERGENNES","VT","Vermont","1a","NEWE"]
["05354","VERNON","VT","Vermont","1a","NEWE"]
["05079","VERSHIRE","VT","Vermont","1a","NEWE"]
["05673","WAITSFIELD","VT","Vermont","1a","NEWE"]
["05773","WALLINGFORD","VT","Vermont","1a","NEWE"]
["05355","WARDSBORO","VT","Vermont","1a","NEWE"]
["05674","WARREN","VT","Vermont","1a","NEWE"]
["05675","WASHINGTON","VT","Vermont","1a","NEWE"]
["05671","WATERBURY","VT","Vermont","1a","NEWE"]
["05676","WATERBURY","VT","Vermont","1a","NEWE"]
["05677","WATERBURY CENTER","VT","Vermont","1a","NEWE"]
["05442","BELVIDERE CENTER","VT","Vermont","1a","NEWE"]
["05492","WATERVILLE","VT","Vermont","1a","NEWE"]
["05678","WEBSTERVILLE","VT","Vermont","1a","NEWE"]
["05774","WELLS","VT","Vermont","1a","NEWE"]
["05081","WELLS RIVER","VT","Vermont","1a","NEWE"]
["05867","SUTTON","VT","Vermont","1a","NEWE"]
["05871","WEST BURKE","VT","Vermont","1a","NEWE"]
["05872","WEST CHARLESTON","VT","Vermont","1a","NEWE"]
["05873","WEST DANVILLE","VT","Vermont","1a","NEWE"]
["05356","WEST DOVER","VT","Vermont","1a","NEWE"]
["05357","WEST DUMMERSTON","VT","Vermont","1a","NEWE"]
["05494","WESTFORD","VT","Vermont","1a","NEWE"]
["05358","WEST HALIFAX","VT","Vermont","1a","NEWE"]
["05084","WEST HARTFORD","VT","Vermont","1a","NEWE"]
["05158","WESTMINSTER","VT","Vermont","1a","NEWE"]
["05159","WESTMINSTER STATION","VT","Vermont","1a","NEWE"]
["05085","WEST NEWBURY","VT","Vermont","1a","NEWE"]
["05161","WESTON","VT","Vermont","1a","NEWE"]
["05775","WEST PAWLET","VT","Vermont","1a","NEWE"]
["05776","WEST RUPERT","VT","Vermont","1a","NEWE"]
["05736","CENTER RUTLAND","VT","Vermont","1a","NEWE"]
["05777","WEST RUTLAND","VT","Vermont","1a","NEWE"]
["05086","WEST TOPSHAM","VT","Vermont","1a","NEWE"]
["05360","WEST WARDSBORO","VT","Vermont","1a","NEWE"]
["05001","WHITE RIVER JUNCTION","VT","Vermont","1a","NEWE"]
["05009","WHITE RIVER JUNCTION","VT","Vermont","1a","NEWE"]
["05778","WHITING","VT","Vermont","1a","NEWE"]
["05361","WHITINGHAM","VT","Vermont","1a","NEWE"]
["05088","WILDER","VT","Vermont","1a","NEWE"]
["05679","WILLIAMSTOWN","VT","Vermont","1a","NEWE"]
["05351","SOUTH NEWFANE","VT","Vermont","1a","NEWE"]
["05362","WILLIAMSVILLE","VT","Vermont","1a","NEWE"]
["05495","WILLISTON","VT","Vermont","1a","NEWE"]
["05363","WILMINGTON","VT","Vermont","1a","NEWE"]
["05089","WINDSOR","VT","Vermont","1a","NEWE"]
["05680","WOLCOTT","VT","Vermont","1a","NEWE"]
["05681","WOODBURY","VT","Vermont","1a","NEWE"]
["05091","WOODSTOCK","VT","Vermont","1a","NEWE"]
["05682","WORCESTER","VT","Vermont","1a","NEWE"]
["06231","AMSTON","CT","Connecticut","1a","NEWE"]
["06232","ANDOVER","CT","Connecticut","1a","NEWE"]
["06401","ANSONIA","CT","Connecticut","1a","NEWE"]
["06278","ASHFORD","CT","Connecticut","1a","NEWE"]
["06001","AVON","CT","Connecticut","1a","NEWE"]
["06233","BALLOUVILLE","CT","Connecticut","1a","NEWE"]
["06330","BALTIC","CT","Connecticut","1a","NEWE"]
["06750","BANTAM","CT","Connecticut","1a","NEWE"]
["06403","BEACON FALLS","CT","Connecticut","1a","NEWE"]
["06801","BETHEL","CT","Connecticut","1a","NEWE"]
["06751","BETHLEHEM","CT","Connecticut","1a","NEWE"]
["06002","BLOOMFIELD","CT","Connecticut","1a","NEWE"]
["06404","BOTSFORD","CT","Connecticut","1a","NEWE"]
["06405","BRANFORD","CT","Connecticut","1a","NEWE"]
["06601","BRIDGEPORT","CT","Connecticut","1a","NEWE"]
["06602","BRIDGEPORT","CT","Connecticut","1a","NEWE"]
["06604","BRIDGEPORT","CT","Connecticut","1a","NEWE"]
["06605","BRIDGEPORT","CT","Connecticut","1a","NEWE"]
["06606","BRIDGEPORT","CT","Connecticut","1a","NEWE"]
["06607","BRIDGEPORT","CT","Connecticut","1a","NEWE"]
["06608","BRIDGEPORT","CT","Connecticut","1a","NEWE"]
["06610","BRIDGEPORT","CT","Connecticut","1a","NEWE"]
["06611","TRUMBULL","CT","Connecticut","1a","NEWE"]
["06612","EASTON","CT","Connecticut","1a","NEWE"]
["06614","STRATFORD","CT","Connecticut","1a","NEWE"]
["06615","STRATFORD","CT","Connecticut","1a","NEWE"]
["06650","BRIDGEPORT","CT","Connecticut","1a","NEWE"]
["06673","BRIDGEPORT","CT","Connecticut","1a","NEWE"]
["06699","BRIDGEPORT","CT","Connecticut","1a","NEWE"]
["06752","BRIDGEWATER","CT","Connecticut","1a","NEWE"]
["06010","BRISTOL","CT","Connecticut","1a","NEWE"]
["06011","BRISTOL","CT","Connecticut","1a","NEWE"]
["06016","BROAD BROOK","CT","Connecticut","1a","NEWE"]
["06804","BROOKFIELD","CT","Connecticut","1a","NEWE"]
["06234","BROOKLYN","CT","Connecticut","1a","NEWE"]
["06018","CANAAN","CT","Connecticut","1a","NEWE"]
["06331","CANTERBURY","CT","Connecticut","1a","NEWE"]
["06019","CANTON","CT","Connecticut","1a","NEWE"]
["06020","CANTON CENTER","CT","Connecticut","1a","NEWE"]
["06409","CENTERBROOK","CT","Connecticut","1a","NEWE"]
["06332","CENTRAL VILLAGE","CT","Connecticut","1a","NEWE"]
["06235","CHAPLIN","CT","Connecticut","1a","NEWE"]
["06408","CHESHIRE","CT","Connecticut","1a","NEWE"]
["06410","CHESHIRE","CT","Connecticut","1a","NEWE"]
["06411","CHESHIRE","CT","Connecticut","1a","NEWE"]
["06412","CHESTER","CT","Connecticut","1a","NEWE"]
["06413","CLINTON","CT","Connecticut","1a","NEWE"]
["06414","COBALT","CT","Connecticut","1a","NEWE"]
["06415","COLCHESTER","CT","Connecticut","1a","NEWE"]
["06420","SALEM","CT","Connecticut","1a","NEWE"]
["06021","COLEBROOK","CT","Connecticut","1a","NEWE"]
["06022","COLLINSVILLE","CT","Connecticut","1a","NEWE"]
["06237","COLUMBIA","CT","Connecticut","1a","NEWE"]
["06753","CORNWALL","CT","Connecticut","1a","NEWE"]
["06754","CORNWALL BRIDGE","CT","Connecticut","1a","NEWE"]
["06807","COS COB","CT","Connecticut","1a","NEWE"]
["06238","COVENTRY","CT","Connecticut","1a","NEWE"]
["06416","CROMWELL","CT","Connecticut","1a","NEWE"]
["06810","DANBURY","CT","Connecticut","1a","NEWE"]
["06811","DANBURY","CT","Connecticut","1a","NEWE"]
["06812","NEW FAIRFIELD","CT","Connecticut","1a","NEWE"]
["06813","DANBURY","CT","Connecticut","1a","NEWE"]
["06814","DANBURY","CT","Connecticut","1a","NEWE"]
["06816","DANBURY","CT","Connecticut","1a","NEWE"]
["06817","DANBURY","CT","Connecticut","1a","NEWE"]
["06239","DANIELSON","CT","Connecticut","1a","NEWE"]
["06820","DARIEN","CT","Connecticut","1a","NEWE"]
["06241","DAYVILLE","CT","Connecticut","1a","NEWE"]
["06417","DEEP RIVER","CT","Connecticut","1a","NEWE"]
["06419","KILLINGWORTH","CT","Connecticut","1a","NEWE"]
["06418","DERBY","CT","Connecticut","1a","NEWE"]
["06422","DURHAM","CT","Connecticut","1a","NEWE"]
["06023","EAST BERLIN","CT","Connecticut","1a","NEWE"]
["06024","EAST CANAAN","CT","Connecticut","1a","NEWE"]
["06242","EASTFORD","CT","Connecticut","1a","NEWE"]
["06025","EAST GLASTONBURY","CT","Connecticut","1a","NEWE"]
["06026","EAST GRANBY","CT","Connecticut","1a","NEWE"]
["06423","EAST HADDAM","CT","Connecticut","1a","NEWE"]
["06424","EAST HAMPTON","CT","Connecticut","1a","NEWE"]
["06447","MARLBOROUGH","CT","Connecticut","1a","NEWE"]
["06027","EAST HARTLAND","CT","Connecticut","1a","NEWE"]
["06243","EAST KILLINGLY","CT","Connecticut","1a","NEWE"]
["06333","EAST LYME","CT","Connecticut","1a","NEWE"]
["06088","EAST WINDSOR","CT","Connecticut","1a","NEWE"]
["06028","EAST WINDSOR HILL","CT","Connecticut","1a","NEWE"]
["06244","EAST WOODSTOCK","CT","Connecticut","1a","NEWE"]
["06029","ELLINGTON","CT","Connecticut","1a","NEWE"]
["06082","ENFIELD","CT","Connecticut","1a","NEWE"]
["06083","ENFIELD","CT","Connecticut","1a","NEWE"]
["06426","ESSEX","CT","Connecticut","1a","NEWE"]
["06245","FABYAN","CT","Connecticut","1a","NEWE"]
["06824","FAIRFIELD","CT","Connecticut","1a","NEWE"]
["06825","FAIRFIELD","CT","Connecticut","1a","NEWE"]
["06828","FAIRFIELD","CT","Connecticut","1a","NEWE"]
["06031","FALLS VILLAGE","CT","Connecticut","1a","NEWE"]
["06030","FARMINGTON","CT","Connecticut","1a","NEWE"]
["06032","FARMINGTON","CT","Connecticut","1a","NEWE"]
["06034","FARMINGTON","CT","Connecticut","1a","NEWE"]
["06334","BOZRAH","CT","Connecticut","1a","NEWE"]
["06335","GALES FERRY","CT","Connecticut","1a","NEWE"]
["06338","MASHANTUCKET","CT","Connecticut","1a","NEWE"]
["06339","LEDYARD","CT","Connecticut","1a","NEWE"]
["06755","GAYLORDSVILLE","CT","Connecticut","1a","NEWE"]
["06829","GEORGETOWN","CT","Connecticut","1a","NEWE"]
["06336","GILMAN","CT","Connecticut","1a","NEWE"]
["06033","GLASTONBURY","CT","Connecticut","1a","NEWE"]
["06756","GOSHEN","CT","Connecticut","1a","NEWE"]
["06035","GRANBY","CT","Connecticut","1a","NEWE"]
["06838","GREENS FARMS","CT","Connecticut","1a","NEWE"]
["06830","GREENWICH","CT","Connecticut","1a","NEWE"]
["06831","GREENWICH","CT","Connecticut","1a","NEWE"]
["06836","GREENWICH","CT","Connecticut","1a","NEWE"]
["06246","GROSVENOR DALE","CT","Connecticut","1a","NEWE"]
["06340","GROTON","CT","Connecticut","1a","NEWE"]
["06349","GROTON","CT","Connecticut","1a","NEWE"]
["06437","GUILFORD","CT","Connecticut","1a","NEWE"]
["06438","HADDAM","CT","Connecticut","1a","NEWE"]
["06439","HADLYME","CT","Connecticut","1a","NEWE"]
["06247","HAMPTON","CT","Connecticut","1a","NEWE"]
["06350","HANOVER","CT","Connecticut","1a","NEWE"]
["06101","HARTFORD","CT","Connecticut","1a","NEWE"]
["06102","HARTFORD","CT","Connecticut","1a","NEWE"]
["06103","HARTFORD","CT","Connecticut","1a","NEWE"]
["06104","HARTFORD","CT","Connecticut","1a","NEWE"]
["06105","HARTFORD","CT","Connecticut","1a","NEWE"]
["06106","HARTFORD","CT","Connecticut","1a","NEWE"]
["06107","WEST HARTFORD","CT","Connecticut","1a","NEWE"]
["06108","EAST HARTFORD","CT","Connecticut","1a","NEWE"]
["06109","WETHERSFIELD","CT","Connecticut","1a","NEWE"]
["06110","WEST HARTFORD","CT","Connecticut","1a","NEWE"]
["06111","NEWINGTON","CT","Connecticut","1a","NEWE"]
["06112","HARTFORD","CT","Connecticut","1a","NEWE"]
["06114","HARTFORD","CT","Connecticut","1a","NEWE"]
["06115","HARTFORD","CT","Connecticut","1a","NEWE"]
["06117","WEST HARTFORD","CT","Connecticut","1a","NEWE"]
["06118","EAST HARTFORD","CT","Connecticut","1a","NEWE"]
["06119","WEST HARTFORD","CT","Connecticut","1a","NEWE"]
["06120","HARTFORD","CT","Connecticut","1a","NEWE"]
["06123","HARTFORD","CT","Connecticut","1a","NEWE"]
["06126","HARTFORD","CT","Connecticut","1a","NEWE"]
["06127","WEST HARTFORD","CT","Connecticut","1a","NEWE"]
["06128","EAST HARTFORD","CT","Connecticut","1a","NEWE"]
["06129","WETHERSFIELD","CT","Connecticut","1a","NEWE"]
["06131","NEWINGTON","CT","Connecticut","1a","NEWE"]
["06132","HARTFORD","CT","Connecticut","1a","NEWE"]
["06133","WEST HARTFORD","CT","Connecticut","1a","NEWE"]
["06134","HARTFORD","CT","Connecticut","1a","NEWE"]
["06137","WEST HARTFORD","CT","Connecticut","1a","NEWE"]
["06138","EAST HARTFORD","CT","Connecticut","1a","NEWE"]
["06140","HARTFORD","CT","Connecticut","1a","NEWE"]
["06141","HARTFORD","CT","Connecticut","1a","NEWE"]
["06142","HARTFORD","CT","Connecticut","1a","NEWE"]
["06143","HARTFORD","CT","Connecticut","1a","NEWE"]
["06144","HARTFORD","CT","Connecticut","1a","NEWE"]
["06145","HARTFORD","CT","Connecticut","1a","NEWE"]
["06146","HARTFORD","CT","Connecticut","1a","NEWE"]
["06147","HARTFORD","CT","Connecticut","1a","NEWE"]
["06150","HARTFORD","CT","Connecticut","1a","NEWE"]
["06151","HARTFORD","CT","Connecticut","1a","NEWE"]
["06152","HARTFORD","CT","Connecticut","1a","NEWE"]
["06153","HARTFORD","CT","Connecticut","1a","NEWE"]
["06154","HARTFORD","CT","Connecticut","1a","NEWE"]
["06155","HARTFORD","CT","Connecticut","1a","NEWE"]
["06156","HARTFORD","CT","Connecticut","1a","NEWE"]
["06183","HARTFORD","CT","Connecticut","1a","NEWE"]
["06451","MERIDEN","CT","Connecticut","1a","NEWE"]
["06502","NEW HAVEN","CT","Connecticut","1a","NEWE"]
["06525","WOODBRIDGE","CT","Connecticut","1a","NEWE"]
["06474","NORTH WESTCHESTER","CT","Connecticut","1a","NEWE"]
["06853","NORWALK","CT","Connecticut","1a","NEWE"]
["06479","PLANTSVILLE","CT","Connecticut","1a","NEWE"]
["06483","SEYMOUR","CT","Connecticut","1a","NEWE"]
["06901","STAMFORD","CT","Connecticut","1a","NEWE"]
["06269","STORRS MANSFIELD","CT","Connecticut","1a","NEWE"]
["06777","NEW PRESTON MARBLE DALE","CT","Connecticut","1a","NEWE"]
["06793","WASHINGTON","CT","Connecticut","1a","NEWE"]
["06498","WESTBROOK","CT","Connecticut","1a","NEWE"]
["01256","SAVOY","MA","Massachusetts","1a","NEWE"]
["01343","DRURY","MA","Massachusetts","1a","NEWE"]
["01116","LONGMEADOW","MA","Massachusetts","1a","NEWE"]
["01036","HAMPDEN","MA","Massachusetts","1a","NEWE"]
["01235","HINSDALE","MA","Massachusetts","1a","NEWE"]
["02742","NEW BEDFORD","MA","Massachusetts","1a","NEWE"]
["01364","ORANGE","MA","Massachusetts","1a","NEWE"]
["01373","SOUTH DEERFIELD","MA","Massachusetts","1a","NEWE"]
["01138","SPRINGFIELD","MA","Massachusetts","1a","NEWE"]
["01085","WESTFIELD","MA","Massachusetts","1a","NEWE"]
["01090","WEST SPRINGFIELD","MA","Massachusetts","1a","NEWE"]
["02814","CHEPACHET","RI","Rhode Island","1a","NEWE"]
["02852","NORTH KINGSTOWN","RI","Rhode Island","1a","NEWE"]
["02921","CRANSTON","RI","Rhode Island","1a","NEWE"]
["02894","WOOD RIVER JUNCTION","RI","Rhode Island","1a","NEWE"]
["02914","EAST PROVIDENCE","RI","Rhode Island","1a","NEWE"]
["07003","BLOOMFIELD","NJ","New Jersey","1b","RFCE"]
["07011","CLIFTON","NJ","New Jersey","1b","RFCE"]
["07019","EAST ORANGE","NJ","New Jersey","1b","RFCE"]
["07022","FAIRVIEW","NJ","New Jersey","1b","RFCE"]
["07603","BOGOTA","NJ","New Jersey","1b","RFCE"]
["07608","TETERBORO","NJ","New Jersey","1b","RFCE"]
["07845","IRONIA","NJ","New Jersey","1b","RFCE"]
["07849","LAKE HOPATCONG","NJ","New Jersey","1b","RFCE"]
["07945","MENDHAM","NJ","New Jersey","1b","RFCE"]
["07101","NEWARK","NJ","New Jersey","1b","RFCE"]
["07106","NEWARK","NJ","New Jersey","1b","RFCE"]
["08904","HIGHLAND PARK","NJ","New Jersey","1b","RFCE"]
["07653","PARAMUS","NJ","New Jersey","1b","RFCE"]
["07524","PATERSON","NJ","New Jersey","1b","RFCE"]
["07064","PORT READING","NJ","New Jersey","1b","RFCE"]
["07074","MOONACHIE","NJ","New Jersey","1b","RFCE"]
["08884","SPOTSWOOD","NJ","New Jersey","1b","RFCE"]
["07875","STILLWATER","NJ","New Jersey","1b","RFCE"]
["07474","WAYNE","NJ","New Jersey","1b","RFCE"]
["10080","NEW YORK","NY","New York","1b","NYCW"]
["10121","NEW YORK","NY","New York","1b","NYCW"]
["10158","NEW YORK","NY","New York","1b","NYCW"]
["10163","NEW YORK","NY","New York","1b","NYCW"]
["10256","NEW YORK","NY","New York","1b","NYCW"]
["10282","NEW YORK","NY","New York","1b","NYCW"]
["12410","BIG INDIAN","NY","New York","1b","NYUP"]
["10514","CHAPPAQUA","NY","New York","1b","NYCW"]
["10520","CROTON ON HUDSON","NY","New York","1b","NYCW"]
["12522","DOVER PLAINS","NY","New York","1b","NYUP"]
["12433","GLENFORD","NY","New York","1b","NYUP"]
["10930","HIGHLAND MILLS","NY","New York","1b","NYUP"]
["12751","KIAMESHA LAKE","NY","New York","1b","NYUP"]
["10543","MAMARONECK","NY","New York","1b","NYCW"]
["10953","MOUNTAINVILLE","NY","New York","1b","NYUP"]
["10549","MOUNT KISCO","NY","New York","1b","NYCW"]
["12766","NORTH BRANCH","NY","New York","1b","NYUP"]
["12567","PINE PLAINS","NY","New York","1b","NYUP"]
["12504","ANNANDALE ON HUDSON","NY","New York","1b","NYUP"]
["10589","SOMERS","NY","New York","1b","NYUP"]
["10590","SOUTH SALEM","NY","New York","1b","NYUP"]
["10985","THOMPSON RIDGE","NY","New York","1b","NYUP"]
["12491","WEST HURLEY","NY","New York","1b","NYUP"]
["12788","WOODBOURNE","NY","New York","1b","NYUP"]
["11209","BROOKLYN","NY","New York","1b","NYCW"]
["11235","BROOKLYN","NY","New York","1b","NYCW"]
["11697","BREEZY POINT","NY","New York","1b","NYCW"]
["11005","FLORAL PARK","NY","New York","1b","NYCW"]
["11020","GREAT NECK","NY","New York","1b","NYLI"]
["11416","OZONE PARK","NY","New York","1b","NYCW"]
["11102","ASTORIA","NY","New York","1b","NYCW"]
["10306","STATEN ISLAND","NY","New York","1b","NYCW"]
["10311","STATEN ISLAND","NY","New York","1b","NYCW"]
["11719","BROOKHAVEN","NY","New York","1b","NYLI"]
["11731","EAST NORTHPORT","NY","New York","1b","NYLI"]
["11551","HEMPSTEAD","NY","New York","1b","NYLI"]
["11753","JERICHO","NY","New York","1b","NYLI"]
["11955","MORICHES","NY","New York","1b","NYLI"]
["11769","OAKDALE","NY","New York","1b","NYLI"]
["11962","SAGAPONACK","NY","New York","1b","NYLI"]
["11556","UNIONDALE","NY","New York","1b","NYLI"]
["12201","ALBANY","NY","New York","1b","NYUP"]
["12229","ALBANY","NY","New York","1b","NYUP"]
["12234","ALBANY","NY","New York","1b","NYUP"]
["12260","ALBANY","NY","New York","1b","NYUP"]
["13303","AVA","NY","New York","1b","NYUP"]
["13308","BLOSSVALE","NY","New York","1b","NYUP"]
["13315","BURLINGTON FLATS","NY","New York","1b","NYUP"]
["13034","CAYUGA","NY","New York","1b","NYUP"]
["12923","CHURUBUSCO","NY","New York","1b","NYUP"]
["13041","CLAY","NY","New York","1b","NYUP"]
["13627","DEER RIVER","NY","New York","1b","NYUP"]
["13051","DELPHI FALLS","NY","New York","1b","NYUP"]
["12062","EAST NASSAU","NY","New York","1b","NYUP"]
["13066","FAYETTEVILLE","NY","New York","1b","NYUP"]
["13638","FELTS MILLS","NY","New York","1b","NYUP"]
["12939","GABRIELS","NY","New York","1b","NYUP"]
["13643","GREAT BEND","NY","New York","1b","NYUP"]
["12838","HARTFORD","NY","New York","1b","NYUP"]
["12941","JAY","NY","New York","1b","NYUP"]
["13083","LACONA","NY","New York","1b","NYUP"]
["12846","LAKE LUZERNE","NY","New York","1b","NYUP"]
["12952","LYON MOUNTAIN","NY","New York","1b","NYUP"]
["13662","MASSENA","NY","New York","1b","NYUP"]
["13118","MORAVIA","NY","New York","1b","NYUP"]
["12125","NEW LEBANON","NY","New York","1b","NYUP"]
["13815","NORWICH","NY","New York","1b","NYUP"]
["13472","THENDARA","NY","New York","1b","NYUP"]
["12138","PETERSBURG","NY","New York","1b","NYUP"]
["13141","PREBLE","NY","New York","1b","NYUP"]
["13439","RICHFIELD SPRINGS","NY","New York","1b","NYUP"]
["13145","SANDY CREEK","NY","New York","1b","NYUP"]
["13456","SAUQUOIT","NY","New York","1b","NYUP"]
["12871","SCHUYLERVILLE","NY","New York","1b","NYUP"]
["13844","SOUTH PLYMOUTH","NY","New York","1b","NYUP"]
["13206","SYRACUSE","NY","New York","1b","NYUP"]
["13261","SYRACUSE","NY","New York","1b","NYUP"]
["13502","UTICA","NY","New York","1b","NYUP"]
["13164","WARNERS","NY","New York","1b","NYUP"]
["13165","WATERLOO","NY","New York","1b","NYUP"]
["12993","WESTPORT","NY","New York","1b","NYUP"]
["19931","BETHEL","DE","Delaware","1b","RFCE"]
["19954","HOUSTON","DE","Delaware","1b","RFCE"]
["19717","NEWARK","DE","Delaware","1b","RFCE"]
["19721","NEW CASTLE","DE","Delaware","1b","RFCE"]
["19850","WILMINGTON","DE","Delaware","1b","RFCE"]
["07711","ALLENHURST","NJ","New Jersey","1b","RFCE"]
["08009","BERLIN","NJ","New Jersey","1b","RFCE"]
["08110","PENNSAUKEN","NJ","New Jersey","1b","RFCE"]
["08514","CREAM RIDGE","NJ","New Jersey","1b","RFCE"]
["08314","DELMONT","NJ","New Jersey","1b","RFCE"]
["08027","GIBBSTOWN","NJ","New Jersey","1b","RFCE"]
["07734","KEANSBURG","NJ","New Jersey","1b","RFCE"]
["08051","MANTUA","NJ","New Jersey","1b","RFCE"]
["08054","MOUNT LAUREL","NJ","New Jersey","1b","RFCE"]
["07753","NEPTUNE","NJ","New Jersey","1b","RFCE"]
["08068","PEMBERTON","NJ","New Jersey","1b","RFCE"]
["07702","SHREWSBURY","NJ","New Jersey","1b","RFCE"]
["08353","SHILOH","NJ","New Jersey","1b","RFCE"]
["08756","TOMS RIVER","NJ","New Jersey","1b","RFCE"]
["08648","LAWRENCE TOWNSHIP","NJ","New Jersey","1b","RFCE"]
["08695","TRENTON","NJ","New Jersey","1b","RFCE"]
["08095","WINSLOW","NJ","New Jersey","1b","RFCE"]
["14009","ARCADE","NY","New York","1b","NYUP"]
["14714","BLACK CREEK","NY","New York","1b","NYUP"]
["14209","BUFFALO","NY","New York","1b","NYUP"]
["14272","BUFFALO","NY","New York","1b","NYUP"]
["14273","BUFFALO","NY","New York","1b","NYUP"]
["14428","CHURCHVILLE","NY","New York","1b","NYUP"]
["14041","DAYTON","NY","New York","1b","NYUP"]
["14731","ELLICOTTVILLE","NY","New York","1b","NYUP"]
["14066","GAINESVILLE","NY","New York","1b","NYUP"]
["14467","HENRIETTA","NY","New York","1b","NYUP"]
["14469","BLOOMFIELD","NY","New York","1b","NYUP"]
["14476","KENDALL","NY","New York","1b","NYUP"]
["14755","LITTLE VALLEY","NY","New York","1b","NYUP"]
["14508","MORTON","NY","New York","1b","NYUP"]
["14516","NORTH ROSE","NY","New York","1b","NYUP"]
["14130","PIKE","NY","New York","1b","NYUP"]
["14537","PORT GIBSON","NY","New York","1b","NYUP"]
["14610","ROCHESTER","NY","New York","1b","NYUP"]
["14649","ROCHESTER","NY","New York","1b","NYUP"]
["14549","SILVER LAKE","NY","New York","1b","NYUP"]
["14884","SWAIN","NY","New York","1b","NYUP"]
["14887","TYRONE","NY","New York","1b","NYUP"]
["14586","WEST HENRIETTA","NY","New York","1b","NYUP"]
["15412","ALLENPORT","PA","Pennsylvania","1b","RFCW"]
["15618","AVONMORE","PA","Pennsylvania","1b","RFCW"]
["15530","BERLIN","PA","Pennsylvania","1b","RFCE"]
["16701","BRADFORD","PA","Pennsylvania","1b","RFCE"]
["15415","BRIER HILL","PA","Pennsylvania","1b","RFCW"]
["16023","CABOT","PA","Pennsylvania","1b","RFCW"]
["15622","CHAMPION","PA","Pennsylvania","1b","RFCE"]
["15323","CLAYSVILLE","PA","Pennsylvania","1b","RFCW"]
["15731","CORAL","PA","Pennsylvania","1b","RFCE"]
["16218","COWANSVILLE","PA","Pennsylvania","1b","RFCW"]
["16115","DARLINGTON","PA","Pennsylvania","1b","RFCW"]
["16635","DUNCANSVILLE","PA","Pennsylvania","1b","RFCE"]
["15736","ELDERTON","PA","Pennsylvania","1b","RFCE"]
["16511","ERIE","PA","Pennsylvania","1b","RFCE"]
["16639","FALLENTIMBER","PA","Pennsylvania","1b","RFCE"]
["16124","FREDONIA","PA","Pennsylvania","1b","RFCW"]
["15541","FRIEDENS","PA","Pennsylvania","1b","RFCE"]
["15338","GREENSBORO","PA","Pennsylvania","1b","RFCW"]
["16230","HAWTHORN","PA","Pennsylvania","1b","RFCW"]
["15342","HOUSTON","PA","Pennsylvania","1b","RFCW"]
["16329","IRVINE","PA","Pennsylvania","1b","RFCE"]
["15448","JACOBS CREEK","PA","Pennsylvania","1b","RFCW"]
["16845","KARTHAUS","PA","Pennsylvania","1b","RFCE"]
["15650","LATROBE","PA","Pennsylvania","1b","RFCW"]
["15866","TROUTVILLE","PA","Pennsylvania","1b","RFCE"]
["15550","MANNS CHOICE","PA","Pennsylvania","1b","RFCE"]
["15060","MIDWAY","PA","Pennsylvania","1b","RFCW"]
["16427","MILL VILLAGE","PA","Pennsylvania","1b","RFCE"]
["15670","NEW ALEXANDRIA","PA","Pennsylvania","1b","RFCW"]
["15468","NEW SALEM","PA","Pennsylvania","1b","RFCW"]
["16667","OSTERBURG","PA","Pennsylvania","1b","RFCE"]
["15205","PITTSBURGH","PA","Pennsylvania","1b","RFCW"]
["15230","PITTSBURGH","PA","Pennsylvania","1b","RFCW"]
["15231","PITTSBURGH","PA","Pennsylvania","1b","RFCW"]
["15262","PITTSBURGH","PA","Pennsylvania","1b","RFCW"]
["15474","POINT MARION","PA","Pennsylvania","1b","RFCW"]
["16343","RENO","PA","Pennsylvania","1b","RFCE"]
["16746","ROULETTE","PA","Pennsylvania","1b","RFCW"]
["16345","RUSSELL","PA","Pennsylvania","1b","RFCE"]
["16319","CRANBERRY","PA","Pennsylvania","1b","RFCE"]
["16749","SMETHPORT","PA","Pennsylvania","1b","RFCE"]
["16436","SPRING CREEK","PA","Pennsylvania","1b","RFCE"]
["15364","SYCAMORE","PA","Pennsylvania","1b","RFCW"]
["16686","TYRONE","PA","Pennsylvania","1b","RFCE"]
["15781","WALSTON","PA","Pennsylvania","1b","RFCE"]
["16367","WARREN","PA","Pennsylvania","1b","RFCE"]
["16159","WEST MIDDLESEX","PA","Pennsylvania","1b","RFCW"]
["16695","WOODBURY","PA","Pennsylvania","1b","RFCE"]
["26056","NEW MANCHESTER","WV","West Virginia","1c","RFCW"]
["18105","ALLENTOWN","PA","Pennsylvania","1b","RFCE"]
["17210","AMBERSON","PA","Pennsylvania","1b","RFCE"]
["18321","BARTONSVILLE","PA","Pennsylvania","1b","RFCE"]
["18017","BETHLEHEM","PA","Pennsylvania","1b","RFCE"]
["18322","BRODHEADSVILLE","PA","Pennsylvania","1b","RFCE"]
["17013","CARLISLE","PA","Pennsylvania","1b","RFCE"]
["18037","COPLAY","PA","Pennsylvania","1b","RFCE"]
["18327","DELAWARE WATER GAP","PA","Pennsylvania","1b","RFCE"]
["18328","DINGMANS FERRY","PA","Pennsylvania","1b","RFCE"]
["18301","EAST STROUDSBURG","PA","Pennsylvania","1b","RFCE"]
["18615","FALLS","PA","Pennsylvania","1b","RFCE"]
["18818","FRIENDSVILLE","PA","Pennsylvania","1b","RFCE"]
["19523","GEIGERTOWN","PA","Pennsylvania","1b","RFCE"]
["17030","GRATZ","PA","Pennsylvania","1b","RFCE"]
["17108","HARRISBURG","PA","Pennsylvania","1b","RFCE"]
["17938","HEGINS","PA","Pennsylvania","1b","RFCE"]
["17337","IDAVILLE","PA","Pennsylvania","1b","RFCE"]
["18623","LACEYVILLE","PA","Pennsylvania","1b","RFCE"]
["17942","LANDINGVILLE","PA","Pennsylvania","1b","RFCE"]
["18440","LA PLUME","PA","Pennsylvania","1b","RFCE"]
["16930","LIBERTY","PA","Pennsylvania","1b","RFCE"]
["18237","MCADOO","PA","Pennsylvania","1b","RFCE"]
["17952","MARY D","PA","Pennsylvania","1b","RFCE"]
["18337","MILFORD","PA","Pennsylvania","1b","RFCE"]
["17060","MILL CREEK","PA","Pennsylvania","1b","RFCE"]
["19543","MORGANTOWN","PA","Pennsylvania","1b","RFCE"]
["17555","NARVON","PA","Pennsylvania","1b","RFCE"]
["17959","NEW PHILADELPHIA","PA","Pennsylvania","1b","RFCE"]
["17244","ORRSTOWN","PA","Pennsylvania","1b","RFCE"]
["17080","PILLOW","PA","Pennsylvania","1b","RFCE"]
["18641","PITTSTON","PA","Pennsylvania","1b","RFCE"]
["18455","PRESTON PARK","PA","Pennsylvania","1b","RFCE"]
["17356","RED LION","PA","Pennsylvania","1b","RFCE"]
["17968","SACRAMENTO","PA","Pennsylvania","1b","RFCE"]
["18510","SCRANTON","PA","Pennsylvania","1b","RFCE"]
["18458","SHOHOLA","PA","Pennsylvania","1b","RFCE"]
["18079","SLATEDALE","PA","Pennsylvania","1b","RFCE"]
["17363","STEWARTSTOWN","PA","Pennsylvania","1b","RFCE"]
["17581","TERRE HILL","PA","Pennsylvania","1b","RFCE"]
["17982","TUSCARORA","PA","Pennsylvania","1b","RFCE"]
["19565","WERNERSVILLE","PA","Pennsylvania","1b","RFCE"]
["18256","WESTON","PA","Pennsylvania","1b","RFCE"]
["18764","WILKES BARRE","PA","Pennsylvania","1b","RFCE"]
["17401","YORK","PA","Pennsylvania","1b","RFCE"]
["19312","BERWYN","PA","Pennsylvania","1b","RFCE"]
["19017","CHESTER HEIGHTS","PA","Pennsylvania","1b","RFCE"]
["18902","DOYLESTOWN","PA","Pennsylvania","1b","RFCE"]
["18923","FOUNTAINVILLE","PA","Pennsylvania","1b","RFCE"]
["19342","GLEN MILLS","PA","Pennsylvania","1b","RFCE"]
["18930","KINTNERSVILLE","PA","Pennsylvania","1b","RFCE"]
["19355","MALVERN","PA","Pennsylvania","1b","RFCE"]
["19405","BRIDGEPORT","PA","Pennsylvania","1b","RFCE"]
["19019","PHILADELPHIA","PA","Pennsylvania","1b","RFCE"]
["19102","PHILADELPHIA","PA","Pennsylvania","1b","RFCE"]
["19128","PHILADELPHIA","PA","Pennsylvania","1b","RFCE"]
["19149","PHILADELPHIA","PA","Pennsylvania","1b","RFCE"]
["19188","PHILADELPHIA","PA","Pennsylvania","1b","RFCE"]
["18955","RICHLANDTOWN","PA","Pennsylvania","1b","RFCE"]
["19371","SUPLEE","PA","Pennsylvania","1b","RFCE"]
["18970","TRUMBAUERSVILLE","PA","Pennsylvania","1b","RFCE"]
["19080","WAYNE","PA","Pennsylvania","1b","RFCE"]
["37625","BRISTOL","TN","Tennessee",2,"SRTV"]
["24603","BIG ROCK","VA","Virginia","1c","SRTV"]
["24209","BRISTOL","VA","Virginia","1c","SRTV"]
["24530","CALLANDS","VA","Virginia","1c","RFCW"]
["24535","CLUSTER SPRINGS","VA","Virginia","1c","SRVC"]
["24245","DUNGANNON","VA","Virginia","1c","SRTV"]
["24555","GLASGOW","VA","Virginia","1c","SRVC"]
["24565","JAVA","VA","Virginia","1c","SRVC"]
["24113","MARTINSVILLE","VA","Virginia","1c","RFCW"]
["24360","MAX MEADOWS","VA","Virginia","1c","RFCW"]
["24273","NORTON","VA","Virginia","1c","SRTV"]
["24146","REDWOOD","VA","Virginia","1c","RFCW"]
["24015","ROANOKE","VA","Virginia","1c","RFCW"]
["24043","ROANOKE","VA","Virginia","1c","RFCW"]
["24171","STUART","VA","Virginia","1c","RFCW"]
["24375","SUGAR GROVE","VA","Virginia","1c","RFCW"]
["25606","ACCOVILLE","WV","West Virginia","1c","RFCW"]
["26325","AUBURN","WV","West Virginia","1c","RFCW"]
["26298","BERGOO","WV","West Virginia","1c","RFCW"]
["24817","BRADSHAW","WV","West Virginia","1c","RFCW"]
["26710","BURLINGTON","WV","West Virginia","1c","RFCW"]
["25035","CABIN CREEK","WV","West Virginia","1c","RFCW"]
["25306","CHARLESTON","WV","West Virginia","1c","RFCW"]
["25338","CHARLESTON","WV","West Virginia","1c","RFCW"]
["25235","CHLOE","WV","West Virginia","1c","RFCW"]
["24719","COVEL","WV","West Virginia","1c","RFCW"]
["25671","DINGESS","WV","West Virginia","1c","RFCW"]
["25061","DRYBRANCH","WV","West Virginia","1c","RFCW"]
["25071","ELKVIEW","WV","West Virginia","1c","RFCW"]
["26572","FOUR STATES","WV","West Virginia","1c","RFCW"]
["25086","GLASGOW","WV","West Virginia","1c","RFCW"]
["26722","GREEN SPRING","WV","West Virginia","1c","RFCW"]
["25423","HALLTOWN","WV","West Virginia","1c","RFCW"]
["26271","HENDRICKS","WV","West Virginia","1c","RFCW"]
["25709","HUNTINGTON","WV","West Virginia","1c","RFCW"]
["25773","HUNTINGTON","WV","West Virginia","1c","RFCW"]
["24848","JENKINJONES","WV","West Virginia","1c","RFCW"]
["26519","ALBRIGHT","WV","West Virginia","1c","RFCW"]
["25121","LAKE","WV","West Virginia","1c","RFCW"]
["26384","LINN","WV","West Virginia","1c","RFCW"]
["26152","MUNDAY","WV","West Virginia","1c","RFCW"]
["25133","MAYSEL","WV","West Virginia","1c","RFCW"]
["26836","MOOREFIELD","WV","West Virginia","1c","RFCW"]
["26505","MORGANTOWN","WV","West Virginia","1c","RFCW"]
["25142","NELLIS","WV","West Virginia","1c","RFCW"]
["26845","OLD FIELDS","WV","West Virginia","1c","RFCW"]
["26287","PARSONS","WV","West Virginia","1c","RFCW"]
["25160","POND GAP","WV","West Virginia","1c","RFCW"]
["25691","RAWL","WV","West Virginia","1c","RFCW"]
["24747","ROCK","WV","West Virginia","1c","RFCW"]
["26169","ROCKPORT","WV","West Virginia","1c","RFCW"]
["26761","SHANKS","WV","West Virginia","1c","RFCW"]
["26178","SMITHVILLE","WV","West Virginia","1c","RFCW"]
["25193","SYLVESTER","WV","West Virginia","1c","RFCW"]
["26282","MONTERVILLE","WV","West Virginia","1c","RFCW"]
["25650","VERNER","WV","West Virginia","1c","RFCW"]
["25651","WHARNCLIFFE","WV","West Virginia","1c","RFCW"]
["25943","WYCO","WV","West Virginia","1c","RFCW"]
["30736","RINGGOLD","GA","Georgia","1c","SRTV"]
["38504","ALLARDT","TN","Tennessee",2,"SRTV"]
["37019","BELFAST","TN","Tennessee",2,"SRTV"]
["37307","BENTON","TN","Tennessee",2,"SRTV"]
["38014","BRUNSWICK","TN","Tennessee",2,"SRTV"]
["37036","CHARLOTTE","TN","Tennessee",2,"SRTV"]
["37642","CHURCH HILL","TN","Tennessee",2,"SRTV"]
["37313","COALMONT","TN","Tennessee",2,"SRTV"]
["37318","COWAN","TN","Tennessee",2,"SRTV"]
["37723","CRAB ORCHARD","TN","Tennessee",2,"SRTV"]
["38391","DENMARK","TN","Tennessee",2,"SRTV"]
["38455","ELKTON","TN","Tennessee",2,"SRTV"]
["37335","FLINTVILLE","TN","Tennessee",2,"SRTV"]
["38460","GOODSPRING","TN","Tennessee",2,"SRTV"]
["37742","GREENBACK","TN","Tennessee",2,"SRTV"]
["37755","HELENWOOD","TN","Tennessee",2,"SRTV"]
["37078","HURRICANE MILLS","TN","Tennessee",2,"SRTV"]
["37605","JOHNSON CITY","TN","Tennessee",2,"SRTV"]
["37921","KNOXVILLE","TN","Tennessee",2,"SRTV"]
["38046","LA GRANGE","TN","Tennessee",2,"SRTV"]
["37097","LOBELVILLE","TN","Tennessee",2,"SRTV"]
["38352","LURAY","TN","Tennessee",2,"SRTV"]
["37802","MARYVILLE","TN","Tennessee",2,"SRTV"]
["38115","MEMPHIS","TN","Tennessee",2,"SRTV"]
["38151","MEMPHIS","TN","Tennessee",2,"SRTV"]
["38194","MEMPHIS","TN","Tennessee",2,"SRTV"]
["38358","MILAN","TN","Tennessee",2,"SRTV"]
["38575","MOSS","TN","Tennessee",2,"SRTV"]
["37206","NASHVILLE","TN","Tennessee",2,"SRTV"]
["37236","NASHVILLE","TN","Tennessee",2,"SRTV"]
["37828","NORRIS","TN","Tennessee",2,"SRTV"]
["38328","DARDEN","TN","Tennessee",2,"SRTV"]
["37845","PETROS","TN","Tennessee",2,"SRTV"]
["37150","RED BOILING SPRINGS","TN","Tennessee",2,"SRTV"]
["38371","SARDIS","TN","Tennessee",2,"SRTV"]
["38376","SHILOH","TN","Tennessee",2,"SRTV"]
["37871","STRAWBERRY PLAINS","TN","Tennessee",2,"SRTV"]
["37873","SURGOINSVILLE","TN","Tennessee",2,"SRTV"]
["38259","TRIMBLE","TN","Tennessee",2,"SRTV"]
["37187","WHITE BLUFF","TN","Tennessee",2,"SRTV"]
["47106","BORDEN","IN","Indiana",2,"RFCW"]
["47704","EVANSVILLE","IN","Indiana",2,"RFCW"]
["47719","EVANSVILLE","IN","Indiana",2,"RFCW"]
["47131","JEFFERSONVILLE","IN","Indiana",2,"RFCW"]
["47190","JEFFERSONVILLE","IN","Indiana",2,"RFCW"]
["47162","NEW WASHINGTON","IN","Indiana",2,"RFCW"]
["40801","AGES BROOKSIDE","KY","Kentucky",2,"SRTV"]
["41603","BANNER","KY","Kentucky",2,"RFCW"]
["40403","BEREA","KY","Kentucky",2,"SRTV"]
["40404","BEREA","KY","Kentucky",2,"SRTV"]
["41364","RICETOWN","KY","Kentucky",2,"SRTV"]
["42716","BUFFALO","KY","Kentucky",2,"SRTV"]
["40923","CANNON","KY","Kentucky",2,"SRTV"]
["40111","CLOVERPORT","KY","Kentucky",2,"SRTV"]
["40823","CUMBERLAND","KY","Kentucky",2,"SRTV"]
["40423","DANVILLE","KY","Kentucky",2,"SRTV"]
["41621","DWALE","KY","Kentucky",2,"RFCW"]
["40828","EVARTS","KY","Kentucky",2,"SRTV"]
["42223","FORT CAMPBELL","KY","Kentucky",2,"SRTV"]
["42140","GAMALIEL","KY","Kentucky",2,"SRTV"]
["40734","GRAY","KY","Kentucky",2,"SRTV"]
["41144","GREENUP","KY","Kentucky",2,"SRTV"]
["40178","WESTVIEW","KY","Kentucky",2,"SRTV"]
["41132","DENTON","KY","Kentucky",2,"RFCW"]
["40146","IRVINGTON","KY","Kentucky",2,"SRTV"]
["40958","KETTLE ISLAND","KY","Kentucky",2,"SRTV"]
["41828","KITE","KY","Kentucky",2,"RFCW"]
["42351","LEWISPORT","KY","Kentucky",2,"SRTV"]
["40550","LEXINGTON","KY","Kentucky",2,"SRTV"]
["40743","LONDON","KY","Kentucky",2,"SRTV"]
["40214","LOUISVILLE","KY","Kentucky",2,"SRTV"]
["40255","LOUISVILLE","KY","Kentucky",2,"SRTV"]
["40293","LOUISVILLE","KY","Kentucky",2,"SRTV"]
["40298","LOUISVILLE","KY","Kentucky",2,"SRTV"]
["41547","MAJESTIC","KY","Kentucky",2,"RFCW"]
["40346","MEANS","KY","Kentucky",2,"SRTV"]
["40047","MOUNT WASHINGTON","KY","Kentucky",2,"SRTV"]
["42159","OAKLAND","KY","Kentucky",2,"SRTV"]
["40972","ONEIDA","KY","Kentucky",2,"SRTV"]
["40863","PATHFORK","KY","Kentucky",2,"SRTV"]
["40036","LOCKPORT","KY","Kentucky",2,"SRTV"]
["42368","REYNOLDS STATION","KY","Kentucky",2,"SRTV"]
["42372","SACRAMENTO","KY","Kentucky",2,"SRTV"]
["40374","SHARPSBURG","KY","Kentucky",2,"SRTV"]
["41564","SIDNEY","KY","Kentucky",2,"RFCW"]
["41256","STAFFORDSVILLE","KY","Kentucky",2,"RFCW"]
["42083","TILINE","KY","Kentucky",2,"SRTV"]
["41773","VICCO","KY","Kentucky",2,"RFCW"]
["42377","WEST LOUISVILLE","KY","Kentucky",2,"SRTV"]
["42463","WHEATCROFT","KY","Kentucky",2,"SRTV"]
["40771","WOODBINE","KY","Kentucky",2,"SRTV"]
["44314","AKRON","OH","Ohio",2,"RFCW"]
["44804","ARCADIA","OH","Ohio",2,"RFCW"]
["44811","BELLEVUE","OH","Ohio",2,"RFCW"]
["44613","BREWSTER","OH","Ohio",2,"RFCW"]
["44212","BRUNSWICK","OH","Ohio",2,"RFCW"]
["44708","CANTON","OH","Ohio",2,"RFCW"]
["43915","CLARINGTON","OH","Ohio",2,"RFCW"]
["44120","CLEVELAND","OH","Ohio",2,"RFCW"]
["44145","WESTLAKE","OH","Ohio",2,"RFCW"]
["44030","CONNEAUT","OH","Ohio",2,"RFCW"]
["45831","CONTINENTAL","OH","Ohio",2,"RFCW"]
["43917","DILLONVALE","OH","Ohio",2,"RFCW"]
["44417","FARMDALE","OH","Ohio",2,"RFCW"]
["43431","GIBSONBURG","OH","Ohio",2,"RFCW"]
["44632","HARTVILLE","OH","Ohio",2,"RFCW"]
["43932","IRONDALE","OH","Ohio",2,"RFCW"]
["43437","JERRY CITY","OH","Ohio",2,"RFCW"]
["43934","LANSING","OH","Ohio",2,"RFCW"]
["44253","LITCHFIELD","OH","Ohio",2,"RFCW"]
["44904","MANSFIELD","OH","Ohio",2,"RFCW"]
["45862","MENDON","OH","Ohio",2,"RFCW"]
["45868","MOUNT CORY","OH","Ohio",2,"RFCW"]
["44848","NANKIN","OH","Ohio",2,"RFCW"]
["44443","NEW SPRINGFIELD","OH","Ohio",2,"RFCW"]
["44860","OCEOLA","OH","Ohio",2,"RFCW"]
["43941","PINEY FORK","OH","Ohio",2,"RFCW"]
["44084","ROCK CREEK","OH","Ohio",2,"RFCW"]
["44272","ROOTSTOWN","OH","Ohio",2,"RFCW"]
["43519","EVANSPORT","OH","Ohio",2,"RFCW"]
["44278","TALLMADGE","OH","Ohio",2,"RFCW"]
["43623","TOLEDO","OH","Ohio",2,"RFCW"]
["44699","TIPPECANOE","OH","Ohio",2,"RFCW"]
["44485","WARREN","OH","Ohio",2,"RFCW"]
["43567","WAUSEON","OH","Ohio",2,"RFCW"]
["44096","WILLOUGHBY","OH","Ohio",2,"RFCW"]
["44514","YOUNGSTOWN","OH","Ohio",2,"RFCW"]
["47032","MOORES HILL","IN","Indiana",2,"RFCW"]
["41012","COVINGTON","KY","Kentucky",2,"RFCW"]
["41018","ERLANGER","KY","Kentucky",2,"RFCW"]
["41054","MASON","KY","Kentucky",2,"SRTV"]
["41095","WARSAW","KY","Kentucky",2,"SRTV"]
["43103","ASHVILLE","OH","Ohio",2,"RFCW"]
["45721","COAL RUN","OH","Ohio",2,"RFCW"]
["43335","MARTEL","OH","Ohio",2,"RFCW"]
["45601","CHILLICOTHE","OH","Ohio",2,"RFCW"]
["45203","CINCINNATI","OH","Ohio",2,"RFCW"]
["45230","CINCINNATI","OH","Ohio",2,"RFCW"]
["45251","CINCINNATI","OH","Ohio",2,"RFCW"]
["45113","CLARKSVILLE","OH","Ohio",2,"RFCW"]
["43214","COLUMBUS","OH","Ohio",2,"RFCW"]
["43219","COLUMBUS","OH","Ohio",2,"RFCW"]
["43287","COLUMBUS","OH","Ohio",2,"RFCW"]
["45402","DAYTON","OH","Ohio",2,"RFCW"]
["45433","DAYTON","OH","Ohio",2,"RFCW"]
["43015","DELAWARE","OH","Ohio",2,"RFCW"]
["45629","FRANKLIN FURNACE","OH","Ohio",2,"RFCW"]
["43321","FULTON","OH","Ohio",2,"RFCW"]
["43195","GROVEPORT","OH","Ohio",2,"RFCW"]
["43027","HOMER","OH","Ohio",2,"RFCW"]
["45633","HALLSVILLE","OH","Ohio",2,"RFCW"]
["43136","LITHOPOLIS","OH","Ohio",2,"RFCW"]
["45144","MANCHESTER","OH","Ohio",2,"RFCW"]
["45340","MAPLEWOOD","OH","Ohio",2,"RFCW"]
["43045","MILFORD CENTER","OH","Ohio",2,"RFCW"]
["43056","HEATH","OH","Ohio",2,"RFCW"]
["45158","NEWTONSVILLE","OH","Ohio",2,"RFCW"]
["45353","PEMBERTON","OH","Ohio",2,"RFCW"]
["45687","WAKEFIELD","OH","Ohio",2,"RFCW"]
["43778","SALESVILLE","OH","Ohio",2,"RFCW"]
["43346","ROUNDHEAD","OH","Ohio",2,"RFCW"]
["45365","SIDNEY","OH","Ohio",2,"RFCW"]
["45684","STOUT","OH","Ohio",2,"RFCW"]
["45377","VANDALIA","OH","Ohio",2,"RFCW"]
["43082","WESTERVILLE","OH","Ohio",2,"RFCW"]
["45382","WEST MANCHESTER","OH","Ohio",2,"RFCW"]
["45387","YELLOW SPRINGS","OH","Ohio",2,"RFCW"]
["61252","FULTON","IL","Illinois",2,"RFCW"]
["61282","SILVIS","IL","Illinois",2,"MROW"]
["50008","ALLERTON","IA","Iowa",2,"MROW"]
["51003","ALTON","IA","Iowa",2,"MROW"]
["50831","ARISPE","IA","Iowa",2,"MROW"]
["52533","BATAVIA","IA","Iowa",2,"SRMW"]
["52759","MONTPELIER","IA","Iowa",2,"MROW"]
["52221","GUERNSEY","IA","Iowa",2,"MROW"]
["50613","CEDAR FALLS","IA","Iowa",2,"MROW"]
["52403","CEDAR RAPIDS","IA","Iowa",2,"MROW"]
["51439","CHARTER OAK","IA","Iowa",2,"MROW"]
["50054","COLFAX","IA","Iowa",2,"MROW"]
["50843","CUMBERLAND","IA","Iowa",2,"MROW"]
["52149","HIGHLANDVILLE","IA","Iowa",2,"MROW"]
["51441","DELOIT","IA","Iowa",2,"MROW"]
["50317","DES MOINES","IA","Iowa",2,"MROW"]
["50363","DES MOINES","IA","Iowa",2,"MROW"]
["50266","WEST DES MOINES","IA","Iowa",2,"MROW"]
["50532","DUNCOMBE","IA","Iowa",2,"MROW"]
["50536","EMMETSBURG","IA","Iowa",2,"MROW"]
["50540","FONDA","IA","Iowa",2,"MROW"]
["50569","OTHO","IA","Iowa",2,"MROW"]
["50542","GOLDFIELD","IA","Iowa",2,"MROW"]
["50638","GRUNDY CENTER","IA","Iowa",2,"MROW"]
["52563","HEDRICK","IA","Iowa",2,"MROW"]
["50645","IONIA","IA","Iowa",2,"MROW"]
["52240","IOWA CITY","IA","Iowa",2,"MROW"]
["50135","KELLOGG","IA","Iowa",2,"MROW"]
["50451","LAKOTA","IA","Iowa",2,"MROW"]
["50144","LEON","IA","Iowa",2,"MROW"]
["50560","LU VERNE","IA","Iowa",2,"MROW"]
["51035","MARCUS","IA","Iowa",2,"MROW"]
["52305","MARTELLE","IA","Iowa",2,"MROW"]
["51038","MERRILL","IA","Iowa",2,"MROW"]
["52571","MORAVIA","IA","Iowa",2,"SRMW"]
["52645","NEW LONDON","IA","Iowa",2,"SRMW"]
["52320","OLIN","IA","Iowa",2,"MROW"]
["52325","PARNELL","IA","Iowa",2,"MROW"]
["52068","PEOSTA","IA","Iowa",2,"MROW"]
["51245","PRIMGHAR","IA","Iowa",2,"MROW"]
["51460","RICKETTS","IA","Iowa",2,"MROW"]
["51358","RUTHVEN","IA","Iowa",2,"MROW"]
["50862","SHARPSBURG","IA","Iowa",2,"MROW"]
["51201","SHELDON","IA","Iowa",2,"MROW"]
["51056","SMITHLAND","IA","Iowa",2,"MROW"]
["50251","SULLY","IA","Iowa",2,"MROW"]
["52344","TROY MILLS","IA","Iowa",2,"MROW"]
["52077","VOLGA","IA","Iowa",2,"MROW"]
["50680","WELLSBURG","IA","Iowa",2,"MROW"]
["52361","WILLIAMSBURG","IA","Iowa",2,"MROW"]
["50682","WINTHROP","IA","Iowa",2,"MROW"]
["55910","ALTURA","MN","Minnesota",2,"MROW"]
["55707","BARNUM","MN","Minnesota",2,"MROW"]
["56629","BIRCHDALE","MN","Minnesota",2,"MROW"]
["56316","BROOTEN","MN","Minnesota",2,"MROW"]
["55312","BROWNTON","MN","Minnesota",2,"MROW"]
["55317","CHANHASSEN","MN","Minnesota",2,"MROW"]
["55721","COHASSET","MN","Minnesota",2,"MROW"]
["55925","DAKOTA","MN","Minnesota",2,"MROW"]
["55701","ADOLPH","MN","Minnesota",2,"MROW"]
["56237","ECHO","MN","Minnesota",2,"MROW"]
["55330","ELK RIVER","MN","Minnesota",2,"MROW"]
["56448","FIFTY LAKES","MN","Minnesota",2,"MROW"]
["55741","GILBERT","MN","Minnesota",2,"MROW"]
["56646","GULLY","MN","Minnesota",2,"MROW"]
["56137","HERON LAKE","MN","Minnesota",2,"MROW"]
["55785","SWATARA","MN","Minnesota",2,"MROW"]
["55575","HOWARD LAKE","MN","Minnesota",2,"MROW"]
["56252","KERKHOVEN","MN","Minnesota",2,"MROW"]
["56651","LENGBY","MN","Minnesota",2,"MROW"]
["55597","LORETTO","MN","Minnesota",2,"MROW"]
["55359","MAPLE PLAIN","MN","Minnesota",2,"MROW"]
["55576","MAPLE PLAIN","MN","Minnesota",2,"MROW"]
["56262","MILAN","MN","Minnesota",2,"MROW"]
["55422","MINNEAPOLIS","MN","Minnesota",2,"MROW"]
["55443","MINNEAPOLIS","MN","Minnesota",2,"MROW"]
["55487","MINNEAPOLIS","MN","Minnesota",2,"MROW"]
["56266","MORGAN","MN","Minnesota",2,"MROW"]
["56267","MORRIS","MN","Minnesota",2,"MROW"]
["56074","NICOLLET","MN","Minnesota",2,"MROW"]
["56469","PALISADE","MN","Minnesota",2,"MROW"]
["55370","PLATO","MN","Minnesota",2,"MROW"]
["55902","ROCHESTER","MN","Minnesota",2,"MROW"]
["56168","RUSHMORE","MN","Minnesota",2,"MROW"]
["55779","SAGINAW","MN","Minnesota",2,"MROW"]
["55101","SAINT PAUL","MN","Minnesota",2,"MROW"]
["55122","SAINT PAUL","MN","Minnesota",2,"MROW"]
["55071","SAINT PAUL PARK","MN","Minnesota",2,"MROW"]
["55614","SILVER BAY","MN","Minnesota",2,"MROW"]
["56173","STEEN","MN","Minnesota",2,"MROW"]
["56174","STORDEN","MN","Minnesota",2,"MROW"]
["55979","UTICA","MN","Minnesota",2,"MROW"]
["55752","JACOBSON","MN","Minnesota",2,"MROW"]
["56185","WILMONT","MN","Minnesota",2,"MROW"]
["55394","YOUNG AMERICA","MN","Minnesota",2,"MROW"]
["55552","YOUNG AMERICA","MN","Minnesota",2,"MROW"]
["54611","ALMA CENTER","WI","Wisconsin",2,"MROW"]
["54819","BRUCE","WI","Wisconsin",2,"MROW"]
["54733","DALLAS","WI","Wisconsin",2,"MROW"]
["54740","ELMWOOD","WI","Wisconsin",2,"MROW"]
["54855","MARENGO","WI","Wisconsin",2,"MROW"]
["54016","HUDSON","WI","Wisconsin",2,"MROW"]
["54642","MELROSE","WI","Wisconsin",2,"MROW"]
["54865","PORT WING","WI","Wisconsin",2,"MROW"]
["54874","SOUTH RANGE","WI","Wisconsin",2,"MROW"]
["54893","WEBSTER","WI","Wisconsin",2,"MROW"]
["56715","BROOKS","MN","Minnesota",2,"MROW"]
["56565","NASHUA","MN","Minnesota",2,"MROW"]
["56541","FLOM","MN","Minnesota",2,"MROW"]
["56732","KARLSTAD","MN","Minnesota",2,"MROW"]
["56573","PERHAM","MN","Minnesota",2,"MROW"]
["56763","WARROAD","MN","Minnesota",2,"MROW"]
["59212","BAINVILLE","MT","Montana",4,"MROW"]
["59007","BEARCREEK","MT","Montana",4,"NWPP"]
["59315","BLOOMFIELD","MT","Montana",4,"MROW"]
["59418","BUFFALO","MT","Montana",4,"NWPP"]
["59912","COLUMBIA FALLS","MT","Montana",4,"NWPP"]
["59929","PROCTOR","MT","Montana",4,"NWPP"]
["59430","DENTON","MT","Montana",4,"NWPP"]
["59341","MILDRED","MT","Montana",4,"MROW"]
["59447","GEYSER","MT","Montana",4,"NWPP"]
["59501","HAVRE","MT","Montana",4,"NWPP"]
["59848","LONEPINE","MT","Montana",4,"NWPP"]
["59244","LARSLAN","MT","Montana",4,"MROW"]
["59923","LIBBY","MT","Montana",4,"NWPP"]
["59301","MILES CITY","MT","Montana",4,"MROW"]
["59252","OUTLOOK","MT","Montana",4,"NWPP"]
["59258","RESERVE","MT","Montana",4,"NWPP"]
["59867","SALTESE","MT","Montana",4,"NWPP"]
["59349","TERRY","MT","Montana",4,"NWPP"]
["59873","THOMPSON FALLS","MT","Montana",4,"NWPP"]
["59758","WEST YELLOWSTONE","MT","Montana",4,"NWPP"]
["58831","ALEXANDER","ND","North Dakota",2,"MROW"]
["58523","BEULAH","ND","North Dakota",2,"MROW"]
["58324","CANDO","ND","North Dakota",2,"MROW"]
["58004","AMENIA","ND","North Dakota",2,"MROW"]
["58021","DAVENPORT","ND","North Dakota",2,"MROW"]
["58228","EMERADO","ND","North Dakota",2,"MROW"]
["58438","FESSENDEN","ND","North Dakota",2,"MROW"]
["58443","GLENFIELD","ND","North Dakota",2,"MROW"]
["58338","HAMPDEN","ND","North Dakota",2,"MROW"]
["58048","HUNTER","ND","North Dakota",2,"MROW"]
["58405","JAMESTOWN","ND","North Dakota",2,"MROW"]
["58250","LANKIN","ND","North Dakota",2,"MROW"]
["58059","MAPLETON","ND","North Dakota",2,"MROW"]
["58761","MOHALL","ND","North Dakota",2,"MROW"]
["58062","NOME","ND","North Dakota",2,"MROW"]
["58063","ORISKA","ND","North Dakota",2,"MROW"]
["58339","HANSBORO","ND","North Dakota",2,"MROW"]
["58068","SHELDON","ND","North Dakota",2,"MROW"]
["58071","TOWER CITY","ND","North Dakota",2,"MROW"]
["58078","WEST FARGO","ND","North Dakota",2,"MROW"]
["57311","ALEXANDRIA","SD","South Dakota",2,"MROW"]
["57212","ARLINGTON","SD","South Dakota",2,"MROW"]
["57522","BLUNT","SD","South Dakota",2,"MROW"]
["57725","CAPUTA","SD","South Dakota",2,"MROW"]
["57227","CORONA","SD","South Dakota",2,"MROW"]
["57334","ETHAN","SD","South Dakota",2,"MROW"]
["57626","FAITH","SD","South Dakota",2,"MROW"]
["57631","GLENHAM","SD","South Dakota",2,"MROW"]
["57747","HOT SPRINGS","SD","South Dakota",2,"RMPA"]
["57248","LAKE NORDEN","SD","South Dakota",2,"MROW"]
["57047","MONROE","SD","South Dakota",2,"MROW"]
["57640","LODGEPOLE","SD","South Dakota",2,"MROW"]
["57052","OLIVET","SD","South Dakota",2,"MROW"]
["57053","PARKER","SD","South Dakota",2,"MROW"]
["57776","REDIG","SD","South Dakota",2,"MROW"]
["57101","SIOUX FALLS","SD","South Dakota",2,"MROW"]
["57266","SUMMIT","SD","South Dakota",2,"MROW"]
["57329","DANTE","SD","South Dakota",2,"MROW"]
["57361","MARTY","SD","South Dakota",2,"MROW"]
["57271","VIENNA","SD","South Dakota",2,"MROW"]
["66007","BASEHOR","KS","Kansas",2,"SPNO"]
["66025","EUDORA","KS","Kansas",2,"SPNO"]
["66111","KANSAS CITY","KS","Kansas",2,"SPNO"]
["66050","LECOMPTON","KS","Kansas",2,"SPNO"]
["66754","MAPLETON","KS","Kansas",2,"SPNO"]
["66072","PARKER","KS","Kansas",2,"SPNO"]
["66210","OVERLAND PARK","KS","Kansas",2,"SPNO"]
["66083","SPRING HILL","KS","Kansas",2,"SPNO"]
["64720","ADRIAN","MO","Missouri",2,"SRMW"]
["65604","ASH GROVE","MO","Missouri",2,"SRMW"]
["64833","AVILLA","MO","Missouri",2,"SRMW"]
["64427","BOLCKOW","MO","Missouri",2,"SRMW"]
["65618","BRIXEY","MO","Missouri",2,"SRMW"]
["63631","CALEDONIA","MO","Missouri",2,"SRMW"]
["65657","GARRISON","MO","Missouri",2,"SRMW"]
["64601","CHILLICOTHE","MO","Missouri",2,"SRMW"]
["64437","CRAIG","MO","Missouri",2,"SRMW"]
["63637","DOE RUN","MO","Missouri",2,"SRMW"]
["64445","ELMO","MO","Missouri",2,"SRMW"]
["63601","PARK HILLS","MO","Missouri",2,"SRMW"]
["63849","GOBLER","MO","Missouri",2,"SRMW"]
["64643","HALE","MO","Missouri",2,"SPNO"]
["64035","HARDIN","MO","Missouri",2,"SRMW"]
["64646","HUMPHREYS","MO","Missouri",2,"SRMW"]
["64801","JOPLIN","MO","Missouri",2,"SPNO"]
["64127","KANSAS CITY","MO","Missouri",2,"SPNO"]
["64152","KANSAS CITY","MO","Missouri",2,"SPNO"]
["64157","KANSAS CITY","MO","Missouri",2,"SRMW"]
["63758","KELSO","MO","Missouri",2,"SRMW"]
["64465","LATHROP","MO","Missouri",2,"SRMW"]
["65590","LONG LANE","MO","Missouri",2,"SRMW"]
["64660","MENDON","MO","Missouri",2,"SPNO"]
["64470","MOUND CITY","MO","Missouri",2,"SRMW"]
["65548","MOUNTAIN VIEW","MO","Missouri",2,"SRMW"]
["65717","NORWOOD","MO","Missouri",2,"SRMW"]
["63783","UNIONTOWN","MO","Missouri",2,"SRMW"]
["65730","POWELL","MO","Missouri",2,"SRMW"]
["65737","REEDS SPRING","MO","Missouri",2,"SRMW"]
["65556","RICHLAND","MO","Missouri",2,"SRMW"]
["64483","ROSENDALE","MO","Missouri",2,"SPNO"]
["64865","SENECA","MO","Missouri",2,"SRMW"]
["65809","SPRINGFIELD","MO","Missouri",2,"SRMW"]
["65757","STRAFFORD","MO","Missouri",2,"SRMW"]
["63965","VAN BUREN","MO","Missouri",2,"SRMW"]
["63675","VULCAN","MO","Missouri",2,"SRMW"]
["65775","WEST PLAINS","MO","Missouri",2,"SRMW"]
["51637","COLLEGE SPRINGS","IA","Iowa",2,"MROW"]
["51537","HARLAN","IA","Iowa",2,"MROW"]
["51563","PERSIA","IA","Iowa",2,"MROW"]
["67510","ABBYVILLE","KS","Kansas",2,"SPNO"]
["67568","PLEVNA","KS","Kansas",2,"SPNO"]
["67008","ATLANTA","KS","Kansas",2,"SPNO"]
["67731","BIRD CITY","KS","Kansas",2,"SPNO"]
["67427","BUSHTON","KS","Kansas",2,"SPNO"]
["66937","CLIFTON","KS","Kansas",2,"SPNO"]
["67340","DEARING","KS","Kansas",2,"SPNO"]
["67341","DENNIS","KS","Kansas",2,"SPNO"]
["66422","EMMETT","KS","Kansas",2,"SPNO"]
["67868","PIERCEVILLE","KS","Kansas",2,"SPNO"]
["66944","HADDAM","KS","Kansas",2,"SPNO"]
["67642","HILL CITY","KS","Kansas",2,"SPNO"]
["67066","IUKA","KS","Kansas",2,"SPNO"]
["66949","JEWELL","KS","Kansas",2,"SPNO"]
["66856","LEBO","KS","Kansas",2,"SPNO"]
["66451","LYNDON","KS","Kansas",2,"SPNO"]
["67104","MEDICINE LODGE","KS","Kansas",2,"SPSO"]
["67110","MULVANE","KS","Kansas",2,"SPNO"]
["67651","NATOMA","KS","Kansas",2,"SPNO"]
["66521","ONAGA","KS","Kansas",2,"SPNO"]
["67123","POTWIN","KS","Kansas",2,"SPNO"]
["67132","ROSALIA","KS","Kansas",2,"SPNO"]
["67361","SEDAN","KS","Kansas",2,"SPNO"]
["67481","SYLVAN GROVE","KS","Kansas",2,"SPNO"]
["66617","TOPEKA","KS","Kansas",2,"SPNO"]
["66622","TOPEKA","KS","Kansas",2,"SPNO"]
["66870","VIRGIL","KS","Kansas",2,"SPNO"]
["67202","WICHITA","KS","Kansas",2,"SPNO"]
["67232","WICHITA","KS","Kansas",2,"SPNO"]
["67277","WICHITA","KS","Kansas",2,"SPNO"]
["68920","ALMA","NE","Nebraska",2,"MROW"]
["68622","BARTLETT","NE","Nebraska",2,"MROW"]
["68007","BENNINGTON","NE","Nebraska",2,"MROW"]
["68014","BRUNO","NE","Nebraska",2,"MROW"]
["68725","CHAMBERS","NE","Nebraska",2,"MROW"]
["68329","COOK","NE","Nebraska",2,"MROW"]
["68332","CRAB ORCHARD","NE","Nebraska",2,"MROW"]
["68342","DILLER","NE","Nebraska",2,"MROW"]
["68022","ELKHORN","NE","Nebraska",2,"MROW"]
["68351","EXETER","NE","Nebraska",2,"MROW"]
["68842","GREELEY","NE","Nebraska",2,"MROW"]
["69141","GURLEY","NE","Nebraska",2,"RMPA"]
["68372","HICKMAN","NE","Nebraska",2,"MROW"]
["68377","JANSEN","NE","Nebraska",2,"MROW"]
["68505","LINCOLN","NE","Nebraska",2,"MROW"]
["68542","LINCOLN","NE","Nebraska",2,"MROW"]
["68855","MASON CITY","NE","Nebraska",2,"MROW"]
["68752","MEADOW GROVE","NE","Nebraska",2,"MROW"]
["68756","NELIGH","NE","Nebraska",2,"MROW"]
["68046","PAPILLION","NE","Nebraska",2,"MROW"]
["68130","OMAHA","NE","Nebraska",2,"MROW"]
["68178","OMAHA","NE","Nebraska",2,"MROW"]
["68419","PANAMA","NE","Nebraska",2,"MROW"]
["69041","PARKS","NE","Nebraska",2,"MROW"]
["68869","RAVENNA","NE","Nebraska",2,"MROW"]
["69363","SCOTTSBLUFF","NE","Nebraska",2,"MROW"]
["68977","STAMFORD","NE","Nebraska",2,"MROW"]
["68062","THURSTON","NE","Nebraska",2,"MROW"]
["69167","TRYON","NE","Nebraska",2,"MROW"]
["68785","WATERBURY","NE","Nebraska",2,"MROW"]
["68466","WYMORE","NE","Nebraska",2,"MROW"]
["80003","ARVADA","CO","Colorado",4,"RMPA"]
["80046","AURORA","CO","Colorado",4,"RMPA"]
["80307","BOULDER","CO","Colorado",4,"RMPA"]
["81211","BUENA VISTA","CO","Colorado",4,"RMPA"]
["80103","BYERS","CO","Colorado",4,"RMPA"]
["80428","CLARK","CO","Colorado",4,"RMPA"]
["80921","COLORADO SPRINGS","CO","Colorado",4,"RMPA"]
["80947","COLORADO SPRINGS","CO","Colorado",4,"RMPA"]
["81415","CRAWFORD","CO","Colorado",4,"RMPA"]
["80813","CRIPPLE CREEK","CO","Colorado",4,"RMPA"]
["80218","DENVER","CO","Colorado",4,"RMPA"]
["80239","DENVER","CO","Colorado",4,"RMPA"]
["80280","DENVER","CO","Colorado",4,"RMPA"]
["81303","DURANGO","CO","Colorado",4,"RMPA"]
["80439","EVERGREEN","CO","Colorado",4,"RMPA"]
["80815","FLAGLER","CO","Colorado",4,"RMPA"]
["80442","FRASER","CO","Colorado",4,"RMPA"]
["81506","GRAND JUNCTION","CO","Colorado",4,"RMPA"]
["81045","HASWELL","CO","Colorado",4,"RMPA"]
["80822","JOES","CO","Colorado",4,"RMPA"]
["80644","KERSEY","CO","Colorado",4,"RMPA"]
["80461","LEADVILLE","CO","Colorado",4,"RMPA"]
["80502","LONGMONT","CO","Colorado",4,"RMPA"]
["81643","MESA","CO","Colorado",4,"RMPA"]
["81423","NORWOOD","CO","Colorado",4,"RMPA"]
["81239","PARLIN","CO","Colorado",4,"RMPA"]
["81005","PUEBLO","CO","Colorado",4,"RMPA"]
["81010","PUEBLO","CO","Colorado",4,"RMPA"]
["81152","SAN LUIS","CO","Colorado",4,"RMPA"]
["80488","STEAMBOAT SPRINGS","CO","Colorado",4,"RMPA"]
["80480","WALDEN","CO","Colorado",4,"RMPA"]
["80866","WOODLAND PARK","CO","Colorado",4,"RMPA"]
["80757","WOODROW","CO","Colorado",4,"RMPA"]
["82840","SADDLESTRING","WY","Wyoming",4,"RMPA"]
["82008","CHEYENNE","WY","Wyoming",4,"NWPP"]
["82931","EVANSTON","WY","Wyoming",4,"NWPP"]
["82217","HAWK SPRINGS","WY","Wyoming",4,"RMPA"]
["82070","LARAMIE","WY","Wyoming",4,"RMPA"]
["82640","LINCH","WY","Wyoming",4,"NWPP"]
["82701","NEWCASTLE","WY","Wyoming",4,"RMPA"]
["82902","ROCK SPRINGS","WY","Wyoming",4,"NWPP"]
["82336","WAMSUTTER","WY","Wyoming",4,"NWPP"]
["83221","BLACKFOOT","ID","Idaho",4,"NWPP"]
["83726","BOISE","ID","Idaho",4,"NWPP"]
["83735","BOISE","ID","Idaho",4,"NWPP"]
["83232","DAYTON","ID","Idaho",4,"NWPP"]
["83337","HILL CITY","ID","Idaho",4,"NWPP"]
["83402","IDAHO FALLS","ID","Idaho",4,"NWPP"]
["83243","HOLBROOK","ID","Idaho",4,"NWPP"]
["83641","MELBA","ID","Idaho",4,"NWPP"]
["83436","NEWDALE","ID","Idaho",4,"NWPP"]
["83440","REXBURG","ID","Idaho",4,"NWPP"]
["83281","SWANLAKE","ID","Idaho",4,"NWPP"]
["84711","ANNABELLA","UT","Utah",4,"NWPP"]
["84722","CENTRAL","UT","Utah",4,"NWPP"]
["84020","DRAPER","UT","Utah",4,"NWPP"]
["84520","EAST CARBON","UT","Utah",4,"NWPP"]
["84331","PORTAGE","UT","Utah",4,"NWPP"]
["84635","HINCKLEY","UT","Utah",4,"NWPP"]
["84005","EAGLE MOUNTAIN","UT","Utah",4,"NWPP"]
["84049","MIDWAY","UT","Utah",4,"NWPP"]
["84645","MONA","UT","Utah",4,"NWPP"]
["84401","OGDEN","UT","Utah",4,"NWPP"]
["84060","PARK CITY","UT","Utah",4,"NWPP"]
["84732","GREENWICH","UT","Utah",4,"NWPP"]
["84114","SALT LAKE CITY","UT","Utah",4,"NWPP"]
["84136","SALT LAKE CITY","UT","Utah",4,"NWPP"]
["84145","SALT LAKE CITY","UT","Utah",4,"NWPP"]
["84094","SANDY","UT","Utah",4,"NWPP"]
["84773","TEASDALE","UT","Utah",4,"NWPP"]
["85320","AGUILA","AZ","Arizona",5,"AZNM"]
["85325","BOUSE","AZ","Arizona",5,"AZNM"]
["86427","FORT MOHAVE","AZ","Arizona",5,"AZNM"]
["86502","CHAMBERS","AZ","Arizona",5,"AZNM"]
["85128","COOLIDGE","AZ","Arizona",5,"AZNM"]
["86038","MORMON LAKE","AZ","Arizona",5,"AZNM"]
["85304","GLENDALE","AZ","Arizona",5,"AZNM"]
["86030","HOTEVILLA","AZ","Arizona",5,"NWPP"]
["86331","JEROME","AZ","Arizona",5,"AZNM"]
["86406","LAKE HAVASU CITY","AZ","Arizona",5,"AZNM"]
["85210","MESA","AZ","Arizona",5,"RMPA"]
["85623","ORACLE","AZ","Arizona",5,"AZNM"]
["85006","PHOENIX","AZ","Arizona",5,"AZNM"]
["85031","PHOENIX","AZ","Arizona",5,"AZNM"]
["85032","PHOENIX","AZ","Arizona",5,"AZNM"]
["85064","PHOENIX","AZ","Arizona",5,"AZNM"]
["85543","PIMA","AZ","Arizona",5,"AZNM"]
["85140","SAN TAN VALLEY","AZ","Arizona",5,"AZNM"]
["85252","SCOTTSDALE","AZ","Arizona",5,"AZNM"]
["86340","SEDONA","AZ","Arizona",5,"AZNM"]
["85901","SHOW LOW","AZ","Arizona",5,"AZNM"]
["85378","SURPRISE","AZ","Arizona",5,"AZNM"]
["85353","TOLLESON","AZ","Arizona",5,"AZNM"]
["85716","TUCSON","AZ","Arizona",5,"AZNM"]
["85739","TUCSON","AZ","Arizona",5,"AZNM"]
["85355","WADDELL","AZ","Arizona",5,"AZNM"]
["85390","WICKENBURG","AZ","Arizona",5,"AZNM"]
["88311","ALAMOGORDO","NM","New Mexico",3,"AZNM"]
["87131","ALBUQUERQUE","NM","New Mexico",3,"AZNM"]
["88410","AMISTAD","NM","New Mexico",3,"AZNM"]
["87006","BOSQUE","NM","New Mexico",3,"AZNM"]
["88316","CAPITAN","NM","New Mexico",3,"AZNM"]
["87011","CLAUNCH","NM","New Mexico",3,"AZNM"]
["88031","DEMING","NM","New Mexico",3,"AZNM"]
["88231","EUNICE","NM","New Mexico",3,"SPSO"]
["87326","VANDERWAGEN","NM","New Mexico",3,"AZNM"]
["88244","HOBBS","NM","New Mexico",3,"SPSO"]
["87539","LA MADERA","NM","New Mexico",3,"AZNM"]
["88003","LAS CRUCES","NM","New Mexico",3,"AZNM"]
["87824","LUNA","NM","New Mexico",3,"AZNM"]
["87732","MORA","NM","New Mexico",3,"AZNM"]
["87042","PERALTA","NM","New Mexico",3,"AZNM"]
["88344","PINON","NM","New Mexico",3,"AZNM"]
["88132","ROGERS","NM","New Mexico",3,"SPSO"]
["87567","SANTA CRUZ","NM","New Mexico",3,"AZNM"]
["87461","SANOSTEE","NM","New Mexico",3,"NWPP"]
["87059","TIJERAS","NM","New Mexico",3,"AZNM"]
["87421","WATERFLOW","NM","New Mexico",3,"NWPP"]
["96111","FLORISTON","CA","California",5,"NWPP"]
["96114","JANESVILLE","CA","California",5,"CAMX"]
["96128","STANDISH","CA","California",5,"CAMX"]
["89005","BOULDER CITY","NV","Nevada",5,"AZNM"]
["89801","ELKO","NV","Nevada",5,"NWPP"]
["89013","GOLDFIELD","NV","Nevada",5,"AZNM"]
["89012","HENDERSON","NV","Nevada",5,"AZNM"]
["89107","LAS VEGAS","NV","Nevada",5,"AZNM"]
["89128","LAS VEGAS","NV","Nevada",5,"AZNM"]
["89153","LAS VEGAS","NV","Nevada",5,"AZNM"]
["89183","LAS VEGAS","NV","Nevada",5,"AZNM"]
["89831","MOUNTAIN CITY","NV","Nevada",5,"NWPP"]
["89033","NORTH LAS VEGAS","NV","Nevada",5,"AZNM"]
["89505","RENO","NV","Nevada",5,"NWPP"]
["89428","SILVER CITY","NV","Nevada",5,"NWPP"]
["97810","ADAMS","OR","Oregon",5,"NWPP"]
["97814","BAKER CITY","OR","Oregon",5,"NWPP"]
["97089","DAMASCUS","OR","Oregon",5,"NWPP"]
["97010","BRIDAL VEIL","OR","Oregon",5,"NWPP"]
["97419","CHESHIRE","OR","Oregon",5,"NWPP"]
["97733","CRESCENT","OR","Oregon",5,"NWPP"]
["97826","ECHO","OR","Oregon",5,"NWPP"]
["97441","GARDINER","OR","Oregon",5,"NWPP"]
["97027","GLADSTONE","OR","Oregon",5,"NWPP"]
["97835","HELIX","OR","Oregon",5,"NWPP"]
["97846","JOSEPH","OR","Oregon",5,"NWPP"]
["97355","LEBANON","OR","Oregon",5,"NWPP"]
["97346","GATES","OR","Oregon",5,"NWPP"]
["97133","NORTH PLAINS","OR","Oregon",5,"NWPP"]
["97868","PILOT ROCK","OR","Oregon",5,"NWPP"]
["97205","PORTLAND","OR","Oregon",5,"NWPP"]
["97227","PORTLAND","OR","Oregon",5,"NWPP"]
["97292","PORTLAND","OR","Oregon",5,"NWPP"]
["97050","RUFUS","OR","Oregon",5,"NWPP"]
["97056","SCAPPOOSE","OR","Oregon",5,"NWPP"]
["97538","SELMA","OR","Oregon",5,"NWPP"]
["97540","TALENT","OR","Oregon",5,"NWPP"]
["97884","UNITY","OR","Oregon",5,"NWPP"]
["97544","WILLIAMS","OR","Oregon",5,"NWPP"]
["98614","CHINOOK","WA","Washington",5,"NWPP"]
["98644","SEAVIEW","WA","Washington",5,"NWPP"]
["98650","TROUT LAKE","WA","Washington",5,"NWPP"]
["83520","AHSAHKA","ID","Idaho",4,"NWPP"]
["83827","ELK RIVER","ID","Idaho",4,"NWPP"]
["83501","LEWISTON","ID","Idaho",4,"NWPP"]
["83857","PRINCETON","ID","Idaho",4,"NWPP"]
["83861","SAINT MARIES","ID","Idaho",4,"NWPP"]
["99102","ALBION","WA","Washington",5,"NWPP"]
["98005","BELLEVUE","WA","Washington",5,"NWPP"]
["98311","BREMERTON","WA","Washington",5,"NWPP"]
["98532","CHEHALIS","WA","Washington",5,"NWPP"]
["99115","COULEE CITY","WA","Washington",5,"NWPP"]
["98327","DUPONT","WA","Washington",5,"NWPP"]
["98328","EATONVILLE","WA","Washington",5,"NWPP"]
["98247","EVERSON","WA","Washington",5,"NWPP"]
["98251","GOLD BAR","WA","Washington",5,"NWPP"]
["98342","INDIANOLA","WA","Washington",5,"NWPP"]
["98033","KIRKLAND","WA","Washington",5,"NWPP"]
["98034","KIRKLAND","WA","Washington",5,"NWPP"]
["98262","LUMMI ISLAND","WA","Washington",5,"NWPP"]
["99151","MARCUS","WA","Washington",5,"NWPP"]
["98273","MOUNT VERNON","WA","Washington",5,"NWPP"]
["98279","OLGA","WA","Washington",5,"NWPP"]
["99344","OTHELLO","WA","Washington",5,"NWPP"]
["98361","PACKWOOD","WA","Washington",5,"NWPP"]
["98368","PORT TOWNSEND","WA","Washington",5,"NWPP"]
["98055","RENTON","WA","Washington",5,"NWPP"]
["99176","THORNTON","WA","Washington",5,"NWPP"]
["98117","SEATTLE","WA","Washington",5,"NWPP"]
["98160","SEATTLE","WA","Washington",5,"NWPP"]
["98168","SEATTLE","WA","Washington",5,"NWPP"]
["98584","SHELTON","WA","Washington",5,"NWPP"]
["99207","SPOKANE","WA","Washington",5,"NWPP"]
["99260","SPOKANE","WA","Washington",5,"NWPP"]
["98404","TACOMA","WA","Washington",5,"NWPP"]
["98409","TACOMA","WA","Washington",5,"NWPP"]
["98447","TACOMA","WA","Washington",5,"NWPP"]
["98393","TRACYTON","WA","Washington",5,"NWPP"]
["98859","WAUCONDA","WA","Washington",5,"NWPP"]
["98953","ZILLAH","WA","Washington",5,"NWPP"]
["99518","ANCHORAGE","AK","Alaska",5,"AKGD"]
["99791","ATQASUK","AK","Alaska",5,"AKMS"]
["99680","TUNTUTULIAK","AK","Alaska",5,"AKMS"]
["99575","CROOKED CREEK","AK","Alaska",5,"AKMS"]
["99708","FAIRBANKS","AK","Alaska",5,"AKGD"]
["99755","DENALI NATIONAL PARK","AK","Alaska",5,"AKGD"]
["99747","KAKTOVIK","AK","Alaska",5,"AKMS"]
["99610","KASILOF","AK","Alaska",5,"AKGD"]
["99622","KWIGILLINGOK","AK","Alaska",5,"AKMS"]
["99638","NIKOLSKI","AK","Alaska",5,"AKMS"]
["99651","PLATINUM","AK","Alaska",5,"AKMS"]
["99676","TALKEETNA","AK","Alaska",5,"AKGD"]
["99654","WASILLA","AK","Alaska",5,"AKGD"]
["99688","WILLOW","AK","Alaska",5,"AKGD"]
["90240","DOWNEY","CA","California",5,"CAMX"]
["90002","LOS ANGELES","CA","California",5,"CAMX"]
["90027","LOS ANGELES","CA","California",5,"CAMX"]
["90048","LOS ANGELES","CA","California",5,"CAMX"]
["90053","LOS ANGELES","CA","California",5,"CAMX"]
["90074","LOS ANGELES","CA","California",5,"CAMX"]
["90262","LYNWOOD","CA","California",5,"CAMX"]
["90291","VENICE","CA","California",5,"CAMX"]
["93422","ATASCADERO","CA","California",5,"CAMX"]
["93390","BAKERSFIELD","CA","California",5,"CAMX"]
["93205","BODFISH","CA","California",5,"CAMX"]
["93207","CALIFORNIA HOT SPRINGS","CA","California",5,"CAMX"]
["93215","DELANO","CA","California",5,"CAMX"]
["91205","GLENDALE","CA","California",5,"CAMX"]
["93554","RANDSBURG","CA","California",5,"CAMX"]
["93247","LINDSAY","CA","California",5,"CAMX"]
["93543","LITTLEROCK","CA","California",5,"CAMX"]
["93443","MORRO BAY","CA","California",5,"CAMX"]
["91329","NORTHRIDGE","CA","California",5,"CAMX"]
["93552","PALMDALE","CA","California",5,"CAMX"]
["91182","PASADENA","CA","California",5,"CAMX"]
["91335","RESEDA","CA","California",5,"CAMX"]
["93560","ROSAMOND","CA","California",5,"CAMX"]
["93101","SANTA BARBARA","CA","California",5,"CAMX"]
["91310","CASTAIC","CA","California",5,"CAMX"]
["93262","SEQUOIA NATIONAL PARK","CA","California",5,"CAMX"]
["91040","SUNLAND","CA","California",5,"CAMX"]
["93274","TULARE","CA","California",5,"CAMX"]
["91402","PANORAMA CITY","CA","California",5,"CAMX"]
["93001","VENTURA","CA","California",5,"CAMX"]
["93287","WOODY","CA","California",5,"CAMX"]
["92226","BLYTHE","CA","California",5,"CAMX"]
["92018","CARLSBAD","CA","California",5,"CAMX"]
["91910","CHULA VISTA","CA","California",5,"CAMX"]
["91917","DULZURA","CA","California",5,"CAMX"]
["92336","FONTANA","CA","California",5,"CAMX"]
["92252","JOSHUA TREE","CA","California",5,"CAMX"]
["92350","LOMA LINDA","CA","California",5,"CAMX"]
["92365","NEWBERRY SPRINGS","CA","California",5,"CAMX"]
["92263","PALM SPRINGS","CA","California",5,"CAMX"]
["92369","PATTON","CA","California",5,"CAMX"]
["92378","RIMFOREST","CA","California",5,"CAMX"]
["92401","SAN BERNARDINO","CA","California",5,"CAMX"]
["92108","SAN DIEGO","CA","California",5,"CAMX"]
["92113","SAN DIEGO","CA","California",5,"CAMX"]
["92136","SAN DIEGO","CA","California",5,"CAMX"]
["92168","SAN DIEGO","CA","California",5,"CAMX"]
["92196","SAN DIEGO","CA","California",5,"CAMX"]
["92587","SUN CITY","CA","California",5,"CAMX"]
["92086","WARNER SPRINGS","CA","California",5,"CAMX"]
["92802","ANAHEIM","CA","California",5,"CAMX"]
["92807","ANAHEIM","CA","California",5,"CAMX"]
["90622","BUENA PARK","CA","California",5,"CAMX"]
["90630","CYPRESS","CA","California",5,"CAMX"]
["91740","GLENDORA","CA","California",5,"CAMX"]
["92623","IRVINE","CA","California",5,"CAMX"]
["92651","LAGUNA BEACH","CA","California",5,"CAMX"]
["91750","LA VERNE","CA","California",5,"CAMX"]
["90831","LONG BEACH","CA","California",5,"CAMX"]
["92659","NEWPORT BEACH","CA","California",5,"CAMX"]
["92866","ORANGE","CA","California",5,"CAMX"]
["92674","SAN CLEMENTE","CA","California",5,"CAMX"]
["92675","SAN JUAN CAPISTRANO","CA","California",5,"CAMX"]
["92728","FOUNTAIN VALLEY","CA","California",5,"CAMX"]
["92780","TUSTIN","CA","California",5,"CAMX"]
["90609","WHITTIER","CA","California",5,"CAMX"]
["95415","BOONVILLE","CA","California",5,"CAMX"]
["95538","FORT DICK","CA","California",5,"NWPP"]
["94014","DALY CITY","CA","California",5,"CAMX"]
["95439","FULTON","CA","California",5,"CAMX"]
["94020","LA HONDA","CA","California",5,"CAMX"]
["94027","ATHERTON","CA","California",5,"CAMX"]
["95465","OCCIDENTAL","CA","California",5,"CAMX"]
["94975","PETALUMA","CA","California",5,"CAMX"]
["94956","POINT REYES STATION","CA","California",5,"CAMX"]
["94110","SAN FRANCISCO","CA","California",5,"CAMX"]
["94132","SAN FRANCISCO","CA","California",5,"CAMX"]
["94172","SAN FRANCISCO","CA","California",5,"CAMX"]
["95407","SANTA ROSA","CA","California",5,"CAMX"]
["95418","CALPELLA","CA","California",5,"CAMX"]
["95486","VILLA GRANDE","CA","California",5,"CAMX"]
["95004","AROMAS","CA","California",5,"CAMX"]
["95009","CAMPBELL","CA","California",5,"CAMX"]
["95017","DAVENPORT","CA","California",5,"CAMX"]
["94544","HAYWARD","CA","California",5,"CAMX"]
["95023","HOLLISTER","CA","California",5,"CAMX"]
["95038","MORGAN HILL","CA","California",5,"CAMX"]
["94614","OAKLAND","CA","California",5,"CAMX"]
["94568","DUBLIN","CA","California",5,"CAMX"]
["93901","SALINAS","CA","California",5,"CAMX"]
["95121","SAN JOSE","CA","California",5,"CAMX"]
["95126","SAN JOSE","CA","California",5,"CAMX"]
["95155","SAN JOSE","CA","California",5,"CAMX"]
["94583","SAN RAMON","CA","California",5,"CAMX"]
["94585","SUISUN CITY","CA","California",5,"CAMX"]
["95222","ANGELS CAMP","CA","California",5,"CAMX"]
["95301","ATWATER","CA","California",5,"CAMX"]
["95919","BROWNSVILLE","CA","California",5,"CAMX"]
["95927","CHICO","CA","California",5,"CAMX"]
["96021","CORNING","CA","California",5,"CAMX"]
["96024","DOUGLAS CITY","CA","California",5,"CAMX"]
["95230","FARMINGTON","CA","California",5,"CAMX"]
["93704","FRESNO","CA","California",5,"CAMX"]
["93709","FRESNO","CA","California",5,"CAMX"]
["93747","FRESNO","CA","California",5,"CAMX"]
["93794","FRESNO","CA","California",5,"CAMX"]
["95322","GUSTINE","CA","California",5,"CAMX"]
["93631","KINGSBURG","CA","California",5,"CAMX"]
["96050","KLAMATH RIVER","CA","California",5,"NWPP"]
["96058","MACDOEL","CA","California",5,"NWPP"]
["95348","MERCED","CA","California",5,"CAMX"]
["95246","MOUNTAIN RANCH","CA","California",5,"CAMX"]
["95963","ORLAND","CA","California",5,"CAMX"]
["95646","KIRKWOOD","CA","California",5,"CAMX"]
["95668","PLEASANT GROVE","CA","California",5,"CAMX"]
["96099","REDDING","CA","California",5,"CAMX"]
["94207","SACRAMENTO","CA","California",5,"CAMX"]
["94259","SACRAMENTO","CA","California",5,"CAMX"]
["94289","SACRAMENTO","CA","California",5,"CAMX"]
["95826","SACRAMENTO","CA","California",5,"CAMX"]
["95831","SACRAMENTO","CA","California",5,"CAMX"]
["95894","SACRAMENTO","CA","California",5,"CAMX"]
["95373","STANDARD","CA","California",5,"CAMX"]
["95269","STOCKTON","CA","California",5,"CAMX"]
["95984","TWAIN","CA","California",5,"CAMX"]
["95688","VACAVILLE","CA","California",5,"CAMX"]
["95692","WHEATLAND","CA","California",5,"CAMX"]
["96919","AGANA HEIGHTS","GU","Guam"]
["96717","HAUULA","HI","Hawaii",5,"HIOA"]
["96818","HONOLULU","HI","Hawaii",5,"HIOA"]
["96858","FORT SHAFTER","HI","Hawaii",5,"HIOA"]
["96755","KAPAAU","HI","Hawaii",5,"HIMS"]
["96752","KEKAHA","HI","Hawaii",5,"HIMS"]
["96776","PAAUILO","HI","Hawaii",5,"HIMS"]
["96797","WAIPAHU","HI","Hawaii",5,"HIOA"]
["32619","BELL","FL","Florida","1c","FRCC"]
["32644","CHIEFLAND","FL","Florida","1c","FRCC"]
["32327","CRAWFORDVILLE","FL","Florida","1c","FRCC"]
["32033","ELKTON","FL","Florida","1c","FRCC"]
["32610","GAINESVILLE","FL","Florida","1c","FRCC"]
["32333","HAVANA","FL","Florida","1c","FRCC"]
["32204","JACKSONVILLE","FL","Florida","1c","FRCC"]
["32226","JACKSONVILLE","FL","Florida","1c","FRCC"]
["32231","JACKSONVILLE","FL","Florida","1c","FRCC"]
["32259","SAINT JOHNS","FL","Florida","1c","FRCC"]
["32064","LIVE OAK","FL","Florida","1c","FRCC"]
["32572","MILTON","FL","Florida","1c","SRSO"]
["34480","OCALA","FL","Florida","1c","FRCC"]
["32681","ORANGE LAKE","FL","Florida","1c","FRCC"]
["32413","PANAMA CITY BEACH","FL","Florida","1c","SRSO"]
["32592","PENSACOLA","FL","Florida","1c","SRSO"]
["32355","SAINT MARKS","FL","Florida","1c","FRCC"]
["32306","TALLAHASSEE","FL","Florida","1c","FRCC"]
["32465","WEWAHITCHKA","FL","Florida","1c","SRSO"]
["34498","YANKEETOWN","FL","Florida","1c","FRCC"]
["31510","ALMA","GA","Georgia","1c","SRSO"]
["30803","AVERA","GA","Georgia","1c","SRSO"]
["31801","BOX SPRINGS","GA","Georgia","1c","SRSO"]
["31804","CATAULA","GA","Georgia","1c","SRSO"]
["31907","COLUMBUS","GA","Georgia","1c","SRSO"]
["31908","COLUMBUS","GA","Georgia","1c","SRSO"]
["31019","DEXTER","GA","Georgia","1c","SRSO"]
["30809","EVANS","GA","Georgia","1c","SRSO"]
["30813","GROVETOWN","GA","Georgia","1c","SRSO"]
["31042","IRWINTON","GA","Georgia","1c","SRSO"]
["31637","LENOX","GA","Georgia","1c","SRSO"]
["30434","LOUISVILLE","GA","Georgia","1c","SRSO"]
["31294","MACON","GA","Georgia","1c","SRSO"]
["30442","MILLEN","GA","Georgia","1c","SRSO"]
["30448","NUNEZ","GA","Georgia","1c","SRSO"]
["31822","PINE MOUNTAIN","GA","Georgia","1c","SRSO"]
["31079","ROCHELLE","GA","Georgia","1c","SRSO"]
["31547","KINGS BAY","GA","Georgia","1c","SRSO"]
["31416","SAVANNAH","GA","Georgia","1c","SRSO"]
["31789","SUMNER","GA","Georgia","1c","SRSO"]
["31603","VALDOSTA","GA","Georgia","1c","SRSO"]
["31796","WARWICK","GA","Georgia","1c","SRSO"]
["31503","WAYCROSS","GA","Georgia","1c","SRSO"]
["29808","AIKEN","SC","South Carolina","1c","SRVC"]
["29921","FURMAN","SC","South Carolina","1c","SRVC"]
["29840","MOUNT CARMEL","SC","South Carolina","1c","SRVC"]
["29849","ULMER","SC","South Carolina","1c","SRVC"]
["33425","BOYNTON BEACH","FL","Florida","1c","FRCC"]
["33301","FORT LAUDERDALE","FL","Florida","1c","FRCC"]
["33306","FORT LAUDERDALE","FL","Florida","1c","FRCC"]
["33331","FORT LAUDERDALE","FL","Florida","1c","FRCC"]
["34948","FORT PIERCE","FL","Florida","1c","FRCC"]
["33016","HIALEAH","FL","Florida","1c","FRCC"]
["33019","HOLLYWOOD","FL","Florida","1c","FRCC"]
["33090","HOMESTEAD","FL","Florida","1c","FRCC"]
["33001","LONG KEY","FL","Florida","1c","FRCC"]
["33132","MIAMI","FL","Florida","1c","FRCC"]
["33162","MIAMI","FL","Florida","1c","FRCC"]
["33188","MIAMI","FL","Florida","1c","FRCC"]
["33261","MIAMI","FL","Florida","1c","FRCC"]
["33283","MIAMI","FL","Florida","1c","FRCC"]
["33064","POMPANO BEACH","FL","Florida","1c","FRCC"]
["34997","STUART","FL","Florida","1c","FRCC"]
["33422","WEST PALM BEACH","FL","Florida","1c","FRCC"]
["33827","BABSON PARK","FL","Florida","1c","FRCC"]
["33744","BAY PINES","FL","Florida","1c","FRCC"]
["33835","BRADLEY","FL","Florida","1c","FRCC"]
["32920","CAPE CANAVERAL","FL","Florida","1c","FRCC"]
["33767","CLEARWATER BEACH","FL","Florida","1c","FRCC"]
["33525","DADE CITY","FL","Florida","1c","FRCC"]
["32724","DELAND","FL","Florida","1c","FRCC"]
["32739","DELTONA","FL","Florida","1c","FRCC"]
["32736","EUSTIS","FL","Florida","1c","FRCC"]
["33913","FORT MYERS","FL","Florida","1c","FRCC"]
["32138","GRANDIN","FL","Florida","1c","FRCC"]
["34741","KISSIMMEE","FL","Florida","1c","FRCC"]
["33805","LAKELAND","FL","Florida","1c","FRCC"]
["33806","LAKELAND","FL","Florida","1c","FRCC"]
["33771","LARGO","FL","Florida","1c","FRCC"]
["32779","LONGWOOD","FL","Florida","1c","FRCC"]
["32906","PALM BAY","FL","Florida","1c","FRCC"]
["32756","MOUNT DORA","FL","Florida","1c","FRCC"]
["34102","NAPLES","FL","Florida","1c","FRCC"]
["32168","NEW SMYRNA BEACH","FL","Florida","1c","FRCC"]
["32803","ORLANDO","FL","Florida","1c","FRCC"]
["32826","ORLANDO","FL","Florida","1c","FRCC"]
["32869","ORLANDO","FL","Florida","1c","FRCC"]
["34220","PALMETTO","FL","Florida","1c","FRCC"]
["32181","POMONA PARK","FL","Florida","1c","FRCC"]
["34667","HUDSON","FL","Florida","1c","FRCC"]
["33569","RIVERVIEW","FL","Florida","1c","FRCC"]
["33707","SAINT PETERSBURG","FL","Florida","1c","FRCC"]
["32187","SAN MATEO","FL","Florida","1c","FRCC"]
["34278","SARASOTA","FL","Florida","1c","FRCC"]
["32978","SEBASTIAN","FL","Florida","1c","FRCC"]
["33610","TAMPA","FL","Florida","1c","FRCC"]
["33634","TAMPA","FL","Florida","1c","FRCC"]
["33688","TAMPA","FL","Florida","1c","FRCC"]
["34284","VENICE","FL","Florida","1c","FRCC"]
["32195","WEIRSDALE","FL","Florida","1c","FRCC"]
["32971","WINTER BEACH","FL","Florida","1c","FRCC"]
["33543","WESLEY CHAPEL","FL","Florida","1c","FRCC"]
["35610","ANDERSON","AL","Alabama",3,"SRTV"]
["36503","ATMORE","AL","Alabama",3,"SRSO"]
["35023","BESSEMER","AL","Alabama",3,"SRSO"]
["35204","BIRMINGHAM","AL","Alabama",3,"SRTV"]
["35226","BIRMINGHAM","AL","Alabama",3,"SRTV"]
["35285","BIRMINGHAM","AL","Alabama",3,"SRTV"]
["36427","BREWTON","AL","Alabama",3,"SRSO"]
["35447","CARROLLTON","AL","Alabama",3,"SRSO"]
["36523","CODEN","AL","Alabama",3,"SRSO"]
["35962","CROSSVILLE","AL","Alabama",3,"SRTV"]
["36852","CUSSETA","AL","Alabama",3,"SRSO"]
["35061","DOLOMITE","AL","Alabama",3,"SRTV"]
["36025","ELMORE","AL","Alabama",3,"SRSO"]
["36441","FLOMATON","AL","Alabama",3,"SRSO"]
["36741","FURMAN","AL","Alabama",3,"SRSO"]
["35971","FYFFE","AL","Alabama",3,"SRTV"]
["36035","GOSHEN","AL","Alabama",3,"SRSO"]
["35078","HARPERSVILLE","AL","Alabama",3,"SRSO"]
["35802","HUNTSVILLE","AL","Alabama",3,"SRTV"]
["35981","IDER","AL","Alabama",3,"SRTV"]
["36453","KINSTON","AL","Alabama",3,"SRSO"]
["36046","LAPINE","AL","Alabama",3,"SRSO"]
["36752","LOWNDESBORO","AL","Alabama",3,"SRSO"]
["35984","MENTONE","AL","Alabama",3,"SRTV"]
["36617","MOBILE","AL","Alabama",3,"SRSO"]
["36695","MOBILE","AL","Alabama",3,"SRSO"]
["36121","MONTGOMERY","AL","Alabama",3,"SRSO"]
["36131","MONTGOMERY","AL","Alabama",3,"SRSO"]
["36268","MUNFORD","AL","Alabama",3,"SRSO"]
["36801","OPELIKA","AL","Alabama",3,"SRSO"]
["35478","PETERSON","AL","Alabama",3,"SRSO"]
["35469","KNOXVILLE","AL","Alabama",3,"SRSO"]
["35582","RED BAY","AL","Alabama",3,"SRTV"]
["36569","SAINT STEPHENS","AL","Alabama",3,"SRSO"]
["36349","MALVERN","AL","Alabama",3,"SRSO"]
["35151","SYLACAUGA","AL","Alabama",3,"SRSO"]
["35173","TRUSSVILLE","AL","Alabama",3,"SRSO"]
["35490","VANCE","AL","Alabama",3,"SRSO"]
["35183","WEOGUFKA","AL","Alabama",3,"SRSO"]
["36093","WETUMPKA","AL","Alabama",3,"SRSO"]
["39730","ABERDEEN","MS","Mississippi",3,"SRTV"]
["39572","PEARLINGTON","MS","Mississippi",3,"SRSO"]
["38829","BOONEVILLE","MS","Mississippi",3,"SRTV"]
["38955","SLATE SPRING","MS","Mississippi",3,"SRTV"]
["39427","CARSON","MS","Mississippi",3,"SRSO"]
["39429","COLUMBIA","MS","Mississippi",3,"SRSO"]
["39328","DE KALB","MS","Mississippi",3,"SRTV"]
["39069","FAYETTE","MS","Mississippi",3,"SRSO"]
["38702","GREENVILLE","MS","Mississippi",3,"SRMV"]
["39746","HAMILTON","MS","Mississippi",3,"SRTV"]
["39403","HATTIESBURG","MS","Mississippi",3,"SRSO"]
["38638","INDEPENDENCE","MS","Mississippi",3,"SRTV"]
["39225","JACKSON","MS","Mississippi",3,"SRMV"]
["39335","LAUDERDALE","MS","Mississippi",3,"SRTV"]
["38645","LYON","MS","Mississippi",3,"SRSO"]
["39108","MC COOL","MS","Mississippi",3,"SRTV"]
["39114","MENDENHALL","MS","Mississippi",3,"SRSO"]
["39122","NATCHEZ","MS","Mississippi",3,"SRMV"]
["39562","MOSS POINT","MS","Mississippi",3,"SRSO"]
["38951","PITTSBORO","MS","Mississippi",3,"SRTV"]
["38663","RIPLEY","MS","Mississippi",3,"SRTV"]
["39356","ROSE HILL","MS","Mississippi",3,"SRSO"]
["38868","SHANNON","MS","Mississippi",3,"SRTV"]
["39767","STEWART","MS","Mississippi",3,"SRSO"]
["38874","TOCCOPOLA","MS","Mississippi",3,"SRTV"]
["39183","VICKSBURG","MS","Mississippi",3,"SRMV"]
["39194","YAZOO CITY","MS","Mississippi",3,"SRSO"]
["70031","AMA","LA","Louisiana",3,"SRMV"]
["71003","ATHENS","LA","Louisiana",3,"SRMV"]
["70813","BATON ROUGE","LA","Louisiana",3,"SRMV"]
["70879","BATON ROUGE","LA","Louisiana",3,"SRMV"]
["70038","BOOTHVILLE","LA","Louisiana",3,"SRMV"]
["71225","CALHOUN","LA","Louisiana",3,"SRMV"]
["70721","CARVILLE","LA","Louisiana",3,"SRMV"]
["71419","CONVERSE","LA","Louisiana",3,"SPSO"]
["70634","DERIDDER","LA","Louisiana",3,"SRMV"]
["71051","ELM GROVE","LA","Louisiana",3,"SPSO"]
["71429","FLORIEN","LA","Louisiana",3,"SPSO"]
["71031","GOLDONNA","LA","Louisiana",3,"SRMV"]
["71245","GRAMBLING","LA","Louisiana",3,"SRMV"]
["70401","HAMMOND","LA","Louisiana",3,"SRMV"]
["70443","INDEPENDENCE","LA","Louisiana",3,"SRMV"]
["70444","KENTWOOD","LA","Louisiana",3,"SRMV"]
["70067","LAFITTE","LA","Louisiana",3,"SRMV"]
["70606","LAKE CHARLES","LA","Louisiana",3,"SRMV"]
["70551","LEONVILLE","LA","Louisiana",3,"SPSO"]
["71350","MANSURA","LA","Louisiana",3,"SPSO"]
["70010","METAIRIE","LA","Louisiana",3,"SRMV"]
["71454","MONTGOMERY","LA","Louisiana",3,"SRMV"]
["70115","NEW ORLEANS","LA","Louisiana",3,"SRMV"]
["70146","NEW ORLEANS","LA","Louisiana",3,"SRMV"]
["70153","NEW ORLEANS","LA","Louisiana",3,"SRMV"]
["70184","NEW ORLEANS","LA","Louisiana",3,"SRMV"]
["71466","OTIS","LA","Louisiana",3,"SPSO"]
["71467","POLLOCK","LA","Louisiana",3,"SPSO"]
["70083","PORT SULPHUR","LA","Louisiana",3,"SRMV"]
["70456","ROSELAND","LA","Louisiana",3,"SRMV"]
["71103","SHREVEPORT","LA","Louisiana",3,"SPSO"]
["71149","SHREVEPORT","LA","Louisiana",3,"SPSO"]
["70460","SLIDELL","LA","Louisiana",3,"SPSO"]
["70301","THIBODAUX","LA","Louisiana",3,"SRMV"]
["70589","WASHINGTON","LA","Louisiana",3,"SRMV"]
["71291","WEST MONROE","LA","Louisiana",3,"SRMV"]
["72005","AMAGON","AR","Arkansas",3,"SRMV"]
["72503","BATESVILLE","AR","Arkansas",3,"SRMV"]
["72413","BIGGERS","AR","Arkansas",3,"SRMV"]
["72021","BRINKLEY","AR","Arkansas",3,"SRMV"]
["72619","BULL SHOALS","AR","Arkansas",3,"SRMV"]
["72933","CHARLESTON","AR","Arkansas",3,"SPSO"]
["72035","CONWAY","AR","Arkansas",3,"SRMV"]
["71638","DERMOTT","AR","Arkansas",3,"SRMV"]
["72333","ELAINE","AR","Arkansas",3,"SRMV"]
["72429","FISHER","AR","Arkansas",3,"SRMV"]
["72335","FORREST CITY","AR","Arkansas",3,"SRMV"]
["72338","FRENCHMANS BAYOU","AR","Arkansas",3,"SRMV"]
["72736","GRAVETTE","AR","Arkansas",3,"SPSO"]
["72938","HARTFORD","AR","Arkansas",3,"SPSO"]
["72738","HINDSVILLE","AR","Arkansas",3,"SPSO"]
["72075","JACKSONPORT","AR","Arkansas",3,"SRMV"]
["72076","JACKSONVILLE","AR","Arkansas",3,"SRMV"]
["72642","LAKEVIEW","AR","Arkansas",3,"SRMV"]
["72210","LITTLE ROCK","AR","Arkansas",3,"SRMV"]
["71751","LOUANN","AR","Arkansas",3,"SRMV"]
["72365","MARKED TREE","AR","Arkansas",3,"SRMV"]
["71658","MONTROSE","AR","Arkansas",3,"SRMV"]
["72946","MOUNTAINBURG","AR","Arkansas",3,"SPSO"]
["72114","NORTH LITTLE ROCK","AR","Arkansas",3,"SRMV"]
["72369","ONEIDA","AR","Arkansas",3,"SRMV"]
["72126","PERRYVILLE","AR","Arkansas",3,"SRMV"]
["72458","POWHATAN","AR","Arkansas",3,"SRMV"]
["72758","ROGERS","AR","Arkansas",3,"SPSO"]
["71858","ROSSTON","AR","Arkansas",3,"SRMV"]
["72142","SCOTT","AR","Arkansas",3,"SRMV"]
["72467","STATE UNIVERSITY","AR","Arkansas",3,"SPSO"]
["72472","TRUMANN","AR","Arkansas",3,"SRMV"]
["72175","WABBASEKA","AR","Arkansas",3,"SRMV"]
["72476","WALNUT RIDGE","AR","Arkansas",3,"SRMV"]
["71865","WILTON","AR","Arkansas",3,"SPSO"]
["74721","ALBANY","OK","Oklahoma",2,"SPSO"]
["74525","ATOKA","OK","Oklahoma",2,"SPSO"]
["73526","BLAIR","OK","Oklahoma",2,"SPSO"]
["73722","BURLINGTON","OK","Oklahoma",2,"SPSO"]
["73527","CACHE","OK","Oklahoma",2,"SPSO"]
["74534","CENTRAHOMA","OK","Oklahoma",2,"SPSO"]
["74538","COALGATE","OK","Oklahoma",2,"SPSO"]
["74026","DAVENPORT","OK","Oklahoma",2,"SPSO"]
["73638","CRAWFORD","OK","Oklahoma",2,"SPSO"]
["74840","EARLSBORO","OK","Oklahoma",2,"SPSO"]
["74342","EUCHA","OK","Oklahoma",2,"SPSO"]
["73551","HOLLISTER","OK","Oklahoma",2,"SPSO"]
["74344","GROVE","OK","Oklahoma",2,"SPSO"]
["73743","HILLSDALE","OK","Oklahoma",2,"SPSO"]
["73049","JONES","OK","Oklahoma",2,"SPSO"]
["73050","LANGSTON","OK","Oklahoma",2,"SPSO"]
["73505","LAWTON","OK","Oklahoma",2,"SPSO"]
["74944","MCCURTAIN","OK","Oklahoma",2,"SPSO"]
["73557","MEDICINE PARK","OK","Oklahoma",2,"SPSO"]
["74402","MUSKOGEE","OK","Oklahoma",2,"SPSO"]
["74052","OILTON","OK","Oklahoma",2,"SPSO"]
["73762","OKARCHE","OK","Oklahoma",2,"SPSO"]
["73122","OKLAHOMA CITY","OK","Oklahoma",2,"SPSO"]
["73145","OKLAHOMA CITY","OK","Oklahoma",2,"SPSO"]
["73179","OKLAHOMA CITY","OK","Oklahoma",2,"SPSO"]
["74059","PERKINS","OK","Oklahoma",2,"SPSO"]
["74362","PRYOR","OK","Oklahoma",2,"SPSO"]
["74363","QUAPAW","OK","Oklahoma",2,"SPSO"]
["74364","ROSE","OK","Oklahoma",2,"SPSO"]
["74804","SHAWNEE","OK","Oklahoma",2,"SPSO"]
["74871","STONEWALL","OK","Oklahoma",2,"SPSO"]
["73459","THACKERVILLE","OK","Oklahoma",2,"SPSO"]
["74128","TULSA","OK","Oklahoma",2,"SPSO"]
["74133","TULSA","OK","Oklahoma",2,"SPSO"]
["74171","TULSA","OK","Oklahoma",2,"SPSO"]
["74878","WANETTE","OK","Oklahoma",2,"SPSO"]
["73097","WHEATLAND","OK","Oklahoma",2,"SPSO"]
["75926","APPLE SPRINGS","TX","Texas",3,"SRMV"]
["75551","ATLANTA","TX","Texas",3,"SPSO"]
["75929","BROADDUS","TX","Texas",3,"ERCT"]
["75833","CENTERVILLE","TX","Texas",3,"SRMV"]
["75151","CORSICANA","TX","Texas",3,"ERCT"]
["75219","DALLAS","TX","Texas",3,"ERCT"]
["75246","DALLAS","TX","Texas",3,"ERCT"]
["75284","DALLAS","TX","Texas",3,"ERCT"]
["75312","DALLAS","TX","Texas",3,"ERCT"]
["75380","DALLAS","TX","Texas",3,"ERCT"]
["75941","DIBOLL","TX","Texas",3,"ERCT"]
["75125","FERRIS","TX","Texas",3,"ERCT"]
["75644","GILMER","TX","Texas",3,"SPSO"]
["75050","GRAND PRAIRIE","TX","Texas",3,"ERCT"]
["75949","HUNTINGTON","TX","Texas",3,"ERCT"]
["75660","JUDSON","TX","Texas",3,"SPSO"]
["75027","FLOWER MOUND","TX","Texas",3,"ERCT"]
["75902","LUFKIN","TX","Texas",3,"ERCT"]
["75150","MESQUITE","TX","Texas",3,"ERCT"]
["75187","MESQUITE","TX","Texas",3,"ERCT"]
["75682","NEW LONDON","TX","Texas",3,"SPSO"]
["75025","PLANO","TX","Texas",3,"ERCT"]
["75155","RICE","TX","Texas",3,"ERCT"]
["75158","SCURRY","TX","Texas",3,"ERCT"]
["75091","SHERMAN","TX","Texas",3,"ERCT"]
["75503","TEXARKANA","TX","Texas",3,"SPSO"]
["75799","TYLER","TX","Texas",3,"ERCT"]
["75990","WOODVILLE","TX","Texas",3,"SRMV"]
["79602","ABILENE","TX","Texas",3,"ERCT"]
["79109","AMARILLO","TX","Texas",3,"SPSO"]
["79117","AMARILLO","TX","Texas",3,"SPSO"]
["76003","ARLINGTON","TX","Texas",3,"ERCT"]
["76930","BARNHART","TX","Texas",3,"ERCT"]
["76426","BRIDGEPORT","TX","Texas",3,"ERCT"]
["76436","CARLTON","TX","Texas",3,"ERCT"]
["76035","CRESSON","TX","Texas",3,"ERCT"]
["79322","CROSBYTON","TX","Texas",3,"SPSO"]
["76836","DOOLE","TX","Texas",3,"ERCT"]
["76841","FORT MC KAVETT","TX","Texas",3,"ERCT"]
["76121","FORT WORTH","TX","Texas",3,"ERCT"]
["76177","FORT WORTH","TX","Texas",3,"ERCT"]
["76044","GODLEY","TX","Texas",3,"ERCT"]
["76363","GOREE","TX","Texas",3,"ERCT"]
["79525","HAWLEY","TX","Texas",3,"ERCT"]
["76247","JUSTIN","TX","Texas",3,"ERCT"]
["79241","LOCKNEY","TX","Texas",3,"SPSO"]
["79430","LUBBOCK","TX","Texas",3,"SPSO"]
["76370","MEGARGEL","TX","Texas",3,"ERCT"]
["79536","MERKEL","TX","Texas",3,"ERCT"]
["79063","NAZARETH","TX","Texas",3,"SPSO"]
["76073","PARADISE","TX","Texas",3,"ERCT"]
["76470","RANGER","TX","Texas",3,"ERCT"]
["79548","RULE","TX","Texas",3,"ERCT"]
["76903","SAN ANGELO","TX","Texas",3,"ERCT"]
["79080","SKELLYTOWN","TX","Texas",3,"SPSO"]
["76475","STRAWN","TX","Texas",3,"ERCT"]
["76885","VALLEY SPRING","TX","Texas",3,"ERCT"]
["79096","WHEELER","TX","Texas",3,"SPSO"]
["77411","ALIEF","TX","Texas",3,"ERCT"]
["77702","BEAUMONT","TX","Texas",3,"SRMV"]
["77707","BEAUMONT","TX","Texas",3,"SRMV"]
["77808","BRYAN","TX","Texas",3,"SRMV"]
["77850","CONCORD","TX","Texas",3,"ERCT"]
["77853","DIME BOX","TX","Texas",3,"ERCT"]
["77436","EGYPT","TX","Texas",3,"ERCT"]
["77857","GAUSE","TX","Texas",3,"ERCT"]
["77010","HOUSTON","TX","Texas",3,"ERCT"]
["77031","HOUSTON","TX","Texas",3,"ERCT"]
["77056","HOUSTON","TX","Texas",3,"ERCT"]
["77081","HOUSTON","TX","Texas",3,"ERCT"]
["77204","HOUSTON","TX","Texas",3,"ERCT"]
["77209","HOUSTON","TX","Texas",3,"ERCT"]
["77237","HOUSTON","TX","Texas",3,"ERCT"]
["77263","HOUSTON","TX","Texas",3,"ERCT"]
["77299","HOUSTON","TX","Texas",3,"ERCT"]
["77450","KATY","TX","Texas",3,"ERCT"]
["77565","KEMAH","TX","Texas",3,"ERCT"]
["77456","MARKHAM","TX","Texas",3,"ERCT"]
["77872","NORTH ZULCH","TX","Texas",3,"ERCT"]
["77468","PLEDGER","TX","Texas",3,"ERCT"]
["77369","RYE","TX","Texas",3,"SRMV"]
["77387","SPRING","TX","Texas",3,"ERCT"]
["77660","SPURGER","TX","Texas",3,"SRMV"]
["77663","VILLAGE MILLS","TX","Texas",3,"SRMV"]
["79831","ALPINE","TX","Texas",3,"ERCT"]
["78717","AUSTIN","TX","Texas",3,"ERCT"]
["78738","AUSTIN","TX","Texas",3,"ERCT"]
["78765","AUSTIN","TX","Texas",3,"ERCT"]
["78766","AUSTIN","TX","Texas",3,"ERCT"]
["78829","BATESVILLE","TX","Texas",3,"ERCT"]
["76628","BRANDON","TX","Texas",3,"ERCT"]
["78932","CARMINE","TX","Texas",3,"ERCT"]
["78851","DRYDEN","TX","Texas",3,"ERCT"]
["78416","CORPUS CHRISTI","TX","Texas",3,"ERCT"]
["78427","CORPUS CHRISTI","TX","Texas",3,"ERCT"]
["79847","SALT FLAT","TX","Texas",3,"ERCT"]
["78540","EDINBURG","TX","Texas",3,"ERCT"]
["79917","EL PASO","TX","Texas",3,"AZNM"]
["79946","EL PASO","TX","Texas",3,"AZNM"]
["79998","EL PASO","TX","Texas",3,"AZNM"]
["88513","EL PASO","TX","Texas",3,"AZNM"]
["88535","EL PASO","TX","Texas",3,"AZNM"]
["88563","EL PASO","TX","Texas",3,"AZNM"]
["88589","EL PASO","TX","Texas",3,"AZNM"]
["79839","FORT HANCOCK","TX","Texas",3,"AZNM"]
["78357","FREER","TX","Texas",3,"ERCT"]
["78658","OTTINE","TX","Texas",3,"ERCT"]
["76645","HILLSBORO","TX","Texas",3,"ERCT"]
["78119","KENEDY","TX","Texas",3,"ERCT"]
["78640","KYLE","TX","Texas",3,"ERCT"]
["78646","LEANDER","TX","Texas",3,"ERCT"]
["76654","LEROY","TX","Texas",3,"ERCT"]
["78503","MCALLEN","TX","Texas",3,"ERCT"]
["78055","MEDINA","TX","Texas",3,"ERCT"]
["78369","MIRANDO CITY","TX","Texas",3,"ERCT"]
["77976","NURSERY","TX","Texas",3,"ERCT"]
["79762","ODESSA","TX","Texas",3,"ERCT"]
["78576","PENITAS","TX","Texas",3,"ERCT"]
["78579","PROGRESO","TX","Texas",3,"ERCT"]
["78584","ROMA","TX","Texas",3,"ERCT"]
["78204","SAN ANTONIO","TX","Texas",3,"ERCT"]
["78229","SAN ANTONIO","TX","Texas",3,"ERCT"]
["78250","SAN ANTONIO","TX","Texas",3,"ERCT"]
["78261","SAN ANTONIO","TX","Texas",3,"ERCT"]
["78294","SAN ANTONIO","TX","Texas",3,"ERCT"]
["78385","SARITA","TX","Texas",3,"ERCT"]
["78595","SULLIVAN CITY","TX","Texas",3,"ERCT"]
["78672","TOW","TX","Texas",3,"ERCT"]
["79785","TOYAH","TX","Texas",3,"ERCT"]
["76705","WACO","TX","Texas",3,"ERCT"]
["78596","WESLACO","TX","Texas",3,"ERCT"]
["46911","AMBOY","IN","Indiana",2,"RFCW"]
["46106","BARGERSVILLE","IN","Indiana",2,"RFCW"]
["47406","BLOOMINGTON","IN","Indiana",2,"RFCW"]
["46110","BOGGSTOWN","IN","Indiana",2,"RFCW"]
["47925","BUFFALO","IN","Indiana",2,"RFCW"]
["47521","CELESTINE","IN","Indiana",2,"RFCW"]
["47227","COMMISKEY","IN","Indiana",2,"RFCW"]
["46920","CUTLER","IN","Indiana",2,"RFCW"]
["47942","EARL PARK","IN","Indiana",2,"RFCW"]
["47528","EDWARDSPORT","IN","Indiana",2,"RFCW"]
["46037","FISHERS","IN","Indiana",2,"RFCW"]
["46850","FORT WAYNE","IN","Indiana",2,"RFCW"]
["46895","FORT WAYNE","IN","Indiana",2,"RFCW"]
["46738","GARRETT","IN","Indiana",2,"RFCW"]
["46405","LAKE STATION","IN","Indiana",2,"RFCW"]
["46140","GREENFIELD","IN","Indiana",2,"RFCW"]
["47434","HARRODSBURG","IN","Indiana",2,"RFCW"]
["47437","HURON","IN","Indiana",2,"RFCW"]
["46227","INDIANAPOLIS","IN","Indiana",2,"RFCW"]
["46266","INDIANAPOLIS","IN","Indiana",2,"RFCW"]
["47549","JASPER","IN","Indiana",2,"RFCW"]
["47351","KENNARD","IN","Indiana",2,"RFCW"]
["47905","LAFAYETTE","IN","Indiana",2,"RFCW"]
["46538","LEESBURG","IN","Indiana",2,"RFCW"]
["46146","HOMER","IN","Indiana",2,"RFCW"]
["46540","MIDDLEBURY","IN","Indiana",2,"RFCW"]
["46543","MILLERSBURG","IN","Indiana",2,"RFCW"]
["46161","MORRISTOWN","IN","Indiana",2,"RFCW"]
["46553","NEW PARIS","IN","Indiana",2,"RFCW"]
["46063","ORESTES","IN","Indiana",2,"RFCW"]
["46562","PIERCETON","IN","Indiana",2,"RFCW"]
["47977","REMINGTON","IN","Indiana",2,"RFCW"]
["47380","RIDGEVILLE","IN","Indiana",2,"RFCW"]
["47875","SAINT BERNICE","IN","Indiana",2,"RFCW"]
["46565","SHIPSHEWANA","IN","Indiana",2,"RFCW"]
["47460","SPENCER","IN","Indiana",2,"RFCW"]
["47465","SWITZ CITY","IN","Indiana",2,"RFCW"]
["47802","TERRE HAUTE","IN","Indiana",2,"RFCW"]
["46791","UNIONDALE","IN","Indiana",2,"RFCW"]
["47501","WASHINGTON","IN","Indiana",2,"RFCW"]
["47393","WILLIAMSBURG","IN","Indiana",2,"RFCW"]
["49221","ADRIAN","MI","Michigan",2,"RFCM"]
["48112","BELLEVILLE","MI","Michigan",2,"RFCM"]
["48301","BLOOMFIELD HILLS","MI","Michigan",2,"RFCM"]
["48347","CLARKSTON","MI","Michigan",2,"RFCM"]
["48203","HIGHLAND PARK","MI","Michigan",2,"RFCM"]
["48224","DETROIT","MI","Michigan",2,"RFCM"]
["48267","DETROIT","MI","Michigan",2,"RFCM"]
["48502","FLINT","MI","Michigan",2,"RFCM"]
["48503","FLINT","MI","Michigan",2,"RFCM"]
["48136","GARDEN CITY","MI","Michigan",2,"RFCM"]
["48141","INKSTER","MI","Michigan",2,"RFCM"]
["48367","LEONARD","MI","Michigan",2,"RFCM"]
["48110","AZALIA","MI","Michigan",2,"RFCM"]
["48458","MOUNT MORRIS","MI","Michigan",2,"RFCM"]
["48164","NEW BOSTON","MI","Michigan",2,"RFCM"]
["49268","PALMYRA","MI","Michigan",2,"RFCM"]
["48060","PORT HURON","MI","Michigan",2,"RFCM"]
["48073","ROYAL OAK","MI","Michigan",2,"RFCM"]
["48054","EAST CHINA","MI","Michigan",2,"RFCM"]
["48315","UTICA","MI","Michigan",2,"RFCM"]
["49288","WALDRON","MI","Michigan",2,"RFCM"]
["48186","WESTLAND","MI","Michigan",2,"RFCM"]
["48610","ALGER","MI","Michigan",2,"RFCM"]
["49305","BARRYTON","MI","Michigan",2,"RFCM"]
["49306","BELMONT","MI","Michigan",2,"RFCM"]
["49102","BERRIEN CENTER","MI","Michigan",2,"RFCW"]
["49715","BRIMLEY","MI","Michigan",2,"RFCW"]
["49318","CASNOVIA","MI","Michigan",2,"RFCM"]
["48619","COMINS","MI","Michigan",2,"RFCM"]
["49043","COVERT","MI","Michigan",2,"RFCM"]
["49727","EAST JORDAN","MI","Michigan",2,"RFCM"]
["49729","ELLSWORTH","MI","Michigan",2,"RFCM"]
["49630","EMPIRE","MI","Michigan",2,"RFCM"]
["49635","FRANKFORT","MI","Michigan",2,"RFCM"]
["48737","GLENNIE","MI","Michigan",2,"RFCM"]
["49523","GRAND RAPIDS","MI","Michigan",2,"RFCM"]
["49544","GRAND RAPIDS","MI","Michigan",2,"RFCM"]
["49115","HARBERT","MI","Michigan",2,"RFCW"]
["48842","HOLT","MI","Michigan",2,"RFCM"]
["49643","INTERLOCHEN","MI","Michigan",2,"RFCM"]
["49024","PORTAGE","MI","Michigan",2,"RFCM"]
["48901","LANSING","MI","Michigan",2,"RFCM"]
["48951","LANSING","MI","Michigan",2,"RFCM"]
["49654","LELAND","MI","Michigan",2,"RFCM"]
["49664","MAPLE CITY","MI","Michigan",2,"RFCM"]
["49861","MICHIGAMME","MI","Michigan",2,"MROE"]
["48861","MULLIKEN","MI","Michigan",2,"RFCM"]
["49120","NILES","MI","Michigan",2,"RFCW"]
["49075","NOTTAWA","MI","Michigan",2,"RFCM"]
["49079","PAW PAW","MI","Michigan",2,"RFCM"]
["49874","POWERS","MI","Michigan",2,"RFCW"]
["49342","RODNEY","MI","Michigan",2,"RFCM"]
["49781","SAINT IGNACE","MI","Michigan",2,"RFCW"]
["48884","SHERIDAN","MI","Michigan",2,"RFCM"]
["48760","SILVERWOOD","MI","Michigan",2,"RFCM"]
["49091","STURGIS","MI","Michigan",2,"RFCM"]
["49094","UNION CITY","MI","Michigan",2,"RFCM"]
["48661","WEST BRANCH","MI","Michigan",2,"RFCM"]
["60005","ARLINGTON HEIGHTS","IL","Illinois",2,"RFCW"]
["61020","DAVIS JUNCTION","IL","Illinois",2,"RFCW"]
["60015","DEERFIELD","IL","Illinois",2,"RFCW"]
["60022","GLENCOE","IL","Illinois",2,"RFCW"]
["61048","LENA","IL","Illinois",2,"RFCW"]
["60088","GREAT LAKES","IL","Illinois",2,"RFCW"]
["61104","ROCKFORD","IL","Illinois",2,"RFCW"]
["61075","SCALES MOUND","IL","Illinois",2,"MROW"]
["60077","SKOKIE","IL","Illinois",2,"RFCW"]
["53910","ADAMS","WI","Wisconsin",2,"MROE"]
["54511","ARGONNE","WI","Wisconsin",2,"MROE"]
["53512","BELOIT","WI","Wisconsin",2,"MROE"]
["54417","BROKAW","WI","Wisconsin",2,"MROE"]
["53806","CASSVILLE","WI","Wisconsin",2,"MROW"]
["53013","CEDAR GROVE","WI","Wisconsin",2,"RFCW"]
["53807","CUBA CITY","WI","Wisconsin",2,"MROE"]
["54521","EAGLE RIVER","WI","Wisconsin",2,"MROE"]
["54212","FISH CREEK","WI","Wisconsin",2,"MROE"]
["54124","GILLETT","WI","Wisconsin",2,"RFCW"]
["53023","GLENBEULAH","WI","Wisconsin",2,"RFCW"]
["54126","GREENLEAF","WI","Wisconsin",2,"MROE"]
["53032","HORICON","WI","Wisconsin",2,"MROE"]
["54537","KENNAN","WI","Wisconsin",2,"MROW"]
["53551","LAKE MILLS","WI","Wisconsin",2,"RFCW"]
["54446","LOYAL","WI","Wisconsin",2,"MROW"]
["53558","MC FARLAND","WI","Wisconsin",2,"MROE"]
["53744","MADISON","WI","Wisconsin",2,"MROE"]
["54143","MARINETTE","WI","Wisconsin",2,"MROE"]
["53561","MERRIMAC","WI","Wisconsin",2,"MROE"]
["53222","MILWAUKEE","WI","Wisconsin",2,"RFCW"]
["53227","MILWAUKEE","WI","Wisconsin",2,"RFCW"]
["53569","MONTFORT","WI","Wisconsin",2,"MROE"]
["53061","NEW HOLSTEIN","WI","Wisconsin",2,"MROE"]
["54901","OSHKOSH","WI","Wisconsin",2,"MROE"]
["54964","PICKETT","WI","Wisconsin",2,"MROE"]
["53401","RACINE","WI","Wisconsin",2,"RFCW"]
["53581","RICHLAND CENTER","WI","Wisconsin",2,"MROW"]
["53167","ROCHESTER","WI","Wisconsin",2,"RFCW"]
["53083","SHEBOYGAN","WI","Wisconsin",2,"MROE"]
["53589","STOUGHTON","WI","Wisconsin",2,"MROE"]
["53181","TWIN LAKES","WI","Wisconsin",2,"MROE"]
["54981","WAUPACA","WI","Wisconsin",2,"MROE"]
["53963","WAUPUN","WI","Wisconsin",2,"MROE"]
["54498","WITHEE","WI","Wisconsin",2,"MROW"]
["61720","ANCHOR","IL","Illinois",2,"SRMW"]
["60401","BEECHER","IL","Illinois",2,"RFCW"]
["60913","BONFIELD","IL","Illinois",2,"RFCW"]
["61423","CAMERON","IL","Illinois",2,"SRMW"]
["60197","CAROL STREAM","IL","Illinois",2,"RFCW"]
["60927","CLIFTON","IL","Illinois",2,"SRMW"]
["60419","DOLTON","IL","Illinois",2,"RFCW"]
["61737","ELLSWORTH","IL","Illinois",2,"SRMW"]
["60131","FRANKLIN PARK","IL","Illinois",2,"RFCW"]
["61534","GREEN VALLEY","IL","Illinois",2,"SRMW"]
["60426","HARVEY","IL","Illinois",2,"RFCW"]
["61440","INDUSTRY","IL","Illinois",2,"SRMW"]
["61540","LACON","IL","Illinois",2,"SRMW"]
["61752","LE ROY","IL","Illinois",2,"SRMW"]
["60150","MALTA","IL","Illinois",2,"RFCW"]
["60151","MAPLE PARK","IL","Illinois",2,"RFCW"]
["60165","STONE PARK","IL","Illinois",2,"RFCW"]
["60565","NAPERVILLE","IL","Illinois",2,"RFCW"]
["60301","OAK PARK","IL","Illinois",2,"RFCW"]
["61558","PEKIN","IL","Illinois",2,"SRMW"]
["61641","PEORIA","IL","Illinois",2,"SRMW"]
["61560","PUTNAM","IL","Illinois",2,"SRMW"]
["60471","RICHTON PARK","IL","Illinois",2,"RFCW"]
["60179","HOFFMAN ESTATES","IL","Illinois",2,"RFCW"]
["60473","SOUTH HOLLAND","IL","Illinois",2,"RFCW"]
["61368","TISKILWA","IL","Illinois",2,"SRMW"]
["61777","WAPELLA","IL","Illinois",2,"SRMW"]
["61488","WATAGA","IL","Illinois",2,"SRMW"]
["61379","WYANET","IL","Illinois",2,"SRMW"]
["60618","CHICAGO","IL","Illinois",2,"RFCW"]
["60645","CHICAGO","IL","Illinois",2,"RFCW"]
["60681","CHICAGO","IL","Illinois",2,"RFCW"]
["60803","ALSIP","IL","Illinois",2,"RFCW"]
["62215","ALBERS","IL","Illinois",2,"SRMW"]
["62612","ASHLAND","IL","Illinois",2,"SRMW"]
["62220","BELLEVILLE","IL","Illinois",2,"SRMW"]
["62417","BRIDGEPORT","IL","Illinois",2,"SRMW"]
["62319","CAMDEN","IL","Illinois",2,"SRMW"]
["62902","CARBONDALE","IL","Illinois",2,"SRMW"]
["61826","CHAMPAIGN","IL","Illinois",2,"SRMW"]
["62631","CONCORD","IL","Illinois",2,"SRMW"]
["61840","DEWEY","IL","Illinois",2,"SRMW"]
["62205","EAST SAINT LOUIS","IL","Illinois",2,"SRMW"]
["62836","EWING","IL","Illinois",2,"SRMW"]
["61842","FARMER CITY","IL","Illinois",2,"SRMW"]
["62842","GEFF","IL","Illinois",2,"SRMW"]
["62247","HAGARSTOWN","IL","Illinois",2,"SRMW"]
["62050","HILLVIEW","IL","Illinois",2,"SRMW"]
["62850","JOHNSONVILLE","IL","Illinois",2,"SRMW"]
["62255","LENZBURG","IL","Illinois",2,"SRMW"]
["62440","LERNA","IL","Illinois",2,"SRMW"]
["62959","MARION","IL","Illinois",2,"SRMW"]
["62962","MILLER CITY","IL","Illinois",2,"SRMW"]
["61857","MUNCIE","IL","Illinois",2,"SRMW"]
["62868","NOBLE","IL","Illinois",2,"SRMW"]
["62874","ORIENT","IL","Illinois",2,"SRMW"]
["62674","PALMYRA","IL","Illinois",2,"SRMW"]
["62366","PLEASANT HILL","IL","Illinois",2,"SRMW"]
["61870","RIDGE FARM","IL","Illinois",2,"SRMW"]
["62881","SALEM","IL","Illinois",2,"SRMW"]
["62285","SMITHTON","IL","Illinois",2,"SRMW"]
["62757","SPRINGFIELD","IL","Illinois",2,"SRMW"]
["62765","SPRINGFIELD","IL","Illinois",2,"SRMW"]
["62688","TALLULA","IL","Illinois",2,"SRMW"]
["61801","URBANA","IL","Illinois",2,"SRMW"]
["62298","WATERLOO","IL","Illinois",2,"SRMW"]
["62093","WILSONVILLE","IL","Illinois",2,"SRMW"]
["62998","WOLF LAKE","IL","Illinois",2,"SRMW"]
["63022","BALLWIN","MO","Missouri",2,"SRMW"]
["65323","CALHOUN","MO","Missouri",2,"SRMW"]
["65203","COLUMBIA","MO","Missouri",2,"SRMW"]
["65072","ROCKY MOUNT","MO","Missouri",2,"SRMW"]
["65034","FORTUNA","MO","Missouri",2,"SRMW"]
["65255","HALLSVILLE","MO","Missouri",2,"SRMW"]
["63042","HAZELWOOD","MO","Missouri",2,"SRMW"]
["65101","JEFFERSON CITY","MO","Missouri",2,"SRMW"]
["63055","LABADIE","MO","Missouri",2,"SRMW"]
["65055","MC GIRK","MO","Missouri",2,"SRMW"]
["65340","MARSHALL","MO","Missouri",2,"SPNO"]
["63458","NEWARK","MO","Missouri",2,"SRMW"]
["65275","PARIS","MO","Missouri",2,"SRMW"]
["63302","SAINT CHARLES","MO","Missouri",2,"SRMW"]
["63121","SAINT LOUIS","MO","Missouri",2,"SRMW"]
["63147","SAINT LOUIS","MO","Missouri",2,"SRMW"]
["63197","SAINT LOUIS","MO","Missouri",2,"SRMW"]
["65281","SALISBURY","MO","Missouri",2,"SPNO"]
["63378","TRELOAR","MO","Missouri",2,"SRMW"]
["63388","WILLIAMSBURG","MO","Missouri",2,"SRMW"]
["20016","WASHINGTON","DC","District of Columbia","1b","RFCE"]
["20042","WASHINGTON","DC","District of Columbia","1b","RFCE"]
["20047","WASHINGTON","DC","District of Columbia","1b","RFCE"]
["20075","WASHINGTON","DC","District of Columbia","1b","RFCE"]
["20212","WASHINGTON","DC","District of Columbia","1b","RFCE"]
["20241","WASHINGTON","DC","District of Columbia","1b","RFCE"]
["20310","WASHINGTON","DC","District of Columbia","1b","SRVC"]
["20401","WASHINGTON","DC","District of Columbia","1b","RFCE"]
["20406","WASHINGTON","DC","District of Columbia","1b","SRVC"]
["20427","WASHINGTON","DC","District of Columbia","1b","RFCE"]
["20501","WASHINGTON","DC","District of Columbia","1b","RFCE"]
["20533","WASHINGTON","DC","District of Columbia","1b","RFCE"]
["20557","WASHINGTON","DC","District of Columbia","1b","RFCE"]
["20606","ABELL","MD","Maryland","1b","RFCE"]
["20607","ACCOKEEK","MD","Maryland","1b","RFCE"]
["20894","BETHESDA","MD","Maryland","1b","RFCE"]
["20791","CAPITOL HEIGHTS","MD","Maryland","1b","RFCE"]
["20630","DRAYDEN","MD","Maryland","1b","RFCE"]
["20812","GLEN ECHO","MD","Maryland","1b","RFCE"]
["20645","ISSUE","MD","Maryland","1b","RFCE"]
["20706","LANHAM","MD","Maryland","1b","RFCE"]
["20736","OWINGS","MD","Maryland","1b","RFCE"]
["20853","ROCKVILLE","MD","Maryland","1b","RFCE"]
["20915","SILVER SPRING","MD","Maryland","1b","RFCE"]
["20604","WALDORF","MD","Maryland","1b","RFCE"]
["21402","ANNAPOLIS","MD","Maryland","1b","RFCE"]
["21202","BALTIMORE","MD","Maryland","1b","RFCE"]
["21223","BALTIMORE","MD","Maryland","1b","RFCE"]
["21275","BALTIMORE","MD","Maryland","1b","RFCE"]
["21813","BISHOPVILLE","MD","Maryland","1b","RFCE"]
["21027","CHASE","MD","Maryland","1b","RFCE"]
["21721","CHEWSVILLE","MD","Maryland","1b","RFCW"]
["21501","CUMBERLAND","MD","Maryland","1b","RFCW"]
["21041","ELLICOTT CITY","MD","Maryland","1b","RFCE"]
["21635","GALENA","MD","Maryland","1b","RFCE"]
["21748","HAGERSTOWN","MD","Maryland","1b","RFCW"]
["21090","LINTHICUM HEIGHTS","MD","Maryland","1b","RFCE"]
["21093","LUTHERVILLE TIMONIUM","MD","Maryland","1b","RFCE"]
["21545","MOUNT SAVAGE","MD","Maryland","1b","RFCW"]
["21903","PERRYVILLE","MD","Maryland","1b","RFCE"]
["21911","RISING SUN","MD","Maryland","1b","RFCE"]
["21152","SPARKS GLENCOE","MD","Maryland","1b","RFCE"]
["21864","STOCKTON","MD","Maryland","1b","RFCE"]
["21793","WALKERSVILLE","MD","Maryland","1b","RFCW"]
["20105","ALDIE","VA","Virginia","1c","SRVC"]
["22202","ARLINGTON","VA","Virginia","1c","SRVC"]
["22240","ARLINGTON","VA","Virginia","1c","SRVC"]
["20119","CATLETT","VA","Virginia","1c","SRVC"]
["20153","CHANTILLY","VA","Virginia","1c","SRVC"]
["22034","FAIRFAX","VA","Virginia","1c","SRVC"]
["20159","HAMILTON","VA","Virginia","1c","SRVC"]
["22725","LEON","VA","Virginia","1c","SRVC"]
["22643","MARKHAM","VA","Virginia","1c","SRVC"]
["20132","PURCELLVILLE","VA","Virginia","1c","SRVC"]
["20134","PURCELLVILLE","VA","Virginia","1c","SRVC"]
["22156","SPRINGFIELD","VA","Virginia","1c","SRVC"]
["20130","PARIS","VA","Virginia","1c","SRVC"]
["22195","WOODBRIDGE","VA","Virginia","1c","SRVC"]
["23018","BENA","VA","Virginia","1c","SRVC"]
["23024","BUMPASS","VA","Virginia","1c","SRVC"]
["22435","CALLAO","VA","Virginia","1c","SRVC"]
["22906","CHARLOTTESVILLE","VA","Virginia","1c","SRVC"]
["23032","CHURCH VIEW","VA","Virginia","1c","SRVC"]
["22821","DAYTON","VA","Virginia","1c","RFCW"]
["23845","EBONY","VA","Virginia","1c","SRVC"]
["22405","FREDERICKSBURG","VA","Virginia","1c","SRVC"]
["23856","FREEMAN","VA","Virginia","1c","SRVC"]
["24441","GROTTOES","VA","Virginia","1c","SRVC"]
["22803","HARRISONBURG","VA","Virginia","1c","SRVC"]
["23401","KELLER","VA","Virginia","1c","RFCE"]
["23868","LAWRENCEVILLE","VA","Virginia","1c","SRVC"]
["22948","LOCUST DALE","VA","Virginia","1c","SRVC"]
["23407","MAPPSVILLE","VA","Virginia","1c","RFCE"]
["22520","MONTROSS","VA","Virginia","1c","SRVC"]
["22844","NEW MARKET","VA","Virginia","1c","SRVC"]
["23510","NORFOLK","VA","Virginia","1c","SRVC"]
["23417","ONANCOCK","VA","Virginia","1c","RFCE"]
["23959","PHENIX","VA","Virginia","1c","SRVC"]
["23701","PORTSMOUTH","VA","Virginia","1c","SRVC"]
["22542","RHOADESVILLE","VA","Virginia","1c","SRVC"]
["23235","RICHMOND","VA","Virginia","1c","SRVC"]
["23292","RICHMOND","VA","Virginia","1c","SRVC"]
["23426","SANFORD","VA","Virginia","1c","RFCE"]
["23696","SEAFORD","VA","Virginia","1c","SRVC"]
["22851","STANLEY","VA","Virginia","1c","RFCW"]
["22560","TAPPAHANNOCK","VA","Virginia","1c","SRVC"]
["23457","VIRGINIA BEACH","VA","Virginia","1c","SRVC"]
["28467","CALABASH","NC","North Carolina","1c","SRVC"]
["23893","WHITE PLAINS","VA","Virginia","1c","SRVC"]
["23185","WILLIAMSBURG","VA","Virginia","1c","SRVC"]
["27202","ALTAMAHAW","NC","North Carolina","1c","SRVC"]
["27208","BENNETT","NC","North Carolina","1c","SRVC"]
["27510","CARRBORO","NC","North Carolina","1c","SRVC"]
["27013","CLEVELAND","NC","North Carolina","1c","SRVC"]
["27924","COLERAIN","NC","North Carolina","1c","SRVC"]
["27017","DOBSON","NC","North Carolina","1c","SRVC"]
["27906","ELIZABETH CITY","NC","North Carolina","1c","SRVC"]
["27529","GARNER","NC","North Carolina","1c","SRVC"]
["27402","GREENSBORO","NC","North Carolina","1c","SRVC"]
["27498","GREENSBORO","NC","North Carolina","1c","SRVC"]
["27836","GREENVILLE","NC","North Carolina","1c","SRVC"]
["28603","HICKORY","NC","North Carolina","1c","SRVC"]
["28642","JONESVILLE","NC","North Carolina","1c","SRVC"]
["27023","LEWISVILLE","NC","North Carolina","1c","SRVC"]
["27956","MAPLE","NC","North Carolina","1c","SRVC"]
["27562","NEW HILL","NC","North Carolina","1c","SRVC"]
["28657","NEWLAND","NC","North Carolina","1c","SRTV"]
["27312","PITTSBORO","NC","North Carolina","1c","SRVC"]
["27608","RALEIGH","NC","North Carolina","1c","SRVC"]
["27650","RALEIGH","NC","North Carolina","1c","SRVC"]
["27871","ROBERSONVILLE","NC","North Carolina","1c","SRVC"]
["27099","RURAL HALL","NC","North Carolina","1c","SRVC"]
["27331","SANFORD","NC","North Carolina","1c","SRVC"]
["27351","SOUTHMONT","NC","North Carolina","1c","SRVC"]
["27359","SWEPSONVILLE","NC","North Carolina","1c","SRVC"]
["27373","WALLBURG","NC","North Carolina","1c","SRVC"]
["27895","WILSON","NC","North Carolina","1c","SRVC"]
["27152","WINSTON SALEM","NC","North Carolina","1c","SRVC"]
["27986","WINTON","NC","North Carolina","1c","SRVC"]
["28704","ARDEN","NC","North Carolina","1c","SRTV"]
["28515","BAYBORO","NC","North Carolina","1c","SRVC"]
["28327","CARTHAGE","NC","North Carolina","1c","SRVC"]
["28214","CHARLOTTE","NC","North Carolina","1c","SRVC"]
["28219","CHARLOTTE","NC","North Carolina","1c","SRVC"]
["28244","CHARLOTTE","NC","North Carolina","1c","SRVC"]
["28282","CHARLOTTE","NC","North Carolina","1c","SRVC"]
["28027","CONCORD","NC","North Carolina","1c","SRVC"]
["28332","DUBLIN","NC","North Carolina","1c","SRVC"]
["28302","FAYETTEVILLE","NC","North Carolina","1c","SRVC"]
["28054","GASTONIA","NC","North Carolina","1c","SRVC"]
["28736","GLENVILLE","NC","North Carolina","1c","SRVC"]
["28077","HIGH SHOALS","NC","North Carolina","1c","SRVC"]
["28544","MIDWAY PARK","NC","North Carolina","1c","SRVC"]
["28353","LAURINBURG","NC","North Carolina","1c","SRVC"]
["28091","LILESVILLE","NC","North Carolina","1c","SRVC"]
["28752","MARION","NC","North Carolina","1c","SRVC"]
["28119","MORVEN","NC","North Carolina","1c","SRVC"]
["28128","NORWOOD","NC","North Carolina","1c","SRVC"]
["28377","RED SPRINGS","NC","North Carolina","1c","SRVC"]
["28579","SMYRNA","NC","North Carolina","1c","SRVC"]
["28463","TABOR CITY","NC","North Carolina","1c","SRVC"]
["28166","TROUTMAN","NC","North Carolina","1c","SRVC"]
["28478","WILLARD","NC","North Carolina","1c","SRVC"]
["29704","CATAWBA","SC","South Carolina","1c","SRVC"]
["29741","RUBY","SC","South Carolina","1c","SRVC"]
["29627","BELTON","SC","South Carolina","1c","SRVC"]
["29020","CAMDEN","SC","South Carolina","1c","SRVC"]
["29403","CHARLESTON","SC","South Carolina","1c","SRVC"]
["29520","CHERAW","SC","South Carolina","1c","SRVC"]
["29217","COLUMBIA","SC","South Carolina","1c","SRVC"]
["29526","CONWAY","SC","South Carolina","1c","SRVC"]
["29642","EASLEY","SC","South Carolina","1c","SRVC"]
["29045","ELGIN","SC","South Carolina","1c","SRVC"]
["29341","GAFFNEY","SC","South Carolina","1c","SRVC"]
["29612","GREENVILLE","SC","South Carolina","1c","SRVC"]
["29654","HONEA PATH","SC","South Carolina","1c","SRVC"]
["29656","LA FRANCE","SC","South Carolina","1c","SRVC"]
["29079","LYDIA","SC","South Carolina","1c","SRVC"]
["29365","LYMAN","SC","South Carolina","1c","SRVC"]
["29577","MYRTLE BEACH","SC","South Carolina","1c","SRVC"]
["29583","PAMPLICO","SC","South Carolina","1c","SRVC"]
["29129","RIDGE SPRING","SC","South Carolina","1c","SRVC"]
["29681","SIMPSONVILLE","SC","South Carolina","1c","SRVC"]
["29483","SUMMERVILLE","SC","South Carolina","1c","SRVC"]
["29152","SHAW A F B","SC","South Carolina","1c","SRVC"]
["29168","WEDGEFIELD","SC","South Carolina","1c","SRVC"]
["30104","ARAGON","GA","Georgia","1c","SRSO"]
["30313","ATLANTA","GA","Georgia","1c","SRSO"]
["30340","ATLANTA","GA","Georgia","1c","SRSO"]
["30364","ATLANTA","GA","Georgia","1c","SRSO"]
["30371","ATLANTA","GA","Georgia","1c","SRSO"]
["31145","ATLANTA","GA","Georgia","1c","SRSO"]
["30516","BOWERSVILLE","GA","Georgia","1c","SRSO"]
["30125","CEDARTOWN","GA","Georgia","1c","SRSO"]
["30015","COVINGTON","GA","Georgia","1c","SRSO"]
["30040","CUMMING","GA","Georgia","1c","SRSO"]
["30026","NORTH METRO","GA","Georgia","1c","SRSO"]
["30215","FAYETTEVILLE","GA","Georgia","1c","SRSO"]
["30224","GRIFFIN","GA","Georgia","1c","SRSO"]
["30238","JONESBORO","GA","Georgia","1c","SRSO"]
["30058","LITHONIA","GA","Georgia","1c","SRSO"]
["30251","LUTHERSVILLE","GA","Georgia","1c","SRSO"]
["30090","MARIETTA","GA","Georgia","1c","SRSO"]
["30010","NORCROSS","GA","Georgia","1c","SRSO"]
["30153","ROCKMART","GA","Georgia","1c","SRSO"]
["30082","SMYRNA","GA","Georgia","1c","SRSO"]
["30667","STEPHENS","GA","Georgia","1c","SRSO"]
["30577","TOCCOA","GA","Georgia","1c","SRSO"]
["30582","YOUNG HARRIS","GA","Georgia","1c","SRTV"]
["09053","APO","AE","U.S. Armed Forces – Europe"]
["09100","APO","AE","U.S. Armed Forces – Europe"]
["09211","APO","AE","U.S. Armed Forces – Europe"]
["09309","APO","AE","U.S. Armed Forces – Europe"]
["09314","APO","AE","U.S. Armed Forces – Europe"]
["09354","APO","AE","U.S. Armed Forces – Europe"]
["09384","APO","AE","U.S. Armed Forces – Europe"]
["09504","FPO","AE","U.S. Armed Forces – Europe"]
["09565","FPO","AE","U.S. Armed Forces – Europe"]
["09570","FPO","AE","U.S. Armed Forces – Europe"]
["09607","FPO","AE","U.S. Armed Forces – Europe"]
["09643","APO","AE","U.S. Armed Forces – Europe"]
["09722","APO","AE","U.S. Armed Forces – Europe"]
["09750","DPO","AE","U.S. Armed Forces – Europe"]
["09812","DPO","AE","U.S. Armed Forces – Europe"]
["09817","DPO","AE","U.S. Armed Forces – Europe"]
["09839","APO","AE","U.S. Armed Forces – Europe"]
["09898","APO","AE","U.S. Armed Forces – Europe"]
["34050","FPO","AA","U.S. Armed Forces – Americas"]
["96214","APO","AP","U.S. Armed Forces – Pacific"]
["96322","FPO","AP","U.S. Armed Forces – Pacific"]
["96336","APO","AP","U.S. Armed Forces – Pacific"]
["96377","FPO","AP","U.S. Armed Forces – Pacific"]
["96530","DPO","AP","U.S. Armed Forces – Pacific"]
["96557","APO","AP","U.S. Armed Forces – Pacific"]
["96621","FPO","AP","U.S. Armed Forces – Pacific"]
["96643","FPO","AP","U.S. Armed Forces – Pacific"]
["96679","FPO","AP","U.S. Armed Forces – Pacific"]
["02239","CAMBRIDGE","MA","Massachusetts","1a"]
["09056","APO","AE","U.S. Armed Forces – Europe"]
["09351","APO","AE","U.S. Armed Forces – Europe"]
["09754","APO","AE","U.S. Armed Forces – Europe"]
["10149","NEW YORK","NY","New York","1b","NYCW"]
["10571","PLEASANTVILLE","NY","New York","1b"]
["11595","WESTBURY","NY","New York","1b"]
["11597","WESTBURY","NY","New York","1b"]
["11708","AMITYVILLE","NY","New York","1b"]
["11750","HUNTINGTON STATION","NY","New York","1b"]
["11774","FARMINGDALE","NY","New York","1b","NYLI"]
["11855","HICKSVILLE","NY","New York","1b"]
["12593","WEST COPAKE","NY","New York","1b"]
["13837","SHINHOPPLE","NY","New York","1b"]
["14645","ROCHESTER","NY","New York","1b"]
["14664","ROCHESTER","NY","New York","1b"]
["14673","ROCHESTER","NY","New York","1b"]
["14683","ROCHESTER","NY","New York","1b"]
["15263","PITTSBURGH","PA","Pennsylvania","1b"]
["15266","PITTSBURGH","PA","Pennsylvania","1b"]
["15273","PITTSBURGH","PA","Pennsylvania","1b"]
["15285","PITTSBURGH","PA","Pennsylvania","1b"]
["15288","PITTSBURGH","PA","Pennsylvania","1b"]
["15740","FROSTBURG","PA","Pennsylvania","1b"]
["16215","KITTANNING","PA","Pennsylvania","1b"]
["16532","ERIE","PA","Pennsylvania","1b"]
["16533","ERIE","PA","Pennsylvania","1b"]
["19488","NORRISTOWN","PA","Pennsylvania","1b"]
["19489","NORRISTOWN","PA","Pennsylvania","1b"]
["19640","READING","PA","Pennsylvania","1b"]
["19887","WILMINGTON","DE","Delaware","1b"]
["19889","WILMINGTON","DE","Delaware","1b"]
["20107","ARCOLA","VA","Virginia","1c"]
["20193","RESTON","VA","Virginia","1c"]
["20199","DULLES","VA","Virginia","1c"]
["21098","HANOVER","MD","Maryland","1b"]
["21260","BALTIMORE","MD","Maryland","1b","RFCE"]
["21261","BALTIMORE","MD","Maryland","1b","RFCE"]
["26461","WILSONBURG","WV","West Virginia","1c"]
["27151","WINSTON-SALEM","NC","North Carolina","1c"]
["27156","WINSTON-SALEM","NC","North Carolina","1c"]
["27220","BURLINGTON","NC","North Carolina","1c"]
["27321","REIDSVILLE","NC","North Carolina","1c"]
["27322","REIDSVILLE","NC","North Carolina","1c"]
["27395","GREENSBORO","NC","North Carolina","1c"]
["27480","GREENSBORO","NC","North Carolina","1c"]
["27564","CREEDMOOR","NC","North Carolina","1c","SRVC"]
["27854","MILWAUKEE","NC","North Carolina","1c"]
["28674","NORTH WILKESBORO","NC","North Carolina","1c"]
["29390","DUNCAN","SC","South Carolina","1c","SRVC"]
["29391","DUNCAN","SC","South Carolina","1c","SRVC"]
["29698","GREENVILLE","SC","South Carolina","1c","SRVC"]
["30073","DECATUR","GA","Georgia","1c","SRSO"]
["30347","ATLANTA","GA","Georgia","1c","SRSO"]
["30376","ATLANTA","GA","Georgia","1c","SRSO"]
["30379","ATLANTA","GA","Georgia","1c","SRSO"]
["30386","ATLANTA","GA","Georgia","1c","SRSO"]
["30387","ATLANTA","GA","Georgia","1c","SRSO"]
["30389","ATLANTA","GA","Georgia","1c","SRSO"]
["30390","ATLANTA","GA","Georgia","1c","SRSO"]
["30399","ATLANTA","GA","Georgia","1c","SRSO"]
["30596","ALTO","GA","Georgia","1c","SRSO"]
["30911","AUGUSTA","GA","Georgia","1c","SRSO"]
["30913","AUGUSTA","GA","Georgia","1c","SRSO"]
["31120","ATLANTA","GA","Georgia","1c","SRSO"]
["31191","ATLANTA","GA","Georgia","1c","SRSO"]
["31197","ATLANTA","GA","Georgia","1c","SRSO"]
["31198","ATLANTA","GA","Georgia","1c","SRSO"]
["31199","ATLANTA","GA","Georgia","1c","SRSO"]
["32267","JACKSONVILLE","FL","Florida","1c","FRCC"]
["32290","JACKSONVILLE","FL","Florida","1c","FRCC"]
["32454","POINT WASHINGTON","FL","Florida","1c","FRCC"]
["32782","TITUSVILLE","FL","Florida","1c","FRCC"]
["32890","ORLANDO","FL","Florida","1c","FRCC"]
["32893","ORLANDO","FL","Florida","1c","FRCC"]
["32898","ORLANDO","FL","Florida","1c","FRCC"]
["33107","MIAMI","FL","Florida","1c","FRCC"]
["33110","MIAMI","FL","Florida","1c","FRCC"]
["33121","MIAMI","FL","Florida","1c","FRCC"]
["33148","MIAMI","FL","Florida","1c","FRCC"]
["33195","MIAMI","FL","Florida","1c","FRCC"]
["33439","CANAL POINT","FL","Florida","1c","FRCC"]
["33447","DELRAY BEACH","FL","Florida","1c","FRCC"]
["33651","TAMPA","FL","Florida","1c","FRCC"]
["33690","TAMPA","FL","Florida","1c","FRCC"]
["33900","FORT MYERS","FL","Florida","1c","FRCC"]
["34043","APO","AA","U.S. Armed Forces – Americas"]
["34076","APO","AA","U.S. Armed Forces – Americas"]
["34079","FPO","AA","U.S. Armed Forces – Americas"]
["35225","BIRMINGHAM","AL","Alabama",3]
["35230","BIRMINGHAM","AL","Alabama",3]
["35240","BIRMINGHAM","AL","Alabama",3]
["35245","BIRMINGHAM","AL","Alabama",3]
["35263","BIRMINGHAM","AL","Alabama",3]
["35277","BIRMINGHAM","AL","Alabama",3]
["35278","BIRMINGHAM","AL","Alabama",3]
["35279","BIRMINGHAM","AL","Alabama",3]
["35280","BIRMINGHAM","AL","Alabama",3]
["35281","BIRMINGHAM","AL","Alabama",3]
["35286","BIRMINGHAM","AL","Alabama",3]
["35289","BIRMINGHAM","AL","Alabama",3]
["35299","BIRMINGHAM","AL","Alabama",3]
["36210","ANNISTON","AL","Alabama",3,"SRTV"]
["37990","KNOXVILLE","TN","Tennessee",2]
["38110","MEMPHIS","TN","Tennessee",2]
["38142","MEMPHIS","TN","Tennessee",2]
["38165","MEMPHIS","TN","Tennessee",2]
["38227","ELBRIDGE","TN","Tennessee",2]
["39235","JACKSON","MS","Mississippi",3]
["40386","VERSAILLES","KY","Kentucky",2]
["40495","WINSTON","KY","Kentucky",2]
["40754","NEVISDALE","KY","Kentucky",2]
["40931","ERILINE","KY","Kentucky",2]
["40999","WOOLLUM","KY","Kentucky",2]
["41313","BETHANY","KY","Kentucky",2,"SRTV"]
["41433","GAPVILLE","KY","Kentucky",2]
["42283","SOUTH UNION","KY","Kentucky",2,"SRTV"]
["42287","WELCHS CREEK","KY","Kentucky",2]
["42375","STANLEY","KY","Kentucky",2,"SRTV"]
["42403","BLACKFORD","KY","Kentucky",2]
["43098","HEBRON","OH","Ohio",2,"RFCW"]
["43163","WEST RUSHVILLE","OH","Ohio",2,"RFCW"]
["43196","GROVEPORT","OH","Ohio",2,"RFCW"]
["43198","GROVEPORT","OH","Ohio",2,"RFCW"]
["43265","COLUMBUS","OH","Ohio",2,"RFCW"]
["43299","COLUMBUS","OH","Ohio",2,"RFCW"]
["43307","MARION","OH","Ohio",2,"RFCW"]
["43618","OREGON","OH","Ohio",2,"RFCW"]
["43789","SYCAMORE VALLEY","OH","Ohio",2,"RFCW"]
["44178","CLEVELAND","OH","Ohio",2,"RFCW"]
["44185","CLEVELAND","OH","Ohio",2,"RFCW"]
["44189","CLEVELAND","OH","Ohio",2,"RFCW"]
["44322","AKRON","OH","Ohio",2,"RFCW"]
["44393","AKRON","OH","Ohio",2,"RFCW"]
["44399","AKRON","OH","Ohio",2,"RFCW"]
["44631","HARLEM SPRINGS","OH","Ohio",2,"RFCW"]
["44999","MANSFIELD","OH","Ohio",2,"RFCW"]
["45228","CINCINNATI","OH","Ohio",2,"RFCW"]
["45400","DAYTON","OH","Ohio",2,"RFCW"]
["45408","DAYTON","OH","Ohio",2,"RFCW"]
["45427","DAYTON","OH","Ohio",2,"RFCW"]
["45463","DAYTON","OH","Ohio",2,"RFCW"]
["46604","SOUTH BEND","IN","Indiana",2,"RFCW"]
["46620","SOUTH BEND","IN","Indiana",2,"RFCW"]
["47430","FORT RITNER","IN","Indiana",2,"RFCW"]
["47490","BLOOMINGTON","IN","Indiana",2,"RFCW"]
["47727","EVANSVILLE","IN","Indiana",2,"RFCW"]
["47739","EVANSVILLE","IN","Indiana",2,"RFCW"]
["47741","EVANSVILLE","IN","Indiana",2,"RFCW"]
["47744","EVANSVILLE","IN","Indiana",2,"RFCW"]
["47856","JUDSON","IN","Indiana",2,"RFCW"]
["47864","SULLIVAN","IN","Indiana",2,"RFCW"]
["48559","FLINT","MI","Michigan",2]
["48736","GILFORD","MI","Michigan",2,"RFCM"]
["48769","VASSAR","MI","Michigan",2,"RFCM"]
["48802","ALMA","MI","Michigan",2,"RFCM"]
["48863","HOWELL","MI","Michigan",2,"RFCM"]
["49069","MARSHALL","MI","Michigan",2,"RFCM"]
["49121","NILES","MI","Michigan",2,"RFCW"]
["49550","GRAND RAPIDS","MI","Michigan",2,"RFCM"]
["49790","ECKERMAN","MI","Michigan",2]
["50347","DES MOINES","IA","Iowa",2]
["50397","DES MOINES","IA","Iowa",2]
["50706","WATERLOO","IA","Iowa",2]
["51344","GRUVER","IA","Iowa",2]
["52319","OAKDALE","IA","Iowa",2,"MROW"]
["52350","VIOLA","IA","Iowa",2,"MROW"]
["52538","WEST GROVE","IA","Iowa",2]
["53199","SILVER LAKE","WI","Wisconsin",2,"RFCW"]
["53244","MILWAUKEE","WI","Wisconsin",2,"RFCW"]
["55161","SAINT PAUL","MN","Minnesota",2]
["55169","SAINT PAUL","MN","Minnesota",2]
["55177","SAINT PAUL","MN","Minnesota",2]
["55191","SAINT PAUL","MN","Minnesota",2]
["55468","MINNEAPOLIS","MN","Minnesota",2]
["55561","MONTICELLO","MN","Minnesota",2,"MROW"]
["55563","MONTICELLO","MN","Minnesota",2,"MROW"]
["57056","ROWENA","SD","South Dakota",2]
["57079","YANKTON","SD","South Dakota",2]
["57188","SIOUX FALLS","SD","South Dakota",2]
["57189","SIOUX FALLS","SD","South Dakota",2]
["60679","CHICAGO","IL","Illinois",2]
["62224","MASCOUTAH","IL","Illinois",2]
["62713","SPRINGFIELD","IL","Illinois",2]
["62746","SPRINGFIELD","IL","Illinois",2]
["62805","AKIN","IL","Illinois",2,"SRMW"]
["62857","LOOGOOTEE","IL","Illinois",2,"SRMW"]
["63001","ALLENTON","MO","Missouri",2,"SRMW"]
["63190","SAINT LOUIS","MO","Missouri",2,"SRMW"]
["63196","SAINT LOUIS","MO","Missouri",2]
["63198","SAINT LOUIS","MO","Missouri",2,"SRMW"]
["64172","KANSAS CITY","MO","Missouri",2]
["64183","KANSAS CITY","MO","Missouri",2]
["64185","KANSAS CITY","MO","Missouri",2]
["64192","KANSAS CITY","MO","Missouri",2,"SPNO"]
["64193","KANSAS CITY","MO","Missouri",2,"SPNO"]
["64194","KANSAS CITY","MO","Missouri",2]
["64447","MAYSVILLE","MO","Missouri",2]
["64789","OSCEOLA","MO","Missouri",2]
["64944","KANSAS CITY","MO","Missouri",2]
["66077","POTTER","KS","Kansas",2]
["66279","SHAWNEE MISSION","KS","Kansas",2]
["66637","TOPEKA","KS","Kansas",2]
["66642","TOPEKA","KS","Kansas",2]
["66652","TOPEKA","KS","Kansas",2]
["66653","TOPEKA","KS","Kansas",2]
["66692","TOPEKA","KS","Kansas",2]
["68181","OMAHA","NE","Nebraska",2]
["70140","NEW ORLEANS","LA","Louisiana",3,"SRMV"]
["70149","NEW ORLEANS","LA","Louisiana",3]
["70500","LAFAYETTE","LA","Louisiana",3,"SRMV"]
["70595","LAFAYETTE","LA","Louisiana",3,"SRMV"]
["70883","BATON ROUGE","LA","Louisiana",3]
["71208","MONROE","LA","Louisiana",3]
["71768","EL DORADO","AR","Arkansas",3,"SRMV"]
["71844","LANEBURG","AR","Arkansas",3]
["71951","HOT SPRINGS NATIONAL PARK","AR","Arkansas",3]
["72189","MC CRORY","AR","Arkansas",3]
["72198","NORTH LITTLE ROCK","AR","Arkansas",3]
["72439","LIGHT","AR","Arkansas",3,"SRMV"]
["73094","WASHITA","OK","Oklahoma",2]
["73193","OKLAHOMA CITY","OK","Oklahoma",2]
["73197","OKLAHOMA CITY","OK","Oklahoma",2]
["73198","OKLAHOMA CITY","OK","Oklahoma",2,"SPSO"]
["73199","OKLAHOMA CITY","OK","Oklahoma",2]
["73451","ARDMORE","OK","Oklahoma",2]
["73454","ARDMORE","OK","Oklahoma",2]
["74183","TULSA","OK","Oklahoma",2]
["74184","TULSA","OK","Oklahoma",2]
["74189","TULSA","OK","Oklahoma",2]
["74194","TULSA","OK","Oklahoma",2]
["74542","ATOKA","OK","Oklahoma",2]
["75037","IRVING","TX","Texas",3,"ERCT"]
["75245","DALLAS","TX","Texas",3,"ERCT"]
["75258","DALLAS","TX","Texas",3]
["75286","DALLAS","TX","Texas",3]
["75310","DALLAS","TX","Texas",3,"ERCT"]
["75323","DALLAS","TX","Texas",3]
["75334","DALLAS","TX","Texas",3,"ERCT"]
["75340","DALLAS","TX","Texas",3,"ERCT"]
["75343","DALLAS","TX","Texas",3,"ERCT"]
["75344","DALLAS","TX","Texas",3,"ERCT"]
["75353","DALLAS","TX","Texas",3]
["75363","DALLAS","TX","Texas",3]
["75364","DALLAS","TX","Texas",3]
["75386","DALLAS","TX","Texas",3]
["75387","DALLAS","TX","Texas",3]
["77869","NAVASOTA","TX","Texas",3]
["78262","SAN ANTONIO","TX","Texas",3]
["78275","SAN ANTONIO","TX","Texas",3]
["78286","SAN ANTONIO","TX","Texas",3]
["78461","CORPUS CHRISTI","TX","Texas",3]
["78470","CORPUS CHRISTI","TX","Texas",3]
["78471","CORPUS CHRISTI","TX","Texas",3,"ERCT"]
["78473","CORPUS CHRISTI","TX","Texas",3]
["78474","CORPUS CHRISTI","TX","Texas",3,"ERCT"]
["78475","CORPUS CHRISTI","TX","Texas",3]
["78476","CORPUS CHRISTI","TX","Texas",3]
["78477","CORPUS CHRISTI","TX","Texas",3]
["78478","CORPUS CHRISTI","TX","Texas",3]
["78786","AUSTIN","TX","Texas",3]
["78788","AUSTIN","TX","Texas",3]
["78798","AUSTIN","TX","Texas",3]
["79187","AMARILLO","TX","Texas",3]
["79320","BULA","TX","Texas",3]
["79405","LUBBOCK","TX","Texas",3]
["80028","LOUISVILLE","CO","Colorado",4]
["80940","COLORADO SPRINGS","CO","Colorado",4]
["81075","STONINGTON","CO","Colorado",4]
["81127","CHIMNEY ROCK","CO","Colorado",4]
["81134","SAN LUIS","CO","Colorado",4]
["81153","SAN PABLO","CO","Colorado",4]
["83721","BOISE","ID","Idaho",4]
["83727","BOISE","ID","Idaho",4]
["83730","BOISE","ID","Idaho",4]
["83733","BOISE","ID","Idaho",4]
["83757","BOISE","ID","Idaho",4]
["84144","SALT LAKE CITY","UT","Utah",4,"NWPP"]
["84717","BRYCE CANYON","UT","Utah",4]
["85077","PHOENIX","AZ","Arizona",5]
["85096","PHOENIX","AZ","Arizona",5,"AZNM"]
["85099","PHOENIX","AZ","Arizona",5]
["85217","APACHE JUNCTION","AZ","Arizona",5,"AZNM"]
["85218","APACHE JUNCTION","AZ","Arizona",5,"AZNM"]
["85219","APACHE JUNCTION","AZ","Arizona",5,"AZNM"]
["85220","APACHE JUNCTION","AZ","Arizona",5,"AZNM"]
["85221","BAPCHULE","AZ","Arizona",5,"AZNM"]
["85222","CASA GRANDE","AZ","Arizona",5,"AZNM"]
["85223","ARIZONA CITY","AZ","Arizona",5,"AZNM"]
["85227","CHANDLER HEIGHTS","AZ","Arizona",5,"AZNM"]
["85228","COOLIDGE","AZ","Arizona",5,"AZNM"]
["85230","CASA GRANDE","AZ","Arizona",5,"AZNM"]
["85231","ELOY","AZ","Arizona",5,"AZNM"]
["85232","FLORENCE","AZ","Arizona",5,"AZNM"]
["85235","HAYDEN","AZ","Arizona",5,"AZNM"]
["85237","KEARNY","AZ","Arizona",5,"AZNM"]
["85238","MARICOPA","AZ","Arizona",5,"AZNM"]
["85239","MARICOPA","AZ","Arizona",5,"AZNM"]
["85240","QUEEN CREEK","AZ","Arizona",5,"AZNM"]
["85241","PICACHO","AZ","Arizona",5,"AZNM"]
["85242","QUEEN CREEK","AZ","Arizona",5,"AZNM"]
["85243","QUEEN CREEK","AZ","Arizona",5,"AZNM"]
["85245","RED ROCK","AZ","Arizona",5,"AZNM"]
["85247","SACATON","AZ","Arizona",5,"AZNM"]
["85272","STANFIELD","AZ","Arizona",5,"AZNM"]
["85273","SUPERIOR","AZ","Arizona",5,"AZNM"]
["85278","APACHE JUNCTION","AZ","Arizona",5,"AZNM"]
["85279","FLORENCE","AZ","Arizona",5]
["16554","ERIE","PA","Pennsylvania","1b"]
["16918","COWANESQUE","PA","Pennsylvania","1b"]
["17008","BOWMANSDALE","PA","Pennsylvania","1b"]
["17091","LEBANON","PA","Pennsylvania","1b"]
["17270","WILLIAMSON","PA","Pennsylvania","1b","RFCW"]
["17326","GETTYSBURG","PA","Pennsylvania","1b"]
["17738","NORTH BEND","PA","Pennsylvania","1b","RFCE"]
["17773","TYLERSVILLE","PA","Pennsylvania","1b","RFCE"]
["18175","ALLENTOWN","PA","Pennsylvania","1b"]
["18514","SCRANTON","PA","Pennsylvania","1b"]
["18522","SCRANTON","PA","Pennsylvania","1b"]
["19483","VALLEY FORGE","PA","Pennsylvania","1b"]
["19487","KING OF PRUSSIA","PA","Pennsylvania","1b"]
["21265","BALTIMORE","MD","Maryland","1b","RFCE"]
["21268","BALTIMORE","MD","Maryland","1b"]
["21274","BALTIMORE","MD","Maryland","1b","RFCE"]
["21283","BALTIMORE","MD","Maryland","1b","RFCE"]
["21606","EASTON","MD","Maryland","1b"]
["21681","RIDGELY","MD","Maryland","1b"]
["21682","RIDGELY","MD","Maryland","1b"]
["21683","RIDGELY","MD","Maryland","1b"]
["21684","RIDGELY","MD","Maryland","1b"]
["21685","RIDGELY","MD","Maryland","1b"]
["21686","RIDGELY","MD","Maryland","1b"]
["21687","RIDGELY","MD","Maryland","1b"]
["21688","RIDGELY","MD","Maryland","1b"]
["22047","FALLS CHURCH","VA","Virginia","1c"]
["22092","HERNDON","VA","Virginia","1c"]
["22093","ASHBURN","VA","Virginia","1c"]
["22120","MERRIFIELD","VA","Virginia","1c"]
["22184","VIENNA","VA","Virginia","1c"]
["22218","ARLINGTON","VA","Virginia","1c"]
["22223","ARLINGTON","VA","Virginia","1c"]
["22229","ARLINGTON","VA","Virginia","1c"]
["22234","ARLINGTON","VA","Virginia","1c"]
["22321","ALEXANDRIA","VA","Virginia","1c"]
["22336","ALEXANDRIA","VA","Virginia","1c"]
["22721","GRAVES MILL","VA","Virginia","1c","SRVC"]
["23101","MACON","VA","Virginia","1c","SRVC"]
["23240","RICHMOND","VA","Virginia","1c"]
["23825","BLACKSTONE","VA","Virginia","1c"]
["24044","ROANOKE","VA","Virginia","1c"]
["24045","ROANOKE","VA","Virginia","1c"]
["24048","ROANOKE","VA","Virginia","1c"]
["24512","LYNCHBURG","VA","Virginia","1c"]
["24544","DANVILLE","VA","Virginia","1c"]
["24842","HEMPHILL","WV","West Virginia","1c"]
["24961","WHITE SULPHUR SPRINGS","WV","West Virginia","1c"]
["25429","MARTINSBURG","WV","West Virginia","1c"]
["25926","BECKLEY","WV","West Virginia","1c"]
["25965","ELTON","WV","West Virginia","1c"]
["36501","JACKSON","AL","Alabama",3]
["36621","MOBILE","AL","Alabama",3]
["36622","MOBILE","AL","Alabama",3]
["36690","MOBILE","AL","Alabama",3]
["37237","NASHVILLE","TN","Tennessee",2]
["37245","NASHVILLE","TN","Tennessee",2]
["37247","NASHVILLE","TN","Tennessee",2]
["37248","NASHVILLE","TN","Tennessee",2]
["37249","NASHVILLE","TN","Tennessee",2,"SRTV"]
["57192","SIOUX FALLS","SD","South Dakota",2]
["57194","SIOUX FALLS","SD","South Dakota",2]
["57195","SIOUX FALLS","SD","South Dakota",2]
["57196","SIOUX FALLS","SD","South Dakota",2]
["58319","BREMEN","ND","North Dakota",2]
["59773","BOZEMAN","MT","Montana",4]
["60049","LAKE ZURICH","IL","Illinois",2,"RFCW"]
["60092","LIBERTYVILLE","IL","Illinois",2,"RFCW"]
["60125","CAROL STREAM","IL","Illinois",2,"RFCW"]
["60570","HINSDALE","IL","Illinois",2,"RFCW"]
["60597","FOX VALLEY","IL","Illinois",2,"RFCW"]
["60663","CHICAGO","IL","Illinois",2,"RFCW"]
["75388","DALLAS","TX","Texas",3,"ERCT"]
["75396","DALLAS","TX","Texas",3,"ERCT"]
["76299","ROANOKE","TX","Texas",3,"ERCT"]
["76545","KILLEEN","TX","Texas",3,"ERCT"]
["76546","KILLEEN","TX","Texas",3,"ERCT"]
["76795","WACO","TX","Texas",3,"ERCT"]
["77097","HOUSTON","TX","Texas",3,"ERCT"]
["77246","HOUSTON","TX","Texas",3,"ERCT"]
["77247","HOUSTON","TX","Texas",3,"ERCT"]
["77250","HOUSTON","TX","Texas",3,"ERCT"]
["77260","HOUSTON","TX","Texas",3,"ERCT"]
["77276","HOUSTON","TX","Texas",3,"ERCT"]
["77278","HOUSTON","TX","Texas",3,"ERCT"]
["77285","HOUSTON","TX","Texas",3,"ERCT"]
["77286","HOUSTON","TX","Texas",3,"ERCT"]
["77294","HOUSTON","TX","Texas",3,"ERCT"]
["77296","HOUSTON","TX","Texas",3,"ERCT"]
["77298","HOUSTON","TX","Texas",3,"ERCT"]
["85289","TEMPE","AZ","Arizona",5]
["85290","APACHE JUNCTION","AZ","Arizona",5,"AZNM"]
["85291","VALLEY FARMS","AZ","Arizona",5,"AZNM"]
["85292","WINKELMAN","AZ","Arizona",5,"AZNM"]
["85293","CASA GRANDE","AZ","Arizona",5,"AZNM"]
["85294","CASA GRANDE","AZ","Arizona",5,"AZNM"]
["85313","GLENDALE","AZ","Arizona",5]
["85777","TUCSON","AZ","Arizona",5]
["86330","PRESCOTT","AZ","Arizona",5]
["86555","DOUGLAS","AZ","Arizona",5,"AZNM"]
["87165","ALBUQUERQUE","NM","New Mexico",3]
["89824","HALLECK","NV","Nevada",5]
["90102","LOS ANGELES","CA","California",5,"CAMX"]
["90313","INGLEWOOD","CA","California",5,"CAMX"]
["90397","INGLEWOOD","CA","California",5,"CAMX"]
["90398","INGLEWOOD","CA","California",5,"CAMX"]
["90612","WHITTIER","CA","California",5,"CAMX"]
["90659","NORWALK","CA","California",5,"CAMX"]
["90845","LONG BEACH","CA","California",5,"CAMX"]
["90888","LONG BEACH","CA","California",5,"CAMX"]
["91131","PASADENA","CA","California",5,"CAMX"]
["91191","PASADENA","CA","California",5,"CAMX"]
["91363","THOUSAND OAKS","CA","California",5,"CAMX"]
["91388","VAN NUYS","CA","California",5,"CAMX"]
["91399","WOODLAND HILLS","CA","California",5,"CAMX"]
["91497","VAN NUYS","CA","California",5,"CAMX"]
["91797","POMONA","CA","California",5,"CAMX"]
["91798","ONTARIO","CA","California",5,"CAMX"]
["91799","POMONA","CA","California",5,"CAMX"]
["91841","ALHAMBRA","CA","California",5,"CAMX"]
["91990","POTRERO","CA","California",5,"CAMX"]
["92090","EL CAJON","CA","California",5,"CAMX"]
["92133","SAN DIEGO","CA","California",5,"CAMX"]
["92194","SAN DIEGO","CA","California",5,"CAMX"]
["92292","PALM SPRINGS","CA","California",5,"CAMX"]
["92709","IRVINE","CA","California",5,"CAMX"]
["92710","IRVINE","CA","California",5,"CAMX"]
["93093","SIMI VALLEY","CA","California",5,"CAMX"]
["93381","BAKERSFIELD","CA","California",5,"CAMX"]
["93382","BAKERSFIELD","CA","California",5,"CAMX"]
["93780","FRESNO","CA","California",5,"CAMX"]
["93784","FRESNO","CA","California",5,"CAMX"]
["94013","DALY CITY","CA","California",5,"CAMX"]
["94101","SAN FRANCISCO","CA","California",5,"CAMX"]
["94106","SAN FRANCISCO","CA","California",5,"CAMX"]
["94135","SAN FRANCISCO","CA","California",5,"CAMX"]
["94136","SAN FRANCISCO","CA","California",5,"CAMX"]
["94138","SAN FRANCISCO","CA","California",5,"CAMX"]
["94150","SAN FRANCISCO","CA","California",5,"CAMX"]
["94152","SAN FRANCISCO","CA","California",5,"CAMX"]
["94155","SAN FRANCISCO","CA","California",5,"CAMX"]
["94175","SAN FRANCISCO","CA","California",5,"CAMX"]
["94199","SAN FRANCISCO","CA","California",5,"CAMX"]
["94625","OAKLAND","CA","California",5,"CAMX"]
["95250","SAN ANDREAS","CA","California",5,"CAMX"]
["95314","PINECREST","CA","California",5,"CAMX"]
["96212","APO","AP","U.S. Armed Forces – Pacific"]
["96215","APO","AP","U.S. Armed Forces – Pacific"]
["96217","APO","AP","U.S. Armed Forces – Pacific"]
["96219","APO","AP","U.S. Armed Forces – Pacific"]
["96221","APO","AP","U.S. Armed Forces – Pacific"]
["96297","APO","AP","U.S. Armed Forces – Pacific"]
["96311","APO","AP","U.S. Armed Forces – Pacific"]
["96313","FPO","AP","U.S. Armed Forces – Pacific"]
["96536","FPO","AP","U.S. Armed Forces – Pacific"]
["96634","FPO","AP","U.S. Armed Forces – Pacific"]
["96827","HONOLULU","HI","Hawaii",5,"HIOA"]
["96835","HONOLULU","HI","Hawaii",5]
["97078","BEAVERTON","OR","Oregon",5,"NWPP"]
["97251","PORTLAND","OR","Oregon",5,"NWPP"]
["97253","PORTLAND","OR","Oregon",5,"NWPP"]
["97254","PORTLAND","OR","Oregon",5,"NWPP"]
["97255","PORTLAND","OR","Oregon",5,"NWPP"]
["97259","PORTLAND","OR","Oregon",5,"NWPP"]
["97271","PORTLAND","OR","Oregon",5,"NWPP"]
["97272","PORTLAND","OR","Oregon",5,"NWPP"]
["97299","PORTLAND","OR","Oregon",5,"NWPP"]
["97313","SALEM","OR","Oregon",5,"NWPP"]
["97372","ROSE LODGE","OR","Oregon",5,"NWPP"]
["97425","CRESCENT LAKE","OR","Oregon",5,"NWPP"]
["97427","CULP CREEK","OR","Oregon",5,"NWPP"]
["97428","CURTIN","OR","Oregon",5,"NWPP"]
["97472","COTTAGE GROVE","OR","Oregon",5,"NWPP"]
["97482","THURSTON","OR","Oregon",5,"NWPP"]
["98054","REDONDO","WA","Washington",5,"NWPP"]
["98151","SEATTLE","WA","Washington",5,"NWPP"]
["98171","SEATTLE","WA","Washington",5,"NWPP"]
["98184","SEATTLE","WA","Washington",5,"NWPP"]
["98442","TACOMA","WA","Washington",5,"NWPP"]
["98450","TACOMA","WA","Washington",5,"NWPP"]
["98455","TACOMA","WA","Washington",5,"NWPP"]
["98460","TACOMA","WA","Washington",5,"NWPP"]
["98477","TACOMA","WA","Washington",5,"NWPP"]
["98492","TACOMA","WA","Washington",5,"NWPP"]
["98667","VANCOUVER","WA","Washington",5,"NWPP"]
["98929","NACHES","WA","Washington",5,"NWPP"]
["99165","PULLMAN","WA","Washington",5,"NWPP"]
["99779","TOK","AK","Alaska",5]
["09300","APO","AE","U.S. Armed Forces – Europe"]
["09303","APO","AE","U.S. Armed Forces – Europe"]
["09379","FPO","AE","U.S. Armed Forces – Europe"]
["96400","APO","AP","U.S. Armed Forces – Pacific"]
["96547","APO","AP","U.S. Armed Forces – Pacific"]
["34009","APO","AA","U.S. Armed Forces – Americas"]
["34010","APO","AA","U.S. Armed Forces – Americas"]
["34001","APO","AA","U.S. Armed Forces – Americas"]
["34071","APO","AA","U.S. Armed Forces – Americas"]
["97475","SPRINGFIELD","OR","Oregon",5,"NWPP"]

{"sheet":"FMV Regression","index":10,"n_rows":31,"n_cols":8,"rows_kept":31,"cut":false,"hidden":true,"merged":[]}
["FMV Regression Data - EV Fleet Procurement Analysis Tool"]
[]
["BEV",null,null,null,null,null,null,"R-sq = .96"]
[null,"Coefficient","Standard Error","t","P>|t|","95% confidence interval"]
["age",-1191.05,881.99490000000003,-1.35,0.17899999999999999,-2935.72,553.62360000000001]
["agesq",-131.28299999999999,163.1746,-0.8,0.42299999999999999,-454.05799999999999,191.49279999999999]
["msrp",0.81077200000000005,2.0652E-2,39.26,0,0.76992000000000005,0.85162400000000005]
["all_elec_range",0]
["mileage",-0.18229000000000001,5.0379E-2,-3.62,0,-0.28194999999999998,-8.2640000000000005E-2]
["constant",0]
[null,"INTERPRETATION: 1 unit change in these variables (age, age-squared, etc) results in a change in FMV price of coefficient"]
[]
["PHEV",null,null,null,null,null,null,"R-sq = 0.98"]
[null,"Coefficient","Standard Error","t","P>|t|","95% confidence interval"]
["age",-3764,294.83510000000001,-12.06,0,-4138.9639999999999,-2972.855]
["agesq",433,73.932159999999996,6.01,0,298.2235,590.63419999999996]
["msrp",0.75,0.80156839999999996,-4.33,0,-5.0528550000000001,-1.882555]
["all_elec_range",0,86.588620000000006,3.8,0,157.66120000000001,500.12970000000001]
["mileage",-7.5999999999999998E-2,1.15792E-2,-6.25,0,-9.5235700000000006E-2,-4.9438299999999998E-2]
["_cons",0]
[null,"INTERPRETATION: 1 unit change in these variables (age, age-squared, etc) results in a change in FMV price of coefficient"]
[]
["Gasoline (with MPG)",null,null,null,null,null,null,"R-sq = 0.98"]
[null,"Coefficient","Standard Error","t","P>|t|","95% confidence interval"]
["age",-1013.43,354.87909999999999,-2.86,5.0000000000000001E-3,-1713.94,-312.91899999999998]
["agesq",-158.85,95.223330000000004,-1.67,9.7000000000000003E-2,-346.81400000000002,29.114699999999999]
["msrp",0.90576299999999998,1.7010999999999998E-2,53.25,0,0.87218399999999996,0.93934200000000001]
["mpg",0]
["mileage",-9.2999999999999992E-3,9.2580000000000006E-3,-1,0.317,-2.7570000000000001E-2,8.9739999999999993E-3]
["_cons",0," "," "," "," "," "]
[null,"INTERPRETATION: 1 unit change in these variables (age, age-squared, etc) results in a change in FMV price of coefficient"]

{"sheet":"Sensitivity Tables","index":11,"n_rows":67,"n_cols":7,"rows_kept":67,"cut":false,"hidden":true,"merged":[[54,1,54,3],[54,4,54,6],[21,0,21,6],[37,0,37,6],[53,0,53,6],[6,4,6,6],[5,0,5,6],[22,1,22,3],[22,4,22,6],[38,1,38,3],[38,4,38,6],[6,1,6,3]]}
["Sensitivity Data Tables - EV Fleet Procurement Analysis Tool"]
[]
[]
[]
["Sensitivity Analysis #01"]
[{"$f":"VLOOKUP(_xlfn.NUMBERVALUE(RIGHT(A5, 2)), Sensitivity_Summary, 2,FALSE)","v":"Electricity Cost ($/kWh)"}]
[null,{"$f":"Base_V1_Type_Ex&\" (Baseline)\"","v":"2017 Chevrolet Cruze ICE (Baseline)"},null,null,{"$f":"Comp_V1_Type_Ex&\" (Comparison)\"","v":"2017 Chevrolet Bolt EV BEV (Comparison)"}]
["Scenario","Nominal Cost per Mile","NPV Cost / Mile","Lifecycle CO2 (lbs/mile)","Nominal Cost per Mile","NPV Cost / Mile","Lifecycle CO2 (lbs/mile)"]
[{"$f":"INDIRECT(VLOOKUP(_xlfn.NUMBERVALUE(RIGHT(A5,2)),Sensitivity_Summary,7,FALSE))","v":0.122},{"$f":"_xlfn.NUMBERVALUE('Results Tables'!$C$29)","v":0.42270056010922402},{"$f":"Results!$M$17","v":0.42270056010922374},{"$f":"'Environmental Model'!$B$18","v":0.71220421008283741},{"$f":"_xlfn.NUMBERVALUE('Results Tables'!$D$29)","v":0.40675240488477299},{"$f":"Results!$N$17","v":0.40675240488477343},{"$f":"'Environmental Model'!$C$18","v":0.28231628084157179}]
[{"$f":"sensitivity_01_value_min","v":0.09},0.42270056010922402,0.42270056010922374,0.71220421008283741,0.39708868995069102,0.39708868995069135,0.28231628084157179]
[{"$f":"A12-($A$19-$A$10)/9","v":0.1044444444444444},0.42270056010922402,0.42270056010922374,0.71220421008283741,0.40145078349732599,0.40145078349732566,0.28231628084157179]
[{"$f":"A13-($A$19-$A$10)/9","v":0.11888888888888884},0.42270056010922402,0.42270056010922374,0.71220421008283741,0.40581287704396002,0.40581287704396002,0.28231628084157179]
[0.13333333333333328,0.42270056010922402,0.42270056010922374,0.71220421008283741,0.41017497059059399,0.41017497059059421,0.28231628084157179]
[0.14777777777777773,0.42270056010922402,0.42270056010922374,0.71220421008283741,0.41453706413722902,0.41453706413722857,0.28231628084157179]
[0.16222222222222218,0.42270056010922402,0.42270056010922374,0.71220421008283741,0.41889915768386299,0.41889915768386282,0.28231628084157179]
[0.17666666666666664,0.42270056010922402,0.42270056010922374,0.71220421008283741,0.42326125123049702,0.42326125123049713,0.28231628084157179]
[0.19111111111111109,0.42270056010922402,0.42270056010922374,0.71220421008283741,0.42762334477713099,0.42762334477713132,0.28231628084157179]
[0.20555555555555555,0.42270056010922402,0.42270056010922374,0.71220421008283741,0.43198543832376601,0.43198543832376574,0.28231628084157179]
[{"$f":"sensitivity_01_value_max","v":0.22},0.42270056010922402,0.42270056010922374,0.71220421008283741,0.43634753187039999,0.43634753187039999,0.28231628084157179]
[]
["Sensitivity Analysis #02"]
[{"$f":"VLOOKUP(_xlfn.NUMBERVALUE(RIGHT(A21, 2)), Sensitivity_Summary, 2,FALSE)","v":"Gasoline Cost ($/Gallon)"}]
[null,{"$f":"Base_V1_Type_Ex&\" (Baseline)\"","v":"2017 Chevrolet Cruze ICE (Baseline)"},null,null,{"$f":"Comp_V1_Type_Ex&\" (Comparison)\"","v":"2017 Chevrolet Bolt EV BEV (Comparison)"}]
["Scenario","Nominal Cost per Mile","NPV Cost / Mile","Lifecycle CO2 (lbs/mile)","Nominal Cost per Mile","NPV Cost / Mile","Lifecycle CO2 (lbs/mile)"]
[{"$f":"INDIRECT(VLOOKUP(_xlfn.NUMBERVALUE(RIGHT(A21,2)),Sensitivity_Summary,7,FALSE))","v":2.3119999999999998},{"$f":"_xlfn.NUMBERVALUE('Results Tables'!$C$29)","v":0.42270056010922402},{"$f":"Results!$M$17","v":0.42270056010922374},{"$f":"'Environmental Model'!$B$18","v":0.71220421008283741},{"$f":"_xlfn.NUMBERVALUE('Results Tables'!$D$29)","v":0.40675240488477299},{"$f":"Results!$N$17","v":0.40675240488477343},{"$f":"'Environmental Model'!$C$18","v":0.28231628084157179}]
[{"$f":"sensitivity_02_value_min","v":2},0.411224101843845,0.411224101843845,0.71220421008283741,0.40675240488477299,0.40675240488477343,0.28231628084157179]
[{"$f":"A28-($A$35-$A$26)/9","v":2.2222222222222214},0.41939821741747702,0.41939821741747657,0.71220421008283741,0.40675240488477299,0.40675240488477343,0.28231628084157179]
[{"$f":"A29-($A$35-$A$26)/9","v":2.4444444444444438},0.42757233299110797,0.42757233299110808,0.71220421008283741,0.40675240488477299,0.40675240488477343,0.28231628084157179]
[2.6666666666666661,0.43574644856473999,0.43574644856473949,0.71220421008283741,0.40675240488477299,0.40675240488477343,0.28231628084157179]
[2.8888888888888884,0.443920564138371,0.44392056413837111,0.71220421008283741,0.40675240488477299,0.40675240488477343,0.28231628084157179]
[3.1111111111111107,0.45209467971200301,0.45209467971200262,0.71220421008283741,0.40675240488477299,0.40675240488477343,0.28231628084157179]
[3.333333333333333,0.46026879528563402,0.46026879528563414,0.71220421008283741,0.40675240488477299,0.40675240488477343,0.28231628084157179]
[3.5555555555555554,0.46844291085926598,0.46844291085926559,0.71220421008283741,0.40675240488477299,0.40675240488477343,0.28231628084157179]
[3.7777777777777777,0.476617026432897,0.47661702643289716,0.71220421008283741,0.40675240488477299,0.40675240488477343,0.28231628084157179]
[{"$f":"sensitivity_02_value_max","v":4},0.48479114200652901,0.48479114200652856,0.71220421008283741,0.40675240488477299,0.40675240488477343,0.28231628084157179]
[]
["Sensitivity Analysis #03"]
[{"$f":"VLOOKUP(_xlfn.NUMBERVALUE(RIGHT(A37, 2)), Sensitivity_Summary, 2,FALSE)","v":"Baseline Annual Vehicle Mileage (VMT/Year)"}]
[null,{"$f":"Base_V1_Type_Ex&\" (Baseline)\"","v":"2017 Chevrolet Cruze ICE (Baseline)"},null,null,{"$f":"Comp_V1_Type_Ex&\" (Comparison)\"","v":"2017 Chevrolet Bolt EV BEV (Comparison)"}]
["Scenario","Nominal Cost per Mile","NPV Cost / Mile","Lifecycle CO2 (lbs/mile)","Nominal Cost per Mile","NPV Cost / Mile","Lifecycle CO2 (lbs/mile)"]
[{"$f":"INDIRECT(VLOOKUP(_xlfn.NUMBERVALUE(RIGHT(A37,2)),Sensitivity_Summary,7,FALSE))","v":15000},{"$f":"_xlfn.NUMBERVALUE('Results Tables'!$C$29)","v":0.42270056010922402},{"$f":"Results!$M$17","v":0.42270056010922374},{"$f":"'Environmental Model'!$B$18","v":0.71220421008283741},{"$f":"_xlfn.NUMBERVALUE('Results Tables'!$D$29)","v":0.40675240488477299},{"$f":"Results!$N$17","v":0.40675240488477343},{"$f":"'Environmental Model'!$C$18","v":0.28231628084157179}]
[{"$f":"sensitivity_03_value_min","v":5000},0.90059870614804505,0.9005987061480456,0.71220421008283741,0.40675240488477299,0.40675240488477343,0.28231628084157179]
[{"$f":"A44-($A$51-$A$42)/9","v":7222.222222222219},0.680065889971742,0.68006588997174144,0.7122042100828373,0.40675240488477299,0.40675240488477343,0.28231628084157179]
[{"$f":"A45-($A$51-$A$42)/9","v":9444.4444444444416},0.56329796545278898,0.56329796545278887,0.71220421008283741,0.40675240488477299,0.40675240488477343,0.28231628084157179]
[11666.666666666664,0.49100043820690897,0.49100043820690864,0.7122042100828373,0.40675240488477299,0.40675240488477343,0.28231628084157179]
[13888.888888888887,0.44182728443431701,0.4418272844343164,0.7122042100828373,0.40675240488477299,0.40675240488477343,0.28231628084157179]
[16111.111111111109,0.40620959178640298,0.40620959178640292,0.7122042100828373,0.40675240488477299,0.40675240488477343,0.28231628084157179]
[18333.333333333332,0.37921791596767401,0.37921791596767412,0.7122042100828373,0.40675240488477299,0.40675240488477343,0.28231628084157179]
[20555.555555555555,0.35805446008474101,0.35805446008474079,0.71220421008283741,0.40675240488477299,0.40675240488477343,0.28231628084157179]
[22777.777777777777,0.34101324657429699,0.34101324657429738,0.71220421008283741,0.40675240488477299,0.40675240488477343,0.28231628084157179]
[{"$f":"sensitivity_03_value_max","v":25000},0.32699486410607798,0.32699486410607814,0.71220421008283719,0.40675240488477299,0.40675240488477343,0.28231628084157179]
[]
["Sensitivity Analysis #04"]
[{"$f":"VLOOKUP(_xlfn.NUMBERVALUE(RIGHT(A53, 2)), Sensitivity_Summary, 2,FALSE)","v":"Comparison Annual Vehicle Mileage (VMT/Year)"}]
[null,{"$f":"Base_V1_Type_Ex&\" (Baseline)\"","v":"2017 Chevrolet Cruze ICE (Baseline)"},null,null,{"$f":"Comp_V1_Type_Ex&\" (Comparison)\"","v":"2017 Chevrolet Bolt EV BEV (Comparison)"}]
["Scenario","Nominal Cost per Mile","NPV Cost / Mile","Lifecycle CO2 (lbs/mile)","Nominal Cost per Mile","NPV Cost / Mile","Lifecycle CO2 (lbs/mile)"]
[{"$f":"INDIRECT(VLOOKUP(_xlfn.NUMBERVALUE(RIGHT(A53,2)),Sensitivity_Summary,7,FALSE))","v":15000},{"$f":"_xlfn.NUMBERVALUE('Results Tables'!$C$29)","v":0.42270056010922402},{"$f":"Results!$M$17","v":0.42270056010922374},{"$f":"'Environmental Model'!$B$18","v":0.71220421008283741},{"$f":"_xlfn.NUMBERVALUE('Results Tables'!$D$29)","v":0.40675240488477299},{"$f":"Results!$N$17","v":0.40675240488477343},{"$f":"'Environmental Model'!$C$18","v":0.28231628084157179}]
[{"$f":"sensitivity_04_value_min","v":5000},0.42270056010922402,0.42270056010922374,0.71220421008283741,0.80505071908211001,0.80505071908211001,0.28231628084157184]
[{"$f":"A60-($A$67-$A$58)/9","v":7222.222222222219},0.42270056010922402,0.42270056010922374,0.71220421008283741,0.62770741452948398,0.62770741452948431,0.28231628084157179]
[{"$f":"A61-($A$67-$A$58)/9","v":9444.4444444444416},0.42270056010922402,0.42270056010922374,0.71220421008283741,0.53153884868921297,0.53153884868921308,0.28231628084157179]
[11666.666666666664,0.42270056010922402,0.42270056010922374,0.71220421008283741,0.46968235523186402,0.4696823552318643,0.28231628084157179]
[13888.888888888887,0.42270056010922402,0.42270056010922374,0.71220421008283741,0.42513521773947799,0.4251352177394781,0.28231628084157179]
[16111.111111111109,0.42270056010922402,0.42270056010922374,0.71220421008283741,0.39013060112646802,0.39013060112646786,0.28231628084157184]
[18333.333333333332,0.42270056010922402,0.42270056010922374,0.71220421008283741,0.360540161788239,0.36054016178823944,0.28231628084157173]
[20555.555555555555,0.42270056010922402,0.42270056010922374,0.71220421008283741,0.33254188703087101,0.33254188703087117,0.28231628084157179]
[22777.777777777777,0.42270056010922402,0.42270056010922374,0.71220421008283741,0.30821075723373298,0.30821075723373309,0.28231628084157179]
[{"$f":"sensitivity_04_value_max","v":25000},0.42270056010922402,0.42270056010922374,0.71220421008283741,0.288205161622753,0.288205161622753,0.28231628084157184]

{"sheet":"Lists_Hidden","index":12,"n_rows":82,"n_cols":4,"rows_kept":82,"cut":false,"hidden":true,"merged":[]}
["Lists (Hidden Tab) - EV Fleet Procurement Analysis Tool"]
[]
["Ownership Structures","Pricing Approaches","Input Fields"]
["Purchase (Cash)","MSRP Less Discounts","Input Field Name","Field Range Name"]
["Purchase (Loan)","Dealer Cost Plus Markup",{"$f":"IF(IFERROR(FIND(\"Comp\",D5,1)>0,FALSE),\"Comparison \"&OFFSET(INDIRECT(D5),0,-3),IF(IFERROR(FIND(\"Base\",D5,1)>0,FALSE),\"Baseline \"&OFFSET(INDIRECT(D5),0,-3),OFFSET(INDIRECT(D5),0,-1)))","v":"Electricity Cost ($/kWh)"},"Electricity_Price"]
["FMV (Closed-End) Lease",null,{"$f":"IF(IFERROR(FIND(\"Comp\",D6,1)>0,FALSE),\"Comparison \"&OFFSET(INDIRECT(D6),0,-3),IF(IFERROR(FIND(\"Base\",D6,1)>0,FALSE),\"Baseline \"&OFFSET(INDIRECT(D6),0,-3),OFFSET(INDIRECT(D6),0,-1)))","v":"Gasoline Cost ($/Gallon)"},"Gasoline_Price"]
["FMV (Closed-End) Lease w/ Cash Purchase",null,"Cost of Carbon ($/Ton)","Carbon_Price"]
["FMV (Closed-End) Lease w/ Loan Purchase",null,"Inflation Rate (Excluding Fuel) (%/Year)","Inflation_Rate_General"]
["TRAC (Open-End) Lease",null,"Baseline Number of Level 2 EV Stations Needed (#)","Base_Num_Stations"]
["TRAC (Open-End) Lease w/ Cash Purchase",null,"Baseline Equipment and Installation Cost ($/Station)","Base_Station_Cost"]
["TRAC (Open-End) Lease w/ Loan Purchase",null,"Baseline Maintenance Cost ($/Station/Year)","Base_Station_Maint_Cost"]
["Tax-Exempt Lease Purchase (Cash)",null,"Baseline Value of Negotiated Discounts off MSRP ($/Vehicle)","Base_V1_Discounts"]
[null,null,"Baseline Down Payment ($/Vehicle)","Base_V1_Down_Payment"]
[null,null,"Baseline Value of Federal Tax Incentives ($/Vehicle)","Base_V1_Federal_Tax_Incentives"]
[null,null,"Baseline Fuel Economy Electric City (MPGe)","Base_V1_Fuel_Economy_Electric_City"]
[null,null,"Baseline Fuel Economy Electric Highway (MPGe)","Base_V1_Fuel_Economy_Electric_Hwy"]
[null,null,"Baseline Fuel Economy Gas City (MPG)","Base_V1_Fuel_Economy_Gas_City"]
[null,null,"Baseline Fuel Economy Gas Highway (MPG)","Base_V1_Fuel_Economy_Gas_Hwy"]
[null,null,"Baseline Initial Tax, Title, and Registration Cost ($/Vehicle)","Base_V1_Initial_Taxes_Fees"]
[null,null,"Baseline Cost to Insure ($/Year)","Base_V1_Insurance_Cost"]
[null,null,"Baseline Acquisition Fee ($/Vehicle)","Base_V1_Lease_Acquisition_Fee"]
[null,null,"Baseline Lease Interest Rate (APR - %)","Base_V1_Lease_APR"]
[null,null,"Baseline Disposition Charge ($/Vehicle)","Base_V1_Lease_Disposition_Fee"]
[null,null,"Baseline Excess Mileage Cost ($/Mile) ","Base_V1_Lease_Mileage_Cost"]
[null,null,"Baseline Mileage Included (Closed-End Only)","Base_V1_Lease_Mileage_Inc"]
[null,null,"Baseline Money Factor (#)","Base_V1_Lease_Money_Factor"]
[null,null,"Baseline Residual Value ($/Vehicle)","Base_V1_Lease_Residual_Price"]
[null,null,"Baseline Lease Term (Years)","Base_V1_Lease_Term"]
[null,null,"Baseline Dealer Triple Net Price ($/Vehicle)","Base_V1_List_Price"]
[null,null,"Baseline Dealer Markup ($/Vehicle)","Base_V1_List_Price_Markup"]
[null,null,"Baseline Loan Interest Rate (APR - %)","Base_V1_Loan_APR"]
[null,null,"Baseline Loan Term (Years)","Base_V1_Loan_Term"]
[null,null,"Baseline Maintenance and Repair Cost - Years 1 - 5 ($/Mile) ","Base_V1_Maint_Repair_Cost_Year_1"]
[null,null,"Baseline % of Annual Miles City Driving","Base_V1_Miles_City"]
[null,null,"Baseline % of Annual Miles on Gasoline","Base_V1_Miles_Gas"]
[null,null,"Baseline MSRP ($/Vehicle)","Base_V1_MSRP"]
[null,null,"Baseline Number of Vehicles to Procure (#)","Base_V1_Num_Vehicles"]
[null,null,"Baseline Value of Non-tax Incentives ($/Vehicle)","Base_V1_Other_Incentives"]
[null,null,"Baseline Maintenance and Repair Cost - Years 5+ ($/Mile) ","Base_V1_Maint_Repair_Cost_Year_5"]
[null,null,"Baseline State Tax Incentive Cap ($)","Base_V1_State_Tax_Incentive_Cap"]
[null,null,"Baseline Value of State Tax Incentives ($/Vehicle)","Base_V1_State_Tax_Incentives"]
[null,null,"Baseline Tax Credits Can Be Monetized? (Y/N)","Base_V1_Tax_Incentives_Monetized"]
[null,null,"Baseline Recurring Taxes and Fees ($/Year)","Base_V1_Taxes_Fees"]
[null,null,"Baseline Annual Vehicle Mileage (VMT/Year)","Base_V1_VMT"]
[null,null,"Baseline Expected Years of Use/Ownership (Years)","Base_V1_Years_Usage"]
[null,null,"Comparison Number of Level 2 EV Stations Needed (#)","Comp_Num_Stations"]
[null,null,"Comparison Equipment and Installation Cost ($/Station)","Comp_Station_Cost"]
[null,null,"Comparison Maintenance Cost ($/Station/Year)","Comp_Station_Maint_Cost"]
[null,null,"Comparison Value of Negotiated Discounts off MSRP ($/Vehicle)","Comp_V1_Discounts"]
[null,null,"Comparison Down Payment ($/Vehicle)","Comp_V1_Down_Payment"]
[null,null,"Comparison Value of Federal Tax Credits ($/Vehicle)","Comp_V1_Federal_Tax_Incentives"]
[null,null,"Comparison Fuel Economy Electric City (MPGe)","Comp_V1_Fuel_Economy_Electric_City"]
[null,null,"Comparison Fuel Economy Electric Highway (MPGe)","Comp_V1_Fuel_Economy_Electric_Hwy"]
[null,null,"Comparison Fuel Economy Gas City (MPG)","Comp_V1_Fuel_Economy_Gas_City"]
[null,null,"Comparison Fuel Economy Gas Highway (MPG)","Comp_V1_Fuel_Economy_Gas_Hwy"]
[null,null,"Comparison Initial Tax, Title, and Registration Cost ($/Vehicle)","Comp_V1_Initial_Taxes_Fees"]
[null,null,"Comparison Cost to Insure ($/Year)","Comp_V1_Insurance_Cost"]
[null,null,"Comparison Acquisition Fee ($/Vehicle)","Comp_V1_Lease_Acquisition_Fee"]
[null,null,"Comparison Lease Interest Rate (APR - %)","Comp_V1_Lease_APR"]
[null,null,"Comparison Disposition Charge ($/Vehicle)","Comp_V1_Lease_Disposition_Fee"]
[null,null,"Comparison Excess Mileage Cost ($/Mile) ","Comp_V1_Lease_Mileage_Cost"]
[null,null,{"$f":"IF(IFERROR(FIND(\"Comp\",D62,1)>0,FALSE),\"Comparison \"&OFFSET(INDIRECT(D62),0,-3),IF(IFERROR(FIND(\"Base\",D62,1)>0,FALSE),\"Baseline \"&OFFSET(INDIRECT(D62),0,-3),OFFSET(INDIRECT(D62),0,-1)))","v":"Comparison Mileage Included (Closed-End Only)"},"Comp_V1_Lease_Mileage_Inc"]
[null,null,"Comparison Money Factor (#)","Comp_V1_Lease_Money_Factor"]
[null,null,"Comparison Negotiated Residual Value ($/Vehicle)","Comp_V1_Lease_Residual_Price"]
[null,null,"Comparison Lease Term (Years)","Comp_V1_Lease_Term"]
[null,null,"Comparison Dealer List Price ($)","Comp_V1_List_Price"]
[null,null,"Comparison Markup ($)","Comp_V1_List_Price_Markup"]
[null,null,"Comparison Loan Interest Rate (APR - %)","Comp_V1_Loan_APR"]
[null,null,"Comparison Loan Term (Years)","Comp_V1_Loan_Term"]
[null,null,"Comparison Maintenance and Repair Cost - Years 1 - 5 ($/Mile) ","Comp_V1_Maint_Repair_Cost_Year_1"]
[null,null,"Comparison % of Annual Miles City Driving","Comp_V1_Miles_City"]
[null,null,"Comparison % of Annual Miles on Gasoline","Comp_V1_Miles_Gas"]
[null,null,"Comparison MSRP ($)","Comp_V1_MSRP"]
[null,null,"Comparison Number of  Vehicles to Procure (#)","Comp_V1_Num_Vehicles"]
[null,null,"Comparison Value of Non-tax Incentives ($/Vehicle)","Comp_V1_Other_Incentives"]
[null,null,"Comparison Maintenance and Repair Cost - Years 5+ ($/Mile) ","Comp_V1_Maint_Repair_Cost_Year_5"]
[null,null,"Comparison State Tax Incentive Cap ($)","Comp_V1_State_Tax_Incentive_Cap"]
[null,null,"Comparison Value of State Tax Incentives ($/Vehicle)","Comp_V1_State_Tax_Incentives"]
[null,null,"Comparison Tax Credits Can Be Monetized? (Y/N)","Comp_V1_Tax_Incentives_Monetized"]
[null,null,"Comparison Recurring Taxes and Fees ($/Year)","Comp_V1_Taxes_Fees"]
[null,null,"Comparison Annual Vehicle Mileage (VMT/Year)","Comp_V1_VMT"]
[null,null,"Comparison Expected Years of Use/Ownership (Years)","Comp_V1_Years_Usage"]

{"sheet":"Dynamic_Lists_Hidden","index":13,"n_rows":40,"n_cols":8,"rows_kept":40,"cut":false,"hidden":true,"merged":[[0,1,0,3],[0,5,0,7]]}
[null,"Vehicle 1 Baseline Dynamic Lists",null,null,null,"Vehicle 2 Comparison Dynamic Lists"]
["Drivetrain","Year","Make","Model","Drivetrain","Year","Make","Model"]
[{"$f":"INDEX(List_Vehicle_DB_Drivetrain,MATCH(0,COUNTIF($A$2:A2,List_Vehicle_DB_Drivetrain),0))","v":"BEV"},{"$f":"INDEX(List_Vehicle_DB_Year,MATCH(0,COUNTIF($B$2:B2,List_Vehicle_DB_Year)+(List_Vehicle_DB_Drivetrain<>_Base_V1_Vehicle_Drivetrain),0))","v":"*Custom"},{"$f":"INDEX(List_Vehicle_DB_Make,MATCH(0,COUNTIF(C$2:$C2,List_Vehicle_DB_Make)+(List_Vehicle_DB_Drivetrain<>_Base_V1_Vehicle_Drivetrain)+(List_Vehicle_DB_Year<>_Base_V1_Vehicle_Year),0))","v":"Chrysler"},{"$f":"INDEX(List_Vehicle_DB_Model,MATCH(0,COUNTIF(D$2:$D2,List_Vehicle_DB_Model)+(List_Vehicle_DB_Drivetrain<>_Base_V1_Vehicle_Drivetrain)+(List_Vehicle_DB_Year<>_Base_V1_Vehicle_Year)++(List_Vehicle_DB_Make<>_Base_V1_Vehicle_Make),0))","v":"Spark"},{"$f":"INDEX(List_Vehicle_DB_Drivetrain,MATCH(0,COUNTIF(E$2:$E2,List_Vehicle_DB_Drivetrain),0))","v":"BEV"},{"$f":"INDEX(List_Vehicle_DB_Year,MATCH(0,COUNTIF($F$2:F2,List_Vehicle_DB_Year)+(List_Vehicle_DB_Drivetrain<>_Comp_V1_Vehicle_Drivetrain),0))","v":"*Custom"},{"$f":"INDEX(List_Vehicle_DB_Make,MATCH(0,COUNTIF($G$2:G2,List_Vehicle_DB_Make)+(List_Vehicle_DB_Drivetrain<>_Comp_V1_Vehicle_Drivetrain)+(List_Vehicle_DB_Year<>_Comp_V1_Vehicle_Year),0))","v":"Mitsubishi"},{"$f":"INDEX(List_Vehicle_DB_Model,MATCH(0,COUNTIF($H$2:H2,List_Vehicle_DB_Model)+(List_Vehicle_DB_Drivetrain<>_Comp_V1_Vehicle_Drivetrain)+(List_Vehicle_DB_Year<>_Comp_V1_Vehicle_Year)+(List_Vehicle_DB_Make<>_Comp_V1_Vehicle_Make),0))","v":"Bolt EV"}]
[{"$f":"INDEX(List_Vehicle_DB_Drivetrain,MATCH(0,COUNTIF($A$2:A3,List_Vehicle_DB_Drivetrain),0))","v":"ICE"},{"$f":"INDEX(List_Vehicle_DB_Year,MATCH(0,COUNTIF($B$2:B3,List_Vehicle_DB_Year)+(List_Vehicle_DB_Drivetrain<>_Base_V1_Vehicle_Drivetrain),0))","v":2016},{"$f":"INDEX(List_Vehicle_DB_Make,MATCH(0,COUNTIF(C$2:$C3,List_Vehicle_DB_Make)+(List_Vehicle_DB_Drivetrain<>_Base_V1_Vehicle_Drivetrain)+(List_Vehicle_DB_Year<>_Base_V1_Vehicle_Year),0))","v":"Ford"},{"$f":"INDEX(List_Vehicle_DB_Model,MATCH(0,COUNTIF(D$2:$D3,List_Vehicle_DB_Model)+(List_Vehicle_DB_Drivetrain<>_Base_V1_Vehicle_Drivetrain)+(List_Vehicle_DB_Year<>_Base_V1_Vehicle_Year)++(List_Vehicle_DB_Make<>_Base_V1_Vehicle_Make),0))","v":"Sonic"},{"$f":"INDEX(List_Vehicle_DB_Drivetrain,MATCH(0,COUNTIF(E$2:$E3,List_Vehicle_DB_Drivetrain),0))","v":"ICE"},{"$f":"INDEX(List_Vehicle_DB_Year,MATCH(0,COUNTIF($F$2:F3,List_Vehicle_DB_Year)+(List_Vehicle_DB_Drivetrain<>_Comp_V1_Vehicle_Drivetrain),0))","v":2016},{"$f":"INDEX(List_Vehicle_DB_Make,MATCH(0,COUNTIF($G$2:G3,List_Vehicle_DB_Make)+(List_Vehicle_DB_Drivetrain<>_Comp_V1_Vehicle_Drivetrain)+(List_Vehicle_DB_Year<>_Comp_V1_Vehicle_Year),0))","v":"Fiat"},{"$f":"INDEX(List_Vehicle_DB_Model,MATCH(0,COUNTIF($H$2:H3,List_Vehicle_DB_Model)+(List_Vehicle_DB_Drivetrain<>_Comp_V1_Vehicle_Drivetrain)+(List_Vehicle_DB_Year<>_Comp_V1_Vehicle_Year)+(List_Vehicle_DB_Make<>_Comp_V1_Vehicle_Make),0))","v":{"$error":"#N/A"}}]
[{"$f":"INDEX(List_Vehicle_DB_Drivetrain,MATCH(0,COUNTIF($A$2:A4,List_Vehicle_DB_Drivetrain),0))","v":"PHEV"},{"$f":"INDEX(List_Vehicle_DB_Year,MATCH(0,COUNTIF($B$2:B4,List_Vehicle_DB_Year)+(List_Vehicle_DB_Drivetrain<>_Base_V1_Vehicle_Drivetrain),0))","v":2017},{"$f":"INDEX(List_Vehicle_DB_Make,MATCH(0,COUNTIF(C$2:$C4,List_Vehicle_DB_Make)+(List_Vehicle_DB_Drivetrain<>_Base_V1_Vehicle_Drivetrain)+(List_Vehicle_DB_Year<>_Base_V1_Vehicle_Year),0))","v":"Hyundai"},{"$f":"INDEX(List_Vehicle_DB_Model,MATCH(0,COUNTIF(D$2:$D4,List_Vehicle_DB_Model)+(List_Vehicle_DB_Drivetrain<>_Base_V1_Vehicle_Drivetrain)+(List_Vehicle_DB_Year<>_Base_V1_Vehicle_Year)++(List_Vehicle_DB_Make<>_Base_V1_Vehicle_Make),0))","v":"Cruze"},{"$f":"INDEX(List_Vehicle_DB_Drivetrain,MATCH(0,COUNTIF(E$2:$E4,List_Vehicle_DB_Drivetrain),0))","v":"PHEV"},{"$f":"INDEX(List_Vehicle_DB_Year,MATCH(0,COUNTIF($F$2:F4,List_Vehicle_DB_Year)+(List_Vehicle_DB_Drivetrain<>_Comp_V1_Vehicle_Drivetrain),0))","v":2017},{"$f":"INDEX(List_Vehicle_DB_Make,MATCH(0,COUNTIF($G$2:G4,List_Vehicle_DB_Make)+(List_Vehicle_DB_Drivetrain<>_Comp_V1_Vehicle_Drivetrain)+(List_Vehicle_DB_Year<>_Comp_V1_Vehicle_Year),0))","v":"Kia"},{"$f":"INDEX(List_Vehicle_DB_Model,MATCH(0,COUNTIF($H$2:H4,List_Vehicle_DB_Model)+(List_Vehicle_DB_Drivetrain<>_Comp_V1_Vehicle_Drivetrain)+(List_Vehicle_DB_Year<>_Comp_V1_Vehicle_Year)+(List_Vehicle_DB_Make<>_Comp_V1_Vehicle_Make),0))","v":{"$error":"#N/A"}}]
[{"$f":"INDEX(List_Vehicle_DB_Drivetrain,MATCH(0,COUNTIF($A$2:A5,List_Vehicle_DB_Drivetrain),0))","v":{"$error":"#N/A"}},{"$f":"INDEX(List_Vehicle_DB_Year,MATCH(0,COUNTIF($B$2:B5,List_Vehicle_DB_Year)+(List_Vehicle_DB_Drivetrain<>_Base_V1_Vehicle_Drivetrain),0))","v":2018},{"$f":"INDEX(List_Vehicle_DB_Make,MATCH(0,COUNTIF(C$2:$C5,List_Vehicle_DB_Make)+(List_Vehicle_DB_Drivetrain<>_Base_V1_Vehicle_Drivetrain)+(List_Vehicle_DB_Year<>_Base_V1_Vehicle_Year),0))","v":"Fiat"},{"$f":"INDEX(List_Vehicle_DB_Model,MATCH(0,COUNTIF(D$2:$D5,List_Vehicle_DB_Model)+(List_Vehicle_DB_Drivetrain<>_Base_V1_Vehicle_Drivetrain)+(List_Vehicle_DB_Year<>_Base_V1_Vehicle_Year)++(List_Vehicle_DB_Make<>_Base_V1_Vehicle_Make),0))","v":"Malibu"},{"$f":"INDEX(List_Vehicle_DB_Drivetrain,MATCH(0,COUNTIF(E$2:$E5,List_Vehicle_DB_Drivetrain),0))","v":{"$error":"#N/A"}},{"$f":"INDEX(List_Vehicle_DB_Year,MATCH(0,COUNTIF($F$2:F5,List_Vehicle_DB_Year)+(List_Vehicle_DB_Drivetrain<>_Comp_V1_Vehicle_Drivetrain),0))","v":{"$error":"#N/A"}},{"$f":"INDEX(List_Vehicle_DB_Make,MATCH(0,COUNTIF($G$2:G5,List_Vehicle_DB_Make)+(List_Vehicle_DB_Drivetrain<>_Comp_V1_Vehicle_Drivetrain)+(List_Vehicle_DB_Year<>_Comp_V1_Vehicle_Year),0))","v":"Chevrolet"},{"$f":"INDEX(List_Vehicle_DB_Model,MATCH(0,COUNTIF($H$2:H5,List_Vehicle_DB_Model)+(List_Vehicle_DB_Drivetrain<>_Comp_V1_Vehicle_Drivetrain)+(List_Vehicle_DB_Year<>_Comp_V1_Vehicle_Year)+(List_Vehicle_DB_Make<>_Comp_V1_Vehicle_Make),0))","v":{"$error":"#N/A"}}]
[{"$f":"INDEX(List_Vehicle_DB_Drivetrain,MATCH(0,COUNTIF($A$2:A6,List_Vehicle_DB_Drivetrain),0))","v":{"$error":"#N/A"}},{"$f":"INDEX(List_Vehicle_DB_Year,MATCH(0,COUNTIF($B$2:B6,List_Vehicle_DB_Year)+(List_Vehicle_DB_Drivetrain<>_Base_V1_Vehicle_Drivetrain),0))","v":{"$error":"#N/A"}},{"$f":"INDEX(List_Vehicle_DB_Make,MATCH(0,COUNTIF(C$2:$C6,List_Vehicle_DB_Make)+(List_Vehicle_DB_Drivetrain<>_Base_V1_Vehicle_Drivetrain)+(List_Vehicle_DB_Year<>_Base_V1_Vehicle_Year),0))","v":"Chevrolet"},{"$f":"INDEX(List_Vehicle_DB_Model,MATCH(0,COUNTIF(D$2:$D6,List_Vehicle_DB_Model)+(List_Vehicle_DB_Drivetrain<>_Base_V1_Vehicle_Drivetrain)+(List_Vehicle_DB_Year<>_Base_V1_Vehicle_Year)++(List_Vehicle_DB_Make<>_Base_V1_Vehicle_Make),0))","v":"Malibu Hybrid"},{"$f":"INDEX(List_Vehicle_DB_Drivetrain,MATCH(0,COUNTIF(E$2:$E6,List_Vehicle_DB_Drivetrain),0))","v":{"$error":"#N/A"}},{"$f":"INDEX(List_Vehicle_DB_Year,MATCH(0,COUNTIF($F$2:F6,List_Vehicle_DB_Year)+(List_Vehicle_DB_Drivetrain<>_Comp_V1_Vehicle_Drivetrain),0))","v":{"$error":"#N/A"}},{"$f":"INDEX(List_Vehicle_DB_Make,MATCH(0,COUNTIF($G$2:G6,List_Vehicle_DB_Make)+(List_Vehicle_DB_Drivetrain<>_Comp_V1_Vehicle_Drivetrain)+(List_Vehicle_DB_Year<>_Comp_V1_Vehicle_Year),0))","v":"Nissan"},{"$f":"INDEX(List_Vehicle_DB_Model,MATCH(0,COUNTIF($H$2:H6,List_Vehicle_DB_Model)+(List_Vehicle_DB_Drivetrain<>_Comp_V1_Vehicle_Drivetrain)+(List_Vehicle_DB_Year<>_Comp_V1_Vehicle_Year)+(List_Vehicle_DB_Make<>_Comp_V1_Vehicle_Make),0))","v":{"$error":"#N/A"}}]
[{"$f":"INDEX(List_Vehicle_DB_Drivetrain,MATCH(0,COUNTIF($A$2:A7,List_Vehicle_DB_Drivetrain),0))","v":{"$error":"#N/A"}},{"$f":"INDEX(List_Vehicle_DB_Year,MATCH(0,COUNTIF($B$2:B7,List_Vehicle_DB_Year)+(List_Vehicle_DB_Drivetrain<>_Base_V1_Vehicle_Drivetrain),0))","v":{"$error":"#N/A"}},{"$f":"INDEX(List_Vehicle_DB_Make,MATCH(0,COUNTIF(C$2:$C7,List_Vehicle_DB_Make)+(List_Vehicle_DB_Drivetrain<>_Base_V1_Vehicle_Drivetrain)+(List_Vehicle_DB_Year<>_Base_V1_Vehicle_Year),0))","v":"Volkswagen"},{"$f":"INDEX(List_Vehicle_DB_Model,MATCH(0,COUNTIF(D$2:$D7,List_Vehicle_DB_Model)+(List_Vehicle_DB_Drivetrain<>_Base_V1_Vehicle_Drivetrain)+(List_Vehicle_DB_Year<>_Base_V1_Vehicle_Year)++(List_Vehicle_DB_Make<>_Base_V1_Vehicle_Make),0))","v":{"$error":"#N/A"}},{"$f":"INDEX(List_Vehicle_DB_Drivetrain,MATCH(0,COUNTIF(E$2:$E7,List_Vehicle_DB_Drivetrain),0))","v":{"$error":"#N/A"}},{"$f":"INDEX(List_Vehicle_DB_Year,MATCH(0,COUNTIF($F$2:F7,List_Vehicle_DB_Year)+(List_Vehicle_DB_Drivetrain<>_Comp_V1_Vehicle_Drivetrain),0))","v":{"$error":"#N/A"}},{"$f":"INDEX(List_Vehicle_DB_Make,MATCH(0,COUNTIF($G$2:G7,List_Vehicle_DB_Make)+(List_Vehicle_DB_Drivetrain<>_Comp_V1_Vehicle_Drivetrain)+(List_Vehicle_DB_Year<>_Comp_V1_Vehicle_Year),0))","v":"Hyundai"},{"$f":"INDEX(List_Vehicle_DB_Model,MATCH(0,COUNTIF($H$2:H7,List_Vehicle_DB_Model)+(List_Vehicle_DB_Drivetrain<>_Comp_V1_Vehicle_Drivetrain)+(List_Vehicle_DB_Year<>_Comp_V1_Vehicle_Year)+(List_Vehicle_DB_Make<>_Comp_V1_Vehicle_Make),0))","v":{"$error":"#N/A"}}]
[{"$f":"INDEX(List_Vehicle_DB_Drivetrain,MATCH(0,COUNTIF($A$2:A8,List_Vehicle_DB_Drivetrain),0))","v":{"$error":"#N/A"}},{"$f":"INDEX(List_Vehicle_DB_Year,MATCH(0,COUNTIF($B$2:B8,List_Vehicle_DB_Year)+(List_Vehicle_DB_Drivetrain<>_Base_V1_Vehicle_Drivetrain),0))","v":{"$error":"#N/A"}},{"$f":"INDEX(List_Vehicle_DB_Make,MATCH(0,COUNTIF(C$2:$C8,List_Vehicle_DB_Make)+(List_Vehicle_DB_Drivetrain<>_Base_V1_Vehicle_Drivetrain)+(List_Vehicle_DB_Year<>_Base_V1_Vehicle_Year),0))","v":"Toyota"},{"$f":"INDEX(List_Vehicle_DB_Model,MATCH(0,COUNTIF(D$2:$D8,List_Vehicle_DB_Model)+(List_Vehicle_DB_Drivetrain<>_Base_V1_Vehicle_Drivetrain)+(List_Vehicle_DB_Year<>_Base_V1_Vehicle_Year)++(List_Vehicle_DB_Make<>_Base_V1_Vehicle_Make),0))","v":{"$error":"#N/A"}},{"$f":"INDEX(List_Vehicle_DB_Drivetrain,MATCH(0,COUNTIF(E$2:$E8,List_Vehicle_DB_Drivetrain),0))","v":{"$error":"#N/A"}},{"$f":"INDEX(List_Vehicle_DB_Year,MATCH(0,COUNTIF($F$2:F8,List_Vehicle_DB_Year)+(List_Vehicle_DB_Drivetrain<>_Comp_V1_Vehicle_Drivetrain),0))","v":{"$error":"#N/A"}},{"$f":"INDEX(List_Vehicle_DB_Make,MATCH(0,COUNTIF($G$2:G8,List_Vehicle_DB_Make)+(List_Vehicle_DB_Drivetrain<>_Comp_V1_Vehicle_Drivetrain)+(List_Vehicle_DB_Year<>_Comp_V1_Vehicle_Year),0))","v":"Ford"},{"$f":"INDEX(List_Vehicle_DB_Model,MATCH(0,COUNTIF($H$2:H8,List_Vehicle_DB_Model)+(List_Vehicle_DB_Drivetrain<>_Comp_V1_Vehicle_Drivetrain)+(List_Vehicle_DB_Year<>_Comp_V1_Vehicle_Year)+(List_Vehicle_DB_Make<>_Comp_V1_Vehicle_Make),0))","v":{"$error":"#N/A"}}]
[{"$f":"INDEX(List_Vehicle_DB_Drivetrain,MATCH(0,COUNTIF($A$2:A9,List_Vehicle_DB_Drivetrain),0))","v":{"$error":"#N/A"}},{"$f":"INDEX(List_Vehicle_DB_Year,MATCH(0,COUNTIF($B$2:B9,List_Vehicle_DB_Year)+(List_Vehicle_DB_Drivetrain<>_Base_V1_Vehicle_Drivetrain),0))","v":{"$error":"#N/A"}},{"$f":"INDEX(List_Vehicle_DB_Make,MATCH(0,COUNTIF(C$2:$C9,List_Vehicle_DB_Make)+(List_Vehicle_DB_Drivetrain<>_Base_V1_Vehicle_Drivetrain)+(List_Vehicle_DB_Year<>_Base_V1_Vehicle_Year),0))","v":"Kia"},{"$f":"INDEX(List_Vehicle_DB_Model,MATCH(0,COUNTIF(D$2:$D9,List_Vehicle_DB_Model)+(List_Vehicle_DB_Drivetrain<>_Base_V1_Vehicle_Drivetrain)+(List_Vehicle_DB_Year<>_Base_V1_Vehicle_Year)++(List_Vehicle_DB_Make<>_Base_V1_Vehicle_Make),0))","v":{"$error":"#N/A"}},{"$f":"INDEX(List_Vehicle_DB_Drivetrain,MATCH(0,COUNTIF(E$2:$E9,List_Vehicle_DB_Drivetrain),0))","v":{"$error":"#N/A"}},{"$f":"INDEX(List_Vehicle_DB_Year,MATCH(0,COUNTIF($F$2:F9,List_Vehicle_DB_Year)+(List_Vehicle_DB_Drivetrain<>_Comp_V1_Vehicle_Drivetrain),0))","v":{"$error":"#N/A"}},{"$f":"INDEX(List_Vehicle_DB_Make,MATCH(0,COUNTIF($G$2:G9,List_Vehicle_DB_Make)+(List_Vehicle_DB_Drivetrain<>_Comp_V1_Vehicle_Drivetrain)+(List_Vehicle_DB_Year<>_Comp_V1_Vehicle_Year),0))","v":"Volkswagen"},{"$f":"INDEX(List_Vehicle_DB_Model,MATCH(0,COUNTIF($H$2:H9,List_Vehicle_DB_Model)+(List_Vehicle_DB_Drivetrain<>_Comp_V1_Vehicle_Drivetrain)+(List_Vehicle_DB_Year<>_Comp_V1_Vehicle_Year)+(List_Vehicle_DB_Make<>_Comp_V1_Vehicle_Make),0))","v":{"$error":"#N/A"}}]
[{"$f":"INDEX(List_Vehicle_DB_Drivetrain,MATCH(0,COUNTIF($A$2:A10,List_Vehicle_DB_Drivetrain),0))","v":{"$error":"#N/A"}},{"$f":"INDEX(List_Vehicle_DB_Year,MATCH(0,COUNTIF($B$2:B10,List_Vehicle_DB_Year)+(List_Vehicle_DB_Drivetrain<>_Base_V1_Vehicle_Drivetrain),0))","v":{"$error":"#N/A"}},{"$f":"INDEX(List_Vehicle_DB_Make,MATCH(0,COUNTIF(C$2:$C10,List_Vehicle_DB_Make)+(List_Vehicle_DB_Drivetrain<>_Base_V1_Vehicle_Drivetrain)+(List_Vehicle_DB_Year<>_Base_V1_Vehicle_Year),0))","v":"smart"},{"$f":"INDEX(List_Vehicle_DB_Model,MATCH(0,COUNTIF(D$2:$D10,List_Vehicle_DB_Model)+(List_Vehicle_DB_Drivetrain<>_Base_V1_Vehicle_Drivetrain)+(List_Vehicle_DB_Year<>_Base_V1_Vehicle_Year)++(List_Vehicle_DB_Make<>_Base_V1_Vehicle_Make),0))","v":{"$error":"#N/A"}},{"$f":"INDEX(List_Vehicle_DB_Drivetrain,MATCH(0,COUNTIF(E$2:$E10,List_Vehicle_DB_Drivetrain),0))","v":{"$error":"#N/A"}},{"$f":"INDEX(List_Vehicle_DB_Year,MATCH(0,COUNTIF($F$2:F10,List_Vehicle_DB_Year)+(List_Vehicle_DB_Drivetrain<>_Comp_V1_Vehicle_Drivetrain),0))","v":{"$error":"#N/A"}},{"$f":"INDEX(List_Vehicle_DB_Make,MATCH(0,COUNTIF($G$2:G10,List_Vehicle_DB_Make)+(List_Vehicle_DB_Drivetrain<>_Comp_V1_Vehicle_Drivetrain)+(List_Vehicle_DB_Year<>_Comp_V1_Vehicle_Year),0))","v":{"$error":"#N/A"}},{"$f":"INDEX(List_Vehicle_DB_Model,MATCH(0,COUNTIF($H$2:H10,List_Vehicle_DB_Model)+(List_Vehicle_DB_Drivetrain<>_Comp_V1_Vehicle_Drivetrain)+(List_Vehicle_DB_Year<>_Comp_V1_Vehicle_Year)+(List_Vehicle_DB_Make<>_Comp_V1_Vehicle_Make),0))","v":{"$error":"#N/A"}}]
[{"$f":"INDEX(List_Vehicle_DB_Drivetrain,MATCH(0,COUNTIF($A$2:A11,List_Vehicle_DB_Drivetrain),0))","v":{"$error":"#N/A"}},{"$f":"INDEX(List_Vehicle_DB_Year,MATCH(0,COUNTIF($B$2:B11,List_Vehicle_DB_Year)+(List_Vehicle_DB_Drivetrain<>_Base_V1_Vehicle_Drivetrain),0))","v":{"$error":"#N/A"}},{"$f":"INDEX(List_Vehicle_DB_Make,MATCH(0,COUNTIF(C$2:$C11,List_Vehicle_DB_Make)+(List_Vehicle_DB_Drivetrain<>_Base_V1_Vehicle_Drivetrain)+(List_Vehicle_DB_Year<>_Base_V1_Vehicle_Year),0))","v":{"$error":"#N/A"}},{"$f":"INDEX(List_Vehicle_DB_Model,MATCH(0,COUNTIF(D$2:$D11,List_Vehicle_DB_Model)+(List_Vehicle_DB_Drivetrain<>_Base_V1_Vehicle_Drivetrain)+(List_Vehicle_DB_Year<>_Base_V1_Vehicle_Year)++(List_Vehicle_DB_Make<>_Base_V1_Vehicle_Make),0))","v":{"$error":"#N/A"}},{"$f":"INDEX(List_Vehicle_DB_Drivetrain,MATCH(0,COUNTIF(E$2:$E11,List_Vehicle_DB_Drivetrain),0))","v":{"$error":"#N/A"}},{"$f":"INDEX(List_Vehicle_DB_Year,MATCH(0,COUNTIF($F$2:F11,List_Vehicle_DB_Year)+(List_Vehicle_DB_Drivetrain<>_Comp_V1_Vehicle_Drivetrain),0))","v":{"$error":"#N/A"}},{"$f":"INDEX(List_Vehicle_DB_Make,MATCH(0,COUNTIF($G$2:G11,List_Vehicle_DB_Make)+(List_Vehicle_DB_Drivetrain<>_Comp_V1_Vehicle_Drivetrain)+(List_Vehicle_DB_Year<>_Comp_V1_Vehicle_Year),0))","v":{"$error":"#N/A"}},{"$f":"INDEX(List_Vehicle_DB_Model,MATCH(0,COUNTIF($H$2:H11,List_Vehicle_DB_Model)+(List_Vehicle_DB_Drivetrain<>_Comp_V1_Vehicle_Drivetrain)+(List_Vehicle_DB_Year<>_Comp_V1_Vehicle_Year)+(List_Vehicle_DB_Make<>_Comp_V1_Vehicle_Make),0))","v":{"$error":"#N/A"}}]
[{"$f":"INDEX(List_Vehicle_DB_Drivetrain,MATCH(0,COUNTIF($A$2:A12,List_Vehicle_DB_Drivetrain),0))","v":{"$error":"#N/A"}},{"$f":"INDEX(List_Vehicle_DB_Year,MATCH(0,COUNTIF($B$2:B12,List_Vehicle_DB_Year)+(List_Vehicle_DB_Drivetrain<>_Base_V1_Vehicle_Drivetrain),0))","v":{"$error":"#N/A"}},{"$f":"INDEX(List_Vehicle_DB_Make,MATCH(0,COUNTIF(C$2:$C12,List_Vehicle_DB_Make)+(List_Vehicle_DB_Drivetrain<>_Base_V1_Vehicle_Drivetrain)+(List_Vehicle_DB_Year<>_Base_V1_Vehicle_Year),0))","v":{"$error":"#N/A"}},{"$f":"INDEX(List_Vehicle_DB_Model,MATCH(0,COUNTIF(D$2:$D12,List_Vehicle_DB_Model)+(List_Vehicle_DB_Drivetrain<>_Base_V1_Vehicle_Drivetrain)+(List_Vehicle_DB_Year<>_Base_V1_Vehicle_Year)++(List_Vehicle_DB_Make<>_Base_V1_Vehicle_Make),0))","v":{"$error":"#N/A"}},{"$f":"INDEX(List_Vehicle_DB_Drivetrain,MATCH(0,COUNTIF(E$2:$E12,List_Vehicle_DB_Drivetrain),0))","v":{"$error":"#N/A"}},{"$f":"INDEX(List_Vehicle_DB_Year,MATCH(0,COUNTIF($F$2:F12,List_Vehicle_DB_Year)+(List_Vehicle_DB_Drivetrain<>_Comp_V1_Vehicle_Drivetrain),0))","v":{"$error":"#N/A"}},{"$f":"INDEX(List_Vehicle_DB_Make,MATCH(0,COUNTIF($G$2:G12,List_Vehicle_DB_Make)+(List_Vehicle_DB_Drivetrain<>_Comp_V1_Vehicle_Drivetrain)+(List_Vehicle_DB_Year<>_Comp_V1_Vehicle_Year),0))","v":{"$error":"#N/A"}},{"$f":"INDEX(List_Vehicle_DB_Model,MATCH(0,COUNTIF($H$2:H12,List_Vehicle_DB_Model)+(List_Vehicle_DB_Drivetrain<>_Comp_V1_Vehicle_Drivetrain)+(List_Vehicle_DB_Year<>_Comp_V1_Vehicle_Year)+(List_Vehicle_DB_Make<>_Comp_V1_Vehicle_Make),0))","v":{"$error":"#N/A"}}]
[{"$f":"INDEX(List_Vehicle_DB_Drivetrain,MATCH(0,COUNTIF($A$2:A13,List_Vehicle_DB_Drivetrain),0))","v":{"$error":"#N/A"}},{"$f":"INDEX(List_Vehicle_DB_Year,MATCH(0,COUNTIF($B$2:B13,List_Vehicle_DB_Year)+(List_Vehicle_DB_Drivetrain<>_Base_V1_Vehicle_Drivetrain),0))","v":{"$error":"#N/A"}},{"$f":"INDEX(List_Vehicle_DB_Make,MATCH(0,COUNTIF(C$2:$C13,List_Vehicle_DB_Make)+(List_Vehicle_DB_Drivetrain<>_Base_V1_Vehicle_Drivetrain)+(List_Vehicle_DB_Year<>_Base_V1_Vehicle_Year),0))","v":{"$error":"#N/A"}},{"$f":"INDEX(List_Vehicle_DB_Model,MATCH(0,COUNTIF(D$2:$D13,List_Vehicle_DB_Model)+(List_Vehicle_DB_Drivetrain<>_Base_V1_Vehicle_Drivetrain)+(List_Vehicle_DB_Year<>_Base_V1_Vehicle_Year)++(List_Vehicle_DB_Make<>_Base_V1_Vehicle_Make),0))","v":{"$error":"#N/A"}},{"$f":"INDEX(List_Vehicle_DB_Drivetrain,MATCH(0,COUNTIF(E$2:$E13,List_Vehicle_DB_Drivetrain),0))","v":{"$error":"#N/A"}},{"$f":"INDEX(List_Vehicle_DB_Year,MATCH(0,COUNTIF($F$2:F13,List_Vehicle_DB_Year)+(List_Vehicle_DB_Drivetrain<>_Comp_V1_Vehicle_Drivetrain),0))","v":{"$error":"#N/A"}},{"$f":"INDEX(List_Vehicle_DB_Make,MATCH(0,COUNTIF($G$2:G13,List_Vehicle_DB_Make)+(List_Vehicle_DB_Drivetrain<>_Comp_V1_Vehicle_Drivetrain)+(List_Vehicle_DB_Year<>_Comp_V1_Vehicle_Year),0))","v":{"$error":"#N/A"}},{"$f":"INDEX(List_Vehicle_DB_Model,MATCH(0,COUNTIF($H$2:H13,List_Vehicle_DB_Model)+(List_Vehicle_DB_Drivetrain<>_Comp_V1_Vehicle_Drivetrain)+(List_Vehicle_DB_Year<>_Comp_V1_Vehicle_Year)+(List_Vehicle_DB_Make<>_Comp_V1_Vehicle_Make),0))","v":{"$error":"#N/A"}}]
[{"$f":"INDEX(List_Vehicle_DB_Drivetrain,MATCH(0,COUNTIF($A$2:A14,List_Vehicle_DB_Drivetrain),0))","v":{"$error":"#N/A"}},{"$f":"INDEX(List_Vehicle_DB_Year,MATCH(0,COUNTIF($B$2:B14,List_Vehicle_DB_Year)+(List_Vehicle_DB_Drivetrain<>_Base_V1_Vehicle_Drivetrain),0))","v":{"$error":"#N/A"}},{"$f":"INDEX(List_Vehicle_DB_Make,MATCH(0,COUNTIF(C$2:$C14,List_Vehicle_DB_Make)+(List_Vehicle_DB_Drivetrain<>_Base_V1_Vehicle_Drivetrain)+(List_Vehicle_DB_Year<>_Base_V1_Vehicle_Year),0))","v":{"$error":"#N/A"}},{"$f":"INDEX(List_Vehicle_DB_Model,MATCH(0,COUNTIF(D$2:$D14,List_Vehicle_DB_Model)+(List_Vehicle_DB_Drivetrain<>_Base_V1_Vehicle_Drivetrain)+(List_Vehicle_DB_Year<>_Base_V1_Vehicle_Year)++(List_Vehicle_DB_Make<>_Base_V1_Vehicle_Make),0))","v":{"$error":"#N/A"}},{"$f":"INDEX(List_Vehicle_DB_Drivetrain,MATCH(0,COUNTIF(E$2:$E14,List_Vehicle_DB_Drivetrain),0))","v":{"$error":"#N/A"}},{"$f":"INDEX(List_Vehicle_DB_Year,MATCH(0,COUNTIF($F$2:F14,List_Vehicle_DB_Year)+(List_Vehicle_DB_Drivetrain<>_Comp_V1_Vehicle_Drivetrain),0))","v":{"$error":"#N/A"}},{"$f":"INDEX(List_Vehicle_DB_Make,MATCH(0,COUNTIF($G$2:G14,List_Vehicle_DB_Make)+(List_Vehicle_DB_Drivetrain<>_Comp_V1_Vehicle_Drivetrain)+(List_Vehicle_DB_Year<>_Comp_V1_Vehicle_Year),0))","v":{"$error":"#N/A"}},{"$f":"INDEX(List_Vehicle_DB_Model,MATCH(0,COUNTIF($H$2:H14,List_Vehicle_DB_Model)+(List_Vehicle_DB_Drivetrain<>_Comp_V1_Vehicle_Drivetrain)+(List_Vehicle_DB_Year<>_Comp_V1_Vehicle_Year)+(List_Vehicle_DB_Make<>_Comp_V1_Vehicle_Make),0))","v":{"$error":"#N/A"}}]
[{"$f":"INDEX(List_Vehicle_DB_Drivetrain,MATCH(0,COUNTIF($A$2:A15,List_Vehicle_DB_Drivetrain),0))","v":{"$error":"#N/A"}},{"$f":"INDEX(List_Vehicle_DB_Year,MATCH(0,COUNTIF($B$2:B15,List_Vehicle_DB_Year)+(List_Vehicle_DB_Drivetrain<>_Base_V1_Vehicle_Drivetrain),0))","v":{"$error":"#N/A"}},{"$f":"INDEX(List_Vehicle_DB_Make,MATCH(0,COUNTIF(C$2:$C15,List_Vehicle_DB_Make)+(List_Vehicle_DB_Drivetrain<>_Base_V1_Vehicle_Drivetrain)+(List_Vehicle_DB_Year<>_Base_V1_Vehicle_Year),0))","v":{"$error":"#N/A"}},{"$f":"INDEX(List_Vehicle_DB_Model,MATCH(0,COUNTIF(D$2:$D15,List_Vehicle_DB_Model)+(List_Vehicle_DB_Drivetrain<>_Base_V1_Vehicle_Drivetrain)+(List_Vehicle_DB_Year<>_Base_V1_Vehicle_Year)++(List_Vehicle_DB_Make<>_Base_V1_Vehicle_Make),0))","v":{"$error":"#N/A"}},{"$f":"INDEX(List_Vehicle_DB_Drivetrain,MATCH(0,COUNTIF(E$2:$E15,List_Vehicle_DB_Drivetrain),0))","v":{"$error":"#N/A"}},{"$f":"INDEX(List_Vehicle_DB_Year,MATCH(0,COUNTIF($F$2:F15,List_Vehicle_DB_Year)+(List_Vehicle_DB_Drivetrain<>_Comp_V1_Vehicle_Drivetrain),0))","v":{"$error":"#N/A"}},{"$f":"INDEX(List_Vehicle_DB_Make,MATCH(0,COUNTIF($G$2:G15,List_Vehicle_DB_Make)+(List_Vehicle_DB_Drivetrain<>_Comp_V1_Vehicle_Drivetrain)+(List_Vehicle_DB_Year<>_Comp_V1_Vehicle_Year),0))","v":{"$error":"#N/A"}},{"$f":"INDEX(List_Vehicle_DB_Model,MATCH(0,COUNTIF($H$2:H15,List_Vehicle_DB_Model)+(List_Vehicle_DB_Drivetrain<>_Comp_V1_Vehicle_Drivetrain)+(List_Vehicle_DB_Year<>_Comp_V1_Vehicle_Year)+(List_Vehicle_DB_Make<>_Comp_V1_Vehicle_Make),0))","v":{"$error":"#N/A"}}]
[{"$f":"INDEX(List_Vehicle_DB_Drivetrain,MATCH(0,COUNTIF($A$2:A16,List_Vehicle_DB_Drivetrain),0))","v":{"$error":"#N/A"}},{"$f":"INDEX(List_Vehicle_DB_Year,MATCH(0,COUNTIF($B$2:B16,List_Vehicle_DB_Year)+(List_Vehicle_DB_Drivetrain<>_Base_V1_Vehicle_Drivetrain),0))","v":{"$error":"#N/A"}},{"$f":"INDEX(List_Vehicle_DB_Make,MATCH(0,COUNTIF(C$2:$C16,List_Vehicle_DB_Make)+(List_Vehicle_DB_Drivetrain<>_Base_V1_Vehicle_Drivetrain)+(List_Vehicle_DB_Year<>_Base_V1_Vehicle_Year),0))","v":{"$error":"#N/A"}},{"$f":"INDEX(List_Vehicle_DB_Model,MATCH(0,COUNTIF(D$2:$D16,List_Vehicle_DB_Model)+(List_Vehicle_DB_Drivetrain<>_Base_V1_Vehicle_Drivetrain)+(List_Vehicle_DB_Year<>_Base_V1_Vehicle_Year)++(List_Vehicle_DB_Make<>_Base_V1_Vehicle_Make),0))","v":{"$error":"#N/A"}},{"$f":"INDEX(List_Vehicle_DB_Drivetrain,MATCH(0,COUNTIF(E$2:$E16,List_Vehicle_DB_Drivetrain),0))","v":{"$error":"#N/A"}},{"$f":"INDEX(List_Vehicle_DB_Year,MATCH(0,COUNTIF($F$2:F16,List_Vehicle_DB_Year)+(List_Vehicle_DB_Drivetrain<>_Comp_V1_Vehicle_Drivetrain),0))","v":{"$error":"#N/A"}},{"$f":"INDEX(List_Vehicle_DB_Make,MATCH(0,COUNTIF($G$2:G16,List_Vehicle_DB_Make)+(List_Vehicle_DB_Drivetrain<>_Comp_V1_Vehicle_Drivetrain)+(List_Vehicle_DB_Year<>_Comp_V1_Vehicle_Year),0))","v":{"$error":"#N/A"}},{"$f":"INDEX(List_Vehicle_DB_Model,MATCH(0,COUNTIF($H$2:H16,List_Vehicle_DB_Model)+(List_Vehicle_DB_Drivetrain<>_Comp_V1_Vehicle_Drivetrain)+(List_Vehicle_DB_Year<>_Comp_V1_Vehicle_Year)+(List_Vehicle_DB_Make<>_Comp_V1_Vehicle_Make),0))","v":{"$error":"#N/A"}}]
[{"$f":"INDEX(List_Vehicle_DB_Drivetrain,MATCH(0,COUNTIF($A$2:A17,List_Vehicle_DB_Drivetrain),0))","v":{"$error":"#N/A"}},{"$f":"INDEX(List_Vehicle_DB_Year,MATCH(0,COUNTIF($B$2:B17,List_Vehicle_DB_Year)+(List_Vehicle_DB_Drivetrain<>_Base_V1_Vehicle_Drivetrain),0))","v":{"$error":"#N/A"}},{"$f":"INDEX(List_Vehicle_DB_Make,MATCH(0,COUNTIF(C$2:$C17,List_Vehicle_DB_Make)+(List_Vehicle_DB_Drivetrain<>_Base_V1_Vehicle_Drivetrain)+(List_Vehicle_DB_Year<>_Base_V1_Vehicle_Year),0))","v":{"$error":"#N/A"}},{"$f":"INDEX(List_Vehicle_DB_Model,MATCH(0,COUNTIF(D$2:$D17,List_Vehicle_DB_Model)+(List_Vehicle_DB_Drivetrain<>_Base_V1_Vehicle_Drivetrain)+(List_Vehicle_DB_Year<>_Base_V1_Vehicle_Year)++(List_Vehicle_DB_Make<>_Base_V1_Vehicle_Make),0))","v":{"$error":"#N/A"}},{"$f":"INDEX(List_Vehicle_DB_Drivetrain,MATCH(0,COUNTIF(E$2:$E17,List_Vehicle_DB_Drivetrain),0))","v":{"$error":"#N/A"}},{"$f":"INDEX(List_Vehicle_DB_Year,MATCH(0,COUNTIF($F$2:F17,List_Vehicle_DB_Year)+(List_Vehicle_DB_Drivetrain<>_Comp_V1_Vehicle_Drivetrain),0))","v":{"$error":"#N/A"}},{"$f":"INDEX(List_Vehicle_DB_Make,MATCH(0,COUNTIF($G$2:G17,List_Vehicle_DB_Make)+(List_Vehicle_DB_Drivetrain<>_Comp_V1_Vehicle_Drivetrain)+(List_Vehicle_DB_Year<>_Comp_V1_Vehicle_Year),0))","v":{"$error":"#N/A"}},{"$f":"INDEX(List_Vehicle_DB_Model,MATCH(0,COUNTIF($H$2:H17,List_Vehicle_DB_Model)+(List_Vehicle_DB_Drivetrain<>_Comp_V1_Vehicle_Drivetrain)+(List_Vehicle_DB_Year<>_Comp_V1_Vehicle_Year)+(List_Vehicle_DB_Make<>_Comp_V1_Vehicle_Make),0))","v":{"$error":"#N/A"}}]
[{"$f":"INDEX(List_Vehicle_DB_Drivetrain,MATCH(0,COUNTIF($A$2:A18,List_Vehicle_DB_Drivetrain),0))","v":{"$error":"#N/A"}},{"$f":"INDEX(List_Vehicle_DB_Year,MATCH(0,COUNTIF($B$2:B18,List_Vehicle_DB_Year)+(List_Vehicle_DB_Drivetrain<>_Base_V1_Vehicle_Drivetrain),0))","v":{"$error":"#N/A"}},{"$f":"INDEX(List_Vehicle_DB_Make,MATCH(0,COUNTIF(C$2:$C18,List_Vehicle_DB_Make)+(List_Vehicle_DB_Drivetrain<>_Base_V1_Vehicle_Drivetrain)+(List_Vehicle_DB_Year<>_Base_V1_Vehicle_Year),0))","v":{"$error":"#N/A"}},{"$f":"INDEX(List_Vehicle_DB_Model,MATCH(0,COUNTIF(D$2:$D18,List_Vehicle_DB_Model)+(List_Vehicle_DB_Drivetrain<>_Base_V1_Vehicle_Drivetrain)+(List_Vehicle_DB_Year<>_Base_V1_Vehicle_Year)++(List_Vehicle_DB_Make<>_Base_V1_Vehicle_Make),0))","v":{"$error":"#N/A"}},{"$f":"INDEX(List_Vehicle_DB_Drivetrain,MATCH(0,COUNTIF(E$2:$E18,List_Vehicle_DB_Drivetrain),0))","v":{"$error":"#N/A"}},{"$f":"INDEX(List_Vehicle_DB_Year,MATCH(0,COUNTIF($F$2:F18,List_Vehicle_DB_Year)+(List_Vehicle_DB_Drivetrain<>_Comp_V1_Vehicle_Drivetrain),0))","v":{"$error":"#N/A"}},{"$f":"INDEX(List_Vehicle_DB_Make,MATCH(0,COUNTIF($G$2:G18,List_Vehicle_DB_Make)+(List_Vehicle_DB_Drivetrain<>_Comp_V1_Vehicle_Drivetrain)+(List_Vehicle_DB_Year<>_Comp_V1_Vehicle_Year),0))","v":{"$error":"#N/A"}},{"$f":"INDEX(List_Vehicle_DB_Model,MATCH(0,COUNTIF($H$2:H18,List_Vehicle_DB_Model)+(List_Vehicle_DB_Drivetrain<>_Comp_V1_Vehicle_Drivetrain)+(List_Vehicle_DB_Year<>_Comp_V1_Vehicle_Year)+(List_Vehicle_DB_Make<>_Comp_V1_Vehicle_Make),0))","v":{"$error":"#N/A"}}]
[{"$f":"INDEX(List_Vehicle_DB_Drivetrain,MATCH(0,COUNTIF($A$2:A19,List_Vehicle_DB_Drivetrain),0))","v":{"$error":"#N/A"}},{"$f":"INDEX(List_Vehicle_DB_Year,MATCH(0,COUNTIF($B$2:B19,List_Vehicle_DB_Year)+(List_Vehicle_DB_Drivetrain<>_Base_V1_Vehicle_Drivetrain),0))","v":{"$error":"#N/A"}},{"$f":"INDEX(List_Vehicle_DB_Make,MATCH(0,COUNTIF(C$2:$C19,List_Vehicle_DB_Make)+(List_Vehicle_DB_Drivetrain<>_Base_V1_Vehicle_Drivetrain)+(List_Vehicle_DB_Year<>_Base_V1_Vehicle_Year),0))","v":{"$error":"#N/A"}},{"$f":"INDEX(List_Vehicle_DB_Model,MATCH(0,COUNTIF(D$2:$D19,List_Vehicle_DB_Model)+(List_Vehicle_DB_Drivetrain<>_Base_V1_Vehicle_Drivetrain)+(List_Vehicle_DB_Year<>_Base_V1_Vehicle_Year)++(List_Vehicle_DB_Make<>_Base_V1_Vehicle_Make),0))","v":{"$error":"#N/A"}},{"$f":"INDEX(List_Vehicle_DB_Drivetrain,MATCH(0,COUNTIF(E$2:$E19,List_Vehicle_DB_Drivetrain),0))","v":{"$error":"#N/A"}},{"$f":"INDEX(List_Vehicle_DB_Year,MATCH(0,COUNTIF($F$2:F19,List_Vehicle_DB_Year)+(List_Vehicle_DB_Drivetrain<>_Comp_V1_Vehicle_Drivetrain),0))","v":{"$error":"#N/A"}},{"$f":"INDEX(List_Vehicle_DB_Make,MATCH(0,COUNTIF($G$2:G19,List_Vehicle_DB_Make)+(List_Vehicle_DB_Drivetrain<>_Comp_V1_Vehicle_Drivetrain)+(List_Vehicle_DB_Year<>_Comp_V1_Vehicle_Year),0))","v":{"$error":"#N/A"}},{"$f":"INDEX(List_Vehicle_DB_Model,MATCH(0,COUNTIF($H$2:H19,List_Vehicle_DB_Model)+(List_Vehicle_DB_Drivetrain<>_Comp_V1_Vehicle_Drivetrain)+(List_Vehicle_DB_Year<>_Comp_V1_Vehicle_Year)+(List_Vehicle_DB_Make<>_Comp_V1_Vehicle_Make),0))","v":{"$error":"#N/A"}}]
[{"$f":"INDEX(List_Vehicle_DB_Drivetrain,MATCH(0,COUNTIF($A$2:A20,List_Vehicle_DB_Drivetrain),0))","v":{"$error":"#N/A"}},{"$f":"INDEX(List_Vehicle_DB_Year,MATCH(0,COUNTIF($B$2:B20,List_Vehicle_DB_Year)+(List_Vehicle_DB_Drivetrain<>_Base_V1_Vehicle_Drivetrain),0))","v":{"$error":"#N/A"}},{"$f":"INDEX(List_Vehicle_DB_Make,MATCH(0,COUNTIF(C$2:$C20,List_Vehicle_DB_Make)+(List_Vehicle_DB_Drivetrain<>_Base_V1_Vehicle_Drivetrain)+(List_Vehicle_DB_Year<>_Base_V1_Vehicle_Year),0))","v":{"$error":"#N/A"}},{"$f":"INDEX(List_Vehicle_DB_Model,MATCH(0,COUNTIF(D$2:$D20,List_Vehicle_DB_Model)+(List_Vehicle_DB_Drivetrain<>_Base_V1_Vehicle_Drivetrain)+(List_Vehicle_DB_Year<>_Base_V1_Vehicle_Year)++(List_Vehicle_DB_Make<>_Base_V1_Vehicle_Make),0))","v":{"$error":"#N/A"}},{"$f":"INDEX(List_Vehicle_DB_Drivetrain,MATCH(0,COUNTIF(E$2:$E20,List_Vehicle_DB_Drivetrain),0))","v":{"$error":"#N/A"}},{"$f":"INDEX(List_Vehicle_DB_Year,MATCH(0,COUNTIF($F$2:F20,List_Vehicle_DB_Year)+(List_Vehicle_DB_Drivetrain<>_Comp_V1_Vehicle_Drivetrain),0))","v":{"$error":"#N/A"}},{"$f":"INDEX(List_Vehicle_DB_Make,MATCH(0,COUNTIF($G$2:G20,List_Vehicle_DB_Make)+(List_Vehicle_DB_Drivetrain<>_Comp_V1_Vehicle_Drivetrain)+(List_Vehicle_DB_Year<>_Comp_V1_Vehicle_Year),0))","v":{"$error":"#N/A"}},{"$f":"INDEX(List_Vehicle_DB_Model,MATCH(0,COUNTIF($H$2:H20,List_Vehicle_DB_Model)+(List_Vehicle_DB_Drivetrain<>_Comp_V1_Vehicle_Drivetrain)+(List_Vehicle_DB_Year<>_Comp_V1_Vehicle_Year)+(List_Vehicle_DB_Make<>_Comp_V1_Vehicle_Make),0))","v":{"$error":"#N/A"}}]
[{"$f":"INDEX(List_Vehicle_DB_Drivetrain,MATCH(0,COUNTIF($A$2:A21,List_Vehicle_DB_Drivetrain),0))","v":{"$error":"#N/A"}},{"$f":"INDEX(List_Vehicle_DB_Year,MATCH(0,COUNTIF($B$2:B21,List_Vehicle_DB_Year)+(List_Vehicle_DB_Drivetrain<>_Base_V1_Vehicle_Drivetrain),0))","v":{"$error":"#N/A"}},{"$f":"INDEX(List_Vehicle_DB_Make,MATCH(0,COUNTIF(C$2:$C21,List_Vehicle_DB_Make)+(List_Vehicle_DB_Drivetrain<>_Base_V1_Vehicle_Drivetrain)+(List_Vehicle_DB_Year<>_Base_V1_Vehicle_Year),0))","v":{"$error":"#N/A"}},{"$f":"INDEX(List_Vehicle_DB_Model,MATCH(0,COUNTIF(D$2:$D21,List_Vehicle_DB_Model)+(List_Vehicle_DB_Drivetrain<>_Base_V1_Vehicle_Drivetrain)+(List_Vehicle_DB_Year<>_Base_V1_Vehicle_Year)++(List_Vehicle_DB_Make<>_Base_V1_Vehicle_Make),0))","v":{"$error":"#N/A"}},{"$f":"INDEX(List_Vehicle_DB_Drivetrain,MATCH(0,COUNTIF(E$2:$E21,List_Vehicle_DB_Drivetrain),0))","v":{"$error":"#N/A"}},{"$f":"INDEX(List_Vehicle_DB_Year,MATCH(0,COUNTIF($F$2:F21,List_Vehicle_DB_Year)+(List_Vehicle_DB_Drivetrain<>_Comp_V1_Vehicle_Drivetrain),0))","v":{"$error":"#N/A"}},{"$f":"INDEX(List_Vehicle_DB_Make,MATCH(0,COUNTIF($G$2:G21,List_Vehicle_DB_Make)+(List_Vehicle_DB_Drivetrain<>_Comp_V1_Vehicle_Drivetrain)+(List_Vehicle_DB_Year<>_Comp_V1_Vehicle_Year),0))","v":{"$error":"#N/A"}},{"$f":"INDEX(List_Vehicle_DB_Model,MATCH(0,COUNTIF($H$2:H21,List_Vehicle_DB_Model)+(List_Vehicle_DB_Drivetrain<>_Comp_V1_Vehicle_Drivetrain)+(List_Vehicle_DB_Year<>_Comp_V1_Vehicle_Year)+(List_Vehicle_DB_Make<>_Comp_V1_Vehicle_Make),0))","v":{"$error":"#N/A"}}]
[{"$f":"INDEX(List_Vehicle_DB_Drivetrain,MATCH(0,COUNTIF($A$2:A22,List_Vehicle_DB_Drivetrain),0))","v":{"$error":"#N/A"}},{"$f":"INDEX(List_Vehicle_DB_Year,MATCH(0,COUNTIF($B$2:B22,List_Vehicle_DB_Year)+(List_Vehicle_DB_Drivetrain<>_Base_V1_Vehicle_Drivetrain),0))","v":{"$error":"#N/A"}},{"$f":"INDEX(List_Vehicle_DB_Make,MATCH(0,COUNTIF(C$2:$C22,List_Vehicle_DB_Make)+(List_Vehicle_DB_Drivetrain<>_Base_V1_Vehicle_Drivetrain)+(List_Vehicle_DB_Year<>_Base_V1_Vehicle_Year),0))","v":{"$error":"#N/A"}},{"$f":"INDEX(List_Vehicle_DB_Model,MATCH(0,COUNTIF(D$2:$D22,List_Vehicle_DB_Model)+(List_Vehicle_DB_Drivetrain<>_Base_V1_Vehicle_Drivetrain)+(List_Vehicle_DB_Year<>_Base_V1_Vehicle_Year)++(List_Vehicle_DB_Make<>_Base_V1_Vehicle_Make),0))","v":{"$error":"#N/A"}},{"$f":"INDEX(List_Vehicle_DB_Drivetrain,MATCH(0,COUNTIF(E$2:$E22,List_Vehicle_DB_Drivetrain),0))","v":{"$error":"#N/A"}},{"$f":"INDEX(List_Vehicle_DB_Year,MATCH(0,COUNTIF($F$2:F22,List_Vehicle_DB_Year)+(List_Vehicle_DB_Drivetrain<>_Comp_V1_Vehicle_Drivetrain),0))","v":{"$error":"#N/A"}},{"$f":"INDEX(List_Vehicle_DB_Make,MATCH(0,COUNTIF($G$2:G22,List_Vehicle_DB_Make)+(List_Vehicle_DB_Drivetrain<>_Comp_V1_Vehicle_Drivetrain)+(List_Vehicle_DB_Year<>_Comp_V1_Vehicle_Year),0))","v":{"$error":"#N/A"}},{"$f":"INDEX(List_Vehicle_DB_Model,MATCH(0,COUNTIF($H$2:H22,List_Vehicle_DB_Model)+(List_Vehicle_DB_Drivetrain<>_Comp_V1_Vehicle_Drivetrain)+(List_Vehicle_DB_Year<>_Comp_V1_Vehicle_Year)+(List_Vehicle_DB_Make<>_Comp_V1_Vehicle_Make),0))","v":{"$error":"#N/A"}}]
[{"$f":"INDEX(List_Vehicle_DB_Drivetrain,MATCH(0,COUNTIF($A$2:A23,List_Vehicle_DB_Drivetrain),0))","v":{"$error":"#N/A"}},{"$f":"INDEX(List_Vehicle_DB_Year,MATCH(0,COUNTIF($B$2:B23,List_Vehicle_DB_Year)+(List_Vehicle_DB_Drivetrain<>_Base_V1_Vehicle_Drivetrain),0))","v":{"$error":"#N/A"}},{"$f":"INDEX(List_Vehicle_DB_Make,MATCH(0,COUNTIF(C$2:$C23,List_Vehicle_DB_Make)+(List_Vehicle_DB_Drivetrain<>_Base_V1_Vehicle_Drivetrain)+(List_Vehicle_DB_Year<>_Base_V1_Vehicle_Year),0))","v":{"$error":"#N/A"}},{"$f":"INDEX(List_Vehicle_DB_Model,MATCH(0,COUNTIF(D$2:$D23,List_Vehicle_DB_Model)+(List_Vehicle_DB_Drivetrain<>_Base_V1_Vehicle_Drivetrain)+(List_Vehicle_DB_Year<>_Base_V1_Vehicle_Year)++(List_Vehicle_DB_Make<>_Base_V1_Vehicle_Make),0))","v":{"$error":"#N/A"}},{"$f":"INDEX(List_Vehicle_DB_Drivetrain,MATCH(0,COUNTIF(E$2:$E23,List_Vehicle_DB_Drivetrain),0))","v":{"$error":"#N/A"}},{"$f":"INDEX(List_Vehicle_DB_Year,MATCH(0,COUNTIF($F$2:F23,List_Vehicle_DB_Year)+(List_Vehicle_DB_Drivetrain<>_Comp_V1_Vehicle_Drivetrain),0))","v":{"$error":"#N/A"}},{"$f":"INDEX(List_Vehicle_DB_Make,MATCH(0,COUNTIF($G$2:G23,List_Vehicle_DB_Make)+(List_Vehicle_DB_Drivetrain<>_Comp_V1_Vehicle_Drivetrain)+(List_Vehicle_DB_Year<>_Comp_V1_Vehicle_Year),0))","v":{"$error":"#N/A"}},{"$f":"INDEX(List_Vehicle_DB_Model,MATCH(0,COUNTIF($H$2:H23,List_Vehicle_DB_Model)+(List_Vehicle_DB_Drivetrain<>_Comp_V1_Vehicle_Drivetrain)+(List_Vehicle_DB_Year<>_Comp_V1_Vehicle_Year)+(List_Vehicle_DB_Make<>_Comp_V1_Vehicle_Make),0))","v":{"$error":"#N/A"}}]
[{"$f":"INDEX(List_Vehicle_DB_Drivetrain,MATCH(0,COUNTIF($A$2:A24,List_Vehicle_DB_Drivetrain),0))","v":{"$error":"#N/A"}},{"$f":"INDEX(List_Vehicle_DB_Year,MATCH(0,COUNTIF($B$2:B24,List_Vehicle_DB_Year)+(List_Vehicle_DB_Drivetrain<>_Base_V1_Vehicle_Drivetrain),0))","v":{"$error":"#N/A"}},{"$f":"INDEX(List_Vehicle_DB_Make,MATCH(0,COUNTIF(C$2:$C24,List_Vehicle_DB_Make)+(List_Vehicle_DB_Drivetrain<>_Base_V1_Vehicle_Drivetrain)+(List_Vehicle_DB_Year<>_Base_V1_Vehicle_Year),0))","v":{"$error":"#N/A"}},{"$f":"INDEX(List_Vehicle_DB_Model,MATCH(0,COUNTIF(D$2:$D24,List_Vehicle_DB_Model)+(List_Vehicle_DB_Drivetrain<>_Base_V1_Vehicle_Drivetrain)+(List_Vehicle_DB_Year<>_Base_V1_Vehicle_Year)++(List_Vehicle_DB_Make<>_Base_V1_Vehicle_Make),0))","v":{"$error":"#N/A"}},{"$f":"INDEX(List_Vehicle_DB_Drivetrain,MATCH(0,COUNTIF(E$2:$E24,List_Vehicle_DB_Drivetrain),0))","v":{"$error":"#N/A"}},{"$f":"INDEX(List_Vehicle_DB_Year,MATCH(0,COUNTIF($F$2:F24,List_Vehicle_DB_Year)+(List_Vehicle_DB_Drivetrain<>_Comp_V1_Vehicle_Drivetrain),0))","v":{"$error":"#N/A"}},{"$f":"INDEX(List_Vehicle_DB_Make,MATCH(0,COUNTIF($G$2:G24,List_Vehicle_DB_Make)+(List_Vehicle_DB_Drivetrain<>_Comp_V1_Vehicle_Drivetrain)+(List_Vehicle_DB_Year<>_Comp_V1_Vehicle_Year),0))","v":{"$error":"#N/A"}},{"$f":"INDEX(List_Vehicle_DB_Model,MATCH(0,COUNTIF($H$2:H24,List_Vehicle_DB_Model)+(List_Vehicle_DB_Drivetrain<>_Comp_V1_Vehicle_Drivetrain)+(List_Vehicle_DB_Year<>_Comp_V1_Vehicle_Year)+(List_Vehicle_DB_Make<>_Comp_V1_Vehicle_Make),0))","v":{"$error":"#N/A"}}]
[{"$f":"INDEX(List_Vehicle_DB_Drivetrain,MATCH(0,COUNTIF($A$2:A25,List_Vehicle_DB_Drivetrain),0))","v":{"$error":"#N/A"}},{"$f":"INDEX(List_Vehicle_DB_Year,MATCH(0,COUNTIF($B$2:B25,List_Vehicle_DB_Year)+(List_Vehicle_DB_Drivetrain<>_Base_V1_Vehicle_Drivetrain),0))","v":{"$error":"#N/A"}},{"$f":"INDEX(List_Vehicle_DB_Make,MATCH(0,COUNTIF(C$2:$C25,List_Vehicle_DB_Make)+(List_Vehicle_DB_Drivetrain<>_Base_V1_Vehicle_Drivetrain)+(List_Vehicle_DB_Year<>_Base_V1_Vehicle_Year),0))","v":{"$error":"#N/A"}},{"$f":"INDEX(List_Vehicle_DB_Model,MATCH(0,COUNTIF(D$2:$D25,List_Vehicle_DB_Model)+(List_Vehicle_DB_Drivetrain<>_Base_V1_Vehicle_Drivetrain)+(List_Vehicle_DB_Year<>_Base_V1_Vehicle_Year)++(List_Vehicle_DB_Make<>_Base_V1_Vehicle_Make),0))","v":{"$error":"#N/A"}},{"$f":"INDEX(List_Vehicle_DB_Drivetrain,MATCH(0,COUNTIF(E$2:$E25,List_Vehicle_DB_Drivetrain),0))","v":{"$error":"#N/A"}},{"$f":"INDEX(List_Vehicle_DB_Year,MATCH(0,COUNTIF($F$2:F25,List_Vehicle_DB_Year)+(List_Vehicle_DB_Drivetrain<>_Comp_V1_Vehicle_Drivetrain),0))","v":{"$error":"#N/A"}},{"$f":"INDEX(List_Vehicle_DB_Make,MATCH(0,COUNTIF($G$2:G25,List_Vehicle_DB_Make)+(List_Vehicle_DB_Drivetrain<>_Comp_V1_Vehicle_Drivetrain)+(List_Vehicle_DB_Year<>_Comp_V1_Vehicle_Year),0))","v":{"$error":"#N/A"}},{"$f":"INDEX(List_Vehicle_DB_Model,MATCH(0,COUNTIF($H$2:H25,List_Vehicle_DB_Model)+(List_Vehicle_DB_Drivetrain<>_Comp_V1_Vehicle_Drivetrain)+(List_Vehicle_DB_Year<>_Comp_V1_Vehicle_Year)+(List_Vehicle_DB_Make<>_Comp_V1_Vehicle_Make),0))","v":{"$error":"#N/A"}}]
[{"$f":"INDEX(List_Vehicle_DB_Drivetrain,MATCH(0,COUNTIF($A$2:A26,List_Vehicle_DB_Drivetrain),0))","v":{"$error":"#N/A"}},{"$f":"INDEX(List_Vehicle_DB_Year,MATCH(0,COUNTIF($B$2:B26,List_Vehicle_DB_Year)+(List_Vehicle_DB_Drivetrain<>_Base_V1_Vehicle_Drivetrain),0))","v":{"$error":"#N/A"}},{"$f":"INDEX(List_Vehicle_DB_Make,MATCH(0,COUNTIF(C$2:$C26,List_Vehicle_DB_Make)+(List_Vehicle_DB_Drivetrain<>_Base_V1_Vehicle_Drivetrain)+(List_Vehicle_DB_Year<>_Base_V1_Vehicle_Year),0))","v":{"$error":"#N/A"}},{"$f":"INDEX(List_Vehicle_DB_Model,MATCH(0,COUNTIF(D$2:$D26,List_Vehicle_DB_Model)+(List_Vehicle_DB_Drivetrain<>_Base_V1_Vehicle_Drivetrain)+(List_Vehicle_DB_Year<>_Base_V1_Vehicle_Year)++(List_Vehicle_DB_Make<>_Base_V1_Vehicle_Make),0))","v":{"$error":"#N/A"}},{"$f":"INDEX(List_Vehicle_DB_Drivetrain,MATCH(0,COUNTIF(E$2:$E26,List_Vehicle_DB_Drivetrain),0))","v":{"$error":"#N/A"}},{"$f":"INDEX(List_Vehicle_DB_Year,MATCH(0,COUNTIF($F$2:F26,List_Vehicle_DB_Year)+(List_Vehicle_DB_Drivetrain<>_Comp_V1_Vehicle_Drivetrain),0))","v":{"$error":"#N/A"}},{"$f":"INDEX(List_Vehicle_DB_Make,MATCH(0,COUNTIF($G$2:G26,List_Vehicle_DB_Make)+(List_Vehicle_DB_Drivetrain<>_Comp_V1_Vehicle_Drivetrain)+(List_Vehicle_DB_Year<>_Comp_V1_Vehicle_Year),0))","v":{"$error":"#N/A"}},{"$f":"INDEX(List_Vehicle_DB_Model,MATCH(0,COUNTIF($H$2:H26,List_Vehicle_DB_Model)+(List_Vehicle_DB_Drivetrain<>_Comp_V1_Vehicle_Drivetrain)+(List_Vehicle_DB_Year<>_Comp_V1_Vehicle_Year)+(List_Vehicle_DB_Make<>_Comp_V1_Vehicle_Make),0))","v":{"$error":"#N/A"}}]
[{"$f":"INDEX(List_Vehicle_DB_Drivetrain,MATCH(0,COUNTIF($A$2:A27,List_Vehicle_DB_Drivetrain),0))","v":{"$error":"#N/A"}},{"$f":"INDEX(List_Vehicle_DB_Year,MATCH(0,COUNTIF($B$2:B27,List_Vehicle_DB_Year)+(List_Vehicle_DB_Drivetrain<>_Base_V1_Vehicle_Drivetrain),0))","v":{"$error":"#N/A"}},{"$f":"INDEX(List_Vehicle_DB_Make,MATCH(0,COUNTIF(C$2:$C27,List_Vehicle_DB_Make)+(List_Vehicle_DB_Drivetrain<>_Base_V1_Vehicle_Drivetrain)+(List_Vehicle_DB_Year<>_Base_V1_Vehicle_Year),0))","v":{"$error":"#N/A"}},{"$f":"INDEX(List_Vehicle_DB_Model,MATCH(0,COUNTIF(D$2:$D27,List_Vehicle_DB_Model)+(List_Vehicle_DB_Drivetrain<>_Base_V1_Vehicle_Drivetrain)+(List_Vehicle_DB_Year<>_Base_V1_Vehicle_Year)++(List_Vehicle_DB_Make<>_Base_V1_Vehicle_Make),0))","v":{"$error":"#N/A"}},{"$f":"INDEX(List_Vehicle_DB_Drivetrain,MATCH(0,COUNTIF(E$2:$E27,List_Vehicle_DB_Drivetrain),0))","v":{"$error":"#N/A"}},{"$f":"INDEX(List_Vehicle_DB_Year,MATCH(0,COUNTIF($F$2:F27,List_Vehicle_DB_Year)+(List_Vehicle_DB_Drivetrain<>_Comp_V1_Vehicle_Drivetrain),0))","v":{"$error":"#N/A"}},{"$f":"INDEX(List_Vehicle_DB_Make,MATCH(0,COUNTIF($G$2:G27,List_Vehicle_DB_Make)+(List_Vehicle_DB_Drivetrain<>_Comp_V1_Vehicle_Drivetrain)+(List_Vehicle_DB_Year<>_Comp_V1_Vehicle_Year),0))","v":{"$error":"#N/A"}},{"$f":"INDEX(List_Vehicle_DB_Model,MATCH(0,COUNTIF($H$2:H27,List_Vehicle_DB_Model)+(List_Vehicle_DB_Drivetrain<>_Comp_V1_Vehicle_Drivetrain)+(List_Vehicle_DB_Year<>_Comp_V1_Vehicle_Year)+(List_Vehicle_DB_Make<>_Comp_V1_Vehicle_Make),0))","v":{"$error":"#N/A"}}]
[{"$f":"INDEX(List_Vehicle_DB_Drivetrain,MATCH(0,COUNTIF($A$2:A28,List_Vehicle_DB_Drivetrain),0))","v":{"$error":"#N/A"}},{"$f":"INDEX(List_Vehicle_DB_Year,MATCH(0,COUNTIF($B$2:B28,List_Vehicle_DB_Year)+(List_Vehicle_DB_Drivetrain<>_Base_V1_Vehicle_Drivetrain),0))","v":{"$error":"#N/A"}},{"$f":"INDEX(List_Vehicle_DB_Make,MATCH(0,COUNTIF(C$2:$C28,List_Vehicle_DB_Make)+(List_Vehicle_DB_Drivetrain<>_Base_V1_Vehicle_Drivetrain)+(List_Vehicle_DB_Year<>_Base_V1_Vehicle_Year),0))","v":{"$error":"#N/A"}},{"$f":"INDEX(List_Vehicle_DB_Model,MATCH(0,COUNTIF(D$2:$D28,List_Vehicle_DB_Model)+(List_Vehicle_DB_Drivetrain<>_Base_V1_Vehicle_Drivetrain)+(List_Vehicle_DB_Year<>_Base_V1_Vehicle_Year)++(List_Vehicle_DB_Make<>_Base_V1_Vehicle_Make),0))","v":{"$error":"#N/A"}},{"$f":"INDEX(List_Vehicle_DB_Drivetrain,MATCH(0,COUNTIF(E$2:$E28,List_Vehicle_DB_Drivetrain),0))","v":{"$error":"#N/A"}},{"$f":"INDEX(List_Vehicle_DB_Year,MATCH(0,COUNTIF($F$2:F28,List_Vehicle_DB_Year)+(List_Vehicle_DB_Drivetrain<>_Comp_V1_Vehicle_Drivetrain),0))","v":{"$error":"#N/A"}},{"$f":"INDEX(List_Vehicle_DB_Make,MATCH(0,COUNTIF($G$2:G28,List_Vehicle_DB_Make)+(List_Vehicle_DB_Drivetrain<>_Comp_V1_Vehicle_Drivetrain)+(List_Vehicle_DB_Year<>_Comp_V1_Vehicle_Year),0))","v":{"$error":"#N/A"}},{"$f":"INDEX(List_Vehicle_DB_Model,MATCH(0,COUNTIF($H$2:H28,List_Vehicle_DB_Model)+(List_Vehicle_DB_Drivetrain<>_Comp_V1_Vehicle_Drivetrain)+(List_Vehicle_DB_Year<>_Comp_V1_Vehicle_Year)+(List_Vehicle_DB_Make<>_Comp_V1_Vehicle_Make),0))","v":{"$error":"#N/A"}}]
[{"$f":"INDEX(List_Vehicle_DB_Drivetrain,MATCH(0,COUNTIF($A$2:A29,List_Vehicle_DB_Drivetrain),0))","v":{"$error":"#N/A"}},{"$f":"INDEX(List_Vehicle_DB_Year,MATCH(0,COUNTIF($B$2:B29,List_Vehicle_DB_Year)+(List_Vehicle_DB_Drivetrain<>_Base_V1_Vehicle_Drivetrain),0))","v":{"$error":"#N/A"}},{"$f":"INDEX(List_Vehicle_DB_Make,MATCH(0,COUNTIF(C$2:$C29,List_Vehicle_DB_Make)+(List_Vehicle_DB_Drivetrain<>_Base_V1_Vehicle_Drivetrain)+(List_Vehicle_DB_Year<>_Base_V1_Vehicle_Year),0))","v":{"$error":"#N/A"}},{"$f":"INDEX(List_Vehicle_DB_Model,MATCH(0,COUNTIF(D$2:$D29,List_Vehicle_DB_Model)+(List_Vehicle_DB_Drivetrain<>_Base_V1_Vehicle_Drivetrain)+(List_Vehicle_DB_Year<>_Base_V1_Vehicle_Year)++(List_Vehicle_DB_Make<>_Base_V1_Vehicle_Make),0))","v":{"$error":"#N/A"}},{"$f":"INDEX(List_Vehicle_DB_Drivetrain,MATCH(0,COUNTIF(E$2:$E29,List_Vehicle_DB_Drivetrain),0))","v":{"$error":"#N/A"}},{"$f":"INDEX(List_Vehicle_DB_Year,MATCH(0,COUNTIF($F$2:F29,List_Vehicle_DB_Year)+(List_Vehicle_DB_Drivetrain<>_Comp_V1_Vehicle_Drivetrain),0))","v":{"$error":"#N/A"}},{"$f":"INDEX(List_Vehicle_DB_Make,MATCH(0,COUNTIF($G$2:G29,List_Vehicle_DB_Make)+(List_Vehicle_DB_Drivetrain<>_Comp_V1_Vehicle_Drivetrain)+(List_Vehicle_DB_Year<>_Comp_V1_Vehicle_Year),0))","v":{"$error":"#N/A"}},{"$f":"INDEX(List_Vehicle_DB_Model,MATCH(0,COUNTIF($H$2:H29,List_Vehicle_DB_Model)+(List_Vehicle_DB_Drivetrain<>_Comp_V1_Vehicle_Drivetrain)+(List_Vehicle_DB_Year<>_Comp_V1_Vehicle_Year)+(List_Vehicle_DB_Make<>_Comp_V1_Vehicle_Make),0))","v":{"$error":"#N/A"}}]
[{"$f":"INDEX(List_Vehicle_DB_Drivetrain,MATCH(0,COUNTIF($A$2:A30,List_Vehicle_DB_Drivetrain),0))","v":{"$error":"#N/A"}},{"$f":"INDEX(List_Vehicle_DB_Year,MATCH(0,COUNTIF($B$2:B30,List_Vehicle_DB_Year)+(List_Vehicle_DB_Drivetrain<>_Base_V1_Vehicle_Drivetrain),0))","v":{"$error":"#N/A"}},{"$f":"INDEX(List_Vehicle_DB_Make,MATCH(0,COUNTIF(C$2:$C30,List_Vehicle_DB_Make)+(List_Vehicle_DB_Drivetrain<>_Base_V1_Vehicle_Drivetrain)+(List_Vehicle_DB_Year<>_Base_V1_Vehicle_Year),0))","v":{"$error":"#N/A"}},{"$f":"INDEX(List_Vehicle_DB_Model,MATCH(0,COUNTIF(D$2:$D30,List_Vehicle_DB_Model)+(List_Vehicle_DB_Drivetrain<>_Base_V1_Vehicle_Drivetrain)+(List_Vehicle_DB_Year<>_Base_V1_Vehicle_Year)++(List_Vehicle_DB_Make<>_Base_V1_Vehicle_Make),0))","v":{"$error":"#N/A"}},{"$f":"INDEX(List_Vehicle_DB_Drivetrain,MATCH(0,COUNTIF(E$2:$E30,List_Vehicle_DB_Drivetrain),0))","v":{"$error":"#N/A"}},{"$f":"INDEX(List_Vehicle_DB_Year,MATCH(0,COUNTIF($F$2:F30,List_Vehicle_DB_Year)+(List_Vehicle_DB_Drivetrain<>_Comp_V1_Vehicle_Drivetrain),0))","v":{"$error":"#N/A"}},{"$f":"INDEX(List_Vehicle_DB_Make,MATCH(0,COUNTIF($G$2:G30,List_Vehicle_DB_Make)+(List_Vehicle_DB_Drivetrain<>_Comp_V1_Vehicle_Drivetrain)+(List_Vehicle_DB_Year<>_Comp_V1_Vehicle_Year),0))","v":{"$error":"#N/A"}},{"$f":"INDEX(List_Vehicle_DB_Model,MATCH(0,COUNTIF($H$2:H30,List_Vehicle_DB_Model)+(List_Vehicle_DB_Drivetrain<>_Comp_V1_Vehicle_Drivetrain)+(List_Vehicle_DB_Year<>_Comp_V1_Vehicle_Year)+(List_Vehicle_DB_Make<>_Comp_V1_Vehicle_Make),0))","v":{"$error":"#N/A"}}]
[{"$f":"INDEX(List_Vehicle_DB_Drivetrain,MATCH(0,COUNTIF($A$2:A31,List_Vehicle_DB_Drivetrain),0))","v":{"$error":"#N/A"}},{"$f":"INDEX(List_Vehicle_DB_Year,MATCH(0,COUNTIF($B$2:B31,List_Vehicle_DB_Year)+(List_Vehicle_DB_Drivetrain<>_Base_V1_Vehicle_Drivetrain),0))","v":{"$error":"#N/A"}},{"$f":"INDEX(List_Vehicle_DB_Make,MATCH(0,COUNTIF(C$2:$C31,List_Vehicle_DB_Make)+(List_Vehicle_DB_Drivetrain<>_Base_V1_Vehicle_Drivetrain)+(List_Vehicle_DB_Year<>_Base_V1_Vehicle_Year),0))","v":{"$error":"#N/A"}},{"$f":"INDEX(List_Vehicle_DB_Model,MATCH(0,COUNTIF(D$2:$D31,List_Vehicle_DB_Model)+(List_Vehicle_DB_Drivetrain<>_Base_V1_Vehicle_Drivetrain)+(List_Vehicle_DB_Year<>_Base_V1_Vehicle_Year)++(List_Vehicle_DB_Make<>_Base_V1_Vehicle_Make),0))","v":{"$error":"#N/A"}},{"$f":"INDEX(List_Vehicle_DB_Drivetrain,MATCH(0,COUNTIF(E$2:$E31,List_Vehicle_DB_Drivetrain),0))","v":{"$error":"#N/A"}},{"$f":"INDEX(List_Vehicle_DB_Year,MATCH(0,COUNTIF($F$2:F31,List_Vehicle_DB_Year)+(List_Vehicle_DB_Drivetrain<>_Comp_V1_Vehicle_Drivetrain),0))","v":{"$error":"#N/A"}},{"$f":"INDEX(List_Vehicle_DB_Make,MATCH(0,COUNTIF($G$2:G31,List_Vehicle_DB_Make)+(List_Vehicle_DB_Drivetrain<>_Comp_V1_Vehicle_Drivetrain)+(List_Vehicle_DB_Year<>_Comp_V1_Vehicle_Year),0))","v":{"$error":"#N/A"}},{"$f":"INDEX(List_Vehicle_DB_Model,MATCH(0,COUNTIF($H$2:H31,List_Vehicle_DB_Model)+(List_Vehicle_DB_Drivetrain<>_Comp_V1_Vehicle_Drivetrain)+(List_Vehicle_DB_Year<>_Comp_V1_Vehicle_Year)+(List_Vehicle_DB_Make<>_Comp_V1_Vehicle_Make),0))","v":{"$error":"#N/A"}}]
[{"$f":"INDEX(List_Vehicle_DB_Drivetrain,MATCH(0,COUNTIF($A$2:A32,List_Vehicle_DB_Drivetrain),0))","v":{"$error":"#N/A"}},{"$f":"INDEX(List_Vehicle_DB_Year,MATCH(0,COUNTIF($B$2:B32,List_Vehicle_DB_Year)+(List_Vehicle_DB_Drivetrain<>_Base_V1_Vehicle_Drivetrain),0))","v":{"$error":"#N/A"}},{"$f":"INDEX(List_Vehicle_DB_Make,MATCH(0,COUNTIF(C$2:$C32,List_Vehicle_DB_Make)+(List_Vehicle_DB_Drivetrain<>_Base_V1_Vehicle_Drivetrain)+(List_Vehicle_DB_Year<>_Base_V1_Vehicle_Year),0))","v":{"$error":"#N/A"}},{"$f":"INDEX(List_Vehicle_DB_Model,MATCH(0,COUNTIF(D$2:$D32,List_Vehicle_DB_Model)+(List_Vehicle_DB_Drivetrain<>_Base_V1_Vehicle_Drivetrain)+(List_Vehicle_DB_Year<>_Base_V1_Vehicle_Year)++(List_Vehicle_DB_Make<>_Base_V1_Vehicle_Make),0))","v":{"$error":"#N/A"}},{"$f":"INDEX(List_Vehicle_DB_Drivetrain,MATCH(0,COUNTIF(E$2:$E32,List_Vehicle_DB_Drivetrain),0))","v":{"$error":"#N/A"}},{"$f":"INDEX(List_Vehicle_DB_Year,MATCH(0,COUNTIF($F$2:F32,List_Vehicle_DB_Year)+(List_Vehicle_DB_Drivetrain<>_Comp_V1_Vehicle_Drivetrain),0))","v":{"$error":"#N/A"}},{"$f":"INDEX(List_Vehicle_DB_Make,MATCH(0,COUNTIF($G$2:G32,List_Vehicle_DB_Make)+(List_Vehicle_DB_Drivetrain<>_Comp_V1_Vehicle_Drivetrain)+(List_Vehicle_DB_Year<>_Comp_V1_Vehicle_Year),0))","v":{"$error":"#N/A"}},{"$f":"INDEX(List_Vehicle_DB_Model,MATCH(0,COUNTIF($H$2:H32,List_Vehicle_DB_Model)+(List_Vehicle_DB_Drivetrain<>_Comp_V1_Vehicle_Drivetrain)+(List_Vehicle_DB_Year<>_Comp_V1_Vehicle_Year)+(List_Vehicle_DB_Make<>_Comp_V1_Vehicle_Make),0))","v":{"$error":"#N/A"}}]
[{"$f":"INDEX(List_Vehicle_DB_Drivetrain,MATCH(0,COUNTIF($A$2:A33,List_Vehicle_DB_Drivetrain),0))","v":{"$error":"#N/A"}},{"$f":"INDEX(List_Vehicle_DB_Year,MATCH(0,COUNTIF($B$2:B33,List_Vehicle_DB_Year)+(List_Vehicle_DB_Drivetrain<>_Base_V1_Vehicle_Drivetrain),0))","v":{"$error":"#N/A"}},{"$f":"INDEX(List_Vehicle_DB_Make,MATCH(0,COUNTIF(C$2:$C33,List_Vehicle_DB_Make)+(List_Vehicle_DB_Drivetrain<>_Base_V1_Vehicle_Drivetrain)+(List_Vehicle_DB_Year<>_Base_V1_Vehicle_Year),0))","v":{"$error":"#N/A"}},{"$f":"INDEX(List_Vehicle_DB_Model,MATCH(0,COUNTIF(D$2:$D33,List_Vehicle_DB_Model)+(List_Vehicle_DB_Drivetrain<>_Base_V1_Vehicle_Drivetrain)+(List_Vehicle_DB_Year<>_Base_V1_Vehicle_Year)++(List_Vehicle_DB_Make<>_Base_V1_Vehicle_Make),0))","v":{"$error":"#N/A"}},{"$f":"INDEX(List_Vehicle_DB_Drivetrain,MATCH(0,COUNTIF(E$2:$E33,List_Vehicle_DB_Drivetrain),0))","v":{"$error":"#N/A"}},{"$f":"INDEX(List_Vehicle_DB_Year,MATCH(0,COUNTIF($F$2:F33,List_Vehicle_DB_Year)+(List_Vehicle_DB_Drivetrain<>_Comp_V1_Vehicle_Drivetrain),0))","v":{"$error":"#N/A"}},{"$f":"INDEX(List_Vehicle_DB_Make,MATCH(0,COUNTIF($G$2:G33,List_Vehicle_DB_Make)+(List_Vehicle_DB_Drivetrain<>_Comp_V1_Vehicle_Drivetrain)+(List_Vehicle_DB_Year<>_Comp_V1_Vehicle_Year),0))","v":{"$error":"#N/A"}},{"$f":"INDEX(List_Vehicle_DB_Model,MATCH(0,COUNTIF($H$2:H33,List_Vehicle_DB_Model)+(List_Vehicle_DB_Drivetrain<>_Comp_V1_Vehicle_Drivetrain)+(List_Vehicle_DB_Year<>_Comp_V1_Vehicle_Year)+(List_Vehicle_DB_Make<>_Comp_V1_Vehicle_Make),0))","v":{"$error":"#N/A"}}]
[{"$f":"INDEX(List_Vehicle_DB_Drivetrain,MATCH(0,COUNTIF($A$2:A34,List_Vehicle_DB_Drivetrain),0))","v":{"$error":"#N/A"}},{"$f":"INDEX(List_Vehicle_DB_Year,MATCH(0,COUNTIF($B$2:B34,List_Vehicle_DB_Year)+(List_Vehicle_DB_Drivetrain<>_Base_V1_Vehicle_Drivetrain),0))","v":{"$error":"#N/A"}},{"$f":"INDEX(List_Vehicle_DB_Make,MATCH(0,COUNTIF(C$2:$C34,List_Vehicle_DB_Make)+(List_Vehicle_DB_Drivetrain<>_Base_V1_Vehicle_Drivetrain)+(List_Vehicle_DB_Year<>_Base_V1_Vehicle_Year),0))","v":{"$error":"#N/A"}},{"$f":"INDEX(List_Vehicle_DB_Model,MATCH(0,COUNTIF(D$2:$D34,List_Vehicle_DB_Model)+(List_Vehicle_DB_Drivetrain<>_Base_V1_Vehicle_Drivetrain)+(List_Vehicle_DB_Year<>_Base_V1_Vehicle_Year)++(List_Vehicle_DB_Make<>_Base_V1_Vehicle_Make),0))","v":{"$error":"#N/A"}},{"$f":"INDEX(List_Vehicle_DB_Drivetrain,MATCH(0,COUNTIF(E$2:$E34,List_Vehicle_DB_Drivetrain),0))","v":{"$error":"#N/A"}},{"$f":"INDEX(List_Vehicle_DB_Year,MATCH(0,COUNTIF($F$2:F34,List_Vehicle_DB_Year)+(List_Vehicle_DB_Drivetrain<>_Comp_V1_Vehicle_Drivetrain),0))","v":{"$error":"#N/A"}},{"$f":"INDEX(List_Vehicle_DB_Make,MATCH(0,COUNTIF($G$2:G34,List_Vehicle_DB_Make)+(List_Vehicle_DB_Drivetrain<>_Comp_V1_Vehicle_Drivetrain)+(List_Vehicle_DB_Year<>_Comp_V1_Vehicle_Year),0))","v":{"$error":"#N/A"}},{"$f":"INDEX(List_Vehicle_DB_Model,MATCH(0,COUNTIF($H$2:H34,List_Vehicle_DB_Model)+(List_Vehicle_DB_Drivetrain<>_Comp_V1_Vehicle_Drivetrain)+(List_Vehicle_DB_Year<>_Comp_V1_Vehicle_Year)+(List_Vehicle_DB_Make<>_Comp_V1_Vehicle_Make),0))","v":{"$error":"#N/A"}}]
[{"$f":"INDEX(List_Vehicle_DB_Drivetrain,MATCH(0,COUNTIF($A$2:A35,List_Vehicle_DB_Drivetrain),0))","v":{"$error":"#N/A"}},{"$f":"INDEX(List_Vehicle_DB_Year,MATCH(0,COUNTIF($B$2:B35,List_Vehicle_DB_Year)+(List_Vehicle_DB_Drivetrain<>_Base_V1_Vehicle_Drivetrain),0))","v":{"$error":"#N/A"}},{"$f":"INDEX(List_Vehicle_DB_Make,MATCH(0,COUNTIF(C$2:$C35,List_Vehicle_DB_Make)+(List_Vehicle_DB_Drivetrain<>_Base_V1_Vehicle_Drivetrain)+(List_Vehicle_DB_Year<>_Base_V1_Vehicle_Year),0))","v":{"$error":"#N/A"}},{"$f":"INDEX(List_Vehicle_DB_Model,MATCH(0,COUNTIF(D$2:$D35,List_Vehicle_DB_Model)+(List_Vehicle_DB_Drivetrain<>_Base_V1_Vehicle_Drivetrain)+(List_Vehicle_DB_Year<>_Base_V1_Vehicle_Year)++(List_Vehicle_DB_Make<>_Base_V1_Vehicle_Make),0))","v":{"$error":"#N/A"}},{"$f":"INDEX(List_Vehicle_DB_Drivetrain,MATCH(0,COUNTIF(E$2:$E35,List_Vehicle_DB_Drivetrain),0))","v":{"$error":"#N/A"}},{"$f":"INDEX(List_Vehicle_DB_Year,MATCH(0,COUNTIF($F$2:F35,List_Vehicle_DB_Year)+(List_Vehicle_DB_Drivetrain<>_Comp_V1_Vehicle_Drivetrain),0))","v":{"$error":"#N/A"}},{"$f":"INDEX(List_Vehicle_DB_Make,MATCH(0,COUNTIF($G$2:G35,List_Vehicle_DB_Make)+(List_Vehicle_DB_Drivetrain<>_Comp_V1_Vehicle_Drivetrain)+(List_Vehicle_DB_Year<>_Comp_V1_Vehicle_Year),0))","v":{"$error":"#N/A"}},{"$f":"INDEX(List_Vehicle_DB_Model,MATCH(0,COUNTIF($H$2:H35,List_Vehicle_DB_Model)+(List_Vehicle_DB_Drivetrain<>_Comp_V1_Vehicle_Drivetrain)+(List_Vehicle_DB_Year<>_Comp_V1_Vehicle_Year)+(List_Vehicle_DB_Make<>_Comp_V1_Vehicle_Make),0))","v":{"$error":"#N/A"}}]
[{"$f":"INDEX(List_Vehicle_DB_Drivetrain,MATCH(0,COUNTIF($A$2:A36,List_Vehicle_DB_Drivetrain),0))","v":{"$error":"#N/A"}},{"$f":"INDEX(List_Vehicle_DB_Year,MATCH(0,COUNTIF($B$2:B36,List_Vehicle_DB_Year)+(List_Vehicle_DB_Drivetrain<>_Base_V1_Vehicle_Drivetrain),0))","v":{"$error":"#N/A"}},{"$f":"INDEX(List_Vehicle_DB_Make,MATCH(0,COUNTIF(C$2:$C36,List_Vehicle_DB_Make)+(List_Vehicle_DB_Drivetrain<>_Base_V1_Vehicle_Drivetrain)+(List_Vehicle_DB_Year<>_Base_V1_Vehicle_Year),0))","v":{"$error":"#N/A"}},{"$f":"INDEX(List_Vehicle_DB_Model,MATCH(0,COUNTIF(D$2:$D36,List_Vehicle_DB_Model)+(List_Vehicle_DB_Drivetrain<>_Base_V1_Vehicle_Drivetrain)+(List_Vehicle_DB_Year<>_Base_V1_Vehicle_Year)++(List_Vehicle_DB_Make<>_Base_V1_Vehicle_Make),0))","v":{"$error":"#N/A"}},{"$f":"INDEX(List_Vehicle_DB_Drivetrain,MATCH(0,COUNTIF(E$2:$E36,List_Vehicle_DB_Drivetrain),0))","v":{"$error":"#N/A"}},{"$f":"INDEX(List_Vehicle_DB_Year,MATCH(0,COUNTIF($F$2:F36,List_Vehicle_DB_Year)+(List_Vehicle_DB_Drivetrain<>_Comp_V1_Vehicle_Drivetrain),0))","v":{"$error":"#N/A"}},{"$f":"INDEX(List_Vehicle_DB_Make,MATCH(0,COUNTIF($G$2:G36,List_Vehicle_DB_Make)+(List_Vehicle_DB_Drivetrain<>_Comp_V1_Vehicle_Drivetrain)+(List_Vehicle_DB_Year<>_Comp_V1_Vehicle_Year),0))","v":{"$error":"#N/A"}},{"$f":"INDEX(List_Vehicle_DB_Model,MATCH(0,COUNTIF($H$2:H36,List_Vehicle_DB_Model)+(List_Vehicle_DB_Drivetrain<>_Comp_V1_Vehicle_Drivetrain)+(List_Vehicle_DB_Year<>_Comp_V1_Vehicle_Year)+(List_Vehicle_DB_Make<>_Comp_V1_Vehicle_Make),0))","v":{"$error":"#N/A"}}]
[{"$f":"INDEX(List_Vehicle_DB_Drivetrain,MATCH(0,COUNTIF($A$2:A37,List_Vehicle_DB_Drivetrain),0))","v":{"$error":"#N/A"}},{"$f":"INDEX(List_Vehicle_DB_Year,MATCH(0,COUNTIF($B$2:B37,List_Vehicle_DB_Year)+(List_Vehicle_DB_Drivetrain<>_Base_V1_Vehicle_Drivetrain),0))","v":{"$error":"#N/A"}},{"$f":"INDEX(List_Vehicle_DB_Make,MATCH(0,COUNTIF(C$2:$C37,List_Vehicle_DB_Make)+(List_Vehicle_DB_Drivetrain<>_Base_V1_Vehicle_Drivetrain)+(List_Vehicle_DB_Year<>_Base_V1_Vehicle_Year),0))","v":{"$error":"#N/A"}},{"$f":"INDEX(List_Vehicle_DB_Model,MATCH(0,COUNTIF(D$2:$D37,List_Vehicle_DB_Model)+(List_Vehicle_DB_Drivetrain<>_Base_V1_Vehicle_Drivetrain)+(List_Vehicle_DB_Year<>_Base_V1_Vehicle_Year)++(List_Vehicle_DB_Make<>_Base_V1_Vehicle_Make),0))","v":{"$error":"#N/A"}},{"$f":"INDEX(List_Vehicle_DB_Drivetrain,MATCH(0,COUNTIF(E$2:$E37,List_Vehicle_DB_Drivetrain),0))","v":{"$error":"#N/A"}},{"$f":"INDEX(List_Vehicle_DB_Year,MATCH(0,COUNTIF($F$2:F37,List_Vehicle_DB_Year)+(List_Vehicle_DB_Drivetrain<>_Comp_V1_Vehicle_Drivetrain),0))","v":{"$error":"#N/A"}},{"$f":"INDEX(List_Vehicle_DB_Make,MATCH(0,COUNTIF($G$2:G37,List_Vehicle_DB_Make)+(List_Vehicle_DB_Drivetrain<>_Comp_V1_Vehicle_Drivetrain)+(List_Vehicle_DB_Year<>_Comp_V1_Vehicle_Year),0))","v":{"$error":"#N/A"}},{"$f":"INDEX(List_Vehicle_DB_Model,MATCH(0,COUNTIF($H$2:H37,List_Vehicle_DB_Model)+(List_Vehicle_DB_Drivetrain<>_Comp_V1_Vehicle_Drivetrain)+(List_Vehicle_DB_Year<>_Comp_V1_Vehicle_Year)+(List_Vehicle_DB_Make<>_Comp_V1_Vehicle_Make),0))","v":{"$error":"#N/A"}}]
[{"$f":"INDEX(List_Vehicle_DB_Drivetrain,MATCH(0,COUNTIF($A$2:A38,List_Vehicle_DB_Drivetrain),0))","v":{"$error":"#N/A"}},{"$f":"INDEX(List_Vehicle_DB_Year,MATCH(0,COUNTIF($B$2:B38,List_Vehicle_DB_Year)+(List_Vehicle_DB_Drivetrain<>_Base_V1_Vehicle_Drivetrain),0))","v":{"$error":"#N/A"}},{"$f":"INDEX(List_Vehicle_DB_Make,MATCH(0,COUNTIF(C$2:$C38,List_Vehicle_DB_Make)+(List_Vehicle_DB_Drivetrain<>_Base_V1_Vehicle_Drivetrain)+(List_Vehicle_DB_Year<>_Base_V1_Vehicle_Year),0))","v":{"$error":"#N/A"}},{"$f":"INDEX(List_Vehicle_DB_Model,MATCH(0,COUNTIF(D$2:$D38,List_Vehicle_DB_Model)+(List_Vehicle_DB_Drivetrain<>_Base_V1_Vehicle_Drivetrain)+(List_Vehicle_DB_Year<>_Base_V1_Vehicle_Year)++(List_Vehicle_DB_Make<>_Base_V1_Vehicle_Make),0))","v":{"$error":"#N/A"}},{"$f":"INDEX(List_Vehicle_DB_Drivetrain,MATCH(0,COUNTIF(E$2:$E38,List_Vehicle_DB_Drivetrain),0))","v":{"$error":"#N/A"}},{"$f":"INDEX(List_Vehicle_DB_Year,MATCH(0,COUNTIF($F$2:F38,List_Vehicle_DB_Year)+(List_Vehicle_DB_Drivetrain<>_Comp_V1_Vehicle_Drivetrain),0))","v":{"$error":"#N/A"}},{"$f":"INDEX(List_Vehicle_DB_Make,MATCH(0,COUNTIF($G$2:G38,List_Vehicle_DB_Make)+(List_Vehicle_DB_Drivetrain<>_Comp_V1_Vehicle_Drivetrain)+(List_Vehicle_DB_Year<>_Comp_V1_Vehicle_Year),0))","v":{"$error":"#N/A"}},{"$f":"INDEX(List_Vehicle_DB_Model,MATCH(0,COUNTIF($H$2:H38,List_Vehicle_DB_Model)+(List_Vehicle_DB_Drivetrain<>_Comp_V1_Vehicle_Drivetrain)+(List_Vehicle_DB_Year<>_Comp_V1_Vehicle_Year)+(List_Vehicle_DB_Make<>_Comp_V1_Vehicle_Make),0))","v":{"$error":"#N/A"}}]
[{"$f":"INDEX(List_Vehicle_DB_Drivetrain,MATCH(0,COUNTIF($A$2:A39,List_Vehicle_DB_Drivetrain),0))","v":{"$error":"#N/A"}},{"$f":"INDEX(List_Vehicle_DB_Year,MATCH(0,COUNTIF($B$2:B39,List_Vehicle_DB_Year)+(List_Vehicle_DB_Drivetrain<>_Base_V1_Vehicle_Drivetrain),0))","v":{"$error":"#N/A"}},{"$f":"INDEX(List_Vehicle_DB_Make,MATCH(0,COUNTIF(C$2:$C39,List_Vehicle_DB_Make)+(List_Vehicle_DB_Drivetrain<>_Base_V1_Vehicle_Drivetrain)+(List_Vehicle_DB_Year<>_Base_V1_Vehicle_Year),0))","v":{"$error":"#N/A"}},{"$f":"INDEX(List_Vehicle_DB_Model,MATCH(0,COUNTIF(D$2:$D39,List_Vehicle_DB_Model)+(List_Vehicle_DB_Drivetrain<>_Base_V1_Vehicle_Drivetrain)+(List_Vehicle_DB_Year<>_Base_V1_Vehicle_Year)++(List_Vehicle_DB_Make<>_Base_V1_Vehicle_Make),0))","v":{"$error":"#N/A"}},{"$f":"INDEX(List_Vehicle_DB_Drivetrain,MATCH(0,COUNTIF(E$2:$E39,List_Vehicle_DB_Drivetrain),0))","v":{"$error":"#N/A"}},{"$f":"INDEX(List_Vehicle_DB_Year,MATCH(0,COUNTIF($F$2:F39,List_Vehicle_DB_Year)+(List_Vehicle_DB_Drivetrain<>_Comp_V1_Vehicle_Drivetrain),0))","v":{"$error":"#N/A"}},{"$f":"INDEX(List_Vehicle_DB_Make,MATCH(0,COUNTIF($G$2:G39,List_Vehicle_DB_Make)+(List_Vehicle_DB_Drivetrain<>_Comp_V1_Vehicle_Drivetrain)+(List_Vehicle_DB_Year<>_Comp_V1_Vehicle_Year),0))","v":{"$error":"#N/A"}},{"$f":"INDEX(List_Vehicle_DB_Model,MATCH(0,COUNTIF($H$2:H39,List_Vehicle_DB_Model)+(List_Vehicle_DB_Drivetrain<>_Comp_V1_Vehicle_Drivetrain)+(List_Vehicle_DB_Year<>_Comp_V1_Vehicle_Year)+(List_Vehicle_DB_Make<>_Comp_V1_Vehicle_Make),0))","v":{"$error":"#N/A"}}]

{"sheet":"Version","index":14,"n_rows":20,"n_cols":8,"rows_kept":20,"cut":false,"hidden":false,"merged":[]}
["Version History - Fleet Procurement Analysis Tool"]
["Developed By",null,null,"Version","Date","Author","Organization","Revisions"]
[null,null,null,1,"2017-05-30","Philip Quebe","The Cadmus Group, Inc.","First launch"]
[null,null,null,1.05,"2017-06-01","Philip Quebe","The Cadmus Group, Inc.","Minor bug fixes: sensitivity analysis and EV infrastructure inputs"]
[null,null,null,1.06,"2017-07-03","Nick Nigro","Atlas Public Policy","Added support for U.S. average emissions and fuel prices. Use ZIP Code 00000 to set to U.S. average. Added support for more comprehensive vehicle selection and vehicle incentives. Improved robustness of some table lookup calculations. Added link to vehicle details on fueleconomy.gov."]
[]
[null,null,null,"To be implemented in future versions:"]
[null,null,null,null,"Solicitation-specific interface for EV Smart Fleets"]
[null,null,null,null,"Integrate more robust/comprehensive vehicle selection database"]
["Philip Quebe "]
["philip.quebe@cadmusgroup.com"]
[]
[]
[]
[]
[]
[]
[]
["Nick Nigro"]
["nick.nigro@atlaspolicy.com"]